0.5
0
0
-0.5
84800.25
237899.75
