{"text_format":"1","workbook":"xlsx","n_sheets":2,"sheets":["入力データ","入力データ一覧"],"not_rendered":{"charts":0,"images":0,"macros":1,"external_links":3,"defined_names":2,"comments":0,"pivot_tables":0},"unopened":[],"bounds":{"document_bytes":16777216,"sheet_cells":100000,"rows_first":2000,"rows_last":500,"rows_between":2000,"halvings":0,"cell_chars":16384,"cell_head_chars":4096},"cells_cut":0,"cells_raw":0,"read":"whole","date_system":"1900"}

{"sheet":"入力データ","index":0,"n_rows":6910,"n_cols":17,"rows_kept":6910,"cut":false,"hidden":false,"merged":[[6642,2,6642,16],[6645,15,6646,15],[6645,16,6646,16],[6671,3,6671,9],[6671,10,6671,16],[6672,3,6672,5],[6672,6,6672,8],[6672,9,6673,9],[6672,10,6672,12],[6672,13,6672,15],[6672,16,6673,16],[6644,3,6644,5],[6644,6,6644,13],[6644,14,6644,16],[6645,3,6646,3],[6645,4,6646,4],[6645,5,6646,5],[6645,6,6645,9],[6645,10,6645,12],[6645,13,6646,13],[6482,6,6482,13],[6482,14,6482,16],[6588,2,6588,16],[6590,6,6590,13],[6590,14,6590,16],[6534,2,6534,16],[6320,6,6320,13],[6859,6,6859,13],[6859,14,6859,16],[6803,2,6803,16],[6805,6,6805,13],[6805,14,6805,16],[6645,14,6646,14],[6536,6,6536,13],[6536,14,6536,16],[6480,2,6480,16],[6857,2,6857,16],[6695,2,6695,16],[6697,6,6697,13],[6697,14,6697,16],[6749,2,6749,16],[6751,6,6751,13],[6751,14,6751,16],[6372,2,6372,16],[6374,6,6374,13],[6374,14,6374,16],[6426,2,6426,16],[6428,6,6428,13],[6428,14,6428,16],[6320,14,6320,16],[6156,2,6156,16],[6158,6,6158,13],[6158,14,6158,16],[6264,2,6264,16],[6266,6,6266,13],[6210,2,6210,16],[6212,6,6212,13],[6212,14,6212,16],[6318,2,6318,16],[6266,14,6266,16],[6048,2,6048,16],[6050,6,6050,13],[6050,14,6050,16],[6102,2,6102,16],[6104,6,6104,13],[6104,14,6104,16],[5940,2,5940,16],[5942,6,5942,13],[5942,14,5942,16],[5994,2,5994,16],[5996,6,5996,13],[5996,14,5996,16],[5832,2,5832,16],[5834,6,5834,13],[5834,14,5834,16],[5886,2,5886,16],[5888,6,5888,13],[5888,14,5888,16],[5724,2,5724,16],[5726,6,5726,13],[5726,14,5726,16],[5778,2,5778,16],[5780,6,5780,13],[5780,14,5780,16],[5670,2,5670,16],[5672,6,5672,13],[5672,14,5672,16],[5562,2,5562,16],[5564,6,5564,13],[5564,14,5564,16],[5616,2,5616,16],[5618,6,5618,13],[5618,14,5618,16],[5454,2,5454,16],[5456,6,5456,13],[5456,14,5456,16],[5508,2,5508,16],[5510,6,5510,13],[5510,14,5510,16],[5346,2,5346,16],[5348,6,5348,13],[5348,14,5348,16],[5400,2,5400,16],[5402,6,5402,13],[5402,14,5402,16],[5292,2,5292,16],[5294,6,5294,13],[5294,14,5294,16],[5184,2,5184,16],[5186,6,5186,13],[5186,14,5186,16],[5238,2,5238,16],[5240,6,5240,13],[5240,14,5240,16],[5076,2,5076,16],[5078,6,5078,13],[5078,14,5078,16],[5130,2,5130,16],[5132,6,5132,13],[5132,14,5132,16],[4914,2,4914,16],[4916,6,4916,13],[4916,14,4916,16],[5022,2,5022,16],[5024,6,5024,13],[5024,14,5024,16],[4968,2,4968,16],[4970,6,4970,13],[4970,14,4970,16],[4806,2,4806,16],[4808,6,4808,13],[4808,14,4808,16],[4860,2,4860,16],[4862,6,4862,13],[4862,14,4862,16],[4698,2,4698,16],[4700,6,4700,13],[4700,14,4700,16],[4752,2,4752,16],[4754,6,4754,13],[4754,14,4754,16],[4590,2,4590,16],[4592,6,4592,13],[4592,14,4592,16],[4644,2,4644,16],[4646,6,4646,13],[4646,14,4646,16],[4482,2,4482,16],[4484,6,4484,13],[4484,14,4484,16],[4536,2,4536,16],[4538,6,4538,13],[4538,14,4538,16],[4374,2,4374,16],[4376,6,4376,13],[4376,14,4376,16],[4428,2,4428,16],[4430,6,4430,13],[4430,14,4430,16],[4266,2,4266,16],[4268,6,4268,13],[4268,14,4268,16],[4320,2,4320,16],[4322,6,4322,13],[4322,14,4322,16],[4158,2,4158,16],[4160,6,4160,13],[4160,14,4160,16],[4212,2,4212,16],[4214,6,4214,13],[4214,14,4214,16],[4050,2,4050,16],[4052,6,4052,13],[4052,14,4052,16],[4104,2,4104,16],[4106,6,4106,13],[4106,14,4106,16],[3942,2,3942,16],[3944,6,3944,13],[3944,14,3944,16],[3996,2,3996,16],[3998,6,3998,13],[3998,14,3998,16],[3834,2,3834,16],[3836,6,3836,13],[3836,14,3836,16],[3888,2,3888,16],[3890,6,3890,13],[3890,14,3890,16],[3726,2,3726,16],[3728,6,3728,13],[3728,14,3728,16],[3780,2,3780,16],[3782,6,3782,13],[3782,14,3782,16],[3618,2,3618,16],[3620,6,3620,13],[3620,14,3620,16],[3672,2,3672,16],[3674,6,3674,13],[3674,14,3674,16],[3510,2,3510,16],[3512,6,3512,13],[3512,14,3512,16],[3564,2,3564,16],[3566,6,3566,13],[3566,14,3566,16],[3402,2,3402,16],[3404,6,3404,13],[3404,14,3404,16],[3456,2,3456,16],[3458,6,3458,13],[3458,14,3458,16],[3294,2,3294,16],[3296,6,3296,13],[3296,14,3296,16],[3348,2,3348,16],[3350,6,3350,13],[3350,14,3350,16],[3186,2,3186,16],[3188,6,3188,13],[3188,14,3188,16],[3240,2,3240,16],[3242,6,3242,13],[3242,14,3242,16],[3080,6,3080,13],[3080,14,3080,16],[3132,2,3132,16],[3134,6,3134,13],[3134,14,3134,16],[2808,2,2808,16],[2970,2,2970,16],[2972,6,2972,13],[2972,14,2972,16],[3024,2,3024,16],[3026,6,3026,13],[3026,14,3026,16],[2916,2,2916,16],[2918,6,2918,13],[2918,14,2918,16],[2862,2,2862,16],[2864,6,2864,13],[2864,14,2864,16],[2754,2,2754,16],[2756,6,2756,13],[2756,14,2756,16],[2700,2,2700,16],[2702,6,2702,13],[2702,14,2702,16],[2810,6,2810,13],[2810,14,2810,16],[3078,2,3078,16],[2538,2,2538,16],[2540,6,2540,13],[2540,14,2540,16],[2592,2,2592,16],[2594,6,2594,13],[2594,14,2594,16],[2646,2,2646,16],[2648,6,2648,13],[2430,2,2430,16],[2432,6,2432,13],[2432,14,2432,16],[2484,2,2484,16],[2486,6,2486,13],[2486,14,2486,16],[2648,14,2648,16],[2322,2,2322,16],[2324,6,2324,13],[2324,14,2324,16],[2376,2,2376,16],[2378,6,2378,13],[2378,14,2378,16],[2214,2,2214,16],[2216,6,2216,13],[2216,14,2216,16],[2268,2,2268,16],[2270,6,2270,13],[2270,14,2270,16],[2106,2,2106,16],[2108,6,2108,13],[2108,14,2108,16],[2160,2,2160,16],[2162,6,2162,13],[2162,14,2162,16],[1998,2,1998,16],[2000,6,2000,13],[2000,14,2000,16],[2052,2,2052,16],[2054,6,2054,13],[2054,14,2054,16],[1890,2,1890,16],[1892,6,1892,13],[1892,14,1892,16],[1944,2,1944,16],[1946,6,1946,13],[1946,14,1946,16],[1782,2,1782,16],[1784,6,1784,13],[1784,14,1784,16],[1836,2,1836,16],[1838,6,1838,13],[1838,14,1838,16],[1674,2,1674,16],[1676,6,1676,13],[1676,14,1676,16],[1728,2,1728,16],[1730,6,1730,13],[1730,14,1730,16],[1566,2,1566,16],[1568,6,1568,13],[1568,14,1568,16],[1620,2,1620,16],[1622,6,1622,13],[1622,14,1622,16],[1458,2,1458,16],[1460,6,1460,13],[1460,14,1460,16],[1512,2,1512,16],[1514,6,1514,13],[1514,14,1514,16],[1350,2,1350,16],[1352,6,1352,13],[1352,14,1352,16],[1404,2,1404,16],[1406,6,1406,13],[1406,14,1406,16],[1242,2,1242,16],[1244,6,1244,13],[1244,14,1244,16],[1296,2,1296,16],[1298,6,1298,13],[1298,14,1298,16],[1134,2,1134,16],[1136,6,1136,13],[1136,14,1136,16],[1188,2,1188,16],[1190,6,1190,13],[1190,14,1190,16],[1026,2,1026,16],[1028,6,1028,13],[1028,14,1028,16],[1080,2,1080,16],[1082,6,1082,13],[1082,14,1082,16],[918,2,918,16],[920,6,920,13],[920,14,920,16],[972,2,972,16],[974,6,974,13],[974,14,974,16],[810,2,810,16],[812,6,812,13],[812,14,812,16],[864,2,864,16],[866,6,866,13],[866,14,866,16],[702,2,702,16],[704,6,704,13],[704,14,704,16],[756,2,756,16],[758,6,758,13],[758,14,758,16],[594,2,594,16],[596,6,596,13],[596,14,596,16],[648,2,648,16],[650,6,650,13],[650,14,650,16],[486,2,486,16],[488,6,488,13],[488,14,488,16],[540,2,540,16],[542,6,542,13],[542,14,542,16],[432,2,432,16],[434,6,434,13],[434,14,434,16],[270,2,270,16],[272,6,272,13],[272,14,272,16],[324,2,324,16],[326,6,326,13],[326,14,326,16],[216,2,216,16],[218,6,218,13],[218,14,218,16],[162,2,162,16],[164,6,164,13],[164,14,164,16],[378,2,378,16],[380,6,380,13],[380,14,380,16],[0,2,0,16],[2,6,2,13],[2,14,2,16],[54,2,54,16],[56,6,56,13],[56,14,56,16],[108,2,108,16],[110,6,110,13],[110,14,110,16]]}
[null,null,"平　成　２　８　年　空　港　管　理　状　況　調　書"]
[null,null,"空港名 ：","成田国際              （会社管理）"]
[null,null,"項目",null,"着 陸 回 数 （回）",null,"乗   降   客   数   （人）",null,null,null,null,null,null,null,"航空燃料供給量　（KＬ）"]
[null,null,null,"国際線","国内線","計",null,"国 際 線",null,null,null,"国 内 線",null,"合 計","ジェット燃料","その他燃料","合計"]
[null,null,"月別",null,null,null,"乗 客","降 客","通過客","小 計","乗 客","降 客","小 計"]
[]
[null,null,"1月",7796,2110,{"$f":"SUM(D7:E7)","v":9906},1015531,1031267,252703,{"$f":"SUM(G7:I7)","v":2299501},255253,275958,{"$f":"SUM(K7:L7)","v":531211},{"$f":"J7+M7","v":2830712},386310,0,{"$f":"SUM(O7:P7)","v":386310}]
[null,null,"2月",7409,1950,{"$f":"SUM(D8:E8)","v":9359},1070631,1008631,204270,{"$f":"SUM(G8:I8)","v":2283532},256502,265877,{"$f":"SUM(K8:L8)","v":522379},{"$f":"J8+M8","v":2805911},360052,0,{"$f":"SUM(O8:P8)","v":360052}]
[null,null,"3月",8090,2202,10292,1127334,1267933,171856,{"$f":"SUM(G9:I9)","v":2567123},304002,312843,{"$f":"SUM(K9:L9)","v":616845},{"$f":"J9+M9","v":3183968},390572,0,{"$f":"SUM(O9:P9)","v":390572}]
[null,null,"4月",7846,2031,9877,1164030,1063261,176523,{"$f":"SUM(G10:I10)","v":2403814},256465,260343,{"$f":"SUM(K10:L10)","v":516808},{"$f":"J10+M10","v":2920622},381480,0,{"$f":"SUM(O10:P10)","v":381480}]
[null,null,"5月",8127,2195,10322,1019904,1087836,232249,2339989,281854,291626,573480,2913469,384660,0,384660]
[null,null,"6月",7785,2106,9891,1018825,1051595,252325,2322745,274322,272984,547306,2870051,378613,0,378613]
[null,null,"7月",8287,2309,10596,1180809,1210038,232864,2623711,316663,317269,633932,3257643,392481,0,392481]
[null,null,"8月",8432,2353,10785,1347173,1287057,197975,2832205,338997,345108,684105,3516310,397084,0,397084]
[null,null,"9月",8167,2218,10385,1152595,1213737,182178,2548510,301363,308921,610284,3158794,379088,0,379088]
[null,null,"10月",8277,2235,10512,1171076,1192124,181362,2544562,300109,305513,605622,3150184,383674,0,383674]
[null,null,"11月",7853,2153,10006,1108059,1096623,152396,2357078,288793,297264,586057,2943135,359742,0,359742]
[null,null,"12月",8206,2239,10445,1139332,1119710,192457,2451499,293950,282597,576547,3028046,376462,0,376462]
[]
[null,"成田暦１","暦年 計",{"$f":"SUM(D7:D18)","v":96275},{"$f":"SUM(E7:E18)","v":26101},{"$f":"SUM(F7:F18)","v":122376},{"$f":"SUM(G7:G18)","v":13515299},{"$f":"SUM(H7:H18)","v":13629812},2429158,29574269,3468273,3536303,7004576,36578845,4570218,{"$f":"SUM(P7:P18)","v":0},{"$f":"SUM(Q7:Q18)","v":4570218}]
[]
[null,null,"1月",8138,2240,{"$f":"SUM(D22:E22)","v":10378},1125761,1179838,222016,{"$f":"SUM(G22:I22)","v":2527615},283532,300206,{"$f":"SUM(K22:L22)","v":583738},{"$f":"J22+M22","v":3111353},378409,0,{"$f":"SUM(O22:P22)","v":378409}]
[null,null,"2月",7417,2122,{"$f":"SUM(D23:E23)","v":9539},1147338,1056236,163961,{"$f":"SUM(G23:I23)","v":2367535},287948,298119,{"$f":"SUM(K23:L23)","v":586067},{"$f":"J23+M23","v":2953602},342320,0,{"$f":"SUM(O23:P23)","v":342320}]
[null,null,"3月",8372,2442,{"$f":"SUM(D24:E24)","v":10814},1227683,1353061,139447,{"$f":"SUM(G24:I24)","v":2720191},349339,357232,{"$f":"SUM(K24:L24)","v":706571},{"$f":"J24+M24","v":3426762},394536,0,{"$f":"SUM(O24:P24)","v":394536}]
[]
[null,"成田度１","年度計",{"$f":"SUM(D10:D18,D22:D24)","v":96907},{"$f":"SUM(E10:E18,E22:E24)","v":26643},{"$f":"SUM(F10:F18,F22:F24)","v":123550},{"$f":"SUM(G10:G18,G22:G24)","v":13802585},13911116,2325753,30039454,3573335,3637182,7210517,{"$f":"SUM(N10:N18,N22:N24)","v":37249971},4548549,0,{"$f":"SUM(Q10:Q18,Q22:Q24)","v":4548549}]
[]
[]
[]
[null,null,"項目",null,null,null,"貨 物 取 扱 量 （トン）",null,null,null,null,null,null,"郵 便 取 扱 量 （kg）"]
[null,null,null,null,"国 際 線",null,null,"国 内 線",null,"合計",null,"国 際 線",null,null,"国 内 線",null,"合 計"]
[null,null,"月別","積","卸","小 計","積","卸","小 計",null,"積","卸","小 計","積","卸","小 計"]
[]
[null,null,"1月",70446,81936,{"$f":"SUM(D34:E34)","v":152382},2192,1430,{"$f":"SUM(G34:H34)","v":3622},{"$f":"F34+I34","v":156004},1582850,1372628,{"$f":"SUM(K34:L34)","v":2955478},267720,11941,{"$f":"SUM(N34:O34)","v":279661},{"$f":"M34+P34","v":3235139}]
[null,null,"2月",65880,75262,{"$f":"SUM(D35:E35)","v":141142},2021,1186,{"$f":"SUM(G35:H35)","v":3207},{"$f":"F35+I35","v":144349},1162500,1096563,{"$f":"SUM(K35:L35)","v":2259063},235665,9117,{"$f":"SUM(N35:O35)","v":244782},{"$f":"M35+P35","v":2503845}]
[null,null,"3月",81832,95733,{"$f":"SUM(D36:E36)","v":177565},2833,2042,{"$f":"SUM(G36:H36)","v":4875},{"$f":"F36+I36","v":182440},1452163,1322806,{"$f":"SUM(K36:L36)","v":2774969},223307,12100,{"$f":"SUM(N36:O36)","v":235407},{"$f":"M36+P36","v":3010376}]
[null,null,"4月",81982,89652,{"$f":"SUM(D37:E37)","v":171634},2273,1827,{"$f":"SUM(G37:H37)","v":4100},{"$f":"F37+I37","v":175734},1329750,1337901,{"$f":"SUM(K37:L37)","v":2667651},263624,10534,{"$f":"SUM(N37:O37)","v":274158},{"$f":"M37+P37","v":2941809}]
[null,null,"5月",78926,86050,164976,1871,1432,3303,168279,1208213,1290486,2498699,247457,11222,258679,2757378]
[null,null,"6月",84761,90175,174936,2064,1680,3744,178680,1123563,1333986,2457549,245103,12210,257313,2714862]
[null,null,"7月",85190,94443,179633,2372,1802,4174,183807,1009850,1409328,2419178,234467,10345,244812,2663990]
[null,null,"8月",81521,90981,172502,2623,1689,4312,176814,956375,1319544,2275919,239843,11636,251479,2527398]
[null,null,"9月",86834,95816,182650,2618,1776,4394,187044,979300,1340134,2319434,393639,16238,409877,2729311]
[null,null,"10月",90718,101767,192485,2651,1673,4324,196809,1028988,1478072,2507060,221401,12059,233460,2740520]
[null,null,"11月",86901,97584,184485,1913,1649,3562,188047,1150200,1536536,2686736,195747,13899,209646,2896382]
[null,null,"12月",90097,98733,188830,2190,1821,4011,192841,1524063,2077343,3601406,240710,17194,257904,3859310]
[]
[null,"成田暦２","暦年 計",{"$f":"SUM(D34:D46)","v":985088},1098132,2083220,27621,20007,47628,2130848,14507815,16915327,{"$f":"SUM(M34:M46)","v":31423142},{"$f":"SUM(N34:N46)","v":3008683},148495,{"$f":"SUM(P34:P46)","v":3157178},{"$f":"SUM(Q34:Q46)","v":34580320}]
[]
[null,null,"1月",77385,87452,{"$f":"SUM(D49:E49)","v":164837},1981,2290,{"$f":"SUM(G49:H49)","v":4271},{"$f":"F49+I49","v":169108},1092575,1551732,{"$f":"SUM(K49:L49)","v":2644307},166323,11153,{"$f":"SUM(N49:O49)","v":177476},{"$f":"M49+P49","v":2821783}]
[null,null,"2月",76829,81746,{"$f":"SUM(D50:E50)","v":158575},1761,1120,{"$f":"SUM(G50:H50)","v":2881},{"$f":"F50+I50","v":161456},1027938,1387375,{"$f":"SUM(K50:L50)","v":2415313},163107,10143,{"$f":"SUM(N50:O50)","v":173250},{"$f":"M50+P50","v":2588563}]
[null,null,"3月",95671,108861,{"$f":"SUM(D51:E51)","v":204532},2127,1588,{"$f":"SUM(G51:H51)","v":3715},{"$f":"F51+I51","v":208247},1188513,1666369,{"$f":"SUM(K51:L51)","v":2854882},170527,13085,{"$f":"SUM(N51:O51)","v":183612},{"$f":"M51+P51","v":3038494}]
[]
[null,"成田度２","年度計",{"$f":"SUM(D37:D45,D49:D51)","v":1016815},{"$f":"SUM(E37:E45,E49:E51)","v":1123260},{"$f":"SUM(F37:F45,F49:F51)","v":2140075},{"$f":"SUM(G37:G45,G49:G51)","v":26444},20347,46791,2186866,13619328,17728806,{"$f":"SUM(M37:M45,M49:M51)","v":31348134},{"$f":"SUM(N37:N45,N49:N51)","v":2781948},{"$f":"SUM(O37:O45,O49:O51)","v":149718},{"$f":"SUM(P37:P45,P49:P51)","v":2931666},{"$f":"SUM(Q37:Q45,Q49:Q51)","v":34279800}]
[]
[null,null,{"$f":"C1","v":"平　成　２　８　年　空　港　管　理　状　況　調　書"}]
[null,null,"空港名 ：","中部国際              （会社管理）"]
[null,null,"項目",null,"着 陸 回 数 （回）",null,"乗   降   客   数   （人）",null,null,null,null,null,null,null,"航空燃料供給量　（ＫＬ）"]
[null,null,null,"国際線","国内線","計",null,"国 際 線",null,null,null,"国 内 線",null,"合 計","ジェット燃料","その他燃料","合計"]
[null,null,"月別",null,null,null,"乗 客","降 客","通過客","小 計","乗 客","降 客","小 計"]
[]
[null,null,"1月",1641,2584,{"$f":"SUM(D61:E61)","v":4225},200768,222243,1210,{"$f":"SUM(G61:I61)","v":424221},193289,211799,{"$f":"SUM(K61:L61)","v":405088},{"$f":"SUM(J61,M61)","v":829309},46688,0,{"$f":"SUM(O61:P61)","v":46688}]
[null,null,"2月",1611,2413,{"$f":"SUM(D62:E62)","v":4024},217220,210386,2108,{"$f":"SUM(G62:I62)","v":429714},209814,210922,{"$f":"SUM(K62:L62)","v":420736},{"$f":"SUM(J62,M62)","v":850450},44175,0,{"$f":"SUM(O62:P62)","v":44175}]
[null,null,"3月",1690,2643,4333,222423,248560,370,471353,238593,245540,484133,955486,47604,0,47604]
[null,null,"4月",1689,2429,4118,227810,223477,4434,455721,209274,201207,410481,866202,47025,0,47025]
[null,null,"5月",1707,2811,4518,199332,219520,356,419208,219578,233464,453042,872250,46008,0,46008]
[null,null,"6月",1615,2481,4096,198842,208273,1316,408431,220907,218822,439729,848160,45339,0,45339]
[null,null,"7月",1658,2665,4323,218651,228726,929,448306,252943,249658,502601,950907,45478,0,45478]
[null,null,"8月",1712,2852,4564,251364,243022,2733,497119,292039,300382,592421,1089540,49242,0,49242]
[null,null,"9月",1594,2626,4220,193591,209750,764,404105,256192,258422,514614,918719,44234,0,44234]
[null,null,"10月",1641,2668,4309,209993,216284,501,426778,256335,261116,517451,944229,45137,0,45137]
[null,null,"11月",1481,2535,4016,197985,203366,192,401543,237681,240434,478115,879658,43709,0,43709]
[null,null,"12月",1545,2568,4113,203529,194301,356,398186,229243,210783,440026,838212,44801,0,44801]
[]
[null,"中部暦１","暦年 計",{"$f":"SUM(D61:D72)","v":19584},31275,50859,2541508,2627908,15269,{"$f":"SUM(J61:J72)","v":5184685},{"$f":"SUM(K61:K72)","v":2815888},2842549,{"$f":"SUM(M61:M72)","v":5658437},10843122,549440,0,549440]
[]
[null,null,"1月",1622,2583,{"$f":"SUM(D76:E76)","v":4205},200954,236337,1020,{"$f":"SUM(G76:I76)","v":438311},206300,220762,427062,{"$f":"SUM(J76,M76)","v":865373},46376,0,{"$f":"SUM(O76:P76)","v":46376}]
[null,null,"2月",1495,2392,3887,222770,203523,4544,430837,215893,216831,432724,863561,43434,0,43434]
[null,null,"3月",1679,2653,4332,232929,255026,329,488284,258846,260942,519788,1008072,49958,0,49958]
[]
[null,"中部度１","年度計",{"$f":"SUM(D64:D72,D76:D78)","v":19438},31263,{"$f":"SUM(F64:F72,F76:F78)","v":50701},{"$f":"SUM(G64:G72,G76:G78)","v":2557750},2641605,17474,5216829,2855231,2872823,5728054,10944883,550741,0,{"$f":"SUM(Q64:Q72,Q76:Q78)","v":550741}]
[]
[]
[]
[null,null,"項目",null,null,null,"貨 物 取 扱 量 （トン）",null,null,null,null,null,null,"郵 便 取 扱 量 （kg）"]
[null,null,null,null,"国 際 線",null,null,"国 内 線",null,"合計",null,"国 際 線",null,null,"国 内 線",null,"合 計"]
[null,null,"月別","積","卸","小 計","積","卸","小 計",null,"積","卸","小 計","積","卸","小 計"]
[]
[null,null,"1月",6339,5797,{"$f":"SUM(D88:E88)","v":12136},990,762,{"$f":"SUM(G88:H88)","v":1752},{"$f":"SUM(F88,I88)","v":13888},435046,119353,{"$f":"SUM(K88:L88)","v":554399},103762,82125,{"$f":"SUM(N88:O88)","v":185887},{"$f":"SUM(M88,P88)","v":740286}]
[null,null,"2月",6176,5476,11652,1033,791,1824,{"$f":"SUM(F89,I89)","v":13476},306510,91751,398261,96563,79723,176286,{"$f":"SUM(M89,P89)","v":574547}]
[null,null,"3月",7992,6689,14681,1199,888,2087,16768,420790,125626,546416,106492,89119,195611,742027]
[null,null,"4月",7820,6882,14702,1079,781,1860,16562,375386,123876,499262,103774,82321,186095,685357]
[null,null,"5月",7024,6004,13028,917,747,1664,14692,343439,112871,456310,100352,81351,181703,638013]
[null,null,"6月",7437,6278,13715,1003,785,1788,15503,318795,116529,435324,103244,82110,185354,620678]
[null,null,"7月",6737,6447,13184,1055,1024,2079,15263,309967,130220,440187,97351,80651,178002,618189]
[null,null,"8月",6598,6268,12866,1090,996,2086,14952,282789,113361,396150,88610,74809,163419,559569]
[null,null,"9月",7056,6829,13885,1026,920,1946,15831,331159,194322,525481,94524,77128,171652,697133]
[null,null,"10月",7982,7992,15974,1081,924,2005,17979,346187,161617,507804,101725,82405,184130,691934]
[null,null,"11月",7112,6669,13781,1295,779,2074,15855,331941,162280,494221,110489,91870,202359,696580]
[null,null,"12月",7122,6715,13837,1388,1000,2388,16225,397446,173292,570738,143192,110489,253681,824419]
[]
[null,"中部暦２","暦年 計",{"$f":"SUM(D88:D99)","v":85395},78046,163441,13156,10397,23553,186994,4199455,1625098,5824553,1250078,1014101,2264179,8088732]
[]
[null,null,"1月",6273,5839,{"$f":"SUM(D103:E103)","v":12112},952,719,{"$f":"SUM(G103:H103)","v":1671},{"$f":"SUM(F103,I103)","v":13783},300246,124159,{"$f":"SUM(K103:L103)","v":424405},105108,84067,{"$f":"SUM(N103:O103)","v":189175},{"$f":"SUM(M103,P103)","v":613580}]
[null,null,"2月",6908,6139,13047,1090,797,1887,14934,310103,119423,429526,97742,78673,176415,605941]
[null,null,"3月",7844,7640,15484,1239,901,2140,17624,356008,147008,503016,110948,85837,196785,699801]
[]
[null,"中部度２","年度計",{"$f":"SUM(D91:D99,D103:D105)","v":85913},79702,165615,13215,10373,23588,189203,4003466,1678958,5682424,1257059,1011711,2268770,7951194]
[]
[null,null,{"$f":"C55","v":"平　成　２　８　年　空　港　管　理　状　況　調　書"}]
[null,null,"空港名 ：","関西国際              （会社管理）"]
[null,null,"項目",null,"着 陸 回 数 （回）",null,"乗   降   客   数   （人）",null,null,null,null,null,null,null,"航空燃料供給量　（ＫＬ）"]
[null,null,null,"国際線","国内線","計",null,"国 際 線",null,null,null,"国 内 線",null,"合 計","ジェット燃料","その他燃料","合計"]
[null,null,"月別",null,null,null,"乗 客","降 客","通過客","小 計","乗 客","降 客","小 計"]
[]
[null,null,"1月",5218,1942,{"$f":"SUM(D115:E115)","v":7160},712564,744313,10721,{"$f":"SUM(G115:I115)","v":1467598},253523,248678,{"$f":"SUM(K115:L115)","v":502201},{"$f":"J115+M115","v":1969799},117585,0,{"$f":"SUM(O115:P115)","v":117585}]
[null,null,"2月",5076,1804,{"$f":"SUM(D116:E116)","v":6880},782961,737122,7116,{"$f":"SUM(G116:I116)","v":1527199},246265,249601,{"$f":"SUM(K116:L116)","v":495866},{"$f":"J116+M116","v":2023065},111473,0,{"$f":"SUM(O116:P116)","v":111473}]
[null,null,"3月",5454,1981,7435,759651,841249,4991,1605891,282271,287050,569321,2175212,120975,0,120975]
[null,null,"4月",5372,1983,7355,817990,758788,6072,1582850,257777,252737,510514,2093364,122655,0,122655]
[null,null,"5月",5360,2050,7410,698258,724976,7947,1431181,275331,272515,547846,1979027,117964,0,117964]
[null,null,"6月",5257,1957,7214,725456,752473,12139,1490068,262230,255081,517311,2007379,116598,0,116598]
[null,null,"7月",5610,2127,7737,832478,843625,12747,1688850,287168,283129,570297,2259147,115641,0,115641]
[null,null,"8月",5615,2103,7718,896177,854503,10134,1760814,302668,302380,605048,2365862,124595,0,124595]
[null,null,"9月",5341,2031,7372,715563,758274,10013,1483850,282065,281489,563554,2047404,118305,0,118305]
[null,null,"10月",5483,2096,7579,771247,773794,8289,1553330,286611,285506,572117,2125447,121038,0,121038]
[null,null,"11月",5337,1897,7234,754535,754636,6228,1515399,257673,257877,515550,2030949,117894,0,117894]
[null,null,"12月",5505,1954,7459,779372,758209,9752,1547333,253116,253452,506568,2053901,124204,0,124204]
[]
[null,"関西暦１","暦年 計",{"$f":"SUM(D115:D126)","v":64628},{"$f":"SUM(E115:E126)","v":23925},{"$f":"SUM(F115:F126)","v":88553},{"$f":"SUM(G115:G126)","v":9246252},{"$f":"SUM(H115:H126)","v":9301962},106149,18654363,3246698,3229495,6476193,25130556,1428927,{"$f":"SUM(P115:P126)","v":0},{"$f":"SUM(Q115:Q126)","v":1428927}]
[]
[null,null,"1月",5522,1999,{"$f":"SUM(D130:E130)","v":7521},780871,866926,11659,{"$f":"SUM(G130:I130)","v":1659456},263226,261508,{"$f":"SUM(K130:L130)","v":524734},{"$f":"J130+M130","v":2184190},{"$f":"ROUND(([1]関西国際!$DM$20)/1000,0)","v":124682},{"$f":"ROUND(([1]関西国際!$DM$21)/1000,0)","v":0},{"$f":"SUM(O130:P130)","v":124682}]
[null,null,"2月",5013,1903,{"$f":"SUM(D131:E131)","v":6916},832691,749899,7298,{"$f":"SUM(G131:I131)","v":1589888},256166,259612,{"$f":"SUM(K131:L131)","v":515778},{"$f":"J131+M131","v":2105666},{"$f":"ROUND(([1]関西国際!$DN$20)/1000,0)","v":112449},{"$f":"ROUND(([1]関西国際!$DN$21)/1000,0)","v":0},{"$f":"SUM(O131:P131)","v":112449}]
[null,null,"3月",5583,2128,{"$f":"SUM(D132:E132)","v":7711},834020,901249,5173,{"$f":"SUM(G132:I132)","v":1740442},309981,310484,{"$f":"SUM(K132:L132)","v":620465},{"$f":"J132+M132","v":2360907},{"$f":"ROUND(([1]関西国際!$DO$20)/1000,0)","v":128601},{"$f":"ROUND(([1]関西国際!$DO$21)/1000,0)","v":0},{"$f":"SUM(O132:P132)","v":128601}]
[]
[null,"関西度１","年度計",{"$f":"SUM(D118:D126,D130:D132)","v":64998},{"$f":"SUM(E118:E126,E130:E132)","v":24228},{"$f":"SUM(F118:F126,F130:F132)","v":89226},{"$f":"SUM(G118:G126,G130:G132)","v":9438658},9497352,107451,19043461,3294012,3275770,6569782,25613243,1444626,0,{"$f":"SUM(Q118:Q126,Q130:Q132)","v":1444626}]
[]
[]
[]
[null,null,"項目",null,null,null,"貨 物 取 扱 量 （トン）",null,null,null,null,null,null,"郵 便 取 扱 量 （kg）"]
[null,null,null,null,"国 際 線",null,null,"国 内 線",null,"合計",null,"国 際 線",null,null,"国 内 線",null,"合 計"]
[null,null,"月別","積","卸","小 計","積","卸","小 計",null,"積","卸","小 計","積","卸","小 計"]
[]
[null,null,"1月",25240,27176,{"$f":"SUM(D142:E142)","v":52416},886,881,{"$f":"SUM(G142:H142)","v":1767},{"$f":"F142+I142","v":54183},1266071,547528,{"$f":"SUM(K142:L142)","v":1813599},223946,93351,{"$f":"SUM(N142:O142)","v":317297},{"$f":"M142+P142","v":2130896}]
[null,null,"2月",21533,23236,44769,821,935,1756,46525,941197,402536,1343733,194791,84715,279506,1623239]
[null,null,"3月",28062,32524,60586,927,1041,1968,62554,1330787,657166,1987953,240039,92319,332358,2320311]
[null,null,"4月",28267,30023,58290,730,790,1520,59810,1412507,759855,2172362,221151,93376,314527,2486889]
[null,null,"5月",26714,27726,54440,689,815,1504,55944,1283158,640698,1923856,208994,88102,297096,2220952]
[null,null,"6月",27802,29570,57372,738,784,1522,58894,1163833,684626,1848459,221169,96419,317588,2166047]
[null,null,"7月",27445,30428,57873,724,785,1509,59382,1050542,663648,1714190,207674,89062,296736,2010926]
[null,null,"8月",27540,30510,58050,734,728,1462,59512,974147,600748,1574895,196578,82198,278776,1853671]
[null,null,"9月",31095,33112,64207,730,767,1497,65704,1051979,676366,1728345,195259,89973,285232,2013577]
[null,null,"10月",30935,35542,66477,751,747,1498,67975,1136157,773502,1909659,224729,87391,312120,2221779]
[null,null,"11月",30486,36377,66863,765,696,1461,68324,1151976,862143,2014119,261979,93558,355537,2369656]
[null,null,"12月",31560,36908,68468,921,889,1810,70278,1412718,990692,2403410,367455,102507,469962,2873372]
[]
[null,"関西暦２","暦年 計",{"$f":"SUM(D142:D154)","v":336679},373132,709811,9416,9858,19274,729085,14175072,8259508,{"$f":"SUM(M142:M154)","v":22434580},{"$f":"SUM(N142:N154)","v":2763764},{"$f":"SUM(O142:O154)","v":1092971},{"$f":"SUM(P142:P154)","v":3856735},{"$f":"SUM(Q142:Q154)","v":26291315}]
[]
[null,null,"1月",{"$f":"ROUND(([1]関西国際!$DM$38)/1000,0)","v":26989},{"$f":"ROUND(([1]関西国際!$DM$39)/1000,0)","v":30882},{"$f":"SUM(D157:E157)","v":57871},{"$f":"ROUND(([1]関西国際!$DM$41)/1000,0)","v":663},{"$f":"ROUND(([1]関西国際!$DM$42)/1000,0)","v":656},{"$f":"SUM(G157:H157)","v":1319},{"$f":"F157+I157","v":59190},1073608,662141,{"$f":"SUM(K157:L157)","v":1735749},264994,87951,{"$f":"SUM(N157:O157)","v":352945},{"$f":"M157+P157","v":2088694}]
[null,null,"2月",{"$f":"ROUND(([1]関西国際!$DN$38)/1000,0)","v":26297},{"$f":"ROUND(([1]関西国際!$DN$39)/1000,0)","v":27138},{"$f":"SUM(D158:E158)","v":53435},{"$f":"ROUND(([1]関西国際!$DN$41)/1000,0)","v":667},{"$f":"ROUND(([1]関西国際!$DN$42)/1000,0)","v":642},{"$f":"SUM(G158:H158)","v":1309},{"$f":"F158+I158","v":54744},1152164,610974,{"$f":"SUM(K158:L158)","v":1763138},237439,82918,{"$f":"SUM(N158:O158)","v":320357},{"$f":"M158+P158","v":2083495}]
[null,null,"3月",{"$f":"ROUND(([1]関西国際!$DO$38)/1000,0)","v":32558},{"$f":"ROUND(([1]関西国際!$DO$39)/1000,0)","v":39334},{"$f":"SUM(D159:E159)","v":71892},{"$f":"ROUND(([1]関西国際!$DO$41)/1000,0)","v":814},{"$f":"ROUND(([1]関西国際!$DO$42)/1000,0)","v":901},{"$f":"SUM(G159:H159)","v":1715},{"$f":"F159+I159","v":73607},1382808,793687,{"$f":"SUM(K159:L159)","v":2176495},317484,106703,{"$f":"SUM(N159:O159)","v":424187},{"$f":"M159+P159","v":2600682}]
[]
[null,"関西度２","年度計",{"$f":"SUM(D145:D153,D157:D159)","v":347688},{"$f":"SUM(E145:E153,E157:E159)","v":387550},{"$f":"SUM(F145:F153,F157:F159)","v":735238},{"$f":"SUM(G145:G153,G157:G159)","v":8926},9200,18126,753364,14245597,8719080,{"$f":"SUM(M145:M153,M157:M159)","v":22964677},{"$f":"SUM(N145:N153,N157:N159)","v":2924905},{"$f":"SUM(O145:O153,O157:O159)","v":1100158},{"$f":"SUM(P145:P153,P157:P159)","v":4025063},{"$f":"SUM(Q145:Q153,Q157:Q159)","v":26989740}]
[]
[null,null,{"$f":"C109","v":"平　成　２　８　年　空　港　管　理　状　況　調　書"}]
[null,null,"空港名 ：","大阪国際                （会社管理）"]
[null,null,"項目",null,"着 陸 回 数 （回）",null,"乗   降   客   数   （人）",null,null,null,null,null,null,null,"航空燃料供給量　（ＫＬ）"]
[null,null,null,"国際線","国内線","計",null,"国 際 線",null,null,null,"国 内 線",null,"合 計","ジェット燃料","その他燃料","合計"]
[null,null,"月別",null,null,null,"乗 客","降 客","通過客","小 計","乗 客","降 客","小 計"]
[]
[null,null,"1月",0,5856,{"$f":"SUM(D169:E169)","v":5856},0,0,0,{"$f":"SUM(G169:I169)","v":0},568022,563547,{"$f":"SUM(K169:L169)","v":1131569},{"$f":"J169+M169","v":1131569},21097,0,{"$f":"SUM(O169:P169)","v":21097}]
[null,null,"2月",0,5496,{"$f":"SUM(D170:E170)","v":5496},0,0,0,{"$f":"SUM(G170:I170)","v":0},553875,541334,{"$f":"SUM(K170:L170)","v":1095209},{"$f":"J170+M170","v":1095209},19330,0,{"$f":"SUM(O170:P170)","v":19330}]
[null,null,"3月",0,5870,5870,0,0,0,0,641203,644182,1285385,1285385,20436,0,20436]
[null,null,"4月",1,5617,5618,0,0,0,0,584093,571191,1155284,1155284,20592,0,20592]
[null,null,"5月",0,5771,5771,0,0,0,0,594823,589976,1184799,1184799,21916,0,21916]
[null,null,"6月",0,5634,5634,0,0,0,0,578657,576905,1155562,1155562,21034,0,21034]
[null,null,"7月",1,6007,6008,0,0,0,0,623544,613623,1237167,1237167,22112,0,22112]
[null,null,"8月",1,6263,6264,0,0,0,0,730961,717710,1448671,1448671,24155,0,24155]
[null,null,"9月",0,5651,5651,0,0,0,0,658689,656853,1315542,1315542,21511,0,21511]
[null,null,"10月",0,5842,5842,0,0,0,0,668927,666909,1335836,1335836,20357,0,20357]
[null,null,"11月",1,5657,5658,0,0,0,0,664347,655984,1320331,1320331,20855,0,20855]
[null,null,"12月",1,5927,5928,0,0,0,0,637019,621304,1258323,1258323,22176,0,22176]
[]
[null,"大阪暦１","暦年 計",{"$f":"SUM(D169:D180)","v":5},{"$f":"SUM(E169:E180)","v":69591},{"$f":"SUM(F169:F180)","v":69596},{"$f":"SUM(G169:G180)","v":0},{"$f":"SUM(H169:H180)","v":0},0,0,7504160,7419518,14923678,14923678,255571,{"$f":"SUM(P169:P180)","v":0},{"$f":"SUM(Q169:Q180)","v":255571}]
[]
[null,null,"1月",0,5879,{"$f":"SUM(D184:E184)","v":5879},0,0,0,{"$f":"SUM(G184:I184)","v":0},585585,575602,{"$f":"SUM(K184:L184)","v":1161187},{"$f":"J184+M184","v":1161187},{"$f":"ROUND(([1]大阪国際!$DM$20)/1000,0)","v":21943},{"$f":"ROUND(([1]大阪国際!$DM$21)/1000,0)","v":0},{"$f":"SUM(O184:P184)","v":21943}]
[null,null,"2月",0,5247,{"$f":"SUM(D185:E185)","v":5247},0,0,0,{"$f":"SUM(G185:I185)","v":0},571125,559372,{"$f":"SUM(K185:L185)","v":1130497},{"$f":"J185+M185","v":1130497},{"$f":"ROUND(([1]大阪国際!$DN$20)/1000,0)","v":20136},{"$f":"ROUND(([1]大阪国際!$DN$21)/1000,0)","v":0},{"$f":"SUM(O185:P185)","v":20136}]
[null,null,"3月",0,5872,{"$f":"SUM(D186:E186)","v":5872},0,0,0,{"$f":"SUM(G186:I186)","v":0},697831,699365,{"$f":"SUM(K186:L186)","v":1397196},{"$f":"J186+M186","v":1397196},{"$f":"ROUND(([1]大阪国際!$DO$20)/1000,0)","v":21203},{"$f":"ROUND(([1]大阪国際!$DO$21)/1000,0)","v":0},{"$f":"SUM(O186:P186)","v":21203}]
[]
[null,"大阪度１","年度計",{"$f":"SUM(D172:D180,D184:D186)","v":5},{"$f":"SUM(E172:E180,E184:E186)","v":69367},{"$f":"SUM(F172:F180,F184:F186)","v":69372},{"$f":"SUM(G172:G180,G184:G186)","v":0},0,0,0,7595601,7504794,15100395,15100395,257990,0,{"$f":"SUM(Q172:Q180,Q184:Q186)","v":257990}]
[]
[]
[]
[null,null,"項目",null,null,null,"貨 物 取 扱 量 （トン）",null,null,null,null,null,null,"郵 便 取 扱 量 （kg）"]
[null,null,null,null,"国 際 線",null,null,"国 内 線",null,"合計",null,"国 際 線",null,null,"国 内 線",null,"合 計"]
[null,null,"月別","積","卸","小 計","積","卸","小 計",null,"積","卸","小 計","積","卸","小 計"]
[]
[null,null,"1月",0,0,{"$f":"SUM(D196:E196)","v":0},4573,4864,{"$f":"SUM(G196:H196)","v":9437},{"$f":"F196+I196","v":9437},0,0,{"$f":"SUM(K196:L196)","v":0},390652,400393,{"$f":"SUM(N196:O196)","v":791045},{"$f":"M196+P196","v":791045}]
[null,null,"2月",0,0,0,4796,4944,9740,9740,0,0,0,373046,369146,742192,742192]
[null,null,"3月",0,0,0,5257,6001,11258,11258,0,0,0,434004,421363,855367,855367]
[null,null,"4月",0,0,0,5023,5965,10988,10988,0,0,0,376904,389885,766789,766789]
[null,null,"5月",0,0,0,4174,5650,9824,9824,0,0,0,333656,366740,700396,700396]
[null,null,"6月",0,0,0,4873,5780,10653,10653,0,0,0,344767,405458,750225,750225]
[null,null,"7月",0,0,0,5090,6862,11952,11952,0,0,0,319863,347803,667666,667666]
[null,null,"8月",0,0,0,4809,6862,11671,11671,0,0,0,297704,323027,620731,620731]
[null,null,"9月",0,0,0,5134,6857,11991,11991,0,0,0,331218,313106,644324,644324]
[null,null,"10月",0,0,0,5358,6773,12131,12131,0,0,0,368076,346939,715015,715015]
[null,null,"11月",0,0,0,5508,5718,11226,11226,0,0,0,370085,355634,725719,725719]
[null,null,"12月",0,0,0,6693,6398,13091,13091,0,0,0,476647,416811,893458,893458]
[]
[null,"大阪暦２","暦年 計",{"$f":"SUM(D196:D208)","v":0},0,0,61288,72674,133962,133962,0,0,{"$f":"SUM(M196:M208)","v":0},{"$f":"SUM(N196:N208)","v":4416622},{"$f":"SUM(O196:O208)","v":4456305},{"$f":"SUM(P196:P208)","v":8872927},{"$f":"SUM(Q196:Q208)","v":8872927}]
[]
[null,null,"1月",0,0,{"$f":"SUM(D211:E211)","v":0},4647,4813,{"$f":"SUM(G211:H211)","v":9460},{"$f":"F211+I211","v":9460},0,0,{"$f":"SUM(K211:L211)","v":0},345655,340043,{"$f":"SUM(N211:O211)","v":685698},{"$f":"M211+P211","v":685698}]
[null,null,"2月",0,0,{"$f":"SUM(D212:E212)","v":0},4874,4853,{"$f":"SUM(G212:H212)","v":9727},{"$f":"F212+I212","v":9727},0,0,{"$f":"SUM(K212:L212)","v":0},325228,299159,{"$f":"SUM(N212:O212)","v":624387},{"$f":"M212+P212","v":624387}]
[null,null,"3月",0,0,{"$f":"SUM(D213:E213)","v":0},5668,5968,{"$f":"SUM(G213:H213)","v":11636},{"$f":"F213+I213","v":11636},0,0,{"$f":"SUM(K213:L213)","v":0},386715,374094,{"$f":"SUM(N213:O213)","v":760809},{"$f":"M213+P213","v":760809}]
[]
[null,"大阪度２","年度計",{"$f":"SUM(D199:D207,D211:D213)","v":0},{"$f":"SUM(E199:E207,E211:E213)","v":0},{"$f":"SUM(F199:F207,F211:F213)","v":0},{"$f":"SUM(G199:G207,G211:G213)","v":61851},72499,134350,134350,0,0,{"$f":"SUM(M199:M207,M211:M213)","v":0},{"$f":"SUM(N199:N207,N211:N213)","v":4276518},{"$f":"SUM(O199:O207,O211:O213)","v":4278699},{"$f":"SUM(P199:P207,P211:P213)","v":8555217},{"$f":"SUM(Q199:Q207,Q211:Q213)","v":8555217}]
[]
[null,null,{"$f":"C163","v":"平　成　２　８　年　空　港　管　理　状　況　調　書"}]
[null,null,"空港名 ：","会社管理空港計"]
[null,null,"項目",null,"着 陸 回 数 （回）",null,"乗   降   客   数   （人）",null,null,null,null,null,null,null,"航空燃料供給量　（KＬ）"]
[null,null,null,"国際線","国内線","計",null,"国 際 線",null,null,null,"国 内 線",null,"合 計","ジェット燃料","その他燃料","合計"]
[null,null,"月別",null,null,null,"乗 客","降 客","通過客","小 計","乗 客","降 客","小 計"]
[]
[null,null,"1月",{"$f":"D7+D61+D115+D169","v":14655},{"$f":"E7+E61+E115+E169","v":12492},{"$f":"SUM(D223:E223)","v":27147},{"$f":"G7+G61+G115+G169","v":1928863},{"$f":"H7+H61+H115+H169","v":1997823},{"$f":"I7+I61+I115+I169","v":264634},{"$f":"SUM(G223:I223)","v":4191320},{"$f":"K7+K61+K115+K169","v":1270087},1299982,{"$f":"SUM(K223:L223)","v":2570069},{"$f":"SUM(M223,J223)","v":6761389},{"$f":"O7+O61+O115+O169","v":571680},{"$f":"P7+P61+P115+P169","v":0},{"$f":"SUM(O223:P223)","v":571680}]
[null,null,"2月",14096,11663,{"$f":"SUM(D224:E224)","v":25759},{"$f":"G8+G62+G116+G170","v":2070812},1956139,213494,{"$f":"SUM(G224:I224)","v":4240445},1266456,1267734,{"$f":"SUM(K224:L224)","v":2534190},{"$f":"SUM(M224,J224)","v":6774635},535030,0,{"$f":"SUM(O224:P224)","v":535030}]
[null,null,"3月",15234,12696,27930,2109408,2357742,177217,4644367,1466069,1489615,2955684,7600051,579587,0,579587]
[null,null,"4月",14908,12060,26968,2209830,2045526,187029,4442385,1307609,1285478,2593087,7035472,571752,0,571752]
[null,null,"5月",15194,12827,28021,1917494,2032332,240552,4190378,1371586,1387581,2759167,6949545,570548,0,570548]
[null,null,"6月",14657,12178,26835,1943123,2012341,265780,4221244,1336116,1323792,2659908,6881152,561584,0,561584]
[null,null,"7月",15556,13108,28664,2231938,2282389,246540,4760867,1480318,1463679,2943997,7704864,575712,0,575712]
[null,null,"8月",15760,13571,29331,2494714,2384582,210842,5090138,1664665,1665580,3330245,8420383,595076,0,595076]
[null,null,"9月",15102,12526,27628,2061749,2181761,192955,4436465,1498309,1505685,3003994,7440459,563138,0,563138]
[null,null,"10月",15401,12841,28242,2152316,2182202,190152,4524670,1511982,1519044,3031026,7555696,570206,0,570206]
[null,null,"11月",14672,12242,26914,2060579,2054625,158816,4274020,1448494,1451559,2900053,7174073,542200,0,542200]
[null,null,"12月",15257,12688,27945,2122233,2072220,202565,{"$f":"SUM(G234:I234)","v":4397018},1413328,1368136,2781464,7178482,567643,0,567643]
[]
[null,null,"暦年 計",{"$f":"SUM(D223:D234)","v":180492},150892,{"$f":"SUM(F223:F234)","v":331384},25303059,25559682,2550576,53413317,17035019,17027865,34062884,{"$f":"SUM(N223:N235)","v":87476201},{"$f":"SUM(O223:O234)","v":6804156},{"$f":"SUM(P223:P234)","v":0},{"$f":"SUM(O236:P236)","v":6804156}]
[]
[null,null,"1月",{"$f":"D22+D76+D130+D184","v":15282},12701,{"$f":"SUM(D238:E238)","v":27983},{"$f":"G22+G76+G130+G184","v":2107586},2283101,234695,{"$f":"SUM(G238:I238)","v":4625382},{"$f":"K22+K76+K130+K184","v":1338643},1358078,{"$f":"SUM(K238:L238)","v":2696721},{"$f":"SUM(M238,J238)","v":7322103},{"$f":"O22+O76+O130+O184","v":571410},0,{"$f":"SUM(O238:P238)","v":571410}]
[null,null,"2月",13925,11664,{"$f":"SUM(D239:E239)","v":25589},2202799,2009658,175803,{"$f":"SUM(G239:I239)","v":4388260},1331132,1333934,{"$f":"SUM(K239:L239)","v":2665066},{"$f":"SUM(M239,J239)","v":7053326},518339,0,{"$f":"SUM(O239:P239)","v":518339}]
[null,null,"3月",15634,13095,{"$f":"SUM(D240:E240)","v":28729},2294632,2509336,144949,{"$f":"SUM(G240:I240)","v":4948917},1615997,1628023,{"$f":"SUM(K240:L240)","v":3244020},{"$f":"SUM(M240,J240)","v":8192937},594298,0,{"$f":"SUM(O240:P240)","v":594298}]
[]
[null,null,"年度計",{"$f":"SUM(D226:D234,D238:D240)","v":181348},151501,332849,25798993,26050073,2450678,54299744,17318179,17290569,34608748,88908492,{"$f":"SUM(O226:O234,O238:O240)","v":6801906},{"$f":"SUM(P226:P234,P238:P240)","v":0},{"$f":"SUM(Q226:Q234,Q238:Q240)","v":6801906}]
[]
[]
[]
[null,null,"項目",null,null,null,"貨 物 取 扱 量 （トン）",null,null,null,null,null,null,"郵 便 取 扱 量 （kg）"]
[null,null,null,null,"国 際 線",null,null,"国 内 線",null,"合計",null,"国 際 線",null,null,"国 内 線",null,"合 計"]
[null,null,"月別","積","卸","小 計","積","卸","小 計",null,"積","卸","小 計","積","卸","小 計"]
[]
[null,null,"1月",{"$f":"D34+D88+D142+D196","v":102025},114909,{"$f":"SUM(D250:E250)","v":216934},{"$f":"G34+G88+G142+G196","v":8641},7937,{"$f":"SUM(G250:H250)","v":16578},{"$f":"F250+I250","v":233512},{"$f":"K34+K88+K142+K196","v":3283967},2039509,{"$f":"SUM(K250:L250)","v":5323476},{"$f":"N34+N88+N142+N196","v":986080},587810,{"$f":"SUM(N250:O250)","v":1573890},{"$f":"M250+P250","v":6897366}]
[null,null,"2月",93589,103974,{"$f":"SUM(D251:E251)","v":197563},8671,7856,{"$f":"SUM(G251:H251)","v":16527},{"$f":"F251+I251","v":214090},2410207,1590850,{"$f":"SUM(K251:L251)","v":4001057},900065,542701,{"$f":"SUM(N251:O251)","v":1442766},{"$f":"M251+P251","v":5443823}]
[null,null,"3月",117886,134946,252832,10216,9972,20188,273020,3203740,2105598,5309338,1003842,614901,1618743,6928081]
[null,null,"4月",118069,126557,244626,9105,9363,18468,263094,3117643,2221632,5339275,965453,576116,1541569,6880844]
[null,null,"5月",112664,119780,232444,7651,8644,16295,248739,2834810,2044055,4878865,890459,547415,1437874,6316739]
[null,null,"6月",120000,126023,246023,8678,9029,17707,263730,2606191,2135141,4741332,914283,596197,1510480,6251812]
[null,null,"7月",119372,131318,250690,9241,10473,19714,270404,2370359,2203196,4573555,859355,527861,1387216,5960771]
[null,null,"8月",115659,127759,243418,9256,10275,19531,262949,2213311,2033653,4246964,822735,491670,1314405,5561369]
[null,null,"9月",124985,135757,260742,9508,10320,19828,280570,2362438,2210822,4573260,1014640,496445,1511085,6084345]
[null,null,"10月",129635,145301,274936,9841,10117,19958,294894,2511332,2413191,4924523,915931,528794,1444725,6369248]
[null,null,"11月",124499,140630,265129,9481,8842,18323,283452,2634117,2560959,5195076,938300,554961,1493261,6688337]
[null,null,"12月",128779,142356,271135,11192,10108,21300,292435,3334227,3241327,6575554,1228004,647001,1875005,8450559]
[]
[null,null,"暦年 計",{"$f":"SUM(D250:D262)","v":1407162},{"$f":"SUM(E250:E262)","v":1549310},2956472,111481,112936,224417,3180889,32882342,26799933,59682275,11439147,6711872,18151019,77833294]
[]
[null,null,"1月",{"$f":"D49+D103+D157+D211","v":110647},124173,{"$f":"SUM(D265:E265)","v":234820},{"$f":"G49+G103+G157+G211","v":8243},8478,{"$f":"SUM(G265:H265)","v":16721},{"$f":"F265+I265","v":251541},{"$f":"K49+K103+K157+K211","v":2466429},2338032,{"$f":"SUM(K265:L265)","v":4804461},{"$f":"N49+N103+N157+N211","v":882080},523214,{"$f":"SUM(N265:O265)","v":1405294},{"$f":"M265+P265","v":6209755}]
[null,null,"2月",110034,115023,{"$f":"SUM(D266:E266)","v":225057},8392,7412,{"$f":"SUM(G266:H266)","v":15804},{"$f":"F266+I266","v":240861},2490205,2117772,{"$f":"SUM(K266:L266)","v":4607977},823516,470893,{"$f":"SUM(N266:O266)","v":1294409},{"$f":"M266+P266","v":5902386}]
[null,null,"3月",136073,155835,{"$f":"SUM(D267:E267)","v":291908},9848,9358,{"$f":"SUM(G267:H267)","v":19206},{"$f":"F267+I267","v":311114},2927329,2607064,{"$f":"SUM(K267:L267)","v":5534393},985674,579719,{"$f":"SUM(N267:O267)","v":1565393},{"$f":"M267+P267","v":7099786}]
[]
[null,null,"年度計",{"$f":"SUM(D253:D261,D265:D267)","v":1450416},1590512,3040928,110436,112419,222855,3263783,31868391,28126844,59995235,11240430,6540286,17780716,77775951]
[]
[null,null,{"$f":"C217","v":"平　成　２　８　年　空　港　管　理　状　況　調　書"}]
[null,null,"空港名 ：","東京国際                （国管理）"]
[null,null,"項目",null,"着 陸 回 数 （回）",null,"乗   降   客   数   （人）",null,null,null,null,null,null,null,"航空燃料供給量　（KＬ）"]
[null,null,null,"国際線","国内線","計",null,"国 際 線",null,null,null,"国 内 線",null,"合 計","ジェット燃料","その他燃料","合計"]
[null,null,"月別",null,null,null,"乗 客","降 客","通過客","小 計","乗 客","降 客","小 計"]
[]
[null,null,"1月",3144,15469,{"$f":"SUM(D277:E277)","v":18613},577530,585444,15847,{"$f":"SUM(G277:I277)","v":1178821},2271061,2560903,{"$f":"SUM(K277:L277)","v":4831964},{"$f":"SUM(J277,M277)","v":6010785},260188,0,{"$f":"SUM(O277:P277)","v":260188}]
[null,null,"2月",3030,14640,{"$f":"SUM(D278:E278)","v":17670},592240,559740,11524,{"$f":"SUM(G278:I278)","v":1163504},2408589,2414416,{"$f":"SUM(K278:L278)","v":4823005},{"$f":"SUM(J278,M278)","v":5986509},246210,0,{"$f":"SUM(O278:P278)","v":246210}]
[null,null,"3月",3331,15600,18931,620045,685798,7438,1313281,2725550,2752859,5478409,6791690,253047,0,253047]
[null,null,"4月",3246,15065,18311,651128,593959,8750,1253837,2394688,2276526,4671214,5925051,257682,0,257682]
[null,null,"5月",3322,15448,18770,579881,595527,10801,1186209,2491928,2624102,5116030,6302239,253747,0,253747]
[null,null,"6月",3175,15185,18360,583500,592712,15822,1192034,2545309,2516119,5061428,6253462,256066,0,256066]
[null,null,"7月",3293,15860,19153,656339,643938,14633,1314910,2864476,2786584,5651060,6965970,259144,0,259144]
[null,null,"8月",3325,15739,19064,693923,664137,9007,1367067,3074745,3146918,6221663,7588730,252648,0,252648]
[null,null,"9月",3240,15275,18515,607671,634175,8107,1249953,2944602,2968617,5913219,7163172,247094,0,247094]
[null,null,"10月",3400,15763,19163,645964,652098,8551,1306613,3004841,3011308,6016149,7322762,261855,0,261855]
[null,null,"11月",3360,15203,18563,650945,637254,8195,1296394,2841074,2841025,5682099,6978493,266340,0,266340]
[null,null,"12月",3511,15605,19116,676723,662057,13336,1352116,2886905,2581918,5468823,6820939,284827,0,284827]
[]
[null,"羽田暦１","暦年 計",{"$f":"SUM(D277:D288)","v":39377},{"$f":"SUM(E277:E288)","v":184852},{"$f":"SUM(F277:F288)","v":224229},{"$f":"SUM(G277:G288)","v":7535889},{"$f":"SUM(H277:H288)","v":7506839},132011,15174739,32453768,32481295,64935063,80109802,3098848,{"$f":"SUM(P277:P288)","v":0},{"$f":"SUM(Q277:Q288)","v":3098848}]
[]
[null,null,"1月",3506,15586,{"$f":"SUM(D292:E292)","v":19092},651364,680436,20725,{"$f":"SUM(G292:I292)","v":1352525},2467400,2770825,{"$f":"K292+L292","v":5238225},{"$f":"J292+M292","v":6590750},285809,0,{"$f":"SUM(O292:P292)","v":285809}]
[null,null,"2月",3203,14112,{"$f":"SUM(D293:E293)","v":17315},669117,609574,10875,{"$f":"SUM(G293:I293)","v":1289566},2514531,2520958,{"$f":"K293+L293","v":5035489},{"$f":"J293+M293","v":6325055},256412,0,{"$f":"SUM(O293:P293)","v":256412}]
[null,null,"3月",3585,15700,{"$f":"SUM(D294:E294)","v":19285},708637,764805,7427,{"$f":"SUM(G294:I294)","v":1480869},3000070,3017804,{"$f":"K294+L294","v":6017874},{"$f":"J294+M294","v":7498743},285889,0,{"$f":"SUM(O294:P294)","v":285889}]
[]
[null,"羽田度１","年度計",{"$f":"SUM(D280:D288,D292:D294)","v":40166},{"$f":"SUM(E280:E288,E292:E294)","v":184541},{"$f":"SUM(F280:F288,F292:F294)","v":224707},{"$f":"SUM(G280:G288,G292:G294)","v":7775192},7730672,136229,15642093,33030569,33062704,66093273,81735366,3167513,0,{"$f":"SUM(Q280:Q288,Q292:Q294)","v":3167513}]
[]
[]
[]
[null,null,"項目",null,null,null,"貨 物 取 扱 量 （トン）",null,null,null,null,null,null,"郵 便 取 扱 量 （kg）"]
[null,null,null,null,"国 際 線",null,null,"国 内 線",null,"合計",null,"国 際 線",null,null,"国 内 線",null,"合 計"]
[null,null,"月別","積","卸","小 計","積","卸","小 計",null,"積","卸","小 計","積","卸","小 計"]
[]
[null,null,"1月",12852,14975,{"$f":"SUM(D304:E304)","v":27827},24739,27950,{"$f":"SUM(G304:H304)","v":52689},{"$f":"F304+I304","v":80516},1738711,1248163,{"$f":"SUM(K304:L304)","v":2986874},2773394,1492642,{"$f":"SUM(N304:O304)","v":4266036},{"$f":"M304+P304","v":7252910}]
[null,null,"2月",12631,13503,26134,25085,28182,53267,79401,1475368,1077190,2552558,2635340,1370098,4005438,6557996]
[null,null,"3月",13956,16034,29990,29823,33675,63498,93488,1791275,1294155,3085430,2957981,1686989,4644970,7730400]
[null,null,"4月",15428,17470,32898,28826,31277,60103,93001,2080015,1245267,3325282,2835730,1583649,4419379,7744661]
[null,null,"5月",15580,17244,32824,25144,27924,53068,85892,1589063,1132372,2721435,2682044,1489568,4171612,6893047]
[null,null,"6月",16470,17831,34301,27885,29370,57255,91556,1540447,1211229,2751676,3043916,1580629,4624545,7376221]
[null,null,"7月",16183,18764,34947,30763,34951,65714,100661,1425493,1210044,2635537,2703767,1449243,4153010,6788547]
[null,null,"8月",15691,18398,34089,29535,32811,{"$f":"SUM(G311:H311)","v":62346},96435,1306483,1145054,2451537,2388162,1331312,3719474,6171011]
[null,null,"9月",16830,20160,36990,31629,32842,64471,101461,1371116,1236218,2607334,2524209,1398015,3922224,6529558]
[null,null,"10月",18215,23590,41805,30492,31714,62206,104011,1472822,1380912,2853734,2728374,1389186,4117560,6971294]
[null,null,"11月",20021,23717,43738,31247,32270,63517,107255,1600988,1718376,3319364,2800243,1627694,4427937,7747301]
[null,null,"12月",20603,23869,44472,34922,37721,72643,117115,2078520,2094382,4172902,3207573,1995285,5202858,9375760]
[]
[null,"羽田暦２","暦年 計",{"$f":"SUM(D304:D316)","v":194460},225555,420015,350090,380687,730777,1150792,19470301,15993362,{"$f":"SUM(M304:M316)","v":35463663},{"$f":"SUM(N304:N316)","v":33280733},{"$f":"SUM(O304:O316)","v":18394310},{"$f":"SUM(P304:P316)","v":51675043},{"$f":"SUM(Q304:Q316)","v":87138706}]
[]
[null,null,"1月",17925,20933,{"$f":"SUM(D319:E319)","v":38858},24297,27905,{"$f":"SUM(G319:H319)","v":52202},{"$f":"F319+I319","v":91060},1542868,1477497,{"$f":"SUM(K319:L319)","v":3020365},2666444,1508354,{"$f":"SUM(N319:O319)","v":4174798},{"$f":"M319+P319","v":7195163}]
[null,null,"2月",17427,18419,{"$f":"SUM(D320:E320)","v":35846},25081,30084,{"$f":"SUM(G320:H320)","v":55165},{"$f":"F320+I320","v":91011},1457352,1385979,2843331,2449283,1418412,{"$f":"SUM(N320:O320)","v":3867695},{"$f":"M320+P320","v":6711026}]
[null,null,"3月",21324,25448,{"$f":"SUM(D321:E321)","v":46772},30068,34610,{"$f":"SUM(G321:H321)","v":64678},{"$f":"F321+I321","v":111450},1796260,1692387,{"$f":"SUM(K321:L321)","v":3488647},2926135,1666384,{"$f":"SUM(N321:O321)","v":4592519},{"$f":"M321+P321","v":8081166}]
[]
[null,"羽田度２","年度計",{"$f":"SUM(D307:D315,D319:D321)","v":211697},{"$f":"SUM(E307:E315,E319:E321)","v":245843},{"$f":"SUM(F307:F315,F319:F321)","v":457540},{"$f":"SUM(G307:G315,G319:G321)","v":349889},383479,733368,1190908,19261427,16929717,{"$f":"SUM(M307:M315,M319:M321)","v":36191144},{"$f":"SUM(N307:N315,N319:N321)","v":32955880},{"$f":"SUM(O307:O315,O319:O321)","v":18437731},{"$f":"SUM(P307:P315,P319:P321)","v":51393611},{"$f":"SUM(Q307:Q315,Q319:Q321)","v":87584755}]
[]
[null,null,{"$f":"C271","v":"平　成　２　８　年　空　港　管　理　状　況　調　書"}]
[null,null,"空港名 ：","新 千 歳                （国管理）"]
[null,null,"項目",null,"着 陸 回 数 （回）",null,"乗   降   客   数   （人）",null,null,null,null,null,null,null,"航空燃料供給量　（KＬ）"]
[null,null,null,"国際線","国内線","計",null,"国 際 線",null,null,null,"国 内 線",null,"合 計","ジェット燃料","その他燃料","合計"]
[null,null,"月別",null,null,null,"乗 客","降 客","通過客","小 計","乗 客","降 客","小 計"]
[]
[null,null,"1月",606,5343,{"$f":"SUM(D331:E331)","v":5949},128444,131968,0,{"$f":"SUM(G331:I331)","v":260412},755084,698123,{"$f":"SUM(K331:L331)","v":1453207},{"$f":"SUM(J331,M331)","v":1713619},39488,0,{"$f":"SUM(O331:P331)","v":39488}]
[null,null,"2月",613,4925,{"$f":"SUM(D332:E332)","v":5538},131871,127372,0,{"$f":"SUM(G332:I332)","v":259243},730700,706558,{"$f":"SUM(K332:L332)","v":1437258},{"$f":"SUM(J332,M332)","v":1696501},37164,0,{"$f":"SUM(O332:P332)","v":37164}]
[null,null,"3月",547,5410,5957,100011,96124,0,196135,787001,760644,1547645,1743780,36960,0,36960]
[null,null,"4月",483,5266,5749,71020,71182,0,142202,612791,646601,1259392,1401594,36917,0,36917]
[null,null,"5月",546,5579,6125,79701,82053,0,161754,769184,738244,1507428,1669182,41710,0,41710]
[null,null,"6月",506,5413,5919,83420,88640,0,172060,785461,795127,1580588,1752648,39335,0,39335]
[null,null,"7月",651,5747,6398,122690,129567,0,252257,870249,869534,1739783,1992040,42284,0,42284]
[null,null,"8月",670,5832,6502,127477,117069,0,244546,965639,914742,1880381,2124927,42972,0,42972]
[null,null,"9月",554,5619,6173,85983,90421,0,176404,921491,901811,1823302,1999706,44585,0,44585]
[null,null,"10月",618,5677,6295,113044,111509,0,224553,890327,850537,1740864,1965417,45807,0,45807]
[null,null,"11月",605,5202,5807,95687,99083,0,194770,716578,715908,1432486,1627256,36462,0,36462]
[null,null,"12月",771,4913,5684,144204,151359,0,295563,638836,690849,1329685,1625248,37849,0,37849]
[]
[null,"新千歳暦１","暦年 計",{"$f":"SUM(D331:D342)","v":7170},{"$f":"SUM(E331:E342)","v":64926},{"$f":"SUM(F331:F342)","v":72096},{"$f":"SUM(G331:G342)","v":1283552},{"$f":"SUM(H331:H342)","v":1296347},0,2579899,9443341,9288678,18732019,21311918,481533,{"$f":"SUM(P331:P342)","v":0},{"$f":"SUM(Q331:Q342)","v":481533}]
[]
[null,null,"1月",792,5336,{"$f":"SUM(D346:E346)","v":6128},152045,163089,0,{"$f":"SUM(G346:I346)","v":315134},763155,721883,{"$f":"SUM(K346:L346)","v":1485038},{"$f":"J346+M346","v":1800172},36793,0,{"$f":"SUM(O346:P346)","v":36793}]
[null,null,"2月",716,4952,{"$f":"SUM(D347:E347)","v":5668},154294,142454,0,{"$f":"SUM(G347:I347)","v":296748},732862,704104,{"$f":"SUM(K347:L347)","v":1436966},{"$f":"J347+M347","v":1733714},34321,0,{"$f":"SUM(O347:P347)","v":34321}]
[null,null,"3月",723,5505,{"$f":"SUM(D348:E348)","v":6228},124253,120482,0,{"$f":"SUM(G348:I348)","v":244735},813727,794666,{"$f":"SUM(K348:L348)","v":1608393},{"$f":"J348+M348","v":1853128},38806,0,{"$f":"SUM(O348:P348)","v":38806}]
[]
[null,"新千歳度１","年度計",{"$f":"SUM(D334:D342,D346:D348)","v":7635},{"$f":"SUM(E334:E342,E346:E348)","v":65041},{"$f":"SUM(F334:F342,F346:F348)","v":72676},{"$f":"SUM(G334:G342,G346:G348)","v":1353818},1366908,0,2720726,9480300,9344006,18824306,21545032,477841,0,{"$f":"SUM(Q334:Q342,Q346:Q348)","v":477841}]
[]
[]
[]
[null,null,"項目",null,null,null,"貨 物 取 扱 量 （トン）",null,null,null,null,null,null,"郵 便 取 扱 量 （kg）"]
[null,null,null,null,"国 際 線",null,null,"国 内 線",null,"合計",null,"国 際 線",null,null,"国 内 線",null,"合 計"]
[null,null,"月別","積","卸","小 計","積","卸","小 計",null,"積","卸","小 計","積","卸","小 計"]
[]
[null,null,"1月",473,237,{"$f":"SUM(D358:E358)","v":710},5396,7291,{"$f":"SUM(G358:H358)","v":12687},{"$f":"SUM(I358,F358)","v":13397},0,0,{"$f":"SUM(K358:L358)","v":0},475232,628996,{"$f":"SUM(N358:O358)","v":1104228},{"$f":"SUM(P358,M358)","v":1104228}]
[null,null,"2月",450,216,{"$f":"SUM(D359:E359)","v":666},5403,7257,{"$f":"SUM(G359:H359)","v":12660},{"$f":"SUM(I359,F359)","v":13326},0,0,0,438797,583391,1022188,{"$f":"SUM(P359,M359)","v":1022188}]
[null,null,"3月",572,276,848,6402,9067,15469,16317,0,0,0,503230,670846,1174076,1174076]
[null,null,"4月",470,267,737,6264,8184,14448,15185,0,0,{"$f":"SUM(K361:L361)","v":0},471827,660603,{"$f":"SUM(N361:O361)","v":1132430},1132430]
[null,null,"5月",442,337,779,5866,7363,13229,14008,0,0,0,446754,605743,1052497,1052497]
[null,null,"6月",418,283,701,7020,7996,15016,15717,0,0,0,479573,680731,1160304,1160304]
[null,null,"7月",439,314,753,11542,8208,19750,20503,0,0,0,441310,615640,1056950,1056950]
[null,null,"8月",451,350,801,11220,8069,19289,20090,0,0,0,417080,555517,972597,972597]
[null,null,"9月",530,389,919,12123,8664,20787,21706,0,0,0,438779,595469,1034248,1034248]
[null,null,"10月",462,473,935,11787,8451,20238,21173,0,0,0,440398,637120,1077518,1077518]
[null,null,"11月",495,566,1061,8633,8909,17542,18603,0,0,0,529184,635790,1164974,1164974]
[null,null,"12月",700,407,1107,7991,9357,17348,18455,0,0,0,595248,702749,1297997,1297997]
[]
[null,"新千歳暦２","暦年 計",{"$f":"SUM(D358:D370)","v":5902},4115,10017,99647,98816,198463,208480,0,0,{"$f":"SUM(M358:M370)","v":0},{"$f":"SUM(N358:N370)","v":5677412},{"$f":"SUM(O358:O370)","v":7572595},{"$f":"SUM(P358:P370)","v":13250007},{"$f":"SUM(Q358:Q370)","v":13250007}]
[]
[null,null,"1月",566,335,{"$f":"SUM(D373:E373)","v":901},4539,6394,{"$f":"SUM(G373:H373)","v":10933},{"$f":"F373+I373","v":11834},0,0,{"$f":"SUM(K373:L373)","v":0},475010,606724,{"$f":"SUM(N373:O373)","v":1081734},{"$f":"M373+P373","v":1081734}]
[null,null,"2月",550,328,{"$f":"SUM(D374:E374)","v":878},4793,6885,{"$f":"SUM(G374:H374)","v":11678},{"$f":"F374+I374","v":12556},0,0,{"$f":"SUM(K374:L374)","v":0},454421,564662,{"$f":"SUM(N374:O374)","v":1019083},{"$f":"M374+P374","v":1019083}]
[null,null,"3月",491,452,{"$f":"SUM(D375:E375)","v":943},5656,8264,{"$f":"SUM(G375:H375)","v":13920},{"$f":"F375+I375","v":14863},0,0,{"$f":"SUM(K375:L375)","v":0},498504,663198,{"$f":"SUM(N375:O375)","v":1161702},{"$f":"M375+P375","v":1161702}]
[]
[null,"新千歳度２","年度計",{"$f":"SUM(D361:D369,D373:D375)","v":6014},{"$f":"SUM(E361:E369,E373:E375)","v":4501},{"$f":"SUM(F361:F369,F373:F375)","v":10515},{"$f":"SUM(G361:G369,G373:G375)","v":97434},96744,194178,204693,0,0,{"$f":"SUM(M361:M369,M373:M375)","v":0},{"$f":"SUM(N361:N369,N373:N375)","v":5688088},{"$f":"SUM(O361:O369,O373:O375)","v":7523946},{"$f":"SUM(P361:P369,P373:P375)","v":13212034},{"$f":"SUM(Q361:Q369,Q373:Q375)","v":13212034}]
[]
[null,null,{"$f":"C325","v":"平　成　２　８　年　空　港　管　理　状　況　調　書"}]
[null,null,"空港名 ：","稚    内                （国管理）"]
[null,null,"項目",null,"着 陸 回 数 （回）",null,"乗   降   客   数   （人）",null,null,null,null,null,null,null,"航空燃料供給量　（KＬ）"]
[null,null,null,"国際線","国内線","計",null,"国 際 線",null,null,null,"国 内 線",null,"合 計","ジェット燃料","その他燃料","合計"]
[null,null,"月別",null,null,null,"乗 客","降 客","通過客","小 計","乗 客","降 客","小 計"]
[]
[null,null,"1月",0,76,{"$f":"SUM(D385:E385)","v":76},0,0,0,{"$f":"SUM(G385:I385)","v":0},2888,2498,{"$f":"SUM(K385:L385)","v":5386},{"$f":"SUM(J385,M385)","v":5386},41,0,{"$f":"SUM(O385:P385)","v":41}]
[null,null,"2月",0,63,{"$f":"SUM(D386:E386)","v":63},0,0,0,{"$f":"SUM(G386:I386)","v":0},2426,2759,{"$f":"SUM(K386:L386)","v":5185},{"$f":"SUM(J386,M386)","v":5185},30,0,30]
[null,null,"3月",0,91,91,0,0,0,0,3604,3576,7180,7180,100,0,100]
[null,null,"4月",0,96,96,0,0,0,0,3977,4606,8583,8583,146,0,{"$f":"SUM(O388:P388)","v":146}]
[null,null,"5月",0,107,107,0,0,0,0,6620,7271,13891,13891,180,0,180]
[null,null,"6月",1,208,209,0,0,0,0,13442,14535,27977,27977,551,0,551]
[null,null,"7月",0,201,201,0,0,0,0,15262,16081,31343,31343,526,0,526]
[null,null,"8月",0,198,198,0,0,0,0,15564,16285,31849,31849,678,0,678]
[null,null,"9月",0,131,131,0,0,0,0,13940,13928,27868,27868,504,0,504]
[null,null,"10月",0,108,108,0,0,0,0,8402,8379,16781,16781,290,0,290]
[null,null,"11月",0,86,86,0,0,0,0,4244,3693,7937,7937,81,0,81]
[null,null,"12月",0,75,75,0,0,0,0,3012,3084,6096,6096,46,0,46]
[]
[null,"稚内暦１","暦年 計",{"$f":"SUM(D385:D396)","v":1},{"$f":"SUM(E385:E396)","v":1440},{"$f":"SUM(F385:F396)","v":1441},{"$f":"SUM(G385:G396)","v":0},{"$f":"SUM(H385:H396)","v":0},0,0,93381,96695,190076,190076,3173,{"$f":"SUM(P385:P396)","v":0},{"$f":"SUM(Q385:Q396)","v":3173}]
[]
[null,null,"1月",0,82,{"$f":"SUM(D400:E400)","v":82},0,0,0,{"$f":"SUM(G400:I400)","v":0},3129,2629,{"$f":"SUM(K400:L400)","v":5758},{"$f":"J400+M400","v":5758},61,0,{"$f":"SUM(O400:P400)","v":61}]
[null,null,"2月",0,76,{"$f":"SUM(D401:E401)","v":76},0,0,0,{"$f":"SUM(G401:I401)","v":0},2802,3112,{"$f":"SUM(K401:L401)","v":5914},{"$f":"J401+M401","v":5914},56,0,{"$f":"SUM(O401:P401)","v":56}]
[null,null,"3月",0,95,{"$f":"SUM(D402:E402)","v":95},0,0,0,{"$f":"SUM(G402:I402)","v":0},4107,4566,{"$f":"SUM(K402:L402)","v":8673},{"$f":"J402+M402","v":8673},87,0,{"$f":"SUM(O402:P402)","v":87}]
[]
[null,"稚内度１","年度計",{"$f":"SUM(D388:D396,D400:D402)","v":1},{"$f":"SUM(E388:E396,E400:E402)","v":1463},{"$f":"SUM(F388:F396,F400:F402)","v":1464},{"$f":"SUM(G388:G396,G400:G402)","v":0},0,0,0,94501,98169,192670,192670,3206,0,{"$f":"SUM(Q388:Q396,Q400:Q402)","v":3206}]
[]
[]
[]
[null,null,"項目",null,null,null,"貨 物 取 扱 量 （トン）",null,null,null,null,null,null,"郵 便 取 扱 量 （kg）"]
[null,null,null,null,"国 際 線",null,null,"国 内 線",null,"合計",null,"国 際 線",null,null,"国 内 線",null,"合 計"]
[null,null,"月別","積","卸","小 計","積","卸","小 計",null,"積","卸","小 計","積","卸","小 計"]
[]
[null,null,"1月",0,0,{"$f":"SUM(D412:E412)","v":0},1,1,{"$f":"SUM(G412:H412)","v":2},{"$f":"F412+I412","v":2},0,0,{"$f":"SUM(K412:L412)","v":0},0,0,{"$f":"SUM(N412:O412)","v":0},{"$f":"M412+P412","v":0}]
[null,null,"2月",0,0,{"$f":"SUM(D413:E413)","v":0},3,1,{"$f":"SUM(G413:H413)","v":4},{"$f":"F413+I413","v":4},0,0,{"$f":"SUM(K413:L413)","v":0},0,0,{"$f":"SUM(N413:O413)","v":0},{"$f":"M413+P413","v":0}]
[null,null,"3月",0,0,{"$f":"SUM(D414:E414)","v":0},7,1,{"$f":"SUM(G414:H414)","v":8},{"$f":"F414+I414","v":8},0,0,{"$f":"SUM(K414:L414)","v":0},0,0,{"$f":"SUM(N414:O414)","v":0},{"$f":"M414+P414","v":0}]
[null,null,"4月",0,0,{"$f":"SUM(D415:E415)","v":0},8,2,{"$f":"SUM(G415:H415)","v":10},{"$f":"F415+I415","v":10},0,0,{"$f":"SUM(K415:L415)","v":0},0,0,{"$f":"SUM(N415:O415)","v":0},{"$f":"M415+P415","v":0}]
[null,null,"5月",0,0,0,8,1,9,9,0,0,0,0,0,0,0]
[null,null,"6月",0,0,0,4,1,5,5,0,0,0,0,0,0,0]
[null,null,"7月",0,0,0,13,2,15,15,0,0,0,0,0,0,0]
[null,null,"8月",0,0,0,106,3,109,109,0,0,0,0,0,0,0]
[null,null,"9月",0,0,0,60,2,62,62,0,0,0,0,0,0,0]
[null,null,"10月",0,0,0,54,1,55,55,0,0,0,0,0,0,0]
[null,null,"11月",0,0,0,5,1,6,6,0,0,0,0,0,0,0]
[null,null,"12月",0,0,0,12,1,13,13,0,0,0,0,0,0,0]
[]
[null,"稚内暦２","暦年 計",{"$f":"SUM(D412:D424)","v":0},0,0,281,17,298,298,0,0,{"$f":"SUM(M412:M424)","v":0},{"$f":"SUM(N412:N424)","v":0},{"$f":"SUM(O412:O424)","v":0},{"$f":"SUM(P412:P424)","v":0},{"$f":"SUM(Q412:Q424)","v":0}]
[]
[null,null,"1月",0,0,{"$f":"SUM(D427:E427)","v":0},5,1,{"$f":"SUM(G427:H427)","v":6},{"$f":"F427+I427","v":6},0,0,{"$f":"SUM(K427:L427)","v":0},0,0,{"$f":"SUM(N427:O427)","v":0},{"$f":"M427+P427","v":0}]
[null,null,"2月",0,0,{"$f":"SUM(D428:E428)","v":0},15,1,{"$f":"SUM(G428:H428)","v":16},{"$f":"F428+I428","v":16},0,0,{"$f":"SUM(K428:L428)","v":0},0,0,{"$f":"SUM(N428:O428)","v":0},{"$f":"M428+P428","v":0}]
[null,null,"3月",0,0,{"$f":"SUM(D429:E429)","v":0},19,1,{"$f":"SUM(G429:H429)","v":20},{"$f":"F429+I429","v":20},0,0,{"$f":"SUM(K429:L429)","v":0},0,0,{"$f":"SUM(N429:O429)","v":0},{"$f":"M429+P429","v":0}]
[]
[null,"稚内度２","年度計",{"$f":"SUM(D415:D423,D427:D429)","v":0},{"$f":"SUM(E415:E423,E427:E429)","v":0},{"$f":"SUM(F415:F423,F427:F429)","v":0},{"$f":"SUM(G415:G423,G427:G429)","v":309},17,326,326,0,0,{"$f":"SUM(M415:M423,M427:M429)","v":0},{"$f":"SUM(N415:N423,N427:N429)","v":0},{"$f":"SUM(O415:O423,O427:O429)","v":0},{"$f":"SUM(P415:P423,P427:P429)","v":0},{"$f":"SUM(Q415:Q423,Q427:Q429)","v":0}]
[]
[null,null,{"$f":"C379","v":"平　成　２　８　年　空　港　管　理　状　況　調　書"}]
[null,null,"空港名 ：","釧    路                （国管理）"]
[null,null,"項目",null,"着 陸 回 数 （回）",null,"乗   降   客   数   （人）",null,null,null,null,null,null,null,"航空燃料供給量　（KＬ）"]
[null,null,null,"国際線","国内線","計",null,"国 際 線",null,null,null,"国 内 線",null,"合 計","ジェット燃料","その他燃料","合計"]
[null,null,"月別",null,null,null,"乗 客","降 客","通過客","小 計","乗 客","降 客","小 計"]
[]
[null,null,"1月",5,396,{"$f":"SUM(D439:E439)","v":401},476,402,0,{"$f":"SUM(G439:I439)","v":878},25745,22348,{"$f":"SUM(K439:L439)","v":48093},{"$f":"J439+M439","v":48971},1057,0,{"$f":"SUM(O439:P439)","v":1057}]
[null,null,"2月",10,399,{"$f":"SUM(D440:E440)","v":409},1257,1240,0,{"$f":"SUM(G440:I440)","v":2497},24456,24468,{"$f":"SUM(K440:L440)","v":48924},{"$f":"J440+M440","v":51421},1070,0,{"$f":"SUM(O440:P440)","v":1070}]
[null,null,"3月",2,428,{"$f":"SUM(D441:E441)","v":430},0,0,0,{"$f":"SUM(G441:I441)","v":0},25234,24242,{"$f":"SUM(K441:L441)","v":49476},{"$f":"J441+M441","v":49476},957,0,{"$f":"SUM(O441:P441)","v":957}]
[null,null,"4月",2,420,{"$f":"SUM(D442:E442)","v":422},0,0,0,{"$f":"SUM(G442:I442)","v":0},22585,23628,{"$f":"SUM(K442:L442)","v":46213},{"$f":"J442+M442","v":46213},900,0,{"$f":"SUM(O442:P442)","v":900}]
[null,null,"5月",0,418,418,0,0,0,0,26714,26279,52993,52993,1050,0,1050]
[null,null,"6月",1,389,390,0,0,0,0,28420,27722,56142,56142,953,0,953]
[null,null,"7月",1,435,436,0,0,0,0,31689,33125,64814,64814,1208,0,1208]
[null,null,"8月",0,460,460,0,0,0,0,42144,42479,84623,84623,1486,0,1486]
[null,null,"9月",0,457,457,0,0,0,0,38526,37174,75700,75700,1397,0,1397]
[null,null,"10月",1,463,464,0,0,0,0,38224,36856,75080,75080,1218,0,1218]
[null,null,"11月",0,453,453,0,0,0,0,29713,29712,59425,59425,955,0,955]
[null,null,"12月",1,416,417,0,0,0,0,23194,27685,50879,50879,905,0,905]
[]
[null,"釧路暦１","暦年 計",{"$f":"SUM(D439:D450)","v":23},{"$f":"SUM(E439:E450)","v":5134},{"$f":"SUM(F439:F450)","v":5157},{"$f":"SUM(G439:G450)","v":1733},{"$f":"SUM(H439:H450)","v":1642},0,3375,356644,355718,712362,715737,13156,{"$f":"SUM(P439:P450)","v":0},{"$f":"SUM(Q439:Q450)","v":13156}]
[]
[null,null,"1月",1,432,{"$f":"SUM(D454:E454)","v":433},0,0,0,{"$f":"SUM(G454:I454)","v":0},27791,25291,{"$f":"SUM(K454:L454)","v":53082},{"$f":"J454+M454","v":53082},925,0,{"$f":"SUM(O454:P454)","v":925}]
[null,null,"2月",0,407,{"$f":"SUM(D455:E455)","v":407},0,0,0,{"$f":"SUM(G455:I455)","v":0},24702,25754,{"$f":"SUM(K455:L455)","v":50456},{"$f":"J455+M455","v":50456},924,0,{"$f":"SUM(O455:P455)","v":924}]
[null,null,"3月",1,448,{"$f":"SUM(D456:E456)","v":449},0,0,0,{"$f":"SUM(G456:I456)","v":0},27431,26817,{"$f":"SUM(K456:L456)","v":54248},{"$f":"J456+M456","v":54248},952,0,{"$f":"SUM(O456:P456)","v":952}]
[]
[null,"釧路度１","年度計",{"$f":"SUM(D442:D450,D454:D456)","v":8},{"$f":"SUM(E442:E450,E454:E456)","v":5198},{"$f":"SUM(F442:F450,F454:F456)","v":5206},{"$f":"SUM(G442:G450,G454:G456)","v":0},0,0,0,361133,362522,723655,723655,12873,0,{"$f":"SUM(Q442:Q450,Q454:Q456)","v":12873}]
[]
[]
[]
[null,null,"項目",null,null,null,"貨 物 取 扱 量 （トン）",null,null,null,null,null,null,"郵 便 取 扱 量 （kg）"]
[null,null,null,null,"国 際 線",null,null,"国 内 線",null,"合計",null,"国 際 線",null,null,"国 内 線",null,"合 計"]
[null,null,"月別","積","卸","小 計","積","卸","小 計",null,"積","卸","小 計","積","卸","小 計"]
[]
[null,null,"1月",0,0,{"$f":"SUM(D466:E466)","v":0},140,33,{"$f":"SUM(G466:H466)","v":173},{"$f":"F466+I466","v":173},0,0,{"$f":"SUM(K466:L466)","v":0},4692,0,{"$f":"SUM(N466:O466)","v":4692},{"$f":"M466+P466","v":4692}]
[null,null,"2月",0,0,{"$f":"SUM(D467:E467)","v":0},113,32,{"$f":"SUM(G467:H467)","v":145},{"$f":"F467+I467","v":145},0,0,{"$f":"SUM(K467:L467)","v":0},4416,0,{"$f":"SUM(N467:O467)","v":4416},{"$f":"M467+P467","v":4416}]
[null,null,"3月",0,0,{"$f":"SUM(D468:E468)","v":0},130,41,{"$f":"SUM(G468:H468)","v":171},{"$f":"F468+I468","v":171},0,0,{"$f":"SUM(K468:L468)","v":0},4528,0,{"$f":"SUM(N468:O468)","v":4528},{"$f":"M468+P468","v":4528}]
[null,null,"4月",0,0,{"$f":"SUM(D469:E469)","v":0},125,37,{"$f":"SUM(G469:H469)","v":162},{"$f":"F469+I469","v":162},0,0,{"$f":"SUM(K469:L469)","v":0},4541,0,{"$f":"SUM(N469:O469)","v":4541},{"$f":"M469+P469","v":4541}]
[null,null,"5月",0,0,0,128,35,163,163,0,0,0,4612,0,4612,4612]
[null,null,"6月",0,0,0,185,40,225,225,0,0,0,4344,0,4344,4344]
[null,null,"7月",0,0,0,193,37,230,230,0,0,0,4492,0,4492,4492]
[null,null,"8月",0,0,0,289,44,333,333,0,0,0,4189,0,4189,4189]
[null,null,"9月",0,0,0,256,44,300,300,0,0,0,4716,0,4716,4716]
[null,null,"10月",0,0,0,228,58,286,286,0,0,0,4664,0,4664,4664]
[null,null,"11月",0,0,0,156,31,187,187,0,0,0,5298,0,5298,5298]
[null,null,"12月",0,0,0,207,62,269,269,0,0,0,6296,0,6296,6296]
[]
[null,"釧路暦２","暦年 計",{"$f":"SUM(D466:D478)","v":0},0,0,2150,494,2644,2644,0,0,{"$f":"SUM(M466:M478)","v":0},{"$f":"SUM(N466:N478)","v":56788},{"$f":"SUM(O466:O478)","v":0},{"$f":"SUM(P466:P478)","v":56788},{"$f":"SUM(Q466:Q478)","v":56788}]
[]
[null,null,"1月",0,0,{"$f":"SUM(D481:E481)","v":0},107,25,{"$f":"SUM(G481:H481)","v":132},{"$f":"F481+I481","v":132},0,0,{"$f":"SUM(K481:L481)","v":0},4859,0,{"$f":"SUM(N481:O481)","v":4859},{"$f":"M481+P481","v":4859}]
[null,null,"2月",0,0,{"$f":"SUM(D482:E482)","v":0},107,32,{"$f":"SUM(G482:H482)","v":139},{"$f":"F482+I482","v":139},0,0,{"$f":"SUM(K482:L482)","v":0},4308,0,{"$f":"SUM(N482:O482)","v":4308},{"$f":"M482+P482","v":4308}]
[null,null,"3月",0,0,{"$f":"SUM(D483:E483)","v":0},137,40,{"$f":"SUM(G483:H483)","v":177},{"$f":"F483+I483","v":177},0,0,{"$f":"SUM(K483:L483)","v":0},4975,0,{"$f":"SUM(N483:O483)","v":4975},{"$f":"M483+P483","v":4975}]
[]
[null,"釧路度２","年度計",{"$f":"SUM(D469:D477,D481:D483)","v":0},{"$f":"SUM(E469:E477,E481:E483)","v":0},{"$f":"SUM(F469:F477,F481:F483)","v":0},{"$f":"SUM(G469:G477,G481:G483)","v":2118},485,2603,2603,0,0,{"$f":"SUM(M469:M477,M481:M483)","v":0},{"$f":"SUM(N469:N477,N481:N483)","v":57294},{"$f":"SUM(O469:O477,O481:O483)","v":0},{"$f":"SUM(P469:P477,P481:P483)","v":57294},{"$f":"SUM(Q469:Q477,Q481:Q483)","v":57294}]
[]
[null,null,{"$f":"C433","v":"平　成　２　８　年　空　港　管　理　状　況　調　書"}]
[null,null,"空港名 ：","函    館                （国管理）"]
[null,null,"項目",null,"着 陸 回 数 （回）",null,"乗   降   客   数   （人）",null,null,null,null,null,null,null,"航空燃料供給量　（KＬ）"]
[null,null,null,"国際線","国内線","計",null,"国 際 線",null,null,null,"国 内 線",null,"合 計","ジェット燃料","その他燃料","合計"]
[null,null,"月別",null,null,null,"乗 客","降 客","通過客","小 計","乗 客","降 客","小 計"]
[]
[null,null,"1月",72,628,{"$f":"SUM(D493:E493)","v":700},8897,10250,0,{"$f":"SUM(G493:I493)","v":19147},57920,50809,{"$f":"SUM(K493:L493)","v":108729},{"$f":"J493+M493","v":127876},2095,0,{"$f":"SUM(O493:P493)","v":2095}]
[null,null,"2月",78,611,{"$f":"SUM(D494:E494)","v":689},10065,10059,0,{"$f":"SUM(G494:I494)","v":20124},49714,49809,{"$f":"SUM(K494:L494)","v":99523},{"$f":"J494+M494","v":119647},2089,0,{"$f":"SUM(O494:P494)","v":2089}]
[null,null,"3月",66,685,{"$f":"SUM(D495:E495)","v":751},7456,7962,0,{"$f":"SUM(G495:I495)","v":15418},60024,60732,{"$f":"SUM(K495:L495)","v":120756},{"$f":"J495+M495","v":136174},2707,0,{"$f":"SUM(O495:P495)","v":2707}]
[null,null,"4月",61,669,{"$f":"SUM(D496:E496)","v":730},7205,8032,0,{"$f":"SUM(G496:I496)","v":15237},49145,54403,{"$f":"SUM(K496:L496)","v":103548},{"$f":"J496+M496","v":118785},2934,0,{"$f":"SUM(O496:P496)","v":2934}]
[null,null,"5月",62,712,774,7165,7366,0,14531,67336,66934,134270,148801,3150,0,3150]
[null,null,"6月",58,689,747,7389,7682,0,15071,66320,69116,135436,150507,3058,0,3058]
[null,null,"7月",51,798,849,7506,7777,0,15283,68472,73258,141730,157013,2812,0,2812]
[null,null,"8月",62,805,867,8186,8408,0,16594,83053,80778,163831,180425,3635,0,3635]
[null,null,"9月",71,738,809,8123,8509,0,16632,77412,79418,156830,173462,3437,0,3437]
[null,null,"10月",66,732,798,8829,9872,0,18701,74999,75195,150194,168895,3113,0,3113]
[null,null,"11月",62,643,705,7750,8414,0,16164,57415,58801,116216,132380,2296,0,2296]
[null,null,"12月",66,628,694,8789,9256,0,18045,51166,61506,112672,130717,2322,0,2322]
[]
[null,"函館暦１","暦年 計",{"$f":"SUM(D493:D504)","v":775},{"$f":"SUM(E493:E504)","v":8338},{"$f":"SUM(F493:F504)","v":9113},{"$f":"SUM(G493:G504)","v":97360},{"$f":"SUM(H493:H504)","v":103587},0,200947,762976,780759,1543735,1744682,33648,{"$f":"SUM(P493:P504)","v":0},{"$f":"SUM(Q493:Q504)","v":33648}]
[]
[null,null,"1月",72,652,{"$f":"SUM(D508:E508)","v":724},8995,9715,0,{"$f":"SUM(G508:I508)","v":18710},54938,48895,{"$f":"SUM(K508:L508)","v":103833},{"$f":"J508+M508","v":122543},2062,0,{"$f":"SUM(O508:P508)","v":2062}]
[null,null,"2月",77,615,{"$f":"SUM(D509:E509)","v":692},11115,10790,0,{"$f":"SUM(G509:I509)","v":21905},47304,46620,{"$f":"SUM(K509:L509)","v":93924},{"$f":"J509+M509","v":115829},2121,0,{"$f":"SUM(O509:P509)","v":2121}]
[null,null,"3月",64,709,{"$f":"SUM(D510:E510)","v":773},8100,7447,0,{"$f":"SUM(G510:I510)","v":15547},63746,65049,{"$f":"SUM(K510:L510)","v":128795},{"$f":"J510+M510","v":144342},2378,0,{"$f":"SUM(O510:P510)","v":2378}]
[]
[null,"函館度１","年度計",{"$f":"SUM(D496:D504,D508:D510)","v":772},{"$f":"SUM(E496:E504,E508:E510)","v":8390},{"$f":"SUM(F496:F504,F508:F510)","v":9162},{"$f":"SUM(G496:G504,G508:G510)","v":99152},103268,0,202420,761306,779973,1541279,1743699,33318,0,{"$f":"SUM(Q496:Q504,Q508:Q510)","v":33318}]
[]
[]
[]
[null,null,"項目",null,null,null,"貨 物 取 扱 量 （トン）",null,null,null,null,null,null,"郵 便 取 扱 量 （kg）"]
[null,null,null,null,"国 際 線",null,null,"国 内 線",null,"合計",null,"国 際 線",null,null,"国 内 線",null,"合 計"]
[null,null,"月別","積","卸","小 計","積","卸","小 計",null,"積","卸","小 計","積","卸","小 計"]
[]
[null,null,"1月",0,0,{"$f":"SUM(D520:E520)","v":0},304,162,{"$f":"SUM(G520:H520)","v":466},{"$f":"F520+I520","v":466},0,0,{"$f":"SUM(K520:L520)","v":0},24205,67740,{"$f":"SUM(N520:O520)","v":91945},{"$f":"M520+P520","v":91945}]
[null,null,"2月",0,0,0,269,165,434,434,0,0,0,23896,61739,85635,85635]
[null,null,"3月",0,0,0,375,199,574,574,0,0,0,26029,72934,98963,98963]
[null,null,"4月",0,0,0,407,185,592,592,0,0,0,24529,68056,92585,92585]
[null,null,"5月",0,0,0,404,165,569,569,0,0,0,21935,63526,85461,85461]
[null,null,"6月",0,0,0,458,182,640,640,0,0,0,21965,73413,95378,95378]
[null,null,"7月",0,0,0,548,204,752,752,0,0,0,21947,67581,89528,89528]
[null,null,"8月",0,0,0,518,195,713,713,0,0,0,19417,58076,77493,77493]
[null,null,"9月",0,0,0,578,211,789,789,0,0,0,20755,62995,83750,83750]
[null,null,"10月",0,0,0,557,204,761,761,0,0,0,23291,69295,92586,92586]
[null,null,"11月",0,0,0,415,192,607,607,0,0,0,27838,67565,95403,95403]
[null,null,"12月",0,0,0,470,505,975,975,0,0,0,31723,87537,119260,119260]
[]
[null,"函館暦２","暦年 計",{"$f":"SUM(D520:D532)","v":0},0,0,5303,2569,7872,7872,0,0,{"$f":"SUM(M520:M532)","v":0},{"$f":"SUM(N520:N532)","v":287530},{"$f":"SUM(O520:O532)","v":820457},{"$f":"SUM(P520:P532)","v":1107987},{"$f":"SUM(Q520:Q532)","v":1107987}]
[]
[null,null,"1月",0,0,{"$f":"SUM(D535:E535)","v":0},279,134,{"$f":"SUM(G535:H535)","v":413},{"$f":"F535+I535","v":413},0,0,{"$f":"SUM(K535:L535)","v":0},24166,67003,{"$f":"SUM(N535:O535)","v":91169},{"$f":"M535+P535","v":91169}]
[null,null,"2月",0,0,{"$f":"SUM(D536:E536)","v":0},255,163,{"$f":"SUM(G536:H536)","v":418},{"$f":"F536+I536","v":418},0,0,{"$f":"SUM(K536:L536)","v":0},22358,63545,{"$f":"SUM(N536:O536)","v":85903},{"$f":"M536+P536","v":85903}]
[null,null,"3月",0,0,{"$f":"SUM(D537:E537)","v":0},330,174,{"$f":"SUM(G537:H537)","v":504},{"$f":"F537+I537","v":504},0,0,{"$f":"SUM(K537:L537)","v":0},24168,71887,{"$f":"SUM(N537:O537)","v":96055},{"$f":"M537+P537","v":96055}]
[]
[null,"函館度２","年度計",{"$f":"SUM(D523:D531,D535:D537)","v":0},{"$f":"SUM(E523:E531,E535:E537)","v":0},{"$f":"SUM(F523:F531,F535:F537)","v":0},{"$f":"SUM(G523:G531,G535:G537)","v":5219},2514,7733,7733,0,0,{"$f":"SUM(M523:M531,M535:M537)","v":0},{"$f":"SUM(N523:N531,N535:N537)","v":284092},{"$f":"SUM(O523:O531,O535:O537)","v":820479},{"$f":"SUM(P523:P531,P535:P537)","v":1104571},{"$f":"SUM(Q523:Q531,Q535:Q537)","v":1104571}]
[]
[null,null,{"$f":"C487","v":"平　成　２　８　年　空　港　管　理　状　況　調　書"}]
[null,null,"空港名 ：","仙    台                （国管理）"]
[null,null,"項目",null,"着 陸 回 数 （回）",null,"乗   降   客   数   （人）",null,null,null,null,null,null,null,"航空燃料供給量　（KＬ）"]
[null,null,null,"国際線","国内線","計",null,"国 際 線",null,null,null,"国 内 線",null,"合 計","ジェット燃料","その他燃料","合計"]
[null,null,"月別",null,null,null,"乗 客","降 客","通過客","小 計","乗 客","降 客","小 計"]
[]
[null,null,"1月",50,1886,{"$f":"SUM(D547:E547)","v":1936},5662,6235,0,{"$f":"SUM(G547:I547)","v":11897},96520,104530,{"$f":"SUM(K547:L547)","v":201050},{"$f":"SUM(J547,M547)","v":212947},6209,38,{"$f":"SUM(O547:P547)","v":6247}]
[null,null,"2月",45,1932,{"$f":"SUM(D548:E548)","v":1977},5847,5671,0,{"$f":"SUM(G548:I548)","v":11518},99836,101143,{"$f":"SUM(K548:L548)","v":200979},{"$f":"SUM(J548,M548)","v":212497},6047,41,{"$f":"SUM(O548:P548)","v":6088}]
[null,null,"3月",46,1994,2040,5727,6020,0,11747,123479,123873,247352,259099,6124,27,6151]
[null,null,"4月",41,1905,1946,4674,5191,0,9865,114458,112344,226802,236667,5711,5,5716]
[null,null,"5月",60,2033,2093,4920,5419,0,10339,119059,123592,242651,252990,5800,6,5806]
[null,null,"6月",55,2005,2060,5627,5446,0,11073,118892,118429,237321,248394,5732,4,5736]
[null,null,"7月",79,2059,2138,7916,8246,0,16162,125473,124338,249811,265973,6186,3,6189]
[null,null,"8月",77,2022,2099,9888,9329,0,19217,130258,132852,263110,282327,5877,7,5884]
[null,null,"9月",75,2045,2120,9073,9150,0,18223,136060,137276,273336,291559,6157,5,6162]
[null,null,"10月",97,2184,2281,11111,11550,0,22661,143370,144981,288351,311012,7038,8,7046]
[null,null,"11月",91,2041,2132,12116,11319,0,23435,134503,132696,267199,290634,6177,5,6182]
[null,null,"12月",92,1966,2058,10651,10578,0,21229,115053,109982,225035,246264,6656,2,6658]
[]
[null,"仙台暦１","暦年 計",{"$f":"SUM(D547:D558)","v":808},24072,24880,93212,94154,0,187366,1456961,1466036,2922997,3110363,73714,151,73865]
[]
[null,null,"1月",97,1894,{"$f":"SUM(D562:E562)","v":1991},12034,12771,0,{"$f":"SUM(G562:I562)","v":24805},97319,104333,{"$f":"SUM(K562:L562)","v":201652},{"$f":"J562+M562","v":226457},6268,2,{"$f":"SUM(O562:P562)","v":6270}]
[null,null,"2月",89,1749,{"$f":"SUM(D563:E563)","v":1838},13290,12238,0,{"$f":"SUM(G563:I563)","v":25528},103782,103251,{"$f":"SUM(K563:L563)","v":207033},{"$f":"J563+M563","v":232561},5907,2,{"$f":"SUM(O563:P563)","v":5909}]
[null,null,"3月",87,2108,{"$f":"SUM(D564:E564)","v":2195},11497,11517,0,{"$f":"SUM(G564:I564)","v":23014},127767,126978,{"$f":"SUM(K564:L564)","v":254745},{"$f":"J564+M564","v":277759},6489,2,{"$f":"SUM(O564:P564)","v":6491}]
[]
[null,"仙台度１","年度計",{"$f":"SUM(D550:D558,D562:D564)","v":940},24011,24951,112797,112754,0,225551,1465994,1471052,2937046,3162597,73998,51,74049]
[]
[]
[]
[null,null,"項目",null,null,null,"貨 物 取 扱 量 （トン）",null,null,null,null,null,null,"郵 便 取 扱 量 （kg）"]
[null,null,null,null,"国 際 線",null,null,"国 内 線",null,"合計",null,"国 際 線",null,null,"国 内 線",null,"合 計"]
[null,null,"月別","積","卸","小 計","積","卸","小 計",null,"積","卸","小 計","積","卸","小 計"]
[]
[null,null,"1月",6,3,{"$f":"SUM(D574:E574)","v":9},251,161,{"$f":"SUM(G574:H574)","v":412},{"$f":"F574+I574","v":421},0,0,{"$f":"SUM(K574:L574)","v":0},20613,80006,{"$f":"SUM(N574:O574)","v":100619},{"$f":"M574+P574","v":100619}]
[null,null,"2月",2,3,5,237,175,412,417,0,0,0,16400,75451,91851,91851]
[null,null,"3月",6,3,9,279,230,509,518,0,0,0,19602,86272,105874,105874]
[null,null,"4月",6,4,10,270,149,419,429,0,0,0,17759,76766,94525,94525]
[null,null,"5月",6,2,8,296,144,440,448,0,0,0,16883,71397,88280,88280]
[null,null,"6月",18,5,23,616,161,777,800,0,0,0,16881,72776,89657,89657]
[null,null,"7月",38,5,43,301,150,451,494,0,0,0,16212,70377,86589,86589]
[null,null,"8月",17,7,24,246,163,409,433,0,0,0,14657,62335,76992,76992]
[null,null,"9月",22,7,29,285,192,477,506,0,0,0,15266,60774,76040,76040]
[null,null,"10月",21,5,26,317,231,548,574,0,0,0,15868,63847,79715,79715]
[null,null,"11月",11,8,19,351,195,546,565,0,0,0,15373,67944,83317,83317]
[null,null,"12月",11,11,22,445,234,679,701,0,0,0,19165,79629,98794,98794]
[]
[null,"仙台暦２","暦年 計",{"$f":"SUM(D574:D586)","v":164},63,227,3894,2185,6079,6306,0,0,{"$f":"SUM(M574:M586)","v":0},{"$f":"SUM(N574:N586)","v":204679},{"$f":"SUM(O574:O586)","v":867574},{"$f":"SUM(P574:P586)","v":1072253},{"$f":"SUM(Q574:Q586)","v":1072253}]
[]
[null,null,"1月",5,10,{"$f":"SUM(D589:E589)","v":15},259,169,{"$f":"SUM(G589:H589)","v":428},{"$f":"F589+I589","v":443},0,0,{"$f":"SUM(K589:L589)","v":0},16238,62733,{"$f":"SUM(N589:O589)","v":78971},{"$f":"M589+P589","v":78971}]
[null,null,"2月",10,10,{"$f":"SUM(D590:E590)","v":20},243,148,{"$f":"SUM(G590:H590)","v":391},{"$f":"F590+I590","v":411},0,0,{"$f":"SUM(K590:L590)","v":0},14740,60836,{"$f":"SUM(N590:O590)","v":75576},{"$f":"M590+P590","v":75576}]
[null,null,"3月",12,11,{"$f":"SUM(D591:E591)","v":23},289,233,{"$f":"SUM(G591:H591)","v":522},{"$f":"F591+I591","v":545},0,0,{"$f":"SUM(K591:L591)","v":0},15978,67942,{"$f":"SUM(N591:O591)","v":83920},{"$f":"M591+P591","v":83920}]
[]
[null,"仙台度２","年度計",{"$f":"SUM(D577:D585,D589:D591)","v":177},{"$f":"SUM(E577:E585,E589:E591)","v":85},{"$f":"SUM(F577:F585,F589:F591)","v":262},{"$f":"SUM(G577:G585,G589:G591)","v":3918},2169,6087,6349,0,0,{"$f":"SUM(M577:M585,M589:M591)","v":0},{"$f":"SUM(N577:N585,N589:N591)","v":195020},{"$f":"SUM(O577:O585,O589:O591)","v":817356},{"$f":"SUM(P577:P585,P589:P591)","v":1012376},{"$f":"SUM(Q577:Q585,Q589:Q591)","v":1012376}]
[]
[null,null,{"$f":"C541","v":"平　成　２　８　年　空　港　管　理　状　況　調　書"}]
[null,null,"空港名 ：","新    潟                （国管理）"]
[null,null,"項目",null,"着 陸 回 数 （回）",null,"乗   降   客   数   （人）",null,null,null,null,null,null,null,"航空燃料供給量　（KＬ）"]
[null,null,null,"国際線","国内線","計",null,"国 際 線",null,null,null,"国 内 線",null,"合 計","ジェット燃料","その他燃料","合計"]
[null,null,"月別",null,null,null,"乗 客","降 客","通過客","小 計","乗 客","降 客","小 計"]
[]
[null,null,"1月",51,884,{"$f":"SUM(D601:E601)","v":935},4365,4644,0,{"$f":"SUM(G601:I601)","v":9009},26266,26207,{"$f":"SUM(K601:L601)","v":52473},{"$f":"J601+M601","v":61482},1787,1,{"$f":"SUM(O601:P601)","v":1788}]
[null,null,"2月",50,897,{"$f":"SUM(D602:E602)","v":947},5514,5454,0,{"$f":"SUM(G602:I602)","v":10968},27785,27788,{"$f":"SUM(K602:L602)","v":55573},{"$f":"J602+M602","v":66541},1881,1,{"$f":"SUM(O602:P602)","v":1882}]
[null,null,"3月",45,1051,{"$f":"SUM(D603:E603)","v":1096},4951,5408,0,{"$f":"SUM(G603:I603)","v":10359},38925,38647,{"$f":"SUM(K603:L603)","v":77572},{"$f":"J603+M603","v":87931},2261,1,{"$f":"SUM(O603:P603)","v":2262}]
[null,null,"4月",43,1140,{"$f":"SUM(D604:E604)","v":1183},3883,4297,0,{"$f":"SUM(G604:I604)","v":8180},36494,36197,{"$f":"SUM(K604:L604)","v":72691},{"$f":"J604+M604","v":80871},2356,0,{"$f":"SUM(O604:P604)","v":2356}]
[null,null,"5月",50,1095,1145,4464,4681,0,9145,39070,39476,78546,87691,2382,1,2383]
[null,null,"6月",42,1112,1154,4142,4125,0,8267,35462,35852,71314,79581,2165,3,2168]
[null,null,"7月",59,1158,1217,5747,5917,0,11664,37058,36930,73988,85652,2141,2,2143]
[null,null,"8月",62,1110,1172,6125,5858,0,11983,41104,41508,82612,94595,2187,2,2189]
[null,null,"9月",48,1074,1122,4417,4927,0,9344,41651,42804,84455,93799,2108,2,2110]
[null,null,"10月",49,1216,1265,5090,5255,0,10345,42693,43814,86507,96852,2464,2,2466]
[null,null,"11月",44,1069,1113,3945,4018,0,7963,38678,38556,77234,85197,2526,0,2526]
[null,null,"12月",40,1004,1044,4046,3626,0,7672,32555,32729,65284,72956,2130,0,2130]
[]
[null,"新潟暦１","暦年 計",{"$f":"SUM(D601:D612)","v":583},{"$f":"SUM(E601:E612)","v":12810},{"$f":"SUM(F601:F612)","v":13393},{"$f":"SUM(G601:G612)","v":56689},{"$f":"SUM(H601:H612)","v":58210},0,114899,437741,440508,878249,993148,26388,{"$f":"SUM(P601:P612)","v":15},{"$f":"SUM(Q601:Q612)","v":26403}]
[]
[null,null,"1月",44,828,{"$f":"SUM(D616:E616)","v":872},4387,4795,0,{"$f":"SUM(G616:I616)","v":9182},24974,24558,{"$f":"SUM(K616:L616)","v":49532},{"$f":"J616+M616","v":58714},1722,0,{"$f":"SUM(O616:P616)","v":1722}]
[null,null,"2月",46,941,{"$f":"SUM(D617:E617)","v":987},4844,4580,0,{"$f":"SUM(G617:I617)","v":9424},28654,28171,{"$f":"SUM(K617:L617)","v":56825},{"$f":"J617+M617","v":66249},1764,1,{"$f":"SUM(O617:P617)","v":1765}]
[null,null,"3月",49,1049,{"$f":"SUM(D618:E618)","v":1098},4863,5183,0,{"$f":"SUM(G618:I618)","v":10046},40890,40887,{"$f":"SUM(K618:L618)","v":81777},{"$f":"J618+M618","v":91823},2333,0,{"$f":"SUM(O618:P618)","v":2333}]
[]
[null,"新潟度１","年度計",{"$f":"SUM(D604:D612,D616:D618)","v":576},{"$f":"SUM(E604:E612,E616:E618)","v":12796},{"$f":"SUM(F604:F612,F616:F618)","v":13372},{"$f":"SUM(G604:G612,G616:G618)","v":55953},57262,0,113215,439283,441482,880765,993980,26278,13,{"$f":"SUM(Q604:Q612,Q616:Q618)","v":26291}]
[]
[]
[]
[null,null,"項目",null,null,null,"貨 物 取 扱 量 （トン）",null,null,null,null,null,null,"郵 便 取 扱 量 （kg）"]
[null,null,null,null,"国 際 線",null,null,"国 内 線",null,"合計",null,"国 際 線",null,null,"国 内 線",null,"合 計"]
[null,null,"月別","積","卸","小 計","積","卸","小 計",null,"積","卸","小 計","積","卸","小 計"]
[]
[null,null,"1月",14,5,{"$f":"SUM(D628:E628)","v":19},18,7,{"$f":"SUM(G628:H628)","v":25},{"$f":"F628+I628","v":44},0,0,{"$f":"SUM(K628:L628)","v":0},1704,12170,{"$f":"SUM(N628:O628)","v":13874},{"$f":"M628+P628","v":13874}]
[null,null,"2月",12,6,18,8,5,13,31,0,0,0,1261,11415,{"$f":"SUM(N629:O629)","v":12676},{"$f":"M629+P629","v":12676}]
[null,null,"3月",15,9,24,12,12,24,48,0,0,0,1530,13472,{"$f":"SUM(N630:O630)","v":15002},{"$f":"M630+P630","v":15002}]
[null,null,"4月",16,10,26,18,14,32,58,0,0,0,1314,12269,{"$f":"SUM(N631:O631)","v":13583},{"$f":"M631+P631","v":13583}]
[null,null,"5月",15,8,23,9,10,19,42,0,0,0,1422,12245,13667,13667]
[null,null,"6月",12,7,19,6,3,9,28,0,0,0,1336,12848,14184,14184]
[null,null,"7月",6,5,11,4,4,8,19,0,0,0,1440,12228,13668,13668]
[null,null,"8月",2,5,7,4,7,11,18,0,0,0,1191,10801,11992,11992]
[null,null,"9月",12,4,16,5,4,9,25,0,0,0,1241,12091,13332,13332]
[null,null,"10月",21,9,30,17,6,23,53,0,0,0,1385,12880,14265,14265]
[null,null,"11月",17,9,{"$f":"SUM(D638:E638)","v":26},8,9,{"$f":"SUM(G638:H638)","v":17},{"$f":"F638+I638","v":43},0,0,{"$f":"SUM(K638:L638)","v":0},1712,14216,{"$f":"SUM(N638:O638)","v":15928},{"$f":"M638+P638","v":15928}]
[null,null,"12月",16,10,26,23,20,43,69,0,0,0,1522,13968,15490,15490]
[]
[null,"新潟暦２","暦年 計",{"$f":"SUM(D628:D640)","v":158},87,245,132,101,233,478,0,0,{"$f":"SUM(M628:M640)","v":0},{"$f":"SUM(N628:N640)","v":17058},{"$f":"SUM(O628:O640)","v":150603},{"$f":"SUM(P628:P640)","v":167661},{"$f":"SUM(Q628:Q640)","v":167661}]
[]
[null,null,"1月",5,6,{"$f":"SUM(D643:E643)","v":11},10,6,16,{"$f":"F643+I643","v":27},0,0,{"$f":"SUM(K643:L643)","v":0},1144,10630,{"$f":"SUM(N643:O643)","v":11774},{"$f":"M643+P643","v":11774}]
[null,null,"2月",7,5,{"$f":"SUM(D644:E644)","v":12},12,5,{"$f":"SUM(G644:H644)","v":17},{"$f":"F644+I644","v":29},0,0,{"$f":"SUM(K644:L644)","v":0},1158,11512,{"$f":"SUM(N644:O644)","v":12670},{"$f":"M644+P644","v":12670}]
[null,null,"3月",3,7,{"$f":"SUM(D645:E645)","v":10},21,12,{"$f":"SUM(G645:H645)","v":33},{"$f":"F645+I645","v":43},0,0,{"$f":"SUM(K645:L645)","v":0},1416,12941,{"$f":"SUM(N645:O645)","v":14357},{"$f":"M645+P645","v":14357}]
[]
[null,"新潟度２","年度計",{"$f":"SUM(D631:D639,D643:D645)","v":132},{"$f":"SUM(E631:E639,E643:E645)","v":85},{"$f":"SUM(F631:F639,F643:F645)","v":217},{"$f":"SUM(G631:G639,G643:G645)","v":137},100,237,454,0,0,{"$f":"SUM(M631:M639,M643:M645)","v":0},{"$f":"SUM(N631:N639,N643:N645)","v":16281},{"$f":"SUM(O631:O639,O643:O645)","v":148629},{"$f":"SUM(P631:P639,P643:P645)","v":164910},{"$f":"SUM(Q631:Q639,Q643:Q645)","v":164910}]
[]
[null,null,{"$f":"C595","v":"平　成　２　８　年　空　港　管　理　状　況　調　書"}]
[null,null,"空港名 ：","広    島                （国管理）"]
[null,null,"項目",null,"着 陸 回 数 （回）",null,"乗   降   客   数   （人）",null,null,null,null,null,null,null,"航空燃料供給量　（ＫＬ）"]
[null,null,null,"国際線","国内線","計",null,"国 際 線",null,null,null,"国 内 線",null,"合 計","ジェット燃料","その他燃料","合計"]
[null,null,"月別",null,null,null,"乗 客","降 客","通過客","小 計","乗 客","降 客","小 計"]
[]
[null,null,"1月",133,864,{"$f":"SUM(D655:E655)","v":997},10760,12930,0,{"$f":"SUM(G655:I655)","v":23690},94155,85737,{"$f":"SUM(K655:L655)","v":179892},{"$f":"J655+M655","v":203582},4421,0,{"$f":"SUM(O655:P655)","v":4421}]
[null,null,"2月",132,833,{"$f":"SUM(D656:E656)","v":965},13530,13050,0,{"$f":"SUM(G656:I656)","v":26580},90606,91303,{"$f":"SUM(K656:L656)","v":181909},{"$f":"J656+M656","v":208489},4439,0,{"$f":"SUM(O656:P656)","v":4439}]
[null,null,"3月",136,895,1031,13090,16270,0,29360,103920,105054,{"$f":"SUM(K657:L657)","v":208974},238334,4966,0,4966]
[null,null,"4月",134,872,1006,14507,13502,0,28009,94229,96534,{"$f":"SUM(K658:L658)","v":190763},218772,4897,0,4897]
[null,null,"5月",141,882,1023,11867,13863,0,25730,102454,100657,{"$f":"SUM(K659:L659)","v":203111},228841,4965,0,4965]
[null,null,"6月",125,813,938,11738,11908,0,23646,97264,96944,194208,217854,4446,0,4446]
[null,null,"7月",136,882,1018,12763,13869,0,26632,105367,108118,213485,240117,5289,0,5289]
[null,null,"8月",134,858,992,14920,14853,0,29773,123446,122085,245531,275304,5942,0,5942]
[null,null,"9月",129,855,984,12310,14406,0,26716,111480,111779,223259,249975,5060,0,5060]
[null,null,"10月",139,905,1044,13628,15077,0,28705,121647,126032,247679,276384,5174,0,5174]
[null,null,"11月",112,870,982,11626,12021,0,23647,115139,118271,233410,257057,4945,0,4945]
[null,null,"12月",132,884,1016,13268,12240,0,25508,100350,110869,211219,236727,4973,0,4973]
[]
[null,"広島暦１","暦年 計",{"$f":"SUM(D655:D666)","v":1583},{"$f":"SUM(E655:E666)","v":10413},{"$f":"SUM(F655:F666)","v":11996},{"$f":"SUM(G655:G666)","v":154007},{"$f":"SUM(H655:H666)","v":163989},0,317996,1260057,1273383,2533440,2851436,59517,{"$f":"SUM(P655:P666)","v":0},{"$f":"SUM(Q655:Q666)","v":59517}]
[]
[null,null,"1月",122,853,{"$f":"SUM(D670:E670)","v":975},10684,13774,0,{"$f":"SUM(G670:I670)","v":24458},97733,90864,{"$f":"SUM(K670:L670)","v":188597},{"$f":"J670+M670","v":213055},4347,0,{"$f":"SUM(O670:P670)","v":4347}]
[null,null,"2月",106,804,{"$f":"SUM(D671:E671)","v":910},12650,10942,0,{"$f":"SUM(G671:I671)","v":23592},93152,92856,{"$f":"SUM(K671:L671)","v":186008},{"$f":"J671+M671","v":209600},4364,0,{"$f":"SUM(O671:P671)","v":4364}]
[null,null,"3月",115,891,{"$f":"SUM(D672:E672)","v":1006},12641,14374,0,{"$f":"SUM(G672:I672)","v":27015},115779,118461,{"$f":"SUM(K672:L672)","v":234240},{"$f":"J672+M672","v":261255},4972,0,{"$f":"SUM(O672:P672)","v":4972}]
[]
[null,"広島度１","年度計",{"$f":"SUM(D658:D666,D670:D672)","v":1525},{"$f":"SUM(E658:E666,E670:E672)","v":10369},{"$f":"SUM(F658:F666,F670:F672)","v":11894},{"$f":"SUM(G658:G666,G670:G672)","v":152602},160829,0,313431,1278040,1293470,2571510,2884941,59374,0,{"$f":"SUM(Q658:Q666,Q670:Q672)","v":59374}]
[]
[]
[]
[null,null,"項目",null,null,null,"貨 物 取 扱 量 （トン）",null,null,null,null,null,null,"郵 便 取 扱 量 （kg）"]
[null,null,null,null,"国 際 線",null,null,"国 内 線",null,"合計",null,"国 際 線",null,null,"国 内 線",null,"合 計"]
[null,null,"月別","積","卸","小 計","積","卸","小 計",null,"積","卸","小 計","積","卸","小 計"]
[]
[null,null,"1月",14,11,{"$f":"SUM(D682:E682)","v":25},1268,455,{"$f":"SUM(G682:H682)","v":1723},{"$f":"F682+I682","v":1748},0,0,{"$f":"SUM(K682:L682)","v":0},31020,112291,{"$f":"SUM(N682:O682)","v":143311},{"$f":"M682+P682","v":143311}]
[null,null,"2月",13,6,19,1105,476,{"$f":"SUM(G683:H683)","v":1581},{"$f":"F683+I683","v":1600},0,0,0,25355,95941,121296,121296]
[null,null,"3月",14,13,27,1027,580,{"$f":"SUM(G684:H684)","v":1607},{"$f":"F684+I684","v":1634},0,0,0,30142,112325,142467,142467]
[null,null,"4月",17,12,29,814,465,{"$f":"SUM(G685:H685)","v":1279},{"$f":"F685+I685","v":1308},0,0,0,24724,104287,129011,129011]
[null,null,"5月",8,11,19,658,413,1071,1090,0,0,0,23160,98327,121487,121487]
[null,null,"6月",8,8,16,666,489,1155,1171,0,0,0,24462,107506,131968,131968]
[null,null,"7月",4,6,10,721,540,1261,1271,0,0,{"$f":"SUM(K688:L688)","v":0},24404,100481,124885,124885]
[null,null,"8月",5,15,20,725,507,1232,1252,0,0,0,22229,88003,110232,110232]
[null,null,"9月",4,18,22,783,551,1334,1356,0,0,0,24037,86713,110750,110750]
[null,null,"10月",10,11,21,1170,590,{"$f":"SUM(G691:H691)","v":1760},1781,0,0,0,24517,86523,111040,111040]
[null,null,"11月",15,11,26,1354,609,1963,1989,0,0,0,26359,85473,111832,111832]
[null,null,"12月",18,8,26,1557,730,2287,2313,0,0,0,32541,101148,133689,133689]
[]
[null,"広島暦２","暦年 計",{"$f":"SUM(D682:D694)","v":130},130,260,11848,6405,18253,18513,0,0,{"$f":"SUM(M682:M694)","v":0},{"$f":"SUM(N682:N694)","v":312950},{"$f":"SUM(O682:O694)","v":1179018},{"$f":"SUM(P682:P694)","v":1491968},{"$f":"SUM(Q682:Q694)","v":1491968}]
[]
[null,null,"1月",13,9,{"$f":"SUM(D697:E697)","v":22},1172,426,{"$f":"SUM(G697:H697)","v":1598},{"$f":"F697+I697","v":1620},0,0,{"$f":"SUM(K697:L697)","v":0},24904,84773,{"$f":"SUM(N697:O697)","v":109677},{"$f":"M697+P697","v":109677}]
[null,null,"2月",8,22,{"$f":"SUM(D698:E698)","v":30},1054,577,{"$f":"SUM(G698:H698)","v":1631},{"$f":"F698+I698","v":1661},0,0,{"$f":"SUM(K698:L698)","v":0},25120,74618,{"$f":"SUM(N698:O698)","v":99738},{"$f":"M698+P698","v":99738}]
[null,null,"3月",21,27,{"$f":"SUM(D699:E699)","v":48},1018,588,{"$f":"SUM(G699:H699)","v":1606},{"$f":"F699+I699","v":1654},0,0,{"$f":"SUM(K699:L699)","v":0},25018,102914,{"$f":"SUM(N699:O699)","v":127932},{"$f":"M699+P699","v":127932}]
[]
[null,"広島度２","年度計",{"$f":"SUM(D685:D693,D697:D699)","v":131},{"$f":"SUM(E685:E693,E697:E699)","v":158},{"$f":"SUM(F685:F693,F697:F699)","v":289},{"$f":"SUM(G685:G693,G697:G699)","v":11692},6485,18177,18466,0,0,{"$f":"SUM(M685:M693,M697:M699)","v":0},{"$f":"SUM(N685:N693,N697:N699)","v":301475},{"$f":"SUM(O685:O693,O697:O699)","v":1120766},{"$f":"SUM(P685:P693,P697:P699)","v":1422241},{"$f":"SUM(Q685:Q693,Q697:Q699)","v":1422241}]
[]
[null,null,{"$f":"C649","v":"平　成　２　８　年　空　港　管　理　状　況　調　書"}]
[null,null,"空港名 ：","高    松                （国管理）"]
[null,null,"項目",null,"着 陸 回 数 （回）",null,"乗   降   客   数   （人）",null,null,null,null,null,null,null,"航空燃料供給量　（ＫＬ）"]
[null,null,null,"国際線","国内線","計",null,"国 際 線",null,null,null,"国 内 線",null,"合 計","ジェット燃料","その他燃料","合計"]
[null,null,"月別",null,null,null,"乗 客","降 客","通過客","小 計","乗 客","降 客","小 計"]
[]
[null,null,"1月",50,646,{"$f":"SUM(D709:E709)","v":696},5906,6538,0,{"$f":"SUM(G709:I709)","v":12444},64032,55881,{"$f":"SUM(K709:L709)","v":119913},{"$f":"J709+M709","v":132357},2458,1,{"$f":"SUM(O709:P709)","v":2459}]
[null,null,"2月",45,693,{"$f":"SUM(D710:E710)","v":738},6444,6124,0,{"$f":"SUM(G710:I710)","v":12568},59766,58751,{"$f":"SUM(K710:L710)","v":118517},{"$f":"J710+M710","v":131085},2309,1,{"$f":"SUM(O710:P710)","v":2310}]
[null,null,"3月",53,746,{"$f":"SUM(D711:E711)","v":799},6874,7282,0,14156,71362,71588,142950,157106,2677,1,2678]
[null,null,"4月",57,659,{"$f":"SUM(D712:E712)","v":716},7271,6235,0,13506,64081,66869,130950,144456,2562,1,2563]
[null,null,"5月",59,691,750,6519,6242,0,12761,68403,65892,134295,147056,2604,5,2609]
[null,null,"6月",54,657,711,6661,6513,0,13174,63317,64176,127493,140667,2246,4,2250]
[null,null,"7月",69,755,824,8743,8993,0,17736,69242,70853,140095,157831,3025,3,3028]
[null,null,"8月",69,694,763,9768,9207,0,18975,78840,78919,157759,176734,3629,3,3632]
[null,null,"9月",74,624,698,10337,10427,0,20764,70330,69993,140323,161087,2805,2,2807]
[null,null,"10月",80,676,756,11375,11387,0,22762,76078,77094,153172,175934,2870,3,2873]
[null,null,"11月",89,645,734,11797,11645,0,23442,70787,71328,142115,165557,2753,5,2758]
[null,null,"12月",74,650,724,10030,9328,0,19358,63010,72280,135290,154648,2779,2,2781]
[]
[null,"高松暦１","暦年 計",{"$f":"SUM(D709:D720)","v":773},{"$f":"SUM(E709:E720)","v":8136},{"$f":"SUM(F709:F720)","v":8909},{"$f":"SUM(G709:G720)","v":101725},{"$f":"SUM(H709:H720)","v":99921},0,201646,819248,823624,1642872,1844518,32717,{"$f":"SUM(P709:P720)","v":31},{"$f":"SUM(Q709:Q720)","v":32748}]
[]
[null,null,"1月",84,679,{"$f":"SUM(D724:E724)","v":763},10405,11801,0,{"$f":"SUM(G724:I724)","v":22206},66533,58054,{"$f":"SUM(K724:L724)","v":124587},{"$f":"J724+M724","v":146793},2682,4,{"$f":"SUM(O724:P724)","v":2686}]
[null,null,"2月",72,715,{"$f":"SUM(D725:E725)","v":787},11027,9751,0,{"$f":"SUM(G725:I725)","v":20778},61116,61303,{"$f":"SUM(K725:L725)","v":122419},{"$f":"J725+M725","v":143197},2800,3,{"$f":"SUM(O725:P725)","v":2803}]
[null,null,"3月",84,734,{"$f":"SUM(D726:E726)","v":818},11732,12781,0,{"$f":"SUM(G726:I726)","v":24513},71975,73345,{"$f":"SUM(K726:L726)","v":145320},{"$f":"J726+M726","v":169833},3115,5,{"$f":"SUM(O726:P726)","v":3120}]
[]
[null,"高松度１","年度計",{"$f":"SUM(D712:D720,D724:D726)","v":865},{"$f":"SUM(E712:E720,E724:E726)","v":8179},{"$f":"SUM(F712:F720,F724:F726)","v":9044},{"$f":"SUM(G712:G720,G724:G726)","v":115665},114310,0,229975,823712,830106,1653818,1883793,33870,40,{"$f":"SUM(Q712:Q720,Q724:Q726)","v":33910}]
[]
[]
[]
[null,null,"項目",null,null,null,"貨 物 取 扱 量 （トン）",null,null,null,null,null,null,"郵 便 取 扱 量 （kg）"]
[null,null,null,null,"国 際 線",null,null,"国 内 線",null,"合計",null,"国 際 線",null,null,"国 内 線",null,"合 計"]
[null,null,"月別","積","卸","小 計","積","卸","小 計",null,"積","卸","小 計","積","卸","小 計"]
[]
[null,null,"1月",1,2,{"$f":"SUM(D736:E736)","v":3},312,201,{"$f":"SUM(G736:H736)","v":513},{"$f":"F736+I736","v":516},0,0,{"$f":"SUM(K736:L736)","v":0},4879,28591,{"$f":"SUM(N736:O736)","v":33470},{"$f":"M736+P736","v":33470}]
[null,null,"2月",1,1,2,319,179,498,500,0,0,0,3899,23583,27482,27482]
[null,null,"3月",0,1,1,349,223,572,573,0,0,0,5405,28255,33660,33660]
[null,null,"4月",1,1,2,303,203,506,508,0,0,0,4357,26237,30594,30594]
[null,null,"5月",1,2,3,199,157,356,359,0,0,0,3589,22885,26474,26474]
[null,null,"6月",1,1,2,207,191,398,400,0,0,0,4746,27445,32191,32191]
[null,null,"7月",1,2,3,262,228,490,493,0,0,0,4125,23447,27572,27572]
[null,null,"8月",0,1,1,238,219,457,458,0,0,0,3903,19950,23853,23853]
[null,null,"9月",1,2,3,220,199,419,422,0,0,0,5141,21518,26659,26659]
[null,null,"10月",1,1,2,190,222,412,414,0,0,0,12577,13993,26570,26570]
[null,null,"11月",1,0,1,188,208,396,397,0,0,0,5626,22015,27641,27641]
[null,null,"12月",1,0,1,318,311,629,630,0,0,0,6564,26508,33072,33072]
[]
[null,"高松暦２","暦年 計",{"$f":"SUM(D736:D748)","v":10},14,24,3105,2541,5646,5670,0,0,{"$f":"SUM(M736:M748)","v":0},{"$f":"SUM(N736:N748)","v":64811},{"$f":"SUM(O736:O748)","v":284427},{"$f":"SUM(P736:P748)","v":349238},{"$f":"SUM(Q736:Q748)","v":349238}]
[]
[null,null,"1月",0,0,{"$f":"SUM(D751:E751)","v":0},297,168,{"$f":"SUM(G751:H751)","v":465},{"$f":"F751+I751","v":465},0,0,{"$f":"SUM(K751:L751)","v":0},4531,22505,{"$f":"SUM(N751:O751)","v":27036},{"$f":"M751+P751","v":27036}]
[null,null,"2月",0,0,{"$f":"SUM(D752:E752)","v":0},392,193,{"$f":"SUM(G752:H752)","v":585},{"$f":"F752+I752","v":585},0,0,{"$f":"SUM(K752:L752)","v":0},5212,19517,{"$f":"SUM(N752:O752)","v":24729},{"$f":"M752+P752","v":24729}]
[null,null,"3月",0,0,{"$f":"SUM(D753:E753)","v":0},423,259,{"$f":"SUM(G753:H753)","v":682},{"$f":"F753+I753","v":682},0,0,{"$f":"SUM(K753:L753)","v":0},7424,25923,{"$f":"SUM(N753:O753)","v":33347},{"$f":"M753+P753","v":33347}]
[]
[null,"高松度２","年度計",{"$f":"SUM(D739:D747,D751:D753)","v":8},{"$f":"SUM(E739:E747,E751:E753)","v":10},{"$f":"SUM(F739:F747,F751:F753)","v":18},{"$f":"SUM(G739:G747,G751:G753)","v":3237},2558,5795,5813,0,0,{"$f":"SUM(M739:M747,M751:M753)","v":0},{"$f":"SUM(N739:N747,N751:N753)","v":67795},{"$f":"SUM(O739:O747,O751:O753)","v":271943},{"$f":"SUM(P739:P747,P751:P753)","v":339738},{"$f":"SUM(Q739:Q747,Q751:Q753)","v":339738}]
[]
[null,null,{"$f":"C703","v":"平　成　２　８　年　空　港　管　理　状　況　調　書"}]
[null,null,"空港名 ：","松    山                （国管理）"]
[null,null,"項目",null,"着 陸 回 数 （回）",null,"乗   降   客   数   （人）",null,null,null,null,null,null,null,"航空燃料供給量　（ＫＬ）"]
[null,null,null,"国際線","国内線","計",null,"国 際 線",null,null,null,"国 内 線",null,"合 計","ジェット燃料","その他燃料","合計"]
[null,null,"月別",null,null,null,"乗 客","降 客","通過客","小 計","乗 客","降 客","小 計"]
[]
[null,null,"1月",23,1264,{"$f":"SUM(D763:E763)","v":1287},2267,2655,0,{"$f":"SUM(G763:I763)","v":4922},115465,99575,{"$f":"SUM(K763:L763)","v":215040},{"$f":"J763+M763","v":219962},3351,1,{"$f":"SUM(O763:P763)","v":3352}]
[null,null,"2月",22,1189,{"$f":"SUM(D764:E764)","v":1211},2202,2158,0,{"$f":"SUM(G764:I764)","v":4360},108170,107817,{"$f":"SUM(K764:L764)","v":215987},{"$f":"J764+M764","v":220347},3200,2,{"$f":"SUM(O764:P764)","v":3202}]
[null,null,"3月",21,1258,1279,1823,1910,0,3733,126376,123681,250057,253790,3605,1,3606]
[null,null,"4月",19,1190,1209,1801,1553,0,3354,111381,113729,225110,228464,3380,2,3382]
[null,null,"5月",26,1204,1230,1835,1936,0,3771,119913,113926,233839,237610,3715,2,3717]
[null,null,"6月",19,1155,1174,1346,1330,0,2676,108224,106397,214621,217297,3197,1,3198]
[null,null,"7月",23,1260,1283,1355,1631,0,2986,118200,120861,239061,242047,4215,2,4217]
[null,null,"8月",20,1279,1299,1998,1621,0,3619,138969,134249,273218,276837,4739,3,4742]
[null,null,"9月",19,1179,1198,1746,1828,0,3574,119771,116548,236319,239893,4056,1,4057]
[null,null,"10月",11,1239,1250,736,708,0,1444,133022,132544,265566,267010,3923,2,3925]
[null,null,"11月",9,1236,1245,418,403,0,821,128824,127326,256150,256971,3870,2,3872]
[null,null,"12月",13,1256,1269,746,717,0,1463,109902,123193,233095,234558,3638,2,3640]
[]
[null,"松山暦１","暦年 計",{"$f":"SUM(D763:D774)","v":225},{"$f":"SUM(E763:E774)","v":14709},{"$f":"SUM(F763:F774)","v":14934},{"$f":"SUM(G763:G774)","v":18273},{"$f":"SUM(H763:H774)","v":18450},0,36723,1438217,1419846,2858063,2894786,44889,{"$f":"SUM(P763:P774)","v":21},{"$f":"SUM(Q763:Q774)","v":44910}]
[]
[null,null,"1月",13,1256,{"$f":"SUM(D778:E778)","v":1269},808,1485,0,{"$f":"SUM(G778:I778)","v":2293},120468,106015,{"$f":"SUM(K778:L778)","v":226483},{"$f":"J778+M778","v":228776},3610,2,{"$f":"SUM(O778:P778)","v":3612}]
[null,null,"2月",10,1168,{"$f":"SUM(D779:E779)","v":1178},944,599,0,{"$f":"SUM(G779:I779)","v":1543},109736,108333,{"$f":"SUM(K779:L779)","v":218069},{"$f":"J779+M779","v":219612},3584,2,{"$f":"SUM(O779:P779)","v":3586}]
[null,null,"3月",9,1310,{"$f":"SUM(D780:E780)","v":1319},741,821,0,{"$f":"SUM(G780:I780)","v":1562},132166,129527,{"$f":"SUM(K780:L780)","v":261693},{"$f":"J780+M780","v":263255},3852,2,{"$f":"SUM(O780:P780)","v":3854}]
[]
[null,"松山度１","年度計",{"$f":"SUM(D766:D774,D778:D780)","v":191},{"$f":"SUM(E766:E774,E778:E780)","v":14732},{"$f":"SUM(F766:F774,F778:F780)","v":14923},{"$f":"SUM(G766:G774,G778:G780)","v":14474},14632,0,29106,1450576,1432648,2883224,2912330,45779,23,{"$f":"SUM(Q766:Q774,Q778:Q780)","v":45802}]
[]
[]
[]
[null,null,"項目",null,null,null,"貨 物 取 扱 量 （トン）",null,null,null,null,null,null,"郵 便 取 扱 量 （kg）"]
[null,null,null,null,"国 際 線",null,null,"国 内 線",null,"合計",null,"国 際 線",null,null,"国 内 線",null,"合 計"]
[null,null,"月別","積","卸","小 計","積","卸","小 計",null,"積","卸","小 計","積","卸","小 計"]
[]
[null,null,"1月",0,0,{"$f":"SUM(D790:E790)","v":0},471,123,{"$f":"SUM(G790:H790)","v":594},{"$f":"F790+I790","v":594},0,0,{"$f":"SUM(K790:L790)","v":0},6309,32994,{"$f":"SUM(N790:O790)","v":39303},{"$f":"M790+P790","v":39303}]
[null,null,"2月",0,0,0,468,117,585,585,0,0,0,6506,27752,34258,34258]
[null,null,"3月",0,0,0,554,149,703,703,0,0,0,6751,32193,38944,38944]
[null,null,"4月",0,0,0,479,133,612,612,0,0,0,6165,30958,37123,37123]
[null,null,"5月",0,0,0,472,120,592,592,0,0,0,6013,29749,35762,35762]
[null,null,"6月",0,0,0,442,135,577,577,0,0,0,6664,33809,40473,40473]
[null,null,"7月",0,0,0,477,139,616,616,0,0,0,6147,29710,35857,35857]
[null,null,"8月",0,0,0,549,125,674,674,0,0,0,5821,25856,31677,31677]
[null,null,"9月",0,0,0,491,148,639,639,0,0,0,6009,26924,32933,32933]
[null,null,"10月",0,0,0,482,161,643,643,0,0,0,6272,30176,36448,36448]
[null,null,"11月",0,0,0,453,149,602,602,0,0,0,6565,31016,37581,37581]
[null,null,"12月",0,0,0,668,180,848,848,0,0,0,6888,36803,43691,43691]
[null,null,null,null,null,null,null,null,null,null,null,null,null,null,null,null," "]
[null,"松山暦２","暦年 計",{"$f":"SUM(D790:D802)","v":0},0,0,6006,1679,7685,7685,0,0,{"$f":"SUM(M790:M802)","v":0},{"$f":"SUM(N790:N802)","v":76110},{"$f":"SUM(O790:O802)","v":367940},{"$f":"SUM(P790:P802)","v":444050},{"$f":"SUM(Q790:Q802)","v":444050}]
[]
[null,null,"1月",0,0,{"$f":"SUM(D805:E805)","v":0},467,121,{"$f":"SUM(G805:H805)","v":588},{"$f":"F805+I805","v":588},0,0,{"$f":"SUM(K805:L805)","v":0},6454,31614,{"$f":"SUM(N805:O805)","v":38068},{"$f":"M805+P805","v":38068}]
[null,null,"2月",0,0,{"$f":"SUM(D806:E806)","v":0},425,134,{"$f":"SUM(G806:H806)","v":559},{"$f":"F806+I806","v":559},0,0,{"$f":"SUM(K806:L806)","v":0},5770,26894,{"$f":"SUM(N806:O806)","v":32664},{"$f":"M806+P806","v":32664}]
[null,null,"3月",0,0,{"$f":"SUM(D807:E807)","v":0},519,149,{"$f":"SUM(G807:H807)","v":668},{"$f":"F807+I807","v":668},0,0,{"$f":"SUM(K807:L807)","v":0},6573,32970,{"$f":"SUM(N807:O807)","v":39543},{"$f":"M807+P807","v":39543}]
[]
[null,"松山度２","年度計",{"$f":"SUM(D793:D801,D805:D807)","v":0},{"$f":"SUM(E793:E801,E805:E807)","v":0},{"$f":"SUM(F793:F801,F805:F807)","v":0},{"$f":"SUM(G793:G801,G805:G807)","v":5924},1694,7618,7618,0,0,{"$f":"SUM(M793:M801,M805:M807)","v":0},{"$f":"SUM(N793:N801,N805:N807)","v":75341},{"$f":"SUM(O793:O801,O805:O807)","v":366479},{"$f":"SUM(P793:P801,P805:P807)","v":441820},{"$f":"SUM(Q793:Q801,Q805:Q807)","v":441820}]
[]
[null,null,{"$f":"C757","v":"平　成　２　８　年　空　港　管　理　状　況　調　書"}]
[null,null,"空港名 ：","高    知                （国管理）"]
[null,null,"項目",null,"着 陸 回 数 （回）",null,"乗   降   客   数   （人）",null,null,null,null,null,null,null,"航空燃料供給量　（ＫＬ）"]
[null,null,null,"国際線","国内線","計",null,"国 際 線",null,null,null,"国 内 線",null,"合 計","ジェット燃料","その他燃料","合計"]
[null,null,"月別",null,null,null,"乗 客","降 客","通過客","小 計","乗 客","降 客","小 計"]
[]
[null,null,"1月",0,750,{"$f":"SUM(D817:E817)","v":750},0,0,0,{"$f":"SUM(G817:I817)","v":0},58325,50409,{"$f":"SUM(K817:L817)","v":108734},{"$f":"J817+M817","v":108734},1877,2,{"$f":"SUM(O817:P817)","v":1879}]
[null,null,"2月",1,759,{"$f":"SUM(D818:E818)","v":760},74,76,0,{"$f":"SUM(G818:I818)","v":150},51046,52571,{"$f":"SUM(K818:L818)","v":103617},{"$f":"J818+M818","v":103767},1646,4,{"$f":"SUM(O818:P818)","v":1650}]
[null,null,"3月",0,770,770,0,0,0,0,59668,59902,119570,119570,1849,3,1852]
[null,null,"4月",0,726,726,0,0,0,0,49066,51593,100659,100659,1784,1,1785]
[null,null,"5月",0,738,738,0,0,0,0,58351,55188,113539,113539,1859,2,1861]
[null,null,"6月",0,672,672,0,0,0,0,51044,50929,101973,101973,1756,2,1758]
[null,null,"7月",0,734,734,0,0,0,0,57980,59792,117772,117772,2177,2,2179]
[null,null,"8月",0,732,732,0,0,0,0,71645,71331,142976,142976,2464,1,2465]
[null,null,"9月",0,722,722,0,0,0,0,59954,59596,119550,119550,1856,1,1857]
[null,null,"10月",0,800,800,0,0,0,0,65800,67485,133285,133285,1949,2,1951]
[null,null,"11月",1,769,770,316,316,0,632,64945,67166,132111,132743,1909,3,1912]
[null,null,"12月",0,765,765,0,0,0,0,53047,60711,113758,113758,1882,1,1883]
[]
[null,"高知暦１","暦年 計",{"$f":"SUM(D817:D828)","v":2},{"$f":"SUM(E817:E828)","v":8937},{"$f":"SUM(F817:F828)","v":8939},{"$f":"SUM(G817:G828)","v":390},{"$f":"SUM(H817:H828)","v":392},0,782,700871,706673,1407544,1408326,23008,{"$f":"SUM(P817:P828)","v":24},{"$f":"SUM(Q817:Q828)","v":23032}]
[]
[null,null,"1月",0,772,{"$f":"SUM(D832:E832)","v":772},0,0,0,{"$f":"SUM(G832:I832)","v":0},61134,54074,{"$f":"SUM(K832:L832)","v":115208},{"$f":"J832+M832","v":115208},1953,4,{"$f":"SUM(O832:P832)","v":1957}]
[null,null,"2月",2,701,{"$f":"SUM(D833:E833)","v":703},195,194,0,{"$f":"SUM(G833:I833)","v":389},54915,57003,{"$f":"SUM(K833:L833)","v":111918},{"$f":"J833+M833","v":112307},1919,3,{"$f":"SUM(O833:P833)","v":1922}]
[null,null,"3月",0,754,{"$f":"SUM(D834:E834)","v":754},0,0,0,{"$f":"SUM(G834:I834)","v":0},63395,64847,{"$f":"SUM(K834:L834)","v":128242},{"$f":"J834+M834","v":128242},1918,3,{"$f":"SUM(O834:P834)","v":1921}]
[]
[null,"高知度１","年度計",{"$f":"SUM(D820:D828,D832:D834)","v":3},{"$f":"SUM(E820:E828,E832:E834)","v":8885},{"$f":"SUM(F820:F828,F832:F834)","v":8888},{"$f":"SUM(G820:G828,G832:G834)","v":511},510,0,1021,711276,719715,1430991,1432012,23426,25,{"$f":"SUM(Q820:Q828,Q832:Q834)","v":23451}]
[]
[]
[]
[null,null,"項目",null,null,null,"貨 物 取 扱 量 （トン）",null,null,null,null,null,null,"郵 便 取 扱 量 （kg）"]
[null,null,null,null,"国 際 線",null,null,"国 内 線",null,"合計",null,"国 際 線",null,null,"国 内 線",null,"合 計"]
[null,null,"月別","積","卸","小 計","積","卸","小 計",null,"積","卸","小 計","積","卸","小 計"]
[]
[null,null,"1月",0,0,{"$f":"SUM(D844:E844)","v":0},246,57,{"$f":"SUM(G844:H844)","v":303},{"$f":"F844+I844","v":303},0,0,{"$f":"SUM(K844:L844)","v":0},5165,17956,{"$f":"SUM(N844:O844)","v":23121},{"$f":"M844+P844","v":23121}]
[null,null,"2月",0,0,0,231,59,290,290,0,0,0,4698,15608,20306,20306]
[null,null,"3月",0,0,0,287,61,348,348,0,0,0,4918,17856,22774,22774]
[null,null,"4月",0,0,0,268,58,326,326,{"$f":"[1]高知!$DC$47","v":0},{"$f":"[1]高知!$DC$48","v":0},0,4600,16705,21305,21305]
[null,null,"5月",0,0,0,266,45,311,311,0,0,0,4498,15960,20458,20458]
[null,null,"6月",0,0,0,223,53,276,276,0,0,0,4771,17972,22743,22743]
[null,null,"7月",0,0,0,198,54,252,252,0,0,0,4727,16451,21178,21178]
[null,null,"8月",0,0,0,220,53,273,273,0,0,0,4315,14985,19300,19300]
[null,null,"9月",0,0,0,207,61,268,268,0,0,0,3124,15061,18185,18185]
[null,null,"10月",0,0,0,227,60,287,287,0,0,0,3268,16961,20229,20229]
[null,null,"11月",0,0,0,221,55,276,276,0,0,0,4327,16773,21100,21100]
[null,null,"12月",0,0,0,266,67,333,333,0,0,0,5874,20125,25999,25999]
[]
[null,"高知暦２","暦年 計",{"$f":"SUM(D844:D856)","v":0},0,0,2860,683,3543,3543,0,0,{"$f":"SUM(M844:M856)","v":0},{"$f":"SUM(N844:N856)","v":54285},{"$f":"SUM(O844:O856)","v":202413},{"$f":"SUM(P844:P856)","v":256698},{"$f":"SUM(Q844:Q856)","v":256698}]
[]
[null,null,"1月",0,0,{"$f":"SUM(D859:E859)","v":0},223,49,{"$f":"SUM(G859:H859)","v":272},{"$f":"F859+I859","v":272},0,0,{"$f":"SUM(K859:L859)","v":0},4931,17248,{"$f":"SUM(N859:O859)","v":22179},{"$f":"M859+P859","v":22179}]
[null,null,"2月",0,0,{"$f":"SUM(D860:E860)","v":0},216,54,{"$f":"SUM(G860:H860)","v":270},{"$f":"F860+I860","v":270},0,0,{"$f":"SUM(K860:L860)","v":0},4133,15317,{"$f":"SUM(N860:O860)","v":19450},{"$f":"M860+P860","v":19450}]
[null,null,"3月",0,0,{"$f":"SUM(D861:E861)","v":0},244,58,{"$f":"SUM(G861:H861)","v":302},{"$f":"F861+I861","v":302},0,0,{"$f":"SUM(K861:L861)","v":0},4557,17995,{"$f":"SUM(N861:O861)","v":22552},{"$f":"M861+P861","v":22552}]
[]
[null,"高知度２","年度計",{"$f":"SUM(D847:D855,D859:D861)","v":0},{"$f":"SUM(E847:E855,E859:E861)","v":0},{"$f":"SUM(F847:F855,F859:F861)","v":0},{"$f":"SUM(G847:G855,G859:G861)","v":2779},667,3446,3446,0,0,{"$f":"SUM(M847:M855,M859:M861)","v":0},{"$f":"SUM(N847:N855,N859:N861)","v":53125},{"$f":"SUM(O847:O855,O859:O861)","v":201553},{"$f":"SUM(P847:P855,P859:P861)","v":254678},{"$f":"SUM(Q847:Q855,Q859:Q861)","v":254678}]
[]
[null,null,{"$f":"C811","v":"平　成　２　８　年　空　港　管　理　状　況　調　書"}]
[null,null,"空港名 ：","福    岡                （国管理）"]
[null,null,"項目",null,"着 陸 回 数 （回）",null,"乗   降   客   数   （人）",null,null,null,null,null,null,null,"航空燃料供給量　（ＫＬ）"]
[null,null,null,"国際線","国内線","計",null,"国 際 線",null,null,null,"国 内 線",null,"合 計","ジェット燃料","その他燃料","合計"]
[null,null,"月別",null,null,null,"乗 客","降 客","通過客","小 計","乗 客","降 客","小 計"]
[]
[null,null,"1月",1383,5897,{"$f":"SUM(D871:E871)","v":7280},217392,224698,1169,{"$f":"SUM(G871:I871)","v":443259},694153,639150,{"$f":"SUM(K871:L871)","v":1333303},{"$f":"J871+M871","v":1776562},33144,0,{"$f":"SUM(O871:P871)","v":33144}]
[null,null,"2月",1353,5729,{"$f":"SUM(D872:E872)","v":7082},225779,213486,800,{"$f":"SUM(G872:I872)","v":440065},673707,670167,{"$f":"SUM(K872:L872)","v":1343874},{"$f":"J872+M872","v":1783939},32143,0,{"$f":"SUM(O872:P872)","v":32143}]
[null,null,"3月",1406,6126,7532,226186,241768,112,468066,769582,756471,1526053,1994119,35029,0,35029]
[null,null,"4月",1318,6218,7536,187675,170035,710,358420,655115,669283,1324398,1682818,30990,0,30990]
[null,null,"5月",1225,6055,7280,142739,151943,616,295298,696606,671221,1367827,1663125,31761,0,31761]
[null,null,"6月",1220,5838,7058,167792,167287,467,335546,643598,637588,1281186,1616732,31029,0,31029]
[null,null,"7月",1350,6040,7390,187577,189914,171,377662,701244,707080,1408324,1785986,35488,1,35489]
[null,null,"8月",1401,6051,7452,232406,217876,148,450430,783823,773391,1557214,2007644,38899,1,38900]
[null,null,"9月",1434,5794,7228,208301,221289,223,429813,713208,706825,1420033,1849846,34902,1,34903]
[null,null,"10月",1407,6014,7421,225221,222798,107,448126,749703,743380,1493083,1941209,33270,0,33270]
[null,null,"11月",1403,5997,7400,228131,229567,612,458310,748982,740199,1489181,1947491,33817,0,33817]
[null,null,"12月",1483,5943,7426,246089,239415,176,485680,709332,750494,1459826,1945506,34640,0,{"$f":"SUM(O882:P882)","v":34640}]
[]
[null,"福岡暦１","暦年 計",{"$f":"SUM(D871:D882)","v":16383},{"$f":"SUM(E871:E882)","v":71702},{"$f":"SUM(F871:F882)","v":88085},{"$f":"SUM(G871:G882)","v":2495288},{"$f":"SUM(H871:H882)","v":2490076},5311,4990675,8539053,8465249,17004302,21994977,405112,{"$f":"SUM(P871:P882)","v":3},{"$f":"SUM(Q871:Q882)","v":405115}]
[]
[null,null,"1月",1518,5948,{"$f":"SUM(D886:E886)","v":7466},243767,265922,195,{"$f":"SUM(G886:I886)","v":509884},725585,667595,{"$f":"SUM(K886:L886)","v":1393180},{"$f":"J886+M886","v":1903064},34510,0,{"$f":"SUM(O886:P886)","v":34510}]
[null,null,"2月",1368,5456,{"$f":"SUM(D887:E887)","v":6824},258514,237146,379,{"$f":"SUM(G887:I887)","v":496039},678703,676635,{"$f":"SUM(K887:L887)","v":1355338},{"$f":"J887+M887","v":1851377},32411,0,{"$f":"SUM(O887:P887)","v":32411}]
[null,null,"3月",1504,5990,{"$f":"SUM(D888:E888)","v":7494},262296,271448,556,{"$f":"SUM(G888:I888)","v":534300},798786,790943,{"$f":"SUM(K888:L888)","v":1589729},{"$f":"J888+M888","v":2124029},34967,0,{"$f":"SUM(O888:P888)","v":34967}]
[]
[null,"福岡度１","年度計",{"$f":"SUM(D874:D882,D886:D888)","v":16631},{"$f":"SUM(E874:E882,E886:E888)","v":71344},{"$f":"SUM(F874:F882,F886:F888)","v":87975},{"$f":"SUM(G874:G882,G886:G888)","v":2590508},2584640,4360,5179508,8604685,8534634,17139319,22318827,406684,3,{"$f":"SUM(Q874:Q882,Q886:Q888)","v":406687}]
[]
[]
[]
[null,null,"項目",null,null,null,"貨 物 取 扱 量 （トン）",null,null,null,null,null,null,"郵 便 取 扱 量 （kg）"]
[null,null,null,null,"国 際 線",null,null,"国 内 線",null,"合計",null,"国 際 線",null,null,"国 内 線",null,"合 計"]
[null,null,"月別","積","卸","小 計","積","卸","小 計",null,"積","卸","小 計","積","卸","小 計"]
[]
[null,null,"1月",2073,2179,{"$f":"SUM(D898:E898)","v":4252},8292,6150,{"$f":"SUM(G898:H898)","v":14442},{"$f":"F898+I898","v":18694},119918,56019,{"$f":"SUM(K898:L898)","v":175937},470973,607758,{"$f":"SUM(N898:O898)","v":1078731},{"$f":"M898+P898","v":1254668}]
[null,null,"2月",1810,2247,4057,8283,6515,14798,18855,83611,55260,138871,435173,564383,999556,1138427]
[null,null,"3月",2091,2772,4863,10188,7620,17808,22671,119349,79716,199065,496549,654765,1151314,1350379]
[null,null,"4月",1760,2684,4444,8974,7773,16747,21191,103597,73382,176979,477753,660764,1138517,1315496]
[null,null,"5月",1846,2361,4207,7944,6776,14720,18927,104825,58320,163145,450728,584619,1035347,1198492]
[null,null,"6月",1950,2422,4372,8423,7577,16000,20372,93357,65016,158373,454559,740416,1194975,1353348]
[null,null,"7月",2128,2421,4549,8518,8608,17126,21675,86032,62517,148549,436347,582460,1018807,1167356]
[null,null,"8月",1934,2341,4275,8299,7986,16285,20560,78377,58476,136853,402209,519428,921637,1058490]
[null,null,"9月",2173,2346,4519,8306,8325,16631,21150,79770,72618,152388,416161,576273,992434,1144822]
[null,null,"10月",2213,3282,{"$f":"SUM(D907:E907)","v":5495},8309,8239,16548,22043,82699,84660,167359,442202,640686,1082888,1250247]
[null,null,"11月",2381,3498,5879,8607,8384,16991,22870,64404,85520,149924,471658,618147,1089805,1239729]
[null,null,"12月",2515,3809,6324,10876,8983,19859,26183,72999,91973,164972,577198,733622,1310820,1475792]
[]
[null,"福岡暦２","暦年 計",{"$f":"SUM(D898:D910)","v":24874},32362,57236,105019,92936,197955,255191,1088938,843477,{"$f":"SUM(M898:M910)","v":1932415},{"$f":"SUM(N898:N910)","v":5531510},{"$f":"SUM(O898:O910)","v":7483321},{"$f":"SUM(P898:P910)","v":13014831},{"$f":"SUM(Q898:Q910)","v":14947246}]
[]
[null,null,"1月",2133,2827,{"$f":"SUM(D913:E913)","v":4960},8083,6126,{"$f":"SUM(G913:H913)","v":14209},{"$f":"F913+I913","v":19169},56307,68091,{"$f":"SUM(K913:L913)","v":124398},446812,594733,{"$f":"SUM(N913:O913)","v":1041545},{"$f":"M913+P913","v":1165943}]
[null,null,"2月",2294,2381,{"$f":"SUM(D914:E914)","v":4675},8295,6204,{"$f":"SUM(G914:H914)","v":14499},{"$f":"F914+I914","v":19174},58545,60459,{"$f":"SUM(K914:L914)","v":119004},420867,561070,{"$f":"SUM(N914:O914)","v":981937},{"$f":"M914+P914","v":1100941}]
[null,null,"3月",2731,2827,{"$f":"SUM(D915:E915)","v":5558},9988,7279,{"$f":"SUM(G915:H915)","v":17267},{"$f":"F915+I915","v":22825},68552,84255,{"$f":"SUM(K915:L915)","v":152807},489261,623385,{"$f":"SUM(N915:O915)","v":1112646},{"$f":"M915+P915","v":1265453}]
[]
[null,"福岡度２","年度計",{"$f":"SUM(D901:D909,D913:D915)","v":26058},{"$f":"SUM(E901:E909,E913:E915)","v":33199},{"$f":"SUM(F901:F909,F913:F915)","v":59257},{"$f":"SUM(G901:G909,G913:G915)","v":104622},92260,196882,256139,949464,865287,{"$f":"SUM(M901:M909,M913:M915)","v":1814751},{"$f":"SUM(N901:N909,N913:N915)","v":5485755},{"$f":"SUM(O901:O909,O913:O915)","v":7435603},{"$f":"SUM(P901:P909,P913:P915)","v":12921358},{"$f":"SUM(Q901:Q909,Q913:Q915)","v":14736109}]
[]
[null,null,{"$f":"C865","v":"平　成　２　８　年　空　港　管　理　状　況　調　書"}]
[null,null,"空港名 ：","北 九 州                （国管理）"]
[null,null,"項目",null,"着 陸 回 数 （回）",null,"乗   降   客   数   （人）",null,null,null,null,null,null,null,"航空燃料供給量　（ＫＬ）"]
[null,null,null,"国際線","国内線","計",null,"国 際 線",null,null,null,"国 内 線",null,"合 計","ジェット燃料","その他燃料","合計"]
[null,null,"月別",null,null,null,"乗 客","降 客","通過客","小 計","乗 客","降 客","小 計"]
[]
[null,null,"1月",21,645,{"$f":"SUM(D925:E925)","v":666},618,810,0,{"$f":"SUM(G925:I925)","v":1428},51400,48148,{"$f":"SUM(K925:L925)","v":99548},{"$f":"J925+M925","v":100976},1887,2,{"$f":"SUM(O925:P925)","v":1889}]
[null,null,"2月",17,636,{"$f":"SUM(D926:E926)","v":653},237,237,0,{"$f":"SUM(G926:I926)","v":474},49697,51775,{"$f":"SUM(K926:L926)","v":101472},{"$f":"J926+M926","v":101946},1844,2,{"$f":"SUM(O926:P926)","v":1846}]
[null,null,"3月",5,725,730,0,0,0,0,59026,58794,117820,117820,2141,3,2144]
[null,null,"4月",7,784,791,0,0,0,0,47722,51399,99121,99121,1802,5,1807]
[null,null,"5月",10,703,713,338,339,0,677,51220,51005,102225,102902,2038,4,2042]
[null,null,"6月",6,588,594,0,0,0,0,46397,48937,95334,95334,1787,1,1788]
[null,null,"7月",7,708,715,0,134,0,134,51928,55694,107622,107756,2251,2,2253]
[null,null,"8月",10,778,788,367,233,0,600,62134,62311,124445,125045,2383,5,2388]
[null,null,"9月",9,679,688,148,146,0,294,53802,55083,108885,109179,2065,1,2066]
[null,null,"10月",22,682,704,1488,1649,0,3137,57240,60903,118143,121280,2262,3,2265]
[null,null,"11月",27,743,770,2311,2355,0,4666,56080,57835,113915,118581,2145,6,2151]
[null,null,"12月",88,738,826,8828,8983,0,17811,52176,60850,113026,130837,2279,7,2286]
[]
[null,"北九州暦１","暦年 計",{"$f":"SUM(D925:D936)","v":229},{"$f":"SUM(E925:E936)","v":8409},{"$f":"SUM(F925:F936)","v":8638},{"$f":"SUM(G925:G936)","v":14335},{"$f":"SUM(H925:H936)","v":14886},0,29221,638822,662734,1301556,1330777,24884,{"$f":"SUM(P925:P936)","v":41},{"$f":"SUM(Q925:Q936)","v":24925}]
[]
[null,null,"1月",92,691,{"$f":"SUM(D940:E940)","v":783},10874,11296,0,{"$f":"SUM(G940:I940)","v":22170},56196,50822,{"$f":"SUM(K940:L940)","v":107018},{"$f":"J940+M940","v":129188},2170,3,{"$f":"SUM(O940:P940)","v":2173}]
[null,null,"2月",94,618,{"$f":"SUM(D941:E941)","v":712},13878,13712,0,{"$f":"SUM(G941:I941)","v":27590},48484,50768,{"$f":"SUM(K941:L941)","v":99252},{"$f":"J941+M941","v":126842},2035,2,{"$f":"SUM(O941:P941)","v":2037}]
[null,null,"3月",87,679,{"$f":"SUM(D942:E942)","v":766},10687,10497,0,{"$f":"SUM(G942:I942)","v":21184},61446,62962,{"$f":"SUM(K942:L942)","v":124408},{"$f":"J942+M942","v":145592},2253,2,{"$f":"SUM(O942:P942)","v":2255}]
[]
[null,"北九州度１","年度計",{"$f":"SUM(D928:D936,D940:D942)","v":459},{"$f":"SUM(E928:E936,E940:E942)","v":8391},{"$f":"SUM(F928:F936,F940:F942)","v":8850},{"$f":"SUM(G928:G936,G940:G942)","v":48919},49344,0,98263,644825,668569,1313394,1411657,25470,41,{"$f":"SUM(Q928:Q936,Q940:Q942)","v":25511}]
[]
[]
[]
[null,null,"項目",null,null,null,"貨 物 取 扱 量 （トン）",null,null,null,null,null,null,"郵 便 取 扱 量 （kg）"]
[null,null,null,null,"国 際 線",null,null,"国 内 線",null,"合計",null,"国 際 線",null,null,"国 内 線",null,"合 計"]
[null,null,"月別","積","卸","小 計","積","卸","小 計",null,"積","卸","小 計","積","卸","小 計"]
[]
[null,null,"1月",76,280,{"$f":"SUM(D952:E952)","v":356},373,160,{"$f":"SUM(G952:H952)","v":533},{"$f":"F952+I952","v":889},0,0,{"$f":"SUM(K952:L952)","v":0},0,0,{"$f":"SUM(N952:O952)","v":0},{"$f":"M952+P952","v":0}]
[null,null,"2月",57,265,322,386,180,566,888,0,0,0,0,0,0,0]
[null,null,"3月",113,116,229,418,195,613,842,0,0,0,0,0,0,0]
[null,null,"4月",61,202,263,307,164,471,734,0,0,0,0,0,0,0]
[null,null,"5月",100,6,106,265,117,382,488,0,0,0,0,0,0,0]
[null,null,"6月",155,3,158,329,155,484,642,0,0,0,0,0,0,0]
[null,null,"7月",114,2,116,336,150,486,602,0,0,0,0,0,0,0]
[null,null,"8月",85,1,86,295,120,415,501,0,0,0,0,0,0,0]
[null,null,"9月",64,197,261,315,191,506,767,0,0,0,0,0,0,0]
[null,null,"10月",153,92,245,305,197,502,747,0,0,0,0,0,0,0]
[null,null,"11月",125,157,282,308,196,504,786,0,0,0,0,0,0,0]
[null,null,"12月",110,209,319,372,210,582,901,0,0,0,0,0,0,0]
[]
[null,"北九州暦２","暦年 計",{"$f":"SUM(D952:D964)","v":1213},1530,2743,4009,2035,6044,8787,0,0,{"$f":"SUM(M952:M964)","v":0},{"$f":"SUM(N952:N964)","v":0},{"$f":"SUM(O952:O964)","v":0},{"$f":"SUM(P952:P964)","v":0},{"$f":"SUM(Q952:Q964)","v":0}]
[]
[null,null,"1月",57,193,{"$f":"SUM(D967:E967)","v":250},311,160,{"$f":"SUM(G967:H967)","v":471},{"$f":"F967+I967","v":721},0,0,{"$f":"SUM(K967:L967)","v":0},0,0,{"$f":"SUM(N967:O967)","v":0},{"$f":"M967+P967","v":0}]
[null,null,"2月",0,102,{"$f":"SUM(D968:E968)","v":102},419,186,{"$f":"SUM(G968:H968)","v":605},{"$f":"F968+I968","v":707},0,0,{"$f":"SUM(K968:L968)","v":0},0,0,{"$f":"SUM(N968:O968)","v":0},{"$f":"M968+P968","v":0}]
[null,null,"3月",11,208,{"$f":"SUM(D969:E969)","v":219},423,213,{"$f":"SUM(G969:H969)","v":636},{"$f":"F969+I969","v":855},0,0,{"$f":"SUM(K969:L969)","v":0},0,0,{"$f":"SUM(N969:O969)","v":0},{"$f":"M969+P969","v":0}]
[]
[null,"北九州度２","年度計",{"$f":"SUM(D955:D963,D967:D969)","v":1035},{"$f":"SUM(E955:E963,E967:E969)","v":1372},{"$f":"SUM(F955:F963,F967:F969)","v":2407},{"$f":"SUM(G955:G963,G967:G969)","v":3985},2059,6044,8451,0,0,{"$f":"SUM(M955:M963,M967:M969)","v":0},{"$f":"SUM(N955:N963,N967:N969)","v":0},{"$f":"SUM(O955:O963,O967:O969)","v":0},{"$f":"SUM(P955:P963,P967:P969)","v":0},{"$f":"SUM(Q955:Q963,Q967:Q969)","v":0}]
[]
[null,null,{"$f":"C919","v":"平　成　２　８　年　空　港　管　理　状　況　調　書"}]
[null,null,"空港名 ：","長    崎                （国管理）"]
[null,null,"項目",null,"着 陸 回 数 （回）",null,"乗   降   客   数   （人）",null,null,null,null,null,null,null,"航空燃料供給量　（ＫＬ）"]
[null,null,null,"国際線","国内線","計",null,"国 際 線",null,null,null,"国 内 線",null,"合 計","ジェット燃料","その他燃料","合計"]
[null,null,"月別",null,null,null,"乗 客","降 客","通過客","小 計","乗 客","降 客","小 計"]
[]
[null,null,"1月",8,1203,{"$f":"SUM(D979:E979)","v":1211},431,427,0,{"$f":"SUM(G979:I979)","v":858},120157,106980,{"$f":"SUM(K979:L979)","v":227137},{"$f":"J979+M979","v":227995},4113,0,{"$f":"SUM(O979:P979)","v":4113}]
[null,null,"2月",23,1270,{"$f":"SUM(D980:E980)","v":1293},2600,2455,0,{"$f":"SUM(G980:I980)","v":5055},121965,127188,{"$f":"SUM(K980:L980)","v":249153},{"$f":"J980+M980","v":254208},4469,0,{"$f":"SUM(O980:P980)","v":4469}]
[null,null,"3月",10,1371,1381,395,504,0,899,145071,148167,293238,294137,4931,0,4931]
[null,null,"4月",12,1217,1229,514,561,0,1075,103751,110342,214093,215168,3735,0,{"$f":"SUM(O982:P982)","v":3735}]
[null,null,"5月",10,1253,1263,424,458,0,882,115071,109411,224482,225364,3993,0,3993]
[null,null,"6月",9,1002,1011,497,534,0,1031,93082,95247,188329,189360,3736,0,3736]
[null,null,"7月",10,1260,1270,408,361,0,769,111279,116829,228108,228877,4760,0,4760]
[null,null,"8月",9,1287,1296,672,540,0,1212,148670,148634,297304,298516,5628,0,5628]
[null,null,"9月",9,1148,1157,602,768,0,1370,120672,120953,241625,242995,4395,0,4395]
[null,null,"10月",19,1262,1281,1394,1490,0,2884,127317,132653,259970,262854,4451,0,4451]
[null,null,"11月",31,1312,1343,2315,2295,0,4610,126197,130062,256259,260869,4604,0,4604]
[null,null,"12月",28,1332,1360,2055,2232,0,4287,122791,140000,262791,267078,4396,0,4396]
[]
[null,"長崎暦１","暦年 計",{"$f":"SUM(D979:D990)","v":178},{"$f":"SUM(E979:E990)","v":14917},{"$f":"SUM(F979:F990)","v":15095},{"$f":"SUM(G979:G990)","v":12307},{"$f":"SUM(H979:H990)","v":12625},0,24932,1456023,1486466,2942489,2967421,53211,{"$f":"SUM(P979:P990)","v":0},{"$f":"SUM(Q979:Q990)","v":53211}]
[]
[null,null,"1月",29,1345,{"$f":"SUM(D994:E994)","v":1374},2988,3314,0,{"$f":"SUM(G994:I994)","v":6302},130428,117252,{"$f":"SUM(K994:L994)","v":247680},{"$f":"J994+M994","v":253982},4599,0,{"$f":"SUM(O994:P994)","v":4599}]
[null,null,"2月",24,1196,{"$f":"SUM(D995:E995)","v":1220},2967,2899,0,{"$f":"SUM(G995:I995)","v":5866},117328,121530,{"$f":"SUM(K995:L995)","v":238858},{"$f":"J995+M995","v":244724},4220,0,{"$f":"SUM(O995:P995)","v":4220}]
[null,null,"3月",31,1376,{"$f":"SUM(D996:E996)","v":1407},2640,2703,0,{"$f":"SUM(G996:I996)","v":5343},148886,152563,{"$f":"SUM(K996:L996)","v":301449},{"$f":"J996+M996","v":306792},4782,0,{"$f":"SUM(O996:P996)","v":4782}]
[]
[null,"長崎度１","年度計",{"$f":"SUM(D982:D990,D994:D996)","v":221},{"$f":"SUM(E982:E990,E994:E996)","v":14990},{"$f":"SUM(F982:F990,F994:F996)","v":15211},{"$f":"SUM(G982:G990,G994:G996)","v":17476},18155,0,35631,1465472,1495476,2960948,2996579,53299,0,{"$f":"SUM(Q982:Q990,Q994:Q996)","v":53299}]
[]
[]
[]
[null,null,"項目",null,null,null,"貨 物 取 扱 量 （トン）",null,null,null,null,null,null,"郵 便 取 扱 量 （kg）"]
[null,null,null,null,"国 際 線",null,null,"国 内 線",null,"合計",null,"国 際 線",null,null,"国 内 線",null,"合 計"]
[null,null,"月別","積","卸","小 計","積","卸","小 計",null,"積","卸","小 計","積","卸","小 計"]
[]
[null,null,"1月",8,33,{"$f":"SUM(D1006:E1006)","v":41},687,256,{"$f":"SUM(G1006:H1006)","v":943},{"$f":"F1006+I1006","v":984},0,0,{"$f":"SUM(K1006:L1006)","v":0},24805,91747,{"$f":"SUM(N1006:O1006)","v":116552},{"$f":"M1006+P1006","v":116552}]
[null,null,"2月",2,28,30,712,255,967,997,0,0,0,23239,86563,109802,109802]
[null,null,"3月",6,11,17,986,280,1266,1283,0,0,0,27937,101500,129437,129437]
[null,null,"4月",5,4,9,911,271,1182,1191,0,0,0,24461,98607,123068,123068]
[null,null,"5月",7,4,11,742,223,965,976,0,0,0,23524,88907,112431,112431]
[null,null,"6月",1,6,7,706,261,967,974,0,0,0,24911,105470,130381,130381]
[null,null,"7月",8,37,45,646,340,986,1031,0,0,0,21940,96718,118658,118658]
[null,null,"8月",3,55,58,699,311,1010,1068,0,0,0,19419,81205,100624,100624]
[null,null,"9月",3,62,65,605,308,913,978,0,0,0,20328,89295,109623,109623]
[null,null,"10月",4,53,57,628,367,995,1052,0,0,0,24201,87792,111993,111993]
[null,null,"11月",7,28,35,780,307,1087,1122,0,0,0,22847,84870,107717,107717]
[null,null,"12月",5,15,20,1210,344,1554,1574,0,0,0,35829,104561,140390,140390]
[]
[null,"長崎暦２","暦年 計",{"$f":"SUM(D1006:D1018)","v":59},336,395,9312,3523,12835,13230,0,0,{"$f":"SUM(M1006:M1018)","v":0},{"$f":"SUM(N1006:N1018)","v":293441},{"$f":"SUM(O1006:O1018)","v":1117235},{"$f":"SUM(P1006:P1018)","v":1410676},{"$f":"SUM(Q1006:Q1018)","v":1410676}]
[]
[null,null,"1月",2,28,{"$f":"SUM(D1021:E1021)","v":30},756,260,{"$f":"SUM(G1021:H1021)","v":1016},{"$f":"F1021+I1021","v":1046},0,0,{"$f":"SUM(K1021:L1021)","v":0},26011,79942,{"$f":"SUM(N1021:O1021)","v":105953},{"$f":"M1021+P1021","v":105953}]
[null,null,"2月",4,16,{"$f":"SUM(D1022:E1022)","v":20},738,276,{"$f":"SUM(G1022:H1022)","v":1014},{"$f":"F1022+I1022","v":1034},0,0,{"$f":"SUM(K1022:L1022)","v":0},24379,76329,{"$f":"SUM(N1022:O1022)","v":100708},{"$f":"M1022+P1022","v":100708}]
[null,null,"3月",8,10,{"$f":"SUM(D1023:E1023)","v":18},948,302,{"$f":"SUM(G1023:H1023)","v":1250},{"$f":"F1023+I1023","v":1268},0,0,{"$f":"SUM(K1023:L1023)","v":0},26454,88337,{"$f":"SUM(N1023:O1023)","v":114791},{"$f":"M1023+P1023","v":114791}]
[]
[null,"長崎度２","年度計",{"$f":"SUM(D1009:D1017,D1021:D1023)","v":57},{"$f":"SUM(E1009:E1017,E1021:E1023)","v":318},{"$f":"SUM(F1009:F1017,F1021:F1023)","v":375},{"$f":"SUM(G1009:G1017,G1021:G1023)","v":9369},3570,12939,13314,0,0,{"$f":"SUM(M1009:M1017,M1021:M1023)","v":0},{"$f":"SUM(N1009:N1017,N1021:N1023)","v":294304},{"$f":"SUM(O1009:O1017,O1021:O1023)","v":1082033},{"$f":"SUM(P1009:P1017,P1021:P1023)","v":1376337},{"$f":"SUM(Q1009:Q1017,Q1021:Q1023)","v":1376337}]
[]
[null,null,{"$f":"C973","v":"平　成　２　８　年　空　港　管　理　状　況　調　書"}]
[null,null,"空港名 ：","熊    本                （国管理）"]
[null,null,"項目",null,"着 陸 回 数 （回）",null,"乗   降   客   数   （人）",null,null,null,null,null,null,null,"航空燃料供給量　（ＫＬ）"]
[null,null,null,"国際線","国内線","計",null,"国 際 線",null,null,null,"国 内 線",null,"合 計","ジェット燃料","その他燃料","合計"]
[null,null,"月別",null,null,null,"乗 客","降 客","通過客","小 計","乗 客","降 客","小 計"]
[]
[null,null,"1月",37,1752,{"$f":"SUM(D1033:E1033)","v":1789},3842,4116,0,{"$f":"SUM(G1033:I1033)","v":7958},130932,108950,{"$f":"SUM(K1033:L1033)","v":239882},{"$f":"J1033+M1033","v":247840},4635,16,{"$f":"SUM(O1033:P1033)","v":4651}]
[null,null,"2月",36,1708,{"$f":"SUM(D1034:E1034)","v":1744},4023,3962,0,{"$f":"SUM(G1034:I1034)","v":7985},116979,117793,{"$f":"SUM(K1034:L1034)","v":234772},{"$f":"J1034+M1034","v":242757},4604,21,{"$f":"SUM(O1034:P1034)","v":4625}]
[null,null,"3月",34,1859,1893,4168,4802,0,8970,142040,140003,282043,291013,5192,28,5220]
[null,null,"4月",19,1786,1805,2329,2299,0,4628,84143,89221,173364,177992,2468,8,2476]
[null,null,"5月",0,1383,1383,0,0,0,0,106435,101211,207646,207646,2758,11,2769]
[null,null,"6月",12,1531,1543,1058,1315,0,2373,99843,100049,199892,202265,3922,15,3937]
[null,null,"7月",9,1778,1787,827,685,0,1512,117175,121466,238641,240153,4775,23,4798]
[null,null,"8月",10,1642,1652,918,1079,0,1997,145053,143985,289038,291035,5657,18,5675]
[null,null,"9月",11,1650,1661,1061,1247,0,2308,132812,132519,265331,267639,4769,20,4789]
[null,null,"10月",11,1885,1896,1139,1161,0,2300,131976,133302,265278,267578,4565,28,4593]
[null,null,"11月",13,1853,1866,1449,1437,0,2886,135288,138387,273675,276561,4599,31,4630]
[null,null,"12月",11,1829,1840,1232,1116,0,2348,125997,145862,271859,274207,4639,28,4667]
[]
[null,"熊本暦１","暦年 計",{"$f":"SUM(D1033:D1044)","v":203},{"$f":"SUM(E1033:E1044)","v":20656},{"$f":"SUM(F1033:F1044)","v":20859},{"$f":"SUM(G1033:G1044)","v":22046},{"$f":"SUM(H1033:H1044)","v":23219},0,45265,1468673,1472748,2941421,2986686,52583,{"$f":"SUM(P1033:P1044)","v":247},{"$f":"SUM(Q1033:Q1044)","v":52830}]
[]
[null,null,"1月",19,1702,{"$f":"SUM(D1048:E1048)","v":1721},2207,2719,0,{"$f":"SUM(G1048:I1048)","v":4926},130662,112420,{"$f":"SUM(K1048:L1048)","v":243082},{"$f":"J1048+M1048","v":248008},4745,23,{"$f":"SUM(O1048:P1048)","v":4768}]
[null,null,"2月",20,1723,{"$f":"SUM(D1049:E1049)","v":1743},2838,2680,0,{"$f":"SUM(G1049:I1049)","v":5518},115423,117065,{"$f":"SUM(K1049:L1049)","v":232488},{"$f":"J1049+M1049","v":238006},4314,27,{"$f":"SUM(O1049:P1049)","v":4341}]
[null,null,"3月",14,1813,{"$f":"SUM(D1050:E1050)","v":1827},1857,1956,0,{"$f":"SUM(G1050:I1050)","v":3813},144501,142794,{"$f":"SUM(K1050:L1050)","v":287295},{"$f":"J1050+M1050","v":291108},4874,33,{"$f":"SUM(O1050:P1050)","v":4907}]
[]
[null,"熊本度１","年度計",{"$f":"SUM(D1036:D1044,D1048:D1050)","v":149},{"$f":"SUM(E1036:E1044,E1048:E1050)","v":20575},{"$f":"SUM(F1036:F1044,F1048:F1050)","v":20724},{"$f":"SUM(G1036:G1044,G1048:G1050)","v":16915},17694,0,34609,1469308,1478281,2947589,2982198,52085,265,{"$f":"SUM(Q1036:Q1044,Q1048:Q1050)","v":52350}]
[]
[]
[]
[null,null,"項目",null,null,null,"貨 物 取 扱 量 （トン）",null,null,null,null,null,null,"郵 便 取 扱 量 （kg）"]
[null,null,null,null,"国 際 線",null,null,"国 内 線",null,"合計",null,"国 際 線",null,null,"国 内 線",null,"合 計"]
[null,null,"月別","積","卸","小 計","積","卸","小 計",null,"積","卸","小 計","積","卸","小 計"]
[]
[null,null,"1月",0,0,{"$f":"SUM(D1060:E1060)","v":0},862,398,{"$f":"SUM(G1060:H1060)","v":1260},{"$f":"F1060+I1060","v":1260},0,0,{"$f":"SUM(K1060:L1060)","v":0},65455,97932,{"$f":"SUM(N1060:O1060)","v":163387},{"$f":"M1060+P1060","v":163387}]
[null,null,"2月",0,0,0,879,426,1305,1305,0,0,0,55280,84014,139294,139294]
[null,null,"3月",0,0,0,1136,484,1620,1620,0,0,0,67871,97000,164871,164871]
[null,null,"4月",0,0,0,659,347,1006,1006,0,0,0,38625,59048,97673,97673]
[null,null,"5月",0,0,0,642,349,991,991,0,0,0,36011,89528,125539,125539]
[null,null,"6月",0,0,0,989,445,1434,1434,0,0,0,51056,106338,157394,157394]
[null,null,"7月",0,0,0,929,468,1397,1397,0,0,0,41356,101861,143217,143217]
[null,null,"8月",0,0,0,844,447,1291,1291,0,0,0,35164,80834,115998,115998]
[null,null,"9月",0,0,0,740,496,1236,1236,0,0,0,43212,92497,135709,135709]
[null,null,"10月",0,0,0,795,530,1325,1325,0,0,0,42586,108054,150640,150640]
[null,null,"11月",0,0,0,850,525,1375,1375,0,0,0,45178,101795,146973,146973]
[null,null,"12月",0,0,0,1167,694,1861,1861,0,0,0,54228,116385,170613,170613]
[]
[null,"熊本暦２","暦年 計",{"$f":"SUM(D1060:D1072)","v":0},0,0,10492,5609,16101,16101,0,0,{"$f":"SUM(M1060:M1072)","v":0},{"$f":"SUM(N1060:N1072)","v":576022},{"$f":"SUM(O1060:O1072)","v":1135286},{"$f":"SUM(P1060:P1072)","v":1711308},{"$f":"SUM(Q1060:Q1072)","v":1711308}]
[]
[null,null,"1月",0,0,{"$f":"SUM(D1075:E1075)","v":0},877,411,{"$f":"SUM(G1075:H1075)","v":1288},{"$f":"F1075+I1075","v":1288},0,0,{"$f":"SUM(K1075:L1075)","v":0},44363,96043,{"$f":"SUM(N1075:O1075)","v":140406},{"$f":"M1075+P1075","v":140406}]
[null,null,"2月",0,0,{"$f":"SUM(D1076:E1076)","v":0},896,447,{"$f":"SUM(G1076:H1076)","v":1343},{"$f":"F1076+I1076","v":1343},0,0,{"$f":"SUM(K1076:L1076)","v":0},37730,89514,{"$f":"SUM(N1076:O1076)","v":127244},{"$f":"M1076+P1076","v":127244}]
[null,null,"3月",0,0,{"$f":"SUM(D1077:E1077)","v":0},1086,516,{"$f":"SUM(G1077:H1077)","v":1602},{"$f":"F1077+I1077","v":1602},0,0,{"$f":"SUM(K1077:L1077)","v":0},43494,101521,{"$f":"SUM(N1077:O1077)","v":145015},{"$f":"M1077+P1077","v":145015}]
[]
[null,"熊本度２","年度計",{"$f":"SUM(D1063:D1071,D1075:D1077)","v":0},{"$f":"SUM(E1063:E1071,E1075:E1077)","v":0},{"$f":"SUM(F1063:F1071,F1075:F1077)","v":0},{"$f":"SUM(G1063:G1071,G1075:G1077)","v":10474},5675,16149,16149,0,0,{"$f":"SUM(M1063:M1071,M1075:M1077)","v":0},{"$f":"SUM(N1063:N1071,N1075:N1077)","v":513003},{"$f":"SUM(O1063:O1071,O1075:O1077)","v":1143418},{"$f":"SUM(P1063:P1071,P1075:P1077)","v":1656421},{"$f":"SUM(Q1063:Q1071,Q1075:Q1077)","v":1656421}]
[]
[null,null,{"$f":"C1027","v":"平　成　２　８　年　空　港　管　理　状　況　調　書"}]
[null,null,"空港名 ：","大    分                （国管理）"]
[null,null,"項目",null,"着 陸 回 数 （回）",null,"乗   降   客   数   （人）",null,null,null,null,null,null,null,"航空燃料供給量　（ＫＬ）"]
[null,null,null,"国際線","国内線","計",null,"国 際 線",null,null,null,"国 内 線",null,"合 計","ジェット燃料","その他燃料","合計"]
[null,null,"月別",null,null,null,"乗 客","降 客","通過客","小 計","乗 客","降 客","小 計"]
[]
[null,null,"1月",28,897,{"$f":"SUM(D1087:E1087)","v":925},4156,4188,0,{"$f":"SUM(G1087:I1087)","v":8344},74231,62649,{"$f":"SUM(K1087:L1087)","v":136880},{"$f":"J1087+M1087","v":145224},2526,17,{"$f":"SUM(O1087:P1087)","v":2543}]
[null,null,"2月",33,886,{"$f":"SUM(D1088:E1088)","v":919},4270,4362,0,{"$f":"SUM(G1088:I1088)","v":8632},72354,71014,{"$f":"SUM(K1088:L1088)","v":143368},{"$f":"J1088+M1088","v":152000},2482,17,{"$f":"SUM(O1088:P1088)","v":2499}]
[null,null,"3月",20,954,974,2655,2578,0,5233,83147,81771,164918,170151,2853,17,2870]
[null,null,"4月",11,899,910,1553,1346,0,2899,{"$f":"[1]大分!$DC$30","v":57842},{"$f":"[1]大分!$DC$31","v":59807},117649,120548,2099,11,2110]
[null,null,"5月",0,896,896,0,0,0,0,63402,60356,123758,123758,2159,12,2171]
[null,null,"6月",17,864,881,2034,2115,0,4149,57259,56865,114124,118273,2094,12,2106]
[null,null,"7月",18,934,952,1993,1981,0,3974,66330,69683,136013,139987,2550,14,2564]
[null,null,"8月",18,980,998,2937,2568,0,5505,85983,85211,171194,176699,3333,18,3351]
[null,null,"9月",22,879,901,3061,3221,0,6282,78050,78042,156092,162374,2748,14,2762]
[null,null,"10月",27,959,986,3751,3517,0,7268,76990,78527,155517,162785,2643,19,2662]
[null,null,"11月",25,901,926,3258,3151,0,6409,82463,82665,165128,171537,2854,17,2871]
[null,null,"12月",29,875,904,3935,3786,0,7721,74852,86730,161582,169303,2770,12,2782]
[]
[null,"大分暦１","暦年 計",{"$f":"SUM(D1087:D1098)","v":248},{"$f":"SUM(E1087:E1098)","v":10924},{"$f":"SUM(F1087:F1098)","v":11172},{"$f":"SUM(G1087:G1098)","v":33603},{"$f":"SUM(H1087:H1098)","v":32813},0,66416,872903,873320,1746223,1812639,31111,{"$f":"SUM(P1087:P1098)","v":180},{"$f":"SUM(Q1087:Q1098)","v":31291}]
[]
[null,null,"1月",40,906,{"$f":"SUM(D1102:E1102)","v":946},4915,5273,0,{"$f":"SUM(G1102:I1102)","v":10188},75499,64014,{"$f":"SUM(K1102:L1102)","v":139513},{"$f":"J1102+M1102","v":149701},2702,15,{"$f":"SUM(O1102:P1102)","v":2717}]
[null,null,"2月",41,832,{"$f":"SUM(D1103:E1103)","v":873},5562,5355,0,{"$f":"SUM(G1103:I1103)","v":10917},69970,69664,{"$f":"SUM(K1103:L1103)","v":139634},{"$f":"J1103+M1103","v":150551},2534,19,{"$f":"SUM(O1103:P1103)","v":2553}]
[null,null,"3月",36,950,{"$f":"SUM(D1104:E1104)","v":986},4418,4790,0,{"$f":"SUM(G1104:I1104)","v":9208},84425,83271,{"$f":"SUM(K1104:L1104)","v":167696},{"$f":"J1104+M1104","v":176904},2886,18,{"$f":"SUM(O1104:P1104)","v":2904}]
[]
[null,"大分度１","年度計",{"$f":"SUM(D1090:D1098,D1102:D1104)","v":284},{"$f":"SUM(E1090:E1098,E1102:E1104)","v":10875},{"$f":"SUM(F1090:F1098,F1102:F1104)","v":11159},{"$f":"SUM(G1090:G1098,G1102:G1104)","v":37417},37103,0,74520,873065,874835,1747900,1822420,31372,181,{"$f":"SUM(Q1090:Q1098,Q1102:Q1104)","v":31553}]
[]
[]
[]
[null,null,"項目",null,null,null,"貨 物 取 扱 量 （トン）",null,null,null,null,null,null,"郵 便 取 扱 量 （kg）"]
[null,null,null,null,"国 際 線",null,null,"国 内 線",null,"合計",null,"国 際 線",null,null,"国 内 線",null,"合 計"]
[null,null,"月別","積","卸","小 計","積","卸","小 計",null,"積","卸","小 計","積","卸","小 計"]
[]
[null,null,"1月",0,0,{"$f":"SUM(D1114:E1114)","v":0},605,163,{"$f":"SUM(G1114:H1114)","v":768},{"$f":"F1114+I1114","v":768},0,0,{"$f":"SUM(K1114:L1114)","v":0},15019,74448,{"$f":"SUM(N1114:O1114)","v":89467},{"$f":"M1114+P1114","v":89467}]
[null,null,"2月",0,0,0,540,148,688,688,0,0,0,13350,66516,79866,79866]
[null,null,"3月",0,0,0,594,180,774,774,0,0,0,14527,76952,91479,91479]
[null,null,"4月",0,0,0,528,183,711,711,0,0,0,17651,75821,93472,93472]
[null,null,"5月",0,0,0,484,132,616,616,0,0,0,13079,68267,81346,81346]
[null,null,"6月",0,0,0,361,90,451,451,0,0,0,13339,77994,91333,91333]
[null,null,"7月",0,0,0,406,119,525,525,0,0,0,14184,72334,86518,86518]
[null,null,"8月",0,0,0,399,117,516,516,0,0,0,13030,63299,76329,76329]
[null,null,"9月",0,0,0,373,128,501,501,0,0,0,13427,68065,81492,81492]
[null,null,"10月",0,0,0,422,136,558,558,0,0,0,13979,69642,83621,83621]
[null,null,"11月",0,0,0,505,198,703,703,0,0,0,14163,69817,83980,83980]
[null,null,"12月",0,0,0,691,244,935,935,0,0,0,18584,84837,103421,103421]
[]
[null,"大分暦２","暦年 計",{"$f":"SUM(D1114:D1126)","v":0},0,0,5908,1838,7746,7746,0,0,{"$f":"SUM(M1114:M1126)","v":0},{"$f":"SUM(N1114:N1126)","v":174332},{"$f":"SUM(O1114:O1126)","v":867992},{"$f":"SUM(P1114:P1126)","v":1042324},{"$f":"SUM(Q1114:Q1126)","v":1042324}]
[]
[null,null,"1月",0,0,{"$f":"SUM(D1129:E1129)","v":0},521,152,{"$f":"SUM(G1129:H1129)","v":673},{"$f":"F1129+I1129","v":673},0,0,{"$f":"SUM(K1129:L1129)","v":0},14224,64510,{"$f":"SUM(N1129:O1129)","v":78734},{"$f":"M1129+P1129","v":78734}]
[null,null,"2月",0,0,{"$f":"SUM(D1130:E1130)","v":0},472,147,{"$f":"SUM(G1130:H1130)","v":619},{"$f":"F1130+I1130","v":619},0,0,{"$f":"SUM(K1130:L1130)","v":0},13160,62506,{"$f":"SUM(N1130:O1130)","v":75666},{"$f":"M1130+P1130","v":75666}]
[null,null,"3月",0,0,{"$f":"SUM(D1131:E1131)","v":0},531,182,{"$f":"SUM(G1131:H1131)","v":713},{"$f":"F1131+I1131","v":713},0,0,{"$f":"SUM(K1131:L1131)","v":0},14977,71961,{"$f":"SUM(N1131:O1131)","v":86938},{"$f":"M1131+P1131","v":86938}]
[]
[null,"大分度２","年度計",{"$f":"SUM(D1117:D1125,D1129:D1131)","v":0},{"$f":"SUM(E1117:E1125,E1129:E1131)","v":0},{"$f":"SUM(F1117:F1125,F1129:F1131)","v":0},{"$f":"SUM(G1117:G1125,G1129:G1131)","v":5693},1828,7521,7521,0,0,{"$f":"SUM(M1117:M1125,M1129:M1131)","v":0},{"$f":"SUM(N1117:N1125,N1129:N1131)","v":173797},{"$f":"SUM(O1117:O1125,O1129:O1131)","v":849053},{"$f":"SUM(P1117:P1125,P1129:P1131)","v":1022850},{"$f":"SUM(Q1117:Q1125,Q1129:Q1131)","v":1022850}]
[]
[null,null,{"$f":"C1081","v":"平　成　２　８　年　空　港　管　理　状　況　調　書"}]
[null,null,"空港名 ：","宮    崎                （国管理）"]
[null,null,"項目",null,"着 陸 回 数 （回）",null,"乗   降   客   数   （人）",null,null,null,null,null,null,null,"航空燃料供給量　（ＫＬ）"]
[null,null,null,"国際線","国内線","計",null,"国 際 線",null,null,null,"国 内 線",null,"合 計","ジェット燃料","その他燃料","合計"]
[null,null,"月別",null,null,null,"乗 客","降 客","通過客","小 計","乗 客","降 客","小 計"]
[]
[null,null,"1月",35,1752,{"$f":"SUM(D1141:E1141)","v":1787},4682,4894,0,{"$f":"SUM(G1141:I1141)","v":9576},130525,111825,{"$f":"SUM(K1141:L1141)","v":242350},{"$f":"J1141+M1141","v":251926},4424,1,{"$f":"SUM(O1141:P1141)","v":4425}]
[null,null,"2月",33,1705,{"$f":"SUM(D1142:E1142)","v":1738},4182,4197,0,{"$f":"SUM(G1142:I1142)","v":8379},119500,118960,{"$f":"SUM(K1142:L1142)","v":238460},{"$f":"J1142+M1142","v":246839},4198,2,{"$f":"SUM(O1142:P1142)","v":4200}]
[null,null,"3月",37,1832,1869,4633,4736,0,9369,135189,133424,268613,277982,4860,1,4861]
[null,null,"4月",34,1694,1728,4341,3534,0,7875,106430,110465,216895,224770,3719,3,3722]
[null,null,"5月",34,1714,1748,2807,2558,0,5365,118698,113286,231984,237349,3842,1,3843]
[null,null,"6月",33,1609,1642,2852,2876,0,5728,103506,103316,206822,212550,3772,2,3774]
[null,null,"7月",33,1742,1775,3322,3420,0,6742,118422,124225,242647,249389,4508,3,4511]
[null,null,"8月",36,1852,1888,4082,4196,0,8278,154299,151359,305658,313936,5707,2,5709]
[null,null,"9月",33,1664,1697,3372,3658,0,7030,122412,119464,241876,248906,4429,2,4431]
[null,null,"10月",35,1755,1790,4302,4395,0,8697,129791,130639,260430,269127,4215,1,4216]
[null,null,"11月",32,1745,1777,4272,4171,0,8443,129420,129546,258966,267409,4163,2,4165]
[null,null,"12月",36,1735,1771,4604,4489,0,9093,121490,144022,265512,274605,4309,1,4310]
[]
[null,"宮崎暦１","暦年 計",{"$f":"SUM(D1141:D1152)","v":411},{"$f":"SUM(E1141:E1152)","v":20799},{"$f":"SUM(F1141:F1152)","v":21210},{"$f":"SUM(G1141:G1152)","v":47451},{"$f":"SUM(H1141:H1152)","v":47124},0,94575,1489682,1490531,2980213,3074788,52146,{"$f":"SUM(P1141:P1152)","v":21},{"$f":"SUM(Q1141:Q1152)","v":52167}]
[]
[null,null,"1月",33,1734,{"$f":"SUM(D1156:E1156)","v":1767},3726,4212,0,{"$f":"SUM(G1156:I1156)","v":7938},131782,112948,{"$f":"SUM(K1156:L1156)","v":244730},{"$f":"J1156+M1156","v":252668},4489,0,{"$f":"SUM(O1156:P1156)","v":4489}]
[null,null,"2月",32,1682,{"$f":"SUM(D1157:E1157)","v":1714},4240,3887,0,{"$f":"SUM(G1157:I1157)","v":8127},123243,121733,{"$f":"SUM(K1157:L1157)","v":244976},{"$f":"J1157+M1157","v":253103},4130,1,{"$f":"SUM(O1157:P1157)","v":4131}]
[null,null,"3月",36,1794,{"$f":"SUM(D1158:E1158)","v":1830},5124,5049,0,{"$f":"SUM(G1158:I1158)","v":10173},139490,137122,{"$f":"SUM(K1158:L1158)","v":276612},{"$f":"J1158+M1158","v":286785},4366,1,{"$f":"SUM(O1158:P1158)","v":4367}]
[]
[null,"宮崎度１","年度計",{"$f":"SUM(D1144:D1152,D1156:D1158)","v":407},{"$f":"SUM(E1144:E1152,E1156:E1158)","v":20720},{"$f":"SUM(F1144:F1152,F1156:F1158)","v":21127},{"$f":"SUM(G1144:G1152,G1156:G1158)","v":47044},46445,0,93489,1498983,1498125,2997108,3090597,51649,19,{"$f":"SUM(Q1144:Q1152,Q1156:Q1158)","v":51668}]
[]
[]
[]
[null,null,"項目",null,null,null,"貨 物 取 扱 量 （トン）",null,null,null,null,null,null,"郵 便 取 扱 量 （kg）"]
[null,null,null,null,"国 際 線",null,null,"国 内 線",null,"合計",null,"国 際 線",null,null,"国 内 線",null,"合 計"]
[null,null,"月別","積","卸","小 計","積","卸","小 計",null,"積","卸","小 計","積","卸","小 計"]
[]
[null,null,"1月",3,0,{"$f":"SUM(D1168:E1168)","v":3},489,186,{"$f":"SUM(G1168:H1168)","v":675},{"$f":"F1168+I1168","v":678},0,0,{"$f":"SUM(K1168:L1168)","v":0},33872,78176,{"$f":"SUM(N1168:O1168)","v":112048},{"$f":"M1168+P1168","v":112048}]
[null,null,"2月",3,0,3,559,177,736,739,0,0,0,30043,73033,103076,103076]
[null,null,"3月",2,0,2,582,200,782,784,0,0,0,33045,86816,119861,119861]
[null,null,"4月",2,0,2,526,220,746,748,0,0,0,32851,85948,118799,118799]
[null,null,"5月",2,0,2,548,126,674,676,0,0,0,36766,76934,113700,113700]
[null,null,"6月",2,0,2,448,167,615,617,0,0,0,32738,89590,122328,122328]
[null,null,"7月",1,0,1,457,190,647,648,0,0,0,31980,79474,111454,111454]
[null,null,"8月",3,0,3,420,188,608,611,0,0,0,26891,67928,94819,94819]
[null,null,"9月",0,0,0,320,187,507,507,0,0,0,29467,76058,105525,105525]
[null,null,"10月",1,0,1,376,206,582,583,0,0,0,33050,77813,110863,110863]
[null,null,"11月",2,0,2,431,191,622,624,0,0,0,35950,77020,112970,112970]
[null,null,"12月",1,0,1,637,241,878,879,0,0,0,47298,89390,136688,136688]
[]
[null,"宮崎暦２","暦年 計",{"$f":"SUM(D1168:D1180)","v":22},0,22,5793,2279,8072,8094,0,0,{"$f":"SUM(M1168:M1180)","v":0},{"$f":"SUM(N1168:N1180)","v":403951},{"$f":"SUM(O1168:O1180)","v":958180},{"$f":"SUM(P1168:P1180)","v":1362131},{"$f":"SUM(Q1168:Q1180)","v":1362131}]
[]
[null,null,"1月",0,0,{"$f":"SUM(D1183:E1183)","v":0},473,187,{"$f":"SUM(G1183:H1183)","v":660},{"$f":"F1183+I1183","v":660},0,0,{"$f":"SUM(K1183:L1183)","v":0},37148,74834,{"$f":"SUM(N1183:O1183)","v":111982},{"$f":"M1183+P1183","v":111982}]
[null,null,"2月",2,0,{"$f":"SUM(D1184:E1184)","v":2},520,179,{"$f":"SUM(G1184:H1184)","v":699},{"$f":"F1184+I1184","v":701},0,0,{"$f":"SUM(K1184:L1184)","v":0},30922,70726,{"$f":"SUM(N1184:O1184)","v":101648},{"$f":"M1184+P1184","v":101648}]
[null,null,"3月",2,0,{"$f":"SUM(D1185:E1185)","v":2},617,199,{"$f":"SUM(G1185:H1185)","v":816},{"$f":"F1185+I1185","v":818},0,0,{"$f":"SUM(K1185:L1185)","v":0},34730,82475,{"$f":"SUM(N1185:O1185)","v":117205},{"$f":"M1185+P1185","v":117205}]
[]
[null,"宮崎度２","年度計",{"$f":"SUM(D1171:D1179,D1183:D1185)","v":18},{"$f":"SUM(E1171:E1179,E1183:E1185)","v":0},{"$f":"SUM(F1171:F1179,F1183:F1185)","v":18},{"$f":"SUM(G1171:G1179,G1183:G1185)","v":5773},2281,8054,8072,0,0,{"$f":"SUM(M1171:M1179,M1183:M1185)","v":0},{"$f":"SUM(N1171:N1179,N1183:N1185)","v":409791},{"$f":"SUM(O1171:O1179,O1183:O1185)","v":948190},{"$f":"SUM(P1171:P1179,P1183:P1185)","v":1357981},{"$f":"SUM(Q1171:Q1179,Q1183:Q1185)","v":1357981}]
[]
[null,null,{"$f":"C1135","v":"平　成　２　８　年　空　港　管　理　状　況　調　書"}]
[null,null,"空港名 ：","鹿 児 島                （国管理）"]
[null,null,"項目",null,"着 陸 回 数 （回）",null,"乗   降   客   数   （人）",null,null,null,null,null,null,null,"航空燃料供給量　（ＫＬ）"]
[null,null,null,"国際線","国内線","計",null,"国 際 線",null,null,null,"国 内 線",null,"合 計","ジェット燃料","その他燃料","合計"]
[null,null,"月別",null,null,null,"乗 客","降 客","通過客","小 計","乗 客","降 客","小 計"]
[]
[null,null,"1月",67,2607,{"$f":"SUM(D1195:E1195)","v":2674},8170,9327,0,{"$f":"SUM(G1195:I1195)","v":17497},210470,183102,{"$f":"SUM(K1195:L1195)","v":393572},{"$f":"J1195+M1195","v":411069},8394,8,{"$f":"SUM(O1195:P1195)","v":8402}]
[null,null,"2月",52,2591,{"$f":"SUM(D1196:E1196)","v":2643},7056,7145,0,{"$f":"SUM(G1196:I1196)","v":14201},186870,188139,{"$f":"SUM(K1196:L1196)","v":375009},{"$f":"J1196+M1196","v":389210},8183,12,{"$f":"SUM(O1196:P1196)","v":8195}]
[null,null,"3月",60,2744,2804,6486,7500,0,13986,229441,226661,456102,470088,9088,9,9097]
[null,null,"4月",56,2836,2892,5702,5533,0,11235,201876,211263,413139,424374,7423,8,7431]
[null,null,"5月",60,2760,2820,4382,5155,0,9537,221407,209963,431370,440907,7567,11,7578]
[null,null,"6月",63,2477,2540,5041,5496,0,10537,178634,177627,356261,366798,7174,5,7179]
[null,null,"7月",76,2686,2762,6774,7896,0,14670,210172,219519,429691,444361,8684,6,8690]
[null,null,"8月",84,2758,2842,9971,9191,0,19162,274412,269226,543638,562800,10884,7,10891]
[null,null,"9月",85,2609,2694,8315,9192,0,17507,220972,220133,441105,458612,9211,9,9220]
[null,null,"10月",87,2696,2783,9941,10099,0,20040,225421,225163,450584,470624,8915,13,8928]
[null,null,"11月",82,2644,2726,10380,11348,0,21728,223982,224412,448394,470122,8584,12,8596]
[null,null,"12月",81,2778,2859,11522,11612,0,23134,206498,234364,440862,463996,9210,14,9224]
[]
[null,"鹿児島暦１","暦年 計",{"$f":"SUM(D1195:D1206)","v":853},{"$f":"SUM(E1195:E1206)","v":32186},{"$f":"SUM(F1195:F1206)","v":33039},{"$f":"SUM(G1195:G1206)","v":93740},{"$f":"SUM(H1195:H1206)","v":99494},0,193234,2590155,2589572,5179727,5372961,103317,{"$f":"SUM(P1195:P1206)","v":114},{"$f":"SUM(Q1195:Q1206)","v":103431}]
[]
[null,null,"1月",84,2723,{"$f":"SUM(D1210:E1210)","v":2807},10024,11229,0,{"$f":"SUM(G1210:I1210)","v":21253},216466,188264,{"$f":"SUM(K1210:L1210)","v":404730},{"$f":"J1210+M1210","v":425983},9342,15,{"$f":"SUM(O1210:P1210)","v":9357}]
[null,null,"2月",77,2396,{"$f":"SUM(D1211:E1211)","v":2473},11023,10707,0,{"$f":"SUM(G1211:I1211)","v":21730},188305,191318,{"$f":"SUM(K1211:L1211)","v":379623},{"$f":"J1211+M1211","v":401353},8206,17,{"$f":"SUM(O1211:P1211)","v":8223}]
[null,null,"3月",85,2766,{"$f":"SUM(D1212:E1212)","v":2851},11596,12424,0,{"$f":"SUM(G1212:I1212)","v":24020},245371,244377,{"$f":"SUM(K1212:L1212)","v":489748},{"$f":"J1212+M1212","v":513768},8828,16,{"$f":"SUM(O1212:P1212)","v":8844}]
[]
[null,"鹿児島度１","年度計",{"$f":"SUM(D1198:D1206,D1210:D1212)","v":920},{"$f":"SUM(E1198:E1206,E1210:E1212)","v":32129},{"$f":"SUM(F1198:F1206,F1210:F1212)","v":33049},{"$f":"SUM(G1198:G1206,G1210:G1212)","v":104671},109882,0,214553,2613516,2615629,5229145,5443698,104028,133,{"$f":"SUM(Q1198:Q1206,Q1210:Q1212)","v":104161}]
[]
[]
[]
[null,null,"項目",null,null,null,"貨 物 取 扱 量 （トン）",null,null,null,null,null,null,"郵 便 取 扱 量 （kg）"]
[null,null,null,null,"国 際 線",null,null,"国 内 線",null,"合計",null,"国 際 線",null,null,"国 内 線",null,"合 計"]
[null,null,"月別","積","卸","小 計","積","卸","小 計",null,"積","卸","小 計","積","卸","小 計"]
[]
[null,null,"1月",10,93,{"$f":"SUM(D1222:E1222)","v":103},1793,385,{"$f":"SUM(G1222:H1222)","v":2178},{"$f":"F1222+I1222","v":2281},0,0,{"$f":"SUM(K1222:L1222)","v":0},64724,115777,{"$f":"SUM(N1222:O1222)","v":180501},{"$f":"M1222+P1222","v":180501}]
[null,null,"2月",6,92,98,1679,380,2059,2157,0,0,0,62366,105879,168245,168245]
[null,null,"3月",5,188,193,2161,440,2601,2794,0,0,0,68728,171982,240710,240710]
[null,null,"4月",5,1,6,2634,640,3274,3280,0,0,0,68848,130027,198875,198875]
[null,null,"5月",5,1,6,2062,414,2476,2482,0,0,0,67304,112858,180162,180162]
[null,null,"6月",7,185,192,1710,422,2132,2324,0,0,0,64296,131234,195530,195530]
[null,null,"7月",7,98,105,1735,475,2210,2315,0,0,0,61994,117451,179445,179445]
[null,null,"8月",5,96,101,1849,420,2269,2370,0,0,0,56668,103508,160176,160176]
[null,null,"9月",5,184,189,1622,453,2075,2264,0,0,0,58997,113377,172374,172374]
[null,null,"10月",6,259,265,1516,467,1983,2248,0,0,0,60395,117514,177909,177909]
[null,null,"11月",6,95,101,1515,503,2018,2119,0,0,0,62162,115847,178009,178009]
[null,null,"12月",8,103,111,2333,545,2878,2989,0,0,0,75808,140216,216024,216024]
[]
[null,"鹿児島暦２","暦年 計",{"$f":"SUM(D1222:D1234)","v":75},1395,1470,22609,5544,28153,29623,0,0,{"$f":"SUM(M1222:M1234)","v":0},{"$f":"SUM(N1222:N1234)","v":772290},{"$f":"SUM(O1222:O1234)","v":1475670},{"$f":"SUM(P1222:P1234)","v":2247960},{"$f":"SUM(Q1222:Q1234)","v":2247960}]
[]
[null,null,"1月",9,1,{"$f":"SUM(D1237:E1237)","v":10},1724,398,{"$f":"SUM(G1237:H1237)","v":2122},{"$f":"F1237+I1237","v":2132},0,0,{"$f":"SUM(K1237:L1237)","v":0},61726,110617,{"$f":"SUM(N1237:O1237)","v":172343},{"$f":"M1237+P1237","v":172343}]
[null,null,"2月",13,1,{"$f":"SUM(D1238:E1238)","v":14},1690,415,{"$f":"SUM(G1238:H1238)","v":2105},{"$f":"F1238+I1238","v":2119},0,0,{"$f":"SUM(K1238:L1238)","v":0},56505,105997,{"$f":"SUM(N1238:O1238)","v":162502},{"$f":"M1238+P1238","v":162502}]
[null,null,"3月",5,80,{"$f":"SUM(D1239:E1239)","v":85},2249,479,{"$f":"SUM(G1239:H1239)","v":2728},{"$f":"F1239+I1239","v":2813},0,0,{"$f":"SUM(K1239:L1239)","v":0},63958,124917,{"$f":"SUM(N1239:O1239)","v":188875},{"$f":"M1239+P1239","v":188875}]
[]
[null,"鹿児島度２","年度計",{"$f":"SUM(D1225:D1233,D1237:D1239)","v":81},{"$f":"SUM(E1225:E1233,E1237:E1239)","v":1104},{"$f":"SUM(F1225:F1233,F1237:F1239)","v":1185},{"$f":"SUM(G1225:G1233,G1237:G1239)","v":22639},5631,28270,29455,0,0,{"$f":"SUM(M1225:M1233,M1237:M1239)","v":0},{"$f":"SUM(N1225:N1233,N1237:N1239)","v":758661},{"$f":"SUM(O1225:O1233,O1237:O1239)","v":1423563},{"$f":"SUM(P1225:P1233,P1237:P1239)","v":2182224},{"$f":"SUM(Q1225:Q1233,Q1237:Q1239)","v":2182224}]
[]
[null,null,{"$f":"C1189","v":"平　成　２　８　年　空　港　管　理　状　況　調　書"}]
[null,null,"空港名 ：","那    覇                （国管理）"]
[null,null,"項目",null,"着 陸 回 数 （回）",null,"乗   降   客   数   （人）",null,null,null,null,null,null,null,"航空燃料供給量　（ＫＬ）"]
[null,null,null,"国際線","国内線","計",null,"国 際 線",null,null,null,"国 内 線",null,"合 計","ジェット燃料","その他燃料","合計"]
[null,null,"月別",null,null,null,"乗 客","降 客","通過客","小 計","乗 客","降 客","小 計"]
[]
[null,null,"1月",811,5631,{"$f":"SUM(D1249:E1249)","v":6442},104292,110113,179,{"$f":"SUM(G1249:I1249)","v":214584},623634,608088,{"$f":"SUM(K1249:L1249)","v":1231722},{"$f":"J1249+M1249","v":1446306},39001,10,{"$f":"SUM(O1249:P1249)","v":39011}]
[null,null,"2月",778,5738,{"$f":"SUM(D1250:E1250)","v":6516},108900,107927,359,{"$f":"SUM(G1250:I1250)","v":217186},615869,611703,{"$f":"SUM(K1250:L1250)","v":1227572},{"$f":"J1250+M1250","v":1444758},38153,8,{"$f":"SUM(O1250:P1250)","v":38161}]
[null,null,"3月",830,6100,6930,100551,104636,1,205188,727402,730386,1457788,1662976,43357,8,43365]
[null,null,"4月",801,5865,6666,114141,113918,170,228229,645498,659206,1304704,1532933,38504,9,38513]
[null,null,"5月",854,5972,6826,118395,122556,5,240956,652178,623869,1276047,1517003,42522,9,42531]
[null,null,"6月",871,5902,6773,134461,139404,178,274043,626733,641766,1268499,1542542,42657,7,42664]
[null,null,"7月",950,6411,7361,142828,145284,439,288551,739169,747781,1486950,1775501,49113,9,49122]
[null,null,"8月",934,6365,7299,142127,139708,58,281893,885413,881784,1767197,2049090,45792,8,45800]
[null,null,"9月",908,5985,6893,131741,135870,5,267616,763065,751168,1514233,1781849,45822,10,45832]
[null,null,"10月",892,6315,7207,136615,132729,0,269344,738940,739820,1478760,1748104,45408,7,45415]
[null,null,"11月",854,6258,7112,103968,102852,4,206824,705223,698346,1403569,1610393,42508,7,42515]
[null,null,"12月",913,5952,6865,115656,117039,402,233097,655259,672043,1327302,1560399,43663,8,43671]
[]
[null,"那覇暦１","暦年 計",{"$f":"SUM(D1249:D1260)","v":10396},{"$f":"SUM(E1249:E1260)","v":72494},{"$f":"SUM(F1249:F1260)","v":82890},{"$f":"SUM(G1249:G1260)","v":1453675},{"$f":"SUM(H1249:H1260)","v":1472036},1800,2927511,8378383,8365960,16744343,19671854,516500,{"$f":"SUM(P1249:P1260)","v":100},{"$f":"SUM(Q1249:Q1260)","v":516600}]
[]
[null,null,"1月",906,6052,{"$f":"SUM(D1264:E1264)","v":6958},124331,137907,0,{"$f":"SUM(G1264:I1264)","v":262238},664569,646929,{"$f":"SUM(K1264:L1264)","v":1311498},{"$f":"J1264+M1264","v":1573736},43692,9,{"$f":"SUM(O1264:P1264)","v":43701}]
[null,null,"2月",849,5459,{"$f":"SUM(D1265:E1265)","v":6308},130275,123723,11,{"$f":"SUM(G1265:I1265)","v":254009},622013,626881,{"$f":"SUM(K1265:L1265)","v":1248894},{"$f":"J1265+M1265","v":1502903},39811,10,{"$f":"SUM(O1265:P1265)","v":39821}]
[null,null,"3月",1000,5921,{"$f":"SUM(D1266:E1266)","v":6921},134110,137113,179,{"$f":"SUM(G1266:I1266)","v":271402},782910,784256,{"$f":"SUM(K1266:L1266)","v":1567166},{"$f":"J1266+M1266","v":1838568},45008.962,9,{"$f":"SUM(O1266:P1266)","v":45017.962}]
[]
[null,"那覇度１","年度計",{"$f":"SUM(D1252:D1260,D1264:D1266)","v":10732},{"$f":"SUM(E1252:E1260,E1264:E1266)","v":72457},{"$f":"SUM(F1252:F1260,F1264:F1266)","v":83189},{"$f":"SUM(G1252:G1260,G1264:G1266)","v":1528648},1548103,1451,3078202,8480970,8473849,16954819,20033021,{"$f":"SUM(O1252:O1260,O1264:O1266)","v":524500.96200000006},102,{"$f":"SUM(Q1252:Q1260,Q1264:Q1266)","v":524602.96200000006}]
[]
[]
[]
[null,null,"項目",null,null,null,"貨 物 取 扱 量 （トン）",null,null,null,null,null,null,"郵 便 取 扱 量 （kg）"]
[null,null,null,null,"国 際 線",null,null,"国 内 線",null,"合計",null,"国 際 線",null,null,"国 内 線",null,"合 計"]
[null,null,"月別","積","卸","小 計","積","卸","小 計",null,"積","卸","小 計","積","卸","小 計"]
[]
[null,null,"1月",7245,7145,{"$f":"SUM(D1276:E1276)","v":14390},7084,9509,{"$f":"SUM(G1276:H1276)","v":16593},{"$f":"F1276+I1276","v":30983},235538,339230,{"$f":"SUM(K1276:L1276)","v":574768},209649,430442,{"$f":"SUM(N1276:O1276)","v":640091},{"$f":"M1276+P1276","v":1214859}]
[null,null,"2月",5282,5422,10704,7899,9424,17323,28027,173884,265536,439420,201849,311622,513471,952891]
[null,null,"3月",8342,8558,16900,9519,11010,20529,37429,250981,382910,633891,221985,422305,644290,1278181]
[null,null,"4月",7975,8237,16212,9106,10983,20089,36301,257601,361616,619217,217798,418312,636110,1255327]
[null,null,"5月",6824,6717,13541,8336,9815,18151,31692,224150,286653,510803,211015,421324,632339,1143142]
[null,null,"6月",6820,7278,14098,6902,10366,17268,31366,253387,307718,561105,217122,433713,650835,1211940]
[null,null,"7月",8067,8002,16069,7049,11448,18497,34566,219079,213154,432233,211437,402702,614139,1046372]
[null,null,"8月",7401,7652,15053,6868,10832,17700,32753,197334,299549,496883,194469,374559,569028,1065911]
[null,null,"9月",7773,8069,15842,5587,10750,16337,32179,271591,198779,470370,195780,403885,599665,1070035]
[null,null,"10月",7330,7201,14531,6001,10929,16930,31461,192431,243552,435983,199113,431606,630719,1066702]
[null,null,"11月",9940,10864,20804,6948,10979,17927,38731,283812,283483,567295,207569,471524,679093,1246388]
[null,null,"12月",9506,10035,19541,9200,12916,22116,41657,310962,348677,659639,253804,591244,845048,1504687]
[]
[null,"那覇暦２","暦年 計",{"$f":"SUM(D1276:D1288)","v":92505},95180,187685,90499,128961,219460,407145,2870750,3530857,{"$f":"SUM(M1276:M1288)","v":6401607},{"$f":"SUM(N1276:N1288)","v":2541590},{"$f":"SUM(O1276:O1288)","v":5113238},{"$f":"SUM(P1276:P1288)","v":7654828},{"$f":"SUM(Q1276:Q1288)","v":14056435}]
[]
[null,null,"1月",7553,8189,{"$f":"SUM(D1291:E1291)","v":15742},7653,9470,{"$f":"SUM(G1291:H1291)","v":17123},{"$f":"F1291+I1291","v":32865},214624,213756,{"$f":"SUM(K1291:L1291)","v":428380},212003,482141,{"$f":"SUM(N1291:O1291)","v":694144},{"$f":"M1291+P1291","v":1122524}]
[null,null,"2月",6845,7120,{"$f":"SUM(D1292:E1292)","v":13965},7888,9491,{"$f":"SUM(G1292:H1292)","v":17379},{"$f":"F1292+I1292","v":31344},202032,203766,{"$f":"SUM(K1292:L1292)","v":405798},198224,422804,{"$f":"SUM(N1292:O1292)","v":621028},{"$f":"M1292+P1292","v":1026826}]
[null,null,"3月",10343,10865,{"$f":"SUM(D1293:E1293)","v":21208},9807,11149,{"$f":"SUM(G1293:H1293)","v":20956},{"$f":"F1293+I1293","v":42164},278873,281886,{"$f":"SUM(K1293:L1293)","v":560759},212624,502198,{"$f":"SUM(N1293:O1293)","v":714822},{"$f":"M1293+P1293","v":1275581}]
[]
[null,"那覇度２","年度計",{"$f":"SUM(D1279:D1287,D1291:D1293)","v":96377},{"$f":"SUM(E1279:E1287,E1291:E1293)","v":100229},{"$f":"SUM(F1279:F1287,F1291:F1293)","v":196606},{"$f":"SUM(G1279:G1287,G1291:G1293)","v":91345},129128,220473,417079,2905876,3242589,{"$f":"SUM(M1279:M1287,M1291:M1293)","v":6148465},{"$f":"SUM(N1279:N1287,N1291:N1293)","v":2530958},{"$f":"SUM(O1279:O1287,O1291:O1293)","v":5356012},{"$f":"SUM(P1279:P1287,P1291:P1293)","v":7886970},{"$f":"SUM(Q1279:Q1287,Q1291:Q1293)","v":14035435}]
[]
[null,null,{"$f":"C1243","v":"平　成　２　８　年　空　港　管　理　状　況　調　書"}]
[null,null,"空港名 ：","国管理空港計"]
[null,null,"項目",null,"着 陸 回 数 （回）",null,"乗   降   客   数   （人）",null,null,null,null,null,null,null,"航空燃料供給量　（KＬ）"]
[null,null,null,"国際線","国内線","計",null,"国 際 線",null,null,null,"国 内 線",null,"合 計","ジェット燃料","その他燃料","合計"]
[null,null,"月別",null,null,null,"乗 客","降 客","通過客","小 計","乗 客","降 客","小 計"]
[]
[null,null,"1月",{"$f":"D277+D331+D385+D439+D493+D547+D601+D655+D709+D763+D817+D871+D925+D979+D1033+D1087+D1141+D1195+D1249","v":6524},48590,{"$f":"SUM(D1303:E1303)","v":55114},{"$f":"G277+G331+G385+G439+G493+G547+G601+G655+G709+G763+G817+G871+G925+G979+G1033+G1087+G1141+G1195+G1249","v":1087890},1119639,17195,{"$f":"SUM(G1303:I1303)","v":2224724},{"$f":"K277+K331+K385+K439+K493+K547+K601+K655+K709+K763+K817+K871+K925+K979+K1033+K1087+K1141+K1195+K1249","v":5602963},5625912,{"$f":"SUM(K1303:L1303)","v":11228875},{"$f":"J1303+M1303","v":13453599},{"$f":"O277+O331+O385+O439+O493+O547+O601+O655+O709+O763+O817+O871+O925+O979+O1033+O1087+O1141+O1195+O1249","v":421096},97,{"$f":"SUM(O1303:P1303)","v":421193}]
[null,null,"2月",6351,47204,{"$f":"SUM(D1304:E1304)","v":53555},1126091,1074715,12683,{"$f":"SUM(G1304:I1304)","v":2213489},5610035,5594122,{"$f":"SUM(K1304:L1304)","v":11204157},{"$f":"J1304+M1304","v":13417646},402161,111,{"$f":"SUM(O1304:P1304)","v":402272}]
[null,null,"3月",6649,50639,57288,1105051,1193298,7551,2305900,6416041,6400475,12816516,15122416,422704,99,422803]
[null,null,"4月",{"$f":"D280+D334+D388+D442+D496+D550+D604+D658+D712+D766+D820+D874+D928+D982+D1036+D1090+D1144+D1198+D1252","v":6344},{"$f":"E280+E334+E388+E442+E496+E550+E604+E658+E712+E766+E820+E874+E928+E982+E1036+E1090+E1144+E1198+E1252","v":49307},55651,{"$f":"G280+G334+G388+G442+G496+G550+G604+G658+G712+G766+G820+G874+G928+G982+G1036+G1090+G1144+G1198+G1252","v":1077744},1001177,{"$f":"I280+I334+I388+I442+I496+I550+I604+I658+I712+I766+I820+I874+I928+I982+I1036+I1090+I1144+I1198+I1252","v":9630},2088551,{"$f":"K280+K334+K388+K442+K496+K550+K604+K658+K712+K766+K820+K874+K928+K982+K1036+K1090+K1144+K1198+K1252","v":5455272},{"$f":"L280+L334+L388+L442+L496+L550+L604+L658+L712+L766+L820+L874+L928+L982+L1036+L1090+L1144+L1198+L1252","v":5444016},10899288,12987839,{"$f":"O280+O334+O388+O442+O496+O550+O604+O658+O712+O766+O820+O874+O928+O982+O1036+O1090+O1144+O1198+O1252","v":410009},53,410062]
[null,null,"5月",6459,49643,56102,965437,1000096,11422,1976955,{"$f":"K281+K335+K389+K443+K497+K551+K605+K659+K713+K767+K821+K875+K929+K983+K1037+K1091+K1145+K1199+K1253","v":5894049},5901883,11795932,13772887,417802,64,417866]
[null,null,"6月",6267,48109,54376,1017558,1037383,16467,2071408,5762207,5756741,11518948,13590356,415676,56,415732]
[null,null,"7月",6815,51448,58263,1166788,1169613,15243,2351644,6479187,6461751,12940938,15292582,441136,70,441206]
[null,null,"8月",6921,51442,58363,1265765,1205873,9213,2480851,7305194,7298047,14603241,17084092,444540,75,444615]
[null,null,"9月",6721,49127,55848,1096261,1149234,8335,2253830,6740210,6723131,13463341,15717171,427400,68,427468]
[null,null,"10月",6961,51331,58292,1193628,1195294,8658,2397580,6836781,6818612,13655393,16052973,441430,88,441518]
[null,null,"11月",6840,49670,56510,1150684,1141649,8811,2301144,6409535,6405934,12815469,15116613,431588,90,431678]
[null,null,"12月",7369,49344,56713,1262378,1247833,13914,2524125,6145425,6109171,12254596,14778721,453913,77,453990]
[]
[null,null,"暦年 計",{"$f":"SUM(D1303:D1314)","v":80221},{"$f":"SUM(E1303:E1314)","v":595854},{"$f":"SUM(F1303:F1314)","v":676075},{"$f":"SUM(G1303:G1314)","v":13515275},{"$f":"SUM(H1303:H1314)","v":13535804},139122,27190201,74656899,74539795,149196694,176386895,5129455,948,5130403]
[]
[null,null,"1月",{"$f":"D292+D346+D400+D454+D508+D562+D616+D670+D724+D778+D832+D886+D940+D994+D1048+D1102+D1156+D1210+D1264","v":7452},49471,56923,1253554,1339738,20920,{"$f":"SUM(G1318:I1318)","v":2614212},{"$f":"K292+K346+K400+K454+K508+K562+K616+K670+K724+K778+K832+K886+K940+K994+K1048+K1102+K1156+K1210+K1264","v":5915761},5967665,{"$f":"SUM(K1318:L1318)","v":11883426},{"$f":"J1318+M1318","v":14497638},{"$f":"O292+O346+O400+O454+O508+O562+O616+O670+O724+O778+O832+O886+O940+O994+O1048+O1102+O1156+O1210+O1264","v":452481},77,{"$f":"SUM(O1318:P1318)","v":452558}]
[null,null,"2月",6826,45602,52428,1306773,1201231,11265,{"$f":"SUM(G1319:I1319)","v":2519269},5737025,5727059,{"$f":"SUM(K1319:L1319)","v":11464084},{"$f":"J1319+M1319","v":13983353},411833,87,{"$f":"SUM(O1319:P1319)","v":411920}]
[null,null,"3月",7510,50592,58102,1315192,1383390,8162,{"$f":"SUM(G1320:I1320)","v":2706744},6866868,6861235,{"$f":"SUM(K1320:L1320)","v":13728103},{"$f":"J1320+M1320","v":16434847},458755.962,91,{"$f":"SUM(O1320:P1320)","v":458846.962}]
[]
[null,null,"年度計",{"$f":"D1320+D1319+D1318+D1314+D1313+D1312+D1311+D1310+D1309+D1308+D1307+D1306","v":82485},{"$f":"E1320+E1319+E1318+E1314+E1313+E1312+E1311+E1310+E1309+E1308+E1307+E1306","v":595086},677571,14071762,{"$f":"H1320+H1319+H1318+H1314+H1313+H1312+H1311+H1310+H1309+H1308+H1307+H1306","v":14072511},{"$f":"I1320+I1319+I1318+I1314+I1313+I1312+I1311+I1310+I1309+I1308+I1307+I1306","v":142040},28286313,75547514,{"$f":"L1320+L1319+L1318+L1314+L1313+L1312+L1311+L1310+L1309+L1308+L1307+L1306","v":75475245},151022759,179309072,5206563.9620000003,896,5207459.9620000003]
[]
[]
[]
[null,null,"項目",null,null,null,"貨 物 取 扱 量 （トン）",null,null,null,null,null,null,"郵 便 取 扱 量 （kg）"]
[null,null,null,null,"国 際 線",null,null,"国 内 線",null,"合計",null,"国 際 線",null,null,"国 内 線",null,"合 計"]
[null,null,"月別","積","卸","小 計","積","卸","小 計",null,"積","卸","小 計","積","卸","小 計"]
[]
[null,null,"1月",{"$f":"D304+D358+D412+D466+D520+D574+D628+D682+D736+D790+D844+D898+D952+D1006+D1060+D1114+D1168+D1222+D1276","v":22775},{"$f":"E304+E358+E412+E466+E520+E574+E628+E682+E736+E790+E844+E898+E952+E1006+E1060+E1114+E1168+E1222+E1276","v":24963},{"$f":"SUM(D1330:E1330)","v":47738},{"$f":"G304+G358+G412+G466+G520+G574+G628+G682+G736+G790+G844+G898+G952+G1006+G1060+G1114+G1168+G1222+G1276","v":53331},{"$f":"H304+H358+H412+H466+H520+H574+H628+H682+H736+H790+H844+H898+H952+H1006+H1060+H1114+H1168+H1222+H1276","v":53648},{"$f":"SUM(G1330:H1330)","v":106979},{"$f":"F1330+I1330","v":154717},{"$f":"K304+K358+K412+K466+K520+K574+K628+K682+K736+K790+K844+K898+K952+K1006+K1060+K1114+K1168+K1222+K1276","v":2094167},{"$f":"L304+L358+L412+L466+L520+L574+L628+L682+L736+L790+L844+L898+L952+L1006+L1060+L1114+L1168+L1222+L1276","v":1643412},{"$f":"SUM(K1330:L1330)","v":3737579},{"$f":"N304+N358+N412+N466+N520+N574+N628+N682+N736+N790+N844+N898+N952+N1006+N1060+N1114+N1168+N1222+N1276","v":4231710},{"$f":"O304+O358+O412+O466+O520+O574+O628+O682+O736+O790+O844+O898+O952+O1006+O1060+O1114+O1168+O1222+O1276","v":3969666},{"$f":"SUM(N1330:O1330)","v":8201376},{"$f":"M1330+P1330","v":11938955}]
[null,null,"2月",20269,21789,{"$f":"SUM(D1331:E1331)","v":42058},54178,54153,{"$f":"SUM(G1331:H1331)","v":108331},{"$f":"F1331+I1331","v":150389},1732863,1397986,{"$f":"SUM(K1331:L1331)","v":3130849},3981868,3556988,{"$f":"SUM(N1331:O1331)","v":7538856},{"$f":"M1331+P1331","v":10669705}]
[null,null,"3月",25122,27981,53103,64829,64647,129476,182579,2161605,1756781,3918386,4490758,4332462,8823220,12741606]
[null,null,"4月",25746,28892,54638,61427,61288,122715,177353,2441213,1680265,4121478,4273533,4108057,8381590,12503068]
[null,null,"5月",24836,26693,51529,54473,54329,108802,160331,1918038,1477345,3395383,4049337,3851837,7901174,11296557]
[null,null,"6月",25862,28029,53891,57580,58104,115684,169575,1887191,1583963,3471154,4466679,4291884,8758563,12229717]
[null,null,"7月",26996,29656,56652,65098,66315,131413,188065,1730604,1485715,3216319,4047809,3838158,7885967,11102286]
[null,null,"8月",25597,28921,54518,63323,62617,125940,180458,1582194,1503079,3085273,3628814,3457596,7086410,10171683]
[null,null,"9月",27417,31438,58855,64505,63756,128261,187116,1722477,1507615,3230092,3820649,3699010,7519659,10749751]
[null,null,"10月",28437,34976,63413,63873,62769,126642,190055,1747952,1709124,3457076,4076140,3853088,7929228,11386304]
[null,null,"11月",33021,38953,71974,62975,63911,126886,198860,1949204,2087379,4036583,4282052,4107506,8389558,12426141]
[null,null,"12月",33494,38476,71970,73365,73365,146730,218700,2462481,2535032,4997513,4976143,4924007,9900150,14897663]
[]
[null,null,"暦年 計",{"$f":"SUM(D1330:D1341)","v":319572},360767,680339,738957,738902,1477859,2158198,23429989,20367696,43797685,50325492,47990259,98315751,142113436]
[]
[null,null,"1月",{"$f":"D319+D373+D427+D481+D535+D589+D643+D697+D751+D805+D859+D913+D967+D1021+D1075+D1129+D1183+D1237+D1291","v":28268},{"$f":"E319+E373+E427+E481+E535+E589+E643+E697+E751+E805+E859+E913+E967+E1021+E1075+E1129+E1183+E1237+E1291","v":32531},{"$f":"SUM(D1345:E1345)","v":60799},{"$f":"G319+G373+G427+G481+G535+G589+G643+G697+G751+G805+G859+G913+G967+G1021+G1075+G1129+G1183+G1237+G1291","v":52053},52562,{"$f":"SUM(G1345:H1345)","v":104615},{"$f":"F1345+I1345","v":165414},{"$f":"K319+K373+K427+K481+K535+K589+K643+K697+K751+K805+K859+K913+K967+K1021+K1075+K1129+K1183+K1237+K1291","v":1813799},1759344,{"$f":"SUM(K1345:L1345)","v":3573143},{"$f":"N319+N373+N427+N481+N535+N589+N643+N697+N751+N805+N859+N913+N967+N1021+N1075+N1129+N1183+N1237+N1291","v":4070968},3914404,{"$f":"SUM(N1345:O1345)","v":7985372},{"$f":"M1345+P1345","v":11558515}]
[null,null,"2月",27160,{"$f":"E320+E374+E428+E482+E536+E590+E644+E698+E752+E806+E860+E914+E968+E1022+E1076+E1130+E1184+E1238+E1292","v":28404},{"$f":"SUM(D1346:E1346)","v":55564},53511,55621,{"$f":"SUM(G1346:H1346)","v":109132},{"$f":"F1346+I1346","v":164696},1717929,1650204,{"$f":"SUM(K1346:L1346)","v":3368133},3768290,3644259,{"$f":"SUM(N1346:O1346)","v":7412549},{"$f":"M1346+P1346","v":10780682}]
[null,null,"3月",34951,39935,{"$f":"SUM(D1347:E1347)","v":74886},64373,64707,{"$f":"SUM(G1347:H1347)","v":129080},{"$f":"F1347+I1347","v":203966},2143685,2058528,{"$f":"SUM(K1347:L1347)","v":4202213},4400246,4256948,{"$f":"SUM(N1347:O1347)","v":8657194},{"$f":"M1347+P1347","v":12859407}]
[]
[null,null,"年度計",{"$f":"D1347+D1346+D1345+D1341+D1340+D1339+D1338+D1337+D1336+D1335+D1334+D1333","v":341785},386904,728689,736556,739344,1475900,2204589,23116767,21037593,44154360,49860660,47946754,97807414,141961774]
[]
[null,null,{"$f":"C1297","v":"平　成　２　８　年　空　港　管　理　状　況　調　書"}]
[null,null,"空港名 ：","旭    川          （特定地方管理）"]
[null,null,"項目",null,"着 陸 回 数 （回）",null,"乗   降   客   数   （人）",null,null,null,null,null,null,null,"航空燃料供給量　（KＬ）"]
[null,null,null,"国際線","国内線","計",null,"国 際 線",null,null,null,"国 内 線",null,"合 計","ジェット燃料","その他燃料","合計"]
[null,null,"月別",null,null,null,"乗 客","降 客","通過客","小 計","乗 客","降 客","小 計"]
[]
[null,null,"1月",72,256,{"$f":"SUM(D1357:E1357)","v":328},10037,11048,0,{"$f":"SUM(G1357:I1357)","v":21085},39102,38024,{"$f":"SUM(K1357:L1357)","v":77126},{"$f":"J1357+M1357","v":98211},2441,0,{"$f":"SUM(O1357:P1357)","v":2441}]
[null,null,"2月",72,249,{"$f":"SUM(D1358:E1358)","v":321},10274,11037,0,{"$f":"SUM(G1358:I1358)","v":21311},37166,38692,{"$f":"SUM(K1358:L1358)","v":75858},{"$f":"J1358+M1358","v":97169},2297,0,{"$f":"SUM(O1358:P1358)","v":2297}]
[null,null,"3月",60,248,{"$f":"SUM(D1359:E1359)","v":308},8033,7934,0,{"$f":"SUM(G1359:I1359)","v":15967},38140,37753,{"$f":"SUM(K1359:L1359)","v":75893},{"$f":"J1359+M1359","v":91860},2611,0,{"$f":"SUM(O1359:P1359)","v":2611}]
[null,null,"4月",38,249,{"$f":"SUM(D1360:E1360)","v":287},4591,5374,0,{"$f":"SUM(G1360:I1360)","v":9965},26635,30155,{"$f":"SUM(K1360:L1360)","v":56790},{"$f":"J1360+M1360","v":66755},2219,0,{"$f":"SUM(O1360:P1360)","v":2219}]
[null,null,"5月",45,273,318,5709,5770,0,11479,34901,37348,72249,83728,2575,0,2575]
[null,null,"6月",39,271,310,4942,5235,0,10177,37786,43901,81687,91864,2648,0,2648]
[null,null,"7月",56,335,391,8123,8722,0,16845,47838,57232,105070,121915,3121,0,3121]
[null,null,"8月",64,415,479,9715,9278,0,18993,55413,64389,119802,138795,3564,0,3564]
[null,null,"9月",34,347,381,3952,4124,0,8076,47752,53603,101355,109431,2901,0,2901]
[null,null,"10月",30,284,314,4232,4393,0,8625,41862,45707,87569,96194,2393,0,2393]
[null,null,"11月",21,229,250,2256,2474,0,4730,32323,35087,67410,72140,1485,0,1485]
[null,null,"12月",17,240,257,2315,2514,0,4829,30548,37383,67931,72760,1373,0,1373]
[]
[null,"旭川暦１","暦年 計",{"$f":"SUM(D1357:D1368)","v":548},{"$f":"SUM(E1357:E1368)","v":3396},{"$f":"SUM(F1357:F1368)","v":3944},{"$f":"SUM(G1357:G1368)","v":74179},{"$f":"SUM(H1357:H1368)","v":77903},0,152082,469466,519274,988740,1140822,29628,{"$f":"SUM(P1357:P1368)","v":0},{"$f":"SUM(Q1357:Q1368)","v":29628}]
[]
[null,null,"1月",31,261,{"$f":"SUM(D1372:E1372)","v":292},4216,4675,0,{"$f":"SUM(G1372:I1372)","v":8891},42021,39807,{"$f":"SUM(K1372:L1372)","v":81828},{"$f":"J1372+M1372","v":90719},1710,0,{"$f":"SUM(O1372:P1372)","v":1710}]
[null,null,"2月",35,237,{"$f":"SUM(D1373:E1373)","v":272},5400,5280,0,{"$f":"SUM(G1373:I1373)","v":10680},38978,39748,{"$f":"SUM(K1373:L1373)","v":78726},{"$f":"J1373+M1373","v":89406},1788,0,{"$f":"SUM(O1373:P1373)","v":1788}]
[null,null,"3月",19,250,{"$f":"SUM(D1374:E1374)","v":269},1441,1274,0,{"$f":"SUM(G1374:I1374)","v":2715},43210,42802,{"$f":"SUM(K1374:L1374)","v":86012},{"$f":"J1374+M1374","v":88727},1939,0,{"$f":"SUM(O1374:P1374)","v":1939}]
[]
[null,"旭川度１","年度計",{"$f":"SUM(D1360:D1368,D1372:D1374)","v":429},{"$f":"SUM(E1360:E1368,E1372:E1374)","v":3391},{"$f":"SUM(F1360:F1368,F1372:F1374)","v":3820},{"$f":"SUM(G1360:G1368,G1372:G1374)","v":56892},59113,0,116005,479267,527162,1006429,1122434,27716,0,{"$f":"SUM(Q1360:Q1368,Q1372:Q1374)","v":27716}]
[]
[]
[]
[null,null,"項目",null,null,null,"貨 物 取 扱 量 （トン）",null,null,null,null,null,null,"郵 便 取 扱 量 （kg）"]
[null,null,null,null,"国 際 線",null,null,"国 内 線",null,"合計",null,"国 際 線",null,null,"国 内 線",null,"合 計"]
[null,null,"月別","積","卸","小 計","積","卸","小 計",null,"積","卸","小 計","積","卸","小 計"]
[]
[null,null,"1月",0,0,{"$f":"SUM(D1384:E1384)","v":0},153,152,{"$f":"SUM(G1384:H1384)","v":305},{"$f":"F1384+I1384","v":305},0,0,{"$f":"SUM(K1384:L1384)","v":0},51005,91125,{"$f":"SUM(N1384:O1384)","v":142130},{"$f":"M1384+P1384","v":142130}]
[null,null,"2月",0,0,{"$f":"SUM(D1385:E1385)","v":0},154,182,{"$f":"SUM(G1385:H1385)","v":336},{"$f":"F1385+I1385","v":336},0,0,{"$f":"SUM(K1385:L1385)","v":0},50444,82766,{"$f":"SUM(N1385:O1385)","v":133210},{"$f":"M1385+P1385","v":133210}]
[null,null,"3月",0,0,{"$f":"SUM(D1386:E1386)","v":0},191,217,{"$f":"SUM(G1386:H1386)","v":408},{"$f":"F1386+I1386","v":408},0,0,{"$f":"SUM(K1386:L1386)","v":0},58490,91511,{"$f":"SUM(N1386:O1386)","v":150001},{"$f":"M1386+P1386","v":150001}]
[null,null,"4月",0,0,{"$f":"SUM(D1387:E1387)","v":0},150,195,{"$f":"SUM(G1387:H1387)","v":345},{"$f":"F1387+I1387","v":345},0,0,{"$f":"SUM(K1387:L1387)","v":0},52913,90749,{"$f":"SUM(N1387:O1387)","v":143662},{"$f":"M1387+P1387","v":143662}]
[null,null,"5月",0,0,0,219,170,389,389,0,0,0,51562,83121,134683,134683]
[null,null,"6月",0,0,0,322,162,484,484,0,0,0,56235,90098,146333,146333]
[null,null,"7月",0,0,0,462,152,614,614,0,0,0,51581,82235,133816,133816]
[null,null,"8月",0,0,0,451,143,594,594,0,0,0,47292,71696,118988,118988]
[null,null,"9月",0,0,0,476,144,620,620,0,0,0,48399,82274,130673,130673]
[null,null,"10月",0,0,0,347,120,467,467,0,0,0,63073,82890,145963,145963]
[null,null,"11月",0,0,0,168,122,290,290,0,0,0,65957,80899,146856,146856]
[null,null,"12月",0,0,0,281,293,574,574,0,0,0,69054,93643,162697,162697]
[]
[null,"旭川暦２","暦年 計",{"$f":"SUM(D1384:D1396)","v":0},0,0,3374,2052,5426,5426,0,0,{"$f":"SUM(M1384:M1396)","v":0},{"$f":"SUM(N1384:N1396)","v":666005},{"$f":"SUM(O1384:O1396)","v":1023007},{"$f":"SUM(P1384:P1396)","v":1689012},{"$f":"SUM(Q1384:Q1396)","v":1689012}]
[]
[null,null,"1月",0,0,{"$f":"SUM(D1399:E1399)","v":0},166,136,{"$f":"SUM(G1399:H1399)","v":302},{"$f":"F1399+I1399","v":302},0,0,{"$f":"SUM(K1399:L1399)","v":0},56978,78800,{"$f":"SUM(N1399:O1399)","v":135778},{"$f":"M1399+P1399","v":135778}]
[null,null,"2月",0,0,{"$f":"SUM(D1400:E1400)","v":0},165,146,{"$f":"SUM(G1400:H1400)","v":311},{"$f":"F1400+I1400","v":311},0,0,{"$f":"SUM(K1400:L1400)","v":0},56405,73429,{"$f":"SUM(N1400:O1400)","v":129834},{"$f":"M1400+P1400","v":129834}]
[null,null,"3月",0,0,{"$f":"SUM(D1401:E1401)","v":0},189,186,{"$f":"SUM(G1401:H1401)","v":375},{"$f":"F1401+I1401","v":375},0,0,{"$f":"SUM(K1401:L1401)","v":0},65176,85742,{"$f":"SUM(N1401:O1401)","v":150918},{"$f":"M1401+P1401","v":150918}]
[]
[null,"旭川度２","年度計",{"$f":"SUM(D1387:D1395,D1399:D1401)","v":0},{"$f":"SUM(E1387:E1395,E1399:E1401)","v":0},{"$f":"SUM(F1387:F1395,F1399:F1401)","v":0},{"$f":"SUM(G1387:G1395,G1399:G1401)","v":3396},1969,5365,5365,0,0,{"$f":"SUM(M1387:M1395,M1399:M1401)","v":0},{"$f":"SUM(N1387:N1395,N1399:N1401)","v":684625},{"$f":"SUM(O1387:O1395,O1399:O1401)","v":995576},{"$f":"SUM(P1387:P1395,P1399:P1401)","v":1680201},{"$f":"SUM(Q1387:Q1395,Q1399:Q1401)","v":1680201}]
[]
[null,null,{"$f":"C1351","v":"平　成　２　８　年　空　港　管　理　状　況　調　書"}]
[null,null,"空港名 ：","帯    広          （特定地方管理）"]
[null,null,"項目",null,"着 陸 回 数 （回）",null,"乗   降   客   数   （人）",null,null,null,null,null,null,null,"航空燃料供給量　（KＬ）"]
[null,null,null,"国際線","国内線","計",null,"国 際 線",null,null,null,"国 内 線",null,"合 計","ジェット燃料","その他燃料","合計"]
[null,null,"月別",null,null,null,"乗 客","降 客","通過客","小 計","乗 客","降 客","小 計"]
[]
[null,null,"1月",8,565,{"$f":"SUM(D1411:E1411)","v":573},890,1074,0,{"$f":"SUM(G1411:I1411)","v":1964},26935,23508,{"$f":"SUM(K1411:L1411)","v":50443},{"$f":"J1411+M1411","v":52407},1506,22,{"$f":"SUM(O1411:P1411)","v":1528}]
[null,null,"2月",14,529,{"$f":"SUM(D1412:E1412)","v":543},1860,1818,0,{"$f":"SUM(G1412:I1412)","v":3678},22900,23735,{"$f":"SUM(K1412:L1412)","v":46635},{"$f":"J1412+M1412","v":50313},1382,25,{"$f":"SUM(O1412:P1412)","v":1407}]
[null,null,"3月",7,557,{"$f":"SUM(D1413:E1413)","v":564},856,666,0,{"$f":"SUM(G1413:I1413)","v":1522},25966,24778,{"$f":"SUM(K1413:L1413)","v":50744},{"$f":"J1413+M1413","v":52266},1248,27,{"$f":"SUM(O1413:P1413)","v":1275}]
[null,null,"4月",0,540,{"$f":"SUM(D1414:E1414)","v":540},0,0,0,{"$f":"SUM(G1414:I1414)","v":0},19691,21666,{"$f":"SUM(K1414:L1414)","v":41357},{"$f":"J1414+M1414","v":41357},930,19,{"$f":"SUM(O1414:P1414)","v":949}]
[null,null,"5月",0,544,544,0,0,0,0,22749,22027,44776,44776,954,24,978]
[null,null,"6月",0,513,513,0,0,0,0,23383,23898,47281,47281,851,15,866]
[null,null,"7月",0,544,544,0,0,0,0,25541,26352,51893,51893,926,19,945]
[null,null,"8月",0,516,516,0,0,0,0,32793,32100,64893,64893,1144,22,1166]
[null,null,"9月",0,535,535,0,0,0,0,28550,28247,56797,56797,1188,20,1208]
[null,null,"10月",2,496,498,271,267,0,538,28418,29020,57438,57976,1384,25,1409]
[null,null,"11月",0,606,606,0,0,0,0,26028,26714,52742,52742,1143,29,1172]
[null,null,"12月",0,528,528,0,0,0,0,22274,26125,48399,48399,1030,17,1047]
[]
[null,"帯広暦１","暦年 計",{"$f":"SUM(D1411:D1422)","v":31},{"$f":"SUM(E1411:E1422)","v":6473},{"$f":"SUM(F1411:F1422)","v":6504},{"$f":"SUM(G1411:G1422)","v":3877},{"$f":"SUM(H1411:H1422)","v":3825},0,7702,305228,308170,613398,621100,13686,{"$f":"SUM(P1411:P1422)","v":264},{"$f":"SUM(Q1411:Q1422)","v":13950}]
[]
[null,null,"1月",6,578,{"$f":"SUM(D1426:E1426)","v":584},1098,1440,0,{"$f":"SUM(G1426:I1426)","v":2538},27383,24999,{"$f":"SUM(K1426:L1426)","v":52382},{"$f":"J1426+M1426","v":54920},1225,22,{"$f":"SUM(O1426:P1426)","v":1247}]
[null,null,"2月",5,655,{"$f":"SUM(D1427:E1427)","v":660},1295,954,0,{"$f":"SUM(G1427:I1427)","v":2249},23948,25090,{"$f":"SUM(K1427:L1427)","v":49038},{"$f":"J1427+M1427","v":51287},1258,26,{"$f":"SUM(O1427:P1427)","v":1284}]
[null,null,"3月",2,612,{"$f":"SUM(D1428:E1428)","v":614},293,292,0,{"$f":"SUM(G1428:I1428)","v":585},27939,27662,{"$f":"SUM(K1428:L1428)","v":55601},{"$f":"J1428+M1428","v":56186},1225,28,{"$f":"SUM(O1428:P1428)","v":1253}]
[]
[null,"帯広度１","年度計",{"$f":"SUM(D1414:D1422,D1426:D1428)","v":15},{"$f":"SUM(E1414:E1422,E1426:E1428)","v":6667},{"$f":"SUM(F1414:F1422,F1426:F1428)","v":6682},{"$f":"SUM(G1414:G1422,G1426:G1428)","v":2957},2953,0,5910,308697,313900,622597,628507,13258,266,{"$f":"SUM(Q1414:Q1422,Q1426:Q1428)","v":13524}]
[]
[]
[]
[null,null,"項目",null,null,null,"貨 物 取 扱 量 （トン）",null,null,null,null,null,null,"郵 便 取 扱 量 （kg）"]
[null,null,null,null,"国 際 線",null,null,"国 内 線",null,"合計",null,"国 際 線",null,null,"国 内 線",null,"合 計"]
[null,null,"月別","積","卸","小 計","積","卸","小 計",null,"積","卸","小 計","積","卸","小 計"]
[]
[null,null,"1月",0,0,{"$f":"SUM(D1438:E1438)","v":0},64,71,{"$f":"SUM(G1438:H1438)","v":135},{"$f":"F1438+I1438","v":135},0,0,{"$f":"SUM(K1438:L1438)","v":0},10716,47011,{"$f":"SUM(N1438:O1438)","v":57727},{"$f":"M1438+P1438","v":57727}]
[null,null,"2月",0,0,{"$f":"SUM(D1439:E1439)","v":0},65,85,{"$f":"SUM(G1439:H1439)","v":150},{"$f":"F1439+I1439","v":150},0,0,{"$f":"SUM(K1439:L1439)","v":0},9234,41977,{"$f":"SUM(N1439:O1439)","v":51211},{"$f":"M1439+P1439","v":51211}]
[null,null,"3月",0,0,{"$f":"SUM(D1440:E1440)","v":0},76,106,{"$f":"SUM(G1440:H1440)","v":182},{"$f":"F1440+I1440","v":182},0,0,{"$f":"SUM(K1440:L1440)","v":0},10502,47454,{"$f":"SUM(N1440:O1440)","v":57956},{"$f":"M1440+P1440","v":57956}]
[null,null,"4月",0,0,{"$f":"SUM(D1441:E1441)","v":0},52,98,{"$f":"SUM(G1441:H1441)","v":150},{"$f":"F1441+I1441","v":150},0,0,{"$f":"SUM(K1441:L1441)","v":0},10858,45730,{"$f":"SUM(N1441:O1441)","v":56588},{"$f":"M1441+P1441","v":56588}]
[null,null,"5月",0,0,0,48,83,131,131,0,0,0,9895,42644,52539,52539]
[null,null,"6月",0,0,0,88,84,172,172,0,0,0,9993,47018,57011,57011]
[null,null,"7月",0,0,0,177,81,258,258,0,0,0,8763,43988,52751,52751]
[null,null,"8月",0,0,0,146,83,229,229,0,0,0,9085,39204,48289,48289]
[null,null,"9月",0,0,0,161,100,261,261,0,0,0,9206,41374,50580,50580]
[null,null,"10月",0,0,0,155,78,233,233,0,0,0,8961,44617,53578,53578]
[null,null,"11月",0,0,0,104,65,169,169,0,0,0,10360,42895,53255,53255]
[null,null,"12月",0,0,0,176,148,324,324,0,0,0,14426,49124,63550,63550]
[]
[null,"帯広暦２","暦年 計",{"$f":"SUM(D1438:D1450)","v":0},0,0,1312,1082,2394,2394,0,0,{"$f":"SUM(M1438:M1450)","v":0},{"$f":"SUM(N1438:N1450)","v":121999},{"$f":"SUM(O1438:O1450)","v":533036},{"$f":"SUM(P1438:P1450)","v":655035},{"$f":"SUM(Q1438:Q1450)","v":655035}]
[]
[null,null,"1月",0,0,{"$f":"SUM(D1453:E1453)","v":0},55,58,{"$f":"SUM(G1453:H1453)","v":113},{"$f":"F1453+I1453","v":113},0,0,{"$f":"SUM(K1453:L1453)","v":0},9637,40608,{"$f":"SUM(N1453:O1453)","v":50245},{"$f":"M1453+P1453","v":50245}]
[null,null,"2月",0,0,{"$f":"SUM(D1454:E1454)","v":0},63,66,{"$f":"SUM(G1454:H1454)","v":129},{"$f":"F1454+I1454","v":129},0,0,{"$f":"SUM(K1454:L1454)","v":0},8574,37546,{"$f":"SUM(N1454:O1454)","v":46120},{"$f":"M1454+P1454","v":46120}]
[null,null,"3月",0,0,{"$f":"SUM(D1455:E1455)","v":0},68,81,{"$f":"SUM(G1455:H1455)","v":149},{"$f":"F1455+I1455","v":149},0,0,{"$f":"SUM(K1455:L1455)","v":0},10552,42931,{"$f":"SUM(N1455:O1455)","v":53483},{"$f":"M1455+P1455","v":53483}]
[]
[null,"帯広度２","年度計",{"$f":"SUM(D1441:D1449,D1453:D1455)","v":0},{"$f":"SUM(E1441:E1449,E1453:E1455)","v":0},{"$f":"SUM(F1441:F1449,F1453:F1455)","v":0},{"$f":"SUM(G1441:G1449,G1453:G1455)","v":1293},1025,2318,2318,0,0,{"$f":"SUM(M1441:M1449,M1453:M1455)","v":0},{"$f":"SUM(N1441:N1449,N1453:N1455)","v":120310},{"$f":"SUM(O1441:O1449,O1453:O1455)","v":517679},{"$f":"SUM(P1441:P1449,P1453:P1455)","v":637989},{"$f":"SUM(Q1441:Q1449,Q1453:Q1455)","v":637989}]
[]
[null,null,{"$f":"C1405","v":"平　成　２　８　年　空　港　管　理　状　況　調　書"}]
[null,null,"空港名 ：","秋    田          （特定地方管理）"]
[null,null,"項目",null,"着 陸 回 数 （回）",null,"乗   降   客   数   （人）",null,null,null,null,null,null,null,"航空燃料供給量　（KＬ）"]
[null,null,null,"国際線","国内線","計",null,"国 際 線",null,null,null,"国 内 線",null,"合 計","ジェット燃料","その他燃料","合計"]
[null,null,"月別",null,null,null,"乗 客","降 客","通過客","小 計","乗 客","降 客","小 計"]
[]
[null,null,"1月",0,718,{"$f":"SUM(D1465:E1465)","v":718},0,0,0,{"$f":"SUM(G1465:I1465)","v":0},45146,40727,{"$f":"SUM(K1465:L1465)","v":85873},{"$f":"J1465+M1465","v":85873},994,0,{"$f":"SUM(O1465:P1465)","v":994}]
[null,null,"2月",1,681,{"$f":"SUM(D1466:E1466)","v":682},0,140,0,{"$f":"SUM(G1466:I1466)","v":140},40780,41251,{"$f":"SUM(K1466:L1466)","v":82031},{"$f":"J1466+M1466","v":82171},902,0,{"$f":"SUM(O1466:P1466)","v":902}]
[null,null,"3月",1,763,{"$f":"SUM(D1467:E1467)","v":764},140,0,0,{"$f":"SUM(G1467:I1467)","v":140},52855,52740,{"$f":"SUM(K1467:L1467)","v":105595},{"$f":"J1467+M1467","v":105735},1464,0,{"$f":"SUM(O1467:P1467)","v":1464}]
[null,null,"4月",7,759,{"$f":"SUM(D1468:E1468)","v":766},1100,1059,0,{"$f":"SUM(G1468:I1468)","v":2159},44077,47001,{"$f":"SUM(K1468:L1468)","v":91078},{"$f":"J1468+M1468","v":93237},1581,0,{"$f":"SUM(O1468:P1468)","v":1581}]
[null,null,"5月",1,828,829,140,0,0,140,52065,50613,102678,102818,1721,2,1723]
[null,null,"6月",1,825,826,0,140,0,140,48305,48787,97092,97232,1643,2,1645]
[null,null,"7月",0,790,790,0,0,0,0,52968,51260,104228,104228,1690,1,1691]
[null,null,"8月",2,763,765,267,263,0,530,59407,60002,119409,119939,2004,3,2007]
[null,null,"9月",2,796,798,194,192,0,386,59418,59207,118625,119011,1918,1,1919]
[null,null,"10月",7,806,813,1138,1136,0,2274,58480,58602,117082,119356,1740,0,1740]
[null,null,"11月",7,729,736,990,992,0,1982,54264,54509,108773,110755,1403,0,1403]
[null,null,"12月",0,717,717,0,0,0,0,43700,49772,93472,93472,1060,0,1060]
[]
[null,"秋田暦１","暦年 計",{"$f":"SUM(D1465:D1476)","v":29},{"$f":"SUM(E1465:E1476)","v":9175},{"$f":"SUM(F1465:F1476)","v":9204},{"$f":"SUM(G1465:G1476)","v":3969},{"$f":"SUM(H1465:H1476)","v":3922},0,7891,611465,614471,1225936,1233827,18120,{"$f":"SUM(P1465:P1476)","v":9},{"$f":"SUM(Q1465:Q1476)","v":18129}]
[]
[null,null,"1月",7,712,{"$f":"SUM(D1480:E1480)","v":719},776,914,0,{"$f":"SUM(G1480:I1480)","v":1690},46251,41038,{"$f":"SUM(K1480:L1480)","v":87289},{"$f":"J1480+M1480","v":88979},1004,0,{"$f":"SUM(O1480:P1480)","v":1004}]
[null,null,"2月",4,658,{"$f":"SUM(D1481:E1481)","v":662},406,356,0,{"$f":"SUM(G1481:I1481)","v":762},38673,39126,{"$f":"SUM(K1481:L1481)","v":77799},{"$f":"J1481+M1481","v":78561},876,0,{"$f":"SUM(O1481:P1481)","v":876}]
[null,null,"3月",6,777,{"$f":"SUM(D1482:E1482)","v":783},592,636,0,{"$f":"SUM(G1482:I1482)","v":1228},54199,53733,{"$f":"SUM(K1482:L1482)","v":107932},{"$f":"J1482+M1482","v":109160},1407,1,{"$f":"SUM(O1482:P1482)","v":1408}]
[]
[null,"秋田度１","年度計",{"$f":"SUM(D1468:D1476,D1480:D1482)","v":44},{"$f":"SUM(E1468:E1476,E1480:E1482)","v":9160},{"$f":"SUM(F1468:F1476,F1480:F1482)","v":9204},{"$f":"SUM(G1468:G1476,G1480:G1482)","v":5603},5688,0,11291,611807,613650,1225457,1236748,18047,10,{"$f":"SUM(Q1468:Q1476,Q1480:Q1482)","v":18057}]
[]
[]
[]
[null,null,"項目",null,null,null,"貨 物 取 扱 量 （トン）",null,null,null,null,null,null,"郵 便 取 扱 量 （kg）"]
[null,null,null,null,"国 際 線",null,null,"国 内 線",null,"合計",null,"国 際 線",null,null,"国 内 線",null,"合 計"]
[null,null,"月別","積","卸","小 計","積","卸","小 計",null,"積","卸","小 計","積","卸","小 計"]
[]
[null,null,"1月",0,0,{"$f":"SUM(D1492:E1492)","v":0},47,62,{"$f":"SUM(G1492:H1492)","v":109},{"$f":"F1492+I1492","v":109},0,0,{"$f":"SUM(K1492:L1492)","v":0},6412,32119,{"$f":"SUM(N1492:O1492)","v":38531},{"$f":"M1492+P1492","v":38531}]
[null,null,"2月",0,0,{"$f":"SUM(D1493:E1493)","v":0},43,63,{"$f":"SUM(G1493:H1493)","v":106},{"$f":"F1493+I1493","v":106},0,0,{"$f":"SUM(K1493:L1493)","v":0},5292,27871,{"$f":"SUM(N1493:O1493)","v":33163},{"$f":"M1493+P1493","v":33163}]
[null,null,"3月",0,0,{"$f":"SUM(D1494:E1494)","v":0},48,76,{"$f":"SUM(G1494:H1494)","v":124},{"$f":"F1494+I1494","v":124},0,0,{"$f":"SUM(K1494:L1494)","v":0},5606,33403,{"$f":"SUM(N1494:O1494)","v":39009},{"$f":"M1494+P1494","v":39009}]
[null,null,"4月",0,0,{"$f":"SUM(D1495:E1495)","v":0},33,57,{"$f":"SUM(G1495:H1495)","v":90},{"$f":"F1495+I1495","v":90},0,0,{"$f":"SUM(K1495:L1495)","v":0},5182,31864,{"$f":"SUM(N1495:O1495)","v":37046},{"$f":"M1495+P1495","v":37046}]
[null,null,"5月",0,0,0,40,60,100,100,0,0,0,5233,29934,35167,35167]
[null,null,"6月",0,0,0,52,65,117,117,0,0,0,5517,37087,42604,42604]
[null,null,"7月",0,0,0,58,67,125,125,0,0,0,5548,30186,35734,35734]
[null,null,"8月",0,0,0,66,66,132,132,0,0,0,4764,26383,31147,31147]
[null,null,"9月",0,0,0,62,60,122,122,0,0,0,5060,23973,29033,29033]
[null,null,"10月",0,0,0,53,61,114,114,0,0,0,5242,27947,33189,33189]
[null,null,"11月",0,0,0,45,64,109,109,0,0,0,5645,26055,31700,31700]
[null,null,"12月",0,0,0,56,77,133,133,0,0,0,8228,32811,41039,41039]
[]
[null,"秋田暦２","暦年 計",{"$f":"SUM(D1492:D1504)","v":0},0,0,603,778,1381,1381,0,0,{"$f":"SUM(M1492:M1504)","v":0},{"$f":"SUM(N1492:N1504)","v":67729},{"$f":"SUM(O1492:O1504)","v":359633},{"$f":"SUM(P1492:P1504)","v":427362},{"$f":"SUM(Q1492:Q1504)","v":427362}]
[]
[null,null,"1月",0,0,{"$f":"SUM(D1507:E1507)","v":0},40,62,{"$f":"SUM(G1507:H1507)","v":102},{"$f":"F1507+I1507","v":102},0,0,{"$f":"SUM(K1507:L1507)","v":0},6146,26212,{"$f":"SUM(N1507:O1507)","v":32358},{"$f":"M1507+P1507","v":32358}]
[null,null,"2月",0,0,{"$f":"SUM(D1508:E1508)","v":0},33,73,{"$f":"SUM(G1508:H1508)","v":106},{"$f":"F1508+I1508","v":106},0,0,{"$f":"SUM(K1508:L1508)","v":0},4938,22976,{"$f":"SUM(N1508:O1508)","v":27914},{"$f":"M1508+P1508","v":27914}]
[null,null,"3月",0,0,{"$f":"SUM(D1509:E1509)","v":0},40,83,{"$f":"SUM(G1509:H1509)","v":123},{"$f":"F1509+I1509","v":123},0,0,{"$f":"SUM(K1509:L1509)","v":0},5628,26844,{"$f":"SUM(N1509:O1509)","v":32472},{"$f":"M1509+P1509","v":32472}]
[]
[null,"秋田度２","年度計",{"$f":"SUM(D1495:D1503,D1507:D1509)","v":0},{"$f":"SUM(E1495:E1503,E1507:E1509)","v":0},{"$f":"SUM(F1495:F1503,F1507:F1509)","v":0},{"$f":"SUM(G1495:G1503,G1507:G1509)","v":578},795,1373,1373,0,0,{"$f":"SUM(M1495:M1503,M1507:M1509)","v":0},{"$f":"SUM(N1495:N1503,N1507:N1509)","v":67131},{"$f":"SUM(O1495:O1503,O1507:O1509)","v":342272},{"$f":"SUM(P1495:P1503,P1507:P1509)","v":409403},{"$f":"SUM(Q1495:Q1503,Q1507:Q1509)","v":409403}]
[]
[null,null,{"$f":"C1459","v":"平　成　２　８　年　空　港　管　理　状　況　調　書"}]
[null,null,"空港名 ：","山    形          （特定地方管理）"]
[null,null,"項目",null,"着 陸 回 数 （回）",null,"乗   降   客   数   （人）",null,null,null,null,null,null,null,"航空燃料供給量　（KＬ）"]
[null,null,null,"国際線","国内線","計",null,"国 際 線",null,null,null,"国 内 線",null,"合 計","ジェット燃料","その他燃料","合計"]
[null,null,"月別",null,null,null,"乗 客","降 客","通過客","小 計","乗 客","降 客","小 計"]
[]
[null,null,"1月",4,190,{"$f":"SUM(D1519:E1519)","v":194},430,577,0,{"$f":"SUM(G1519:I1519)","v":1007},7846,7631,{"$f":"SUM(K1519:L1519)","v":15477},{"$f":"J1519+M1519","v":16484},346,0,{"$f":"SUM(O1519:P1519)","v":346}]
[null,null,"2月",6,256,{"$f":"SUM(D1520:E1520)","v":262},818,671,0,{"$f":"SUM(G1520:I1520)","v":1489},8807,8899,{"$f":"SUM(K1520:L1520)","v":17706},{"$f":"J1520+M1520","v":19195},419,0,{"$f":"SUM(O1520:P1520)","v":419}]
[null,null,"3月",3,271,{"$f":"SUM(D1521:E1521)","v":274},261,260,0,{"$f":"SUM(G1521:I1521)","v":521},10446,10234,{"$f":"SUM(K1521:L1521)","v":20680},{"$f":"J1521+M1521","v":21201},388,0,{"$f":"SUM(O1521:P1521)","v":388}]
[null,null,"4月",3,305,{"$f":"SUM(D1522:E1522)","v":308},396,426,0,{"$f":"SUM(G1522:I1522)","v":822},9007,9492,{"$f":"SUM(K1522:L1522)","v":18499},{"$f":"J1522+M1522","v":19321},404,0,{"$f":"SUM(O1522:P1522)","v":404}]
[null,null,"5月",0,363,363,0,0,0,0,10579,10099,20678,20678,368,0,368]
[null,null,"6月",0,339,339,0,0,0,0,11732,11553,23285,23285,411,0,411]
[null,null,"7月",0,336,336,0,0,0,0,11589,11652,23241,23241,452,0,452]
[null,null,"8月",0,324,324,0,0,0,0,12230,12062,24292,24292,478,0,478]
[null,null,"9月",0,308,308,0,0,0,0,11975,11622,23597,23597,479,0,479]
[null,null,"10月",3,351,354,136,433,0,{"$f":"SUM(G1528:I1528)","v":569},12979,13129,26108,26677,510,0,510]
[null,null,"11月",3,273,276,443,198,0,641,11659,11720,23379,24020,437,0,437]
[null,null,"12月",0,234,234,0,0,0,0,9906,10577,20483,20483,288,0,288]
[]
[null,"山形暦１","暦年 計",{"$f":"SUM(D1519:D1530)","v":22},{"$f":"SUM(E1519:E1530)","v":3550},{"$f":"SUM(F1519:F1530)","v":3572},{"$f":"SUM(G1519:G1530)","v":2484},{"$f":"SUM(H1519:H1530)","v":2565},0,5049,128755,128670,257425,262474,4980,{"$f":"SUM(P1519:P1530)","v":0},{"$f":"SUM(Q1519:Q1530)","v":4980}]
[]
[null,null,"1月",0,245,{"$f":"SUM(D1534:E1534)","v":245},0,0,0,{"$f":"SUM(G1534:I1534)","v":0},9356,8683,{"$f":"SUM(K1534:L1534)","v":18039},{"$f":"J1534+M1534","v":18039},271,0,{"$f":"SUM(O1534:P1534)","v":271}]
[null,null,"2月",0,233,{"$f":"SUM(D1535:E1535)","v":233},0,0,0,{"$f":"SUM(G1535:I1535)","v":0},9238,8961,{"$f":"SUM(K1535:L1535)","v":18199},{"$f":"J1535+M1535","v":18199},280,0,{"$f":"SUM(O1535:P1535)","v":280}]
[null,null,"3月",0,283,{"$f":"SUM(D1536:E1536)","v":283},0,0,0,{"$f":"SUM(G1536:I1536)","v":0},12020,11807,{"$f":"SUM(K1536:L1536)","v":23827},{"$f":"J1536+M1536","v":23827},399,0,{"$f":"SUM(O1536:P1536)","v":399}]
[]
[null,"山形度１","年度計",{"$f":"SUM(D1522:D1530,D1534:D1536)","v":9},{"$f":"SUM(E1522:E1530,E1534:E1536)","v":3594},{"$f":"SUM(F1522:F1530,F1534:F1536)","v":3603},{"$f":"SUM(G1522:G1530,G1534:G1536)","v":975},1057,0,2032,132270,131357,263627,265659,4777,0,{"$f":"SUM(Q1522:Q1530,Q1534:Q1536)","v":4777}]
[]
[]
[]
[null,null,"項目",null,null,null,"貨 物 取 扱 量 （トン）",null,null,null,null,null,null,"郵 便 取 扱 量 （kg）"]
[null,null,null,null,"国 際 線",null,null,"国 内 線",null,"合計",null,"国 際 線",null,null,"国 内 線",null,"合 計"]
[null,null,"月別","積","卸","小 計","積","卸","小 計",null,"積","卸","小 計","積","卸","小 計"]
[]
[null,null,"1月",0,0,{"$f":"SUM(D1546:E1546)","v":0},0,0,{"$f":"SUM(G1546:H1546)","v":0},{"$f":"F1546+I1546","v":0},0,0,{"$f":"SUM(K1546:L1546)","v":0},0,0,{"$f":"SUM(N1546:O1546)","v":0},{"$f":"M1546+P1546","v":0}]
[null,null,"2月",0,0,0,0,0,0,0,0,0,0,0,0,0,0]
[null,null,"3月",0,0,0,0,0,0,0,0,0,0,0,0,0,0]
[null,null,"4月",0,0,0,0,0,0,0,0,0,0,0,0,0,0]
[null,null,"5月",0,0,0,0,0,0,0,0,0,0,0,0,0,0]
[null,null,"6月",0,0,0,18,0,18,18,0,0,0,0,0,0,0]
[null,null,"7月",0,0,0,3,0,3,3,0,0,0,0,0,0,0]
[null,null,"8月",0,0,0,0,0,0,0,0,0,0,0,0,0,0]
[null,null,"9月",0,0,0,0,0,0,0,0,0,0,0,0,0,0]
[null,null,"10月",0,0,0,0,0,0,0,0,0,0,0,0,0,0]
[null,null,"11月",0,0,0,0,0,0,0,0,0,0,0,0,0,0]
[null,null,"12月",0,0,0,0,0,0,0,0,0,0,0,0,0,0]
[]
[null,"山形暦２","暦年 計",{"$f":"SUM(D1546:D1558)","v":0},0,0,21,0,21,21,0,0,{"$f":"SUM(M1546:M1558)","v":0},{"$f":"SUM(N1546:N1558)","v":0},{"$f":"SUM(O1546:O1558)","v":0},{"$f":"SUM(P1546:P1558)","v":0},{"$f":"SUM(Q1546:Q1558)","v":0}]
[]
[null,null,"1月",0,0,{"$f":"SUM(D1561:E1561)","v":0},0,0,{"$f":"SUM(G1561:H1561)","v":0},{"$f":"F1561+I1561","v":0},0,0,{"$f":"SUM(K1561:L1561)","v":0},0,0,{"$f":"SUM(N1561:O1561)","v":0},{"$f":"M1561+P1561","v":0}]
[null,null,"2月",0,0,{"$f":"SUM(D1562:E1562)","v":0},0,0,{"$f":"SUM(G1562:H1562)","v":0},{"$f":"F1562+I1562","v":0},0,0,{"$f":"SUM(K1562:L1562)","v":0},0,0,{"$f":"SUM(N1562:O1562)","v":0},{"$f":"M1562+P1562","v":0}]
[null,null,"3月",0,0,{"$f":"SUM(D1563:E1563)","v":0},0,0,{"$f":"SUM(G1563:H1563)","v":0},{"$f":"F1563+I1563","v":0},0,0,{"$f":"SUM(K1563:L1563)","v":0},0,0,{"$f":"SUM(N1563:O1563)","v":0},{"$f":"M1563+P1563","v":0}]
[]
[null,"山形度２","年度計",{"$f":"SUM(D1549:D1557,D1561:D1563)","v":0},{"$f":"SUM(E1549:E1557,E1561:E1563)","v":0},{"$f":"SUM(F1549:F1557,F1561:F1563)","v":0},{"$f":"SUM(G1549:G1557,G1561:G1563)","v":21},0,21,21,0,0,{"$f":"SUM(M1549:M1557,M1561:M1563)","v":0},{"$f":"SUM(N1549:N1557,N1561:N1563)","v":0},{"$f":"SUM(O1549:O1557,O1561:O1563)","v":0},{"$f":"SUM(P1549:P1557,P1561:P1563)","v":0},{"$f":"SUM(Q1549:Q1557,Q1561:Q1563)","v":0}]
[]
[null,null,{"$f":"C1513","v":"平　成　２　８　年　空　港　管　理　状　況　調　書"}]
[null,null,"空港名 ：","山口宇部          （特定地方管理）"]
[null,null,"項目",null,"着 陸 回 数 （回）",null,"乗   降   客   数   （人）",null,null,null,null,null,null,null,"航空燃料供給量　（ＫＬ）"]
[null,null,null,"国際線","国内線","計",null,"国 際 線",null,null,null,"国 内 線",null,"合 計","ジェット燃料","その他燃料","合計"]
[null,null,"月別",null,null,null,"乗 客","降 客","通過客","小 計","乗 客","降 客","小 計"]
[]
[null,null,"1月",11,329,{"$f":"SUM(D1573:E1573)","v":340},1483,1752,0,{"$f":"SUM(G1573:I1573)","v":3235},35827,29810,{"$f":"SUM(K1573:L1573)","v":65637},{"$f":"J1573+M1573","v":68872},1300,0,{"$f":"SUM(O1573:P1573)","v":1300}]
[null,null,"2月",12,339,{"$f":"SUM(D1574:E1574)","v":351},1882,1914,0,{"$f":"SUM(G1574:I1574)","v":3796},33643,33766,{"$f":"SUM(K1574:L1574)","v":67409},{"$f":"J1574+M1574","v":71205},1327,0,{"$f":"SUM(O1574:P1574)","v":1327}]
[null,null,"3月",12,372,384,1840,1800,0,3640,40021,39962,79983,83623,1656,0,1656]
[null,null,"4月",1,369,370,117,0,0,117,34695,36490,71185,71302,1395,0,1395]
[null,null,"5月",3,353,356,105,223,0,328,38423,36132,74555,74883,1576,0,1576]
[null,null,"6月",0,345,345,0,0,0,0,34406,33759,68165,68165,1526,0,1526]
[null,null,"7月",0,364,364,0,0,0,0,38263,41040,79303,79303,1769,0,1769]
[null,null,"8月",0,362,362,0,0,0,0,49515,47486,97001,97001,2008,0,2008]
[null,null,"9月",2,355,357,192,194,0,386,38673,38060,76733,77119,1662,0,1662]
[null,null,"10月",5,349,354,571,548,0,1119,41502,41839,83341,84460,1575,0,1575]
[null,null,"11月",2,327,329,205,213,0,418,41906,41437,83343,83761,1467,0,1467]
[null,null,"12月",26,362,388,1564,1561,0,3125,38496,43706,82202,85327,1671,0,1671]
[]
[null,"山口宇部暦１","暦年 計",{"$f":"SUM(D1573:D1584)","v":74},{"$f":"SUM(E1573:E1584)","v":4226},{"$f":"SUM(F1573:F1584)","v":4300},{"$f":"SUM(G1573:G1584)","v":7959},{"$f":"SUM(H1573:H1584)","v":8205},0,16164,465370,463487,928857,945021,18932,{"$f":"SUM(P1573:P1584)","v":0},{"$f":"SUM(Q1573:Q1584)","v":18932}]
[]
[null,null,"1月",15,348,{"$f":"SUM(D1588:E1588)","v":363},2026,2368,0,{"$f":"SUM(G1588:I1588)","v":4394},39894,34505,{"$f":"SUM(K1588:L1588)","v":74399},{"$f":"J1588+M1588","v":78793},1419,0,{"$f":"SUM(O1588:P1588)","v":1419}]
[null,null,"2月",15,330,{"$f":"SUM(D1589:E1589)","v":345},2446,2284,0,{"$f":"SUM(G1589:I1589)","v":4730},34553,34198,{"$f":"SUM(K1589:L1589)","v":68751},{"$f":"J1589+M1589","v":73481},1404,0,{"$f":"SUM(O1589:P1589)","v":1404}]
[null,null,"3月",14,360,{"$f":"SUM(D1590:E1590)","v":374},2122,2162,0,{"$f":"SUM(G1590:I1590)","v":4284},43968,44121,{"$f":"SUM(K1590:L1590)","v":88089},{"$f":"J1590+M1590","v":92373},1587,0,{"$f":"SUM(O1590:P1590)","v":1587}]
[]
[null,"山口宇部度１","年度計",{"$f":"SUM(D1576:D1584,D1588:D1590)","v":83},{"$f":"SUM(E1576:E1584,E1588:E1590)","v":4224},{"$f":"SUM(F1576:F1584,F1588:F1590)","v":4307},{"$f":"SUM(G1576:G1584,G1588:G1590)","v":9348},9553,0,18901,474294,472773,947067,965968,19059,0,{"$f":"SUM(Q1576:Q1584,Q1588:Q1590)","v":19059}]
[]
[]
[]
[null,null,"項目",null,null,null,"貨 物 取 扱 量 （トン）",null,null,null,null,null,null,"郵 便 取 扱 量 （kg）"]
[null,null,null,null,"国 際 線",null,null,"国 内 線",null,"合計",null,"国 際 線",null,null,"国 内 線",null,"合 計"]
[null,null,"月別","積","卸","小 計","積","卸","小 計",null,"積","卸","小 計","積","卸","小 計"]
[]
[null,null,"1月",0,0,{"$f":"SUM(D1600:E1600)","v":0},121,75,{"$f":"SUM(G1600:H1600)","v":196},{"$f":"F1600+I1600","v":196},0,0,{"$f":"SUM(K1600:L1600)","v":0},2684,0,{"$f":"SUM(N1600:O1600)","v":2684},{"$f":"M1600+P1600","v":2684}]
[null,null,"2月",0,0,0,126,67,193,193,0,0,0,2742,0,2742,2742]
[null,null,"3月",0,0,0,131,89,220,220,0,0,0,2753,0,2753,2753]
[null,null,"4月",0,0,0,119,79,198,198,0,0,0,2273,0,2273,2273]
[null,null,"5月",0,0,0,124,62,186,186,0,0,0,2198,0,2198,2198]
[null,null,"6月",0,0,0,147,83,230,230,0,0,0,2415,0,2415,2415]
[null,null,"7月",0,0,0,119,102,221,221,0,0,0,2502,0,2502,2502]
[null,null,"8月",0,0,0,115,92,207,207,0,0,0,2476,0,2476,2476]
[null,null,"9月",0,0,0,122,84,206,206,0,0,0,2329,0,2329,2329]
[null,null,"10月",0,0,0,123,92,215,215,0,0,0,2203,0,2203,2203]
[null,null,"11月",0,0,0,138,79,217,217,0,0,0,2347,0,2347,2347]
[null,null,"12月",0,0,0,182,93,275,275,0,0,0,2576,0,2576,2576]
[]
[null,"山口宇部暦２","暦年 計",{"$f":"SUM(D1600:D1612)","v":0},0,0,1567,997,2564,2564,0,0,{"$f":"SUM(M1600:M1612)","v":0},{"$f":"SUM(N1600:N1612)","v":29498},{"$f":"SUM(O1600:O1612)","v":0},{"$f":"SUM(P1600:P1612)","v":29498},{"$f":"SUM(Q1600:Q1612)","v":29498}]
[]
[null,null,"1月",0,0,{"$f":"SUM(D1615:E1615)","v":0},114,74,{"$f":"SUM(G1615:H1615)","v":188},{"$f":"F1615+I1615","v":188},0,0,{"$f":"SUM(K1615:L1615)","v":0},2347,0,{"$f":"SUM(N1615:O1615)","v":2347},{"$f":"M1615+P1615","v":2347}]
[null,null,"2月",0,0,{"$f":"SUM(D1616:E1616)","v":0},126,83,{"$f":"SUM(G1616:H1616)","v":209},{"$f":"F1616+I1616","v":209},0,0,{"$f":"SUM(K1616:L1616)","v":0},2590,0,{"$f":"SUM(N1616:O1616)","v":2590},{"$f":"M1616+P1616","v":2590}]
[null,null,"3月",0,0,{"$f":"SUM(D1617:E1617)","v":0},165,93,{"$f":"SUM(G1617:H1617)","v":258},{"$f":"F1617+I1617","v":258},0,0,{"$f":"SUM(K1617:L1617)","v":0},3533,0,{"$f":"SUM(N1617:O1617)","v":3533},{"$f":"M1617+P1617","v":3533}]
[]
[null,"山口宇部度２","年度計",{"$f":"SUM(D1603:D1611,D1615:D1617)","v":0},{"$f":"SUM(E1603:E1611,E1615:E1617)","v":0},{"$f":"SUM(F1603:F1611,F1615:F1617)","v":0},{"$f":"SUM(G1603:G1611,G1615:G1617)","v":1594},1016,2610,2610,0,0,{"$f":"SUM(M1603:M1611,M1615:M1617)","v":0},{"$f":"SUM(N1603:N1611,N1615:N1617)","v":29789},{"$f":"SUM(O1603:O1611,O1615:O1617)","v":0},{"$f":"SUM(P1603:P1611,P1615:P1617)","v":29789},{"$f":"SUM(Q1603:Q1611,Q1615:Q1617)","v":29789}]
[]
[null,null,{"$f":"C1567","v":"平　成　２　８　年　空　港　管　理　状　況　調　書"}]
[null,null,"空港名 ：","特定地方管理空港計"]
[null,null,"項目",null,"着 陸 回 数 （回）",null,"乗   降   客   数   （人）",null,null,null,null,null,null,null,"航空燃料供給量　（KＬ）"]
[null,null,null,"国際線","国内線","計",null,"国 際 線",null,null,null,"国 内 線",null,"合 計","ジェット燃料","その他燃料","合計"]
[null,null,"月別",null,null,null,"乗 客","降 客","通過客","小 計","乗 客","降 客","小 計"]
[]
[null,null,"1月",{"$f":"D1357+D1411+D1465+D1519+D1573","v":95},{"$f":"E1357+E1411+E1465+E1519+E1573","v":2058},2153,12840,14451,0,27291,154856,139700,294556,321847,6587,22,6609]
[null,null,"2月",{"$f":"D1358+D1412+D1466+D1520+D1574","v":105},2054,2159,14834,15580,0,30414,143296,146343,289639,320053,6327,25,6352]
[null,null,"3月",83,2211,2294,11130,10660,0,21790,167428,165467,332895,354685,7367,27,7394]
[null,null,"4月",49,2222,2271,6204,6859,0,13063,134105,144804,278909,291972,6529,19,6548]
[null,null,"5月",49,2361,2410,5954,5993,0,11947,158717,156219,314936,326883,7194,26,7220]
[null,null,"6月",40,2293,2333,4942,5375,0,10317,155612,161898,317510,327827,7079,17,7096]
[null,null,"7月",56,2369,2425,8123,8722,0,16845,176199,187536,363735,380580,7958,20,7978]
[null,null,"8月",66,2380,2446,9982,9541,0,19523,209358,216039,425397,444920,9198,25,9223]
[null,null,"9月",38,2341,2379,4338,4510,0,8848,186368,190739,377107,385955,8148,21,8169]
[null,null,"10月",47,2286,2333,6348,6777,0,13125,183241,188297,371538,384663,7602,25,7627]
[null,null,"11月",33,2164,2197,3894,3877,0,7771,166180,169467,335647,343418,5935,29,5964]
[null,null,"12月",43,2081,2124,3879,4075,0,7954,144924,167563,312487,320441,5422,17,5439]
[]
[null,null,"暦年 計",704,26820,27524,92468,96420,0,188888,1980284,2034072,4014356,4203244,85346,273,85619]
[]
[null,null,"1月",59,2144,2203,8116,9397,0,17513,164905,149032,313937,331450,5629,22,5651]
[null,null,"2月",59,2113,2172,9547,8874,0,18421,145390,147123,292513,310934,5606,26,5632]
[null,null,"3月",41,2282,2323,4448,4364,0,8812,181336,180125,361461,370273,6557,29,6586]
[]
[null,null,"年度計",580,27036,27616,{"$f":"G1376+G1430+G1484+G1538+G1592","v":75775},78364,0,154139,2006335,2058842,4065177,4219316,82857,276,83133]
[]
[]
[]
[null,null,"項目",null,null,null,"貨 物 取 扱 量 （トン）",null,null,null,null,null,null,"郵 便 取 扱 量 （kg）"]
[null,null,null,null,"国 際 線",null,null,"国 内 線",null,"合計",null,"国 際 線",null,null,"国 内 線",null,"合 計"]
[null,null,"月別","積","卸","小 計","積","卸","小 計",null,"積","卸","小 計","積","卸","小 計"]
[]
[null,null,"1月",{"$f":"D1384+D1438+D1492+D1546+D1600","v":0},{"$f":"E1384+E1438+E1492+E1546+E1600","v":0},0,385,360,745,745,0,0,0,70817,170255,241072,241072]
[null,null,"2月",{"$f":"D1385+D1439+D1493+D1547+D1601","v":0},0,0,388,397,785,785,0,0,0,67712,152614,220326,220326]
[null,null,"3月",0,0,0,446,488,934,934,0,0,0,77351,172368,249719,249719]
[null,null,"4月",0,0,0,354,429,783,783,0,0,0,71226,168343,239569,239569]
[null,null,"5月",0,0,0,431,375,806,806,0,0,0,68888,155699,224587,224587]
[null,null,"6月",0,0,0,627,394,1021,1021,0,0,0,74160,174203,248363,248363]
[null,null,"7月",0,0,0,819,402,1221,1221,0,0,0,68394,156409,224803,224803]
[null,null,"8月",0,0,0,778,384,1162,1162,0,0,0,63617,137283,200900,200900]
[null,null,"9月",0,0,0,821,388,1209,1209,0,0,0,64994,147621,212615,212615]
[null,null,"10月",0,0,0,678,351,1029,1029,0,0,0,79479,155454,234933,234933]
[null,null,"11月",0,0,0,455,330,785,785,0,0,0,84309,149849,234158,234158]
[null,null,"12月",0,0,0,695,611,1306,1306,0,0,0,94284,175578,269862,269862]
[]
[null,null,"暦年 計",0,0,0,6877,4909,11786,11786,0,0,0,885231,1915676,2800907,2800907]
[]
[null,null,"1月",0,0,0,375,330,705,705,0,0,0,75108,145620,220728,220728]
[null,null,"2月",0,0,0,387,368,755,755,0,0,0,72507,133951,206458,206458]
[null,null,"3月",0,0,0,462,443,905,905,0,0,0,84889,155517,240406,240406]
[]
[null,null,"年度計",0,0,0,{"$f":"G1403+G1457+G1511+G1565+G1619","v":6882},4805,11687,11687,0,0,0,901855,1855527,2757382,2757382]
[]
[null,null,{"$f":"C1621","v":"平　成　２　８　年　空　港　管　理　状　況　調　書"}]
[null,null,"空港名 ：","拠点空港計"]
[null,null,"項目",null,"着 陸 回 数 （回）",null,"乗   降   客   数   （人）",null,null,null,null,null,null,null,"航空燃料供給量　（KＬ）"]
[null,null,null,"国際線","国内線","計",null,"国 際 線",null,null,null,"国 内 線",null,"合 計","ジェット燃料","その他燃料","合計"]
[null,null,"月別",null,null,null,"乗 客","降 客","通過客","小 計","乗 客","降 客","小 計"]
[]
[null,null,"1月",{"$f":"D223+D1303+D1627","v":21274},{"$f":"E223+E1303+E1627","v":63140},{"$f":"F223+F1303+F1627","v":84414},3029593,3131913,281829,6443335,7027906,7065594,14093500,20536835,999363,119,999482]
[null,null,"2月",{"$f":"D224+D1304+D1628","v":20552},60921,81473,3211737,3046434,226177,6484348,7019787,7008199,14027986,20512334,943518,136,943654]
[null,null,"3月",{"$f":"D225+D1305+D1629","v":21966},65546,87512,3225589,3561700,184768,6972057,8049538,8055557,16105095,23077152,1009658,126,1009784]
[null,null,"4月",{"$f":"D226+D1306+D1630","v":21301},63589,84890,3293778,3053562,196659,6543999,6896986,6874298,13771284,20315283,988290,72,988362]
[null,null,"5月",{"$f":"D227+D1307+D1631","v":21702},64831,86533,2888885,3038421,251974,6179280,7424352,7445683,14870035,21049315,995544,90,995634]
[null,null,"6月",{"$f":"D228+D1308+D1632","v":20964},62580,83544,2965623,3055099,282247,6302969,7253935,7242431,14496366,20799335,984339,73,984412]
[null,null,"7月",{"$f":"D229+D1309+D1633","v":22427},66925,89352,3406849,3460724,261783,7129356,8135704,8112966,16248670,23378026,1024806,90,1024896]
[null,null,"8月",{"$f":"D230+D1310+D1634","v":22747},67393,90140,3770461,3599996,220055,7590512,9179217,9179666,18358883,25949395,1048814,100,1048914]
[null,null,"9月",{"$f":"D231+D1311+D1635","v":21861},63994,85855,3162348,3335505,201290,6699143,8424887,8419555,16844442,23543585,998686,89,998775]
[null,null,"10月",{"$f":"D232+D1312+D1636","v":22409},66458,88867,3352292,3384273,198810,6935375,8532004,8525953,17057957,23993332,1019238,113,1019351]
[null,null,"11月",{"$f":"D233+D1313+D1637","v":21545},64076,85621,3215157,3200151,167627,6582935,8024209,8026960,16051169,22634104,979723,119,979842]
[null,null,"12月",{"$f":"D234+D1314+D1638","v":22669},64113,86782,3388490,3324128,216479,6929097,7703677,7644870,15348547,22277644,1026978,94,1027072]
[]
[null,null,"暦年 計",{"$f":"D236+D1316+D1640","v":261417},773566,1034983,38910802,39191906,2689698,80792406,93672202,93601732,187273934,268066340,12018957,1221,12020178]
[]
[null,null,"1月",{"$f":"D238+D1318+D1642","v":22793},64316,87109,3369256,3632236,255615,7257107,7419309,7474775,14894084,22151191,1029520,99,1029619]
[null,null,"2月",{"$f":"D239+D1319+D1643","v":20810},59379,80189,3519119,3219763,187068,6925950,7213547,7208116,14421663,21347613,935778,113,935891]
[null,null,"3月",{"$f":"D240+D1320+D1644","v":23185},65969,89154,3614272,3897090,153111,7664473,8664201,8669383,17333584,24998057,1059610.9620000001,120,1059730.9620000001]
[]
[null,null,"年度計",{"$f":"D242+D1322+D1646","v":264413},773623,1038036,39946530,40200948,2592718,82740196,94872028,94824656,189696684,272436880,12091326.962000001,1172,12092498.962000001]
[]
[]
[]
[null,null,"項目",null,null,null,"貨 物 取 扱 量 （トン）",null,null,null,null,null,null,"郵 便 取 扱 量 （kg）"]
[null,null,null,null,"国 際 線",null,null,"国 内 線",null,"合計",null,"国 際 線",null,null,"国 内 線",null,"合 計"]
[null,null,"月別","積","卸","小 計","積","卸","小 計",null,"積","卸","小 計","積","卸","小 計"]
[]
[null,null,"1月",{"$f":"D250+D1330+D1654","v":124800},139872,264672,62357,61945,124302,388974,5378134,3682921,9061055,5288607,4727731,10016338,19077393]
[null,null,"2月",{"$f":"D251+D1331+D1655","v":113858},125763,239621,63237,62406,125643,365264,4143070,2988836,7131906,4949645,4252303,9201948,16333854]
[null,null,"3月",{"$f":"D252+D1332+D1656","v":143008},162927,305935,75491,75107,150598,456533,5365345,3862379,9227724,5571951,5119731,10691682,19919406]
[null,null,"4月",{"$f":"D253+D1333+D1657","v":143815},155449,299264,70886,71080,141966,441230,5558856,3901897,9460753,5310212,4852516,10162728,19623481]
[null,null,"5月",{"$f":"D254+D1334+D1658","v":137500},146473,283973,62555,63348,125903,409876,4752848,3521400,8274248,5008684,4554951,9563635,17837883]
[null,null,"6月",{"$f":"D255+D1335+D1659","v":145862},154052,299914,66885,67527,134412,434326,4493382,3719104,8212486,5455122,5062284,10517406,18729892]
[null,null,"7月",{"$f":"D256+D1336+D1660","v":146368},160974,307342,75158,77190,152348,459690,4100963,3688911,7789874,4975558,4522428,9497986,17287860]
[null,null,"8月",{"$f":"D257+D1337+D1661","v":141256},156680,297936,73357,73276,146633,444569,3795505,3536732,7332237,4515166,4086549,8601715,15933952]
[null,null,"9月",{"$f":"D258+D1338+D1662","v":152402},167195,319597,74834,74464,149298,468895,4084915,3718437,7803352,4900283,4343076,9243359,17046711]
[null,null,"10月",{"$f":"D259+D1339+D1663","v":158072},180277,338349,74392,73237,147629,485978,4259284,4122315,8381599,5071550,4537336,9608886,17990485]
[null,null,"11月",{"$f":"D260+D1340+D1664","v":157520},179583,337103,72911,73083,145994,483097,4583321,4648338,9231659,5304661,4812316,10116977,19348636]
[null,null,"12月",{"$f":"D261+D1341+D1665","v":162273},180832,343105,85252,84084,169336,512441,5796708,5776359,11573067,6298431,5746586,12045017,23618084]
[]
[null,null,"暦年 計",{"$f":"D263+D1343+D1667","v":1726734},1910077,3636811,857315,856747,1714062,5350873,56312331,47167629,103479960,62649870,56617807,119267677,222747637]
[]
[null,null,"1月",{"$f":"D265+D1345+D1669","v":138915},156704,295619,60671,61370,122041,417660,4280228,4097376,8377604,5028156,4583238,9611394,17988998]
[null,null,"2月",{"$f":"D266+D1346+D1670","v":137194},143427,280621,62290,63401,125691,406312,4208134,3767976,7976110,4664313,4249103,8913416,16889526]
[null,null,"3月",{"$f":"D267+D1347+D1671","v":171024},195770,366794,74683,74508,149191,515985,5071014,4665592,9736606,5470809,4992184,10462993,20199599]
[]
[null,null,"年度計",{"$f":"D269+D1349+D1673","v":1792201},1977416,3769617,853874,856568,1710442,5480059,54985158,49164437,104149595,62002945,56342567,118345512,222495107]
[]
[null,null,{"$f":"C1675","v":"平　成　２　８　年　空　港　管　理　状　況　調　書"}]
[null,null,"空港名 ：","利    尻              （地方管理）"]
[null,null,"項目",null,"着 陸 回 数 （回）",null,"乗   降   客   数   （人）",null,null,null,null,null,null,null,"航空燃料供給量　（KＬ）"]
[null,null,null,"国際線","国内線","計",null,"国 際 線",null,null,null,"国 内 線",null,"合 計","ジェット燃料","その他燃料","合計"]
[null,null,"月別",null,null,null,"乗 客","降 客","通過客","小 計","乗 客","降 客","小 計"]
[]
[null,null,"1月",0,30,{"$f":"SUM(D1735:E1735)","v":30},0,0,0,{"$f":"SUM(G1735:I1735)","v":0},710,697,{"$f":"SUM(K1735:L1735)","v":1407},{"$f":"J1735+M1735","v":1407},0,0,{"$f":"SUM(O1735:P1735)","v":0}]
[null,null,"2月",0,23,{"$f":"SUM(D1736:E1736)","v":23},0,0,0,{"$f":"SUM(G1736:I1736)","v":0},489,519,{"$f":"SUM(K1736:L1736)","v":1008},{"$f":"J1736+M1736","v":1008},0,0,{"$f":"SUM(O1736:P1736)","v":0}]
[null,null,"3月",0,32,{"$f":"SUM(D1737:E1737)","v":32},0,0,0,{"$f":"SUM(G1737:I1737)","v":0},796,773,{"$f":"SUM(K1737:L1737)","v":1569},{"$f":"J1737+M1737","v":1569},0,0,{"$f":"SUM(O1737:P1737)","v":0}]
[null,null,"4月",0,31,{"$f":"SUM(D1738:E1738)","v":31},0,0,0,{"$f":"SUM(G1738:I1738)","v":0},723,745,{"$f":"SUM(K1738:L1738)","v":1468},{"$f":"J1738+M1738","v":1468},0,0,{"$f":"SUM(O1738:P1738)","v":0}]
[null,null,"5月",0,43,43,0,0,0,0,994,1015,2009,2009,0,0,0]
[null,null,"6月",0,62,62,0,0,0,0,3641,3733,7374,7374,0,0,0]
[null,null,"7月",0,67,67,0,0,0,0,3861,4101,7962,7962,0,0,0]
[null,null,"8月",0,78,78,0,0,0,0,4117,4105,8222,8222,0,0,0]
[null,null,"9月",0,66,66,0,0,0,0,2975,3282,6257,6257,0,0,0]
[null,null,"10月",0,32,32,0,0,0,0,872,859,1731,1731,0,0,0]
[null,null,"11月",0,31,31,0,0,0,0,815,835,1650,1650,0,0,0]
[null,null,"12月",0,26,26,0,0,0,0,637,638,1275,1275,0,0,0]
[]
[null,"利尻暦１","暦年 計",{"$f":"SUM(D1735:D1746)","v":0},{"$f":"SUM(E1735:E1746)","v":521},{"$f":"SUM(F1735:F1746)","v":521},{"$f":"SUM(G1735:G1746)","v":0},{"$f":"SUM(H1735:H1746)","v":0},0,0,20630,21302,41932,41932,0,{"$f":"SUM(P1735:P1746)","v":0},{"$f":"SUM(Q1735:Q1746)","v":0}]
[]
[null,null,"1月",0,31,{"$f":"SUM(D1750:E1750)","v":31},0,0,0,{"$f":"SUM(G1750:I1750)","v":0},731,725,{"$f":"SUM(K1750:L1750)","v":1456},{"$f":"J1750+M1750","v":1456},0,0,{"$f":"SUM(O1750:P1750)","v":0}]
[null,null,"2月",0,31,{"$f":"SUM(D1751:E1751)","v":31},0,0,0,{"$f":"SUM(G1751:I1751)","v":0},688,716,{"$f":"SUM(K1751:L1751)","v":1404},{"$f":"J1751+M1751","v":1404},0,0,{"$f":"SUM(O1751:P1751)","v":0}]
[null,null,"3月",0,31,{"$f":"SUM(D1752:E1752)","v":31},0,0,0,{"$f":"SUM(G1752:I1752)","v":0},842,790,{"$f":"SUM(K1752:L1752)","v":1632},{"$f":"J1752+M1752","v":1632},0,0,{"$f":"SUM(O1752:P1752)","v":0}]
[]
[null,"利尻度１","年度計",{"$f":"SUM(D1738:D1746,D1750:D1752)","v":0},{"$f":"SUM(E1738:E1746,E1750:E1752)","v":529},{"$f":"SUM(F1738:F1746,F1750:F1752)","v":529},{"$f":"SUM(G1738:G1746,G1750:G1752)","v":0},0,0,0,20896,21544,42440,42440,0,0,{"$f":"SUM(Q1738:Q1746,Q1750:Q1752)","v":0}]
[]
[]
[]
[null,null,"項目",null,null,null,"貨 物 取 扱 量 （トン）",null,null,null,null,null,null,"郵 便 取 扱 量 （kg）"]
[null,null,null,null,"国 際 線",null,null,"国 内 線",null,"合計",null,"国 際 線",null,null,"国 内 線",null,"合 計"]
[null,null,"月別","積","卸","小 計","積","卸","小 計",null,"積","卸","小 計","積","卸","小 計"]
[]
[null,null,"1月",0,0,{"$f":"SUM(D1762:E1762)","v":0},0,0,{"$f":"SUM(G1762:H1762)","v":0},{"$f":"F1762+I1762","v":0},0,0,{"$f":"SUM(K1762:L1762)","v":0},0,0,{"$f":"SUM(N1762:O1762)","v":0},{"$f":"M1762+P1762","v":0}]
[null,null,"2月",0,0,{"$f":"SUM(D1763:E1763)","v":0},0,0,{"$f":"SUM(G1763:H1763)","v":0},{"$f":"F1763+I1763","v":0},0,0,{"$f":"SUM(K1763:L1763)","v":0},0,0,{"$f":"SUM(N1763:O1763)","v":0},{"$f":"M1763+P1763","v":0}]
[null,null,"3月",0,0,{"$f":"SUM(D1764:E1764)","v":0},0,0,{"$f":"SUM(G1764:H1764)","v":0},{"$f":"F1764+I1764","v":0},0,0,{"$f":"SUM(K1764:L1764)","v":0},0,0,{"$f":"SUM(N1764:O1764)","v":0},{"$f":"M1764+P1764","v":0}]
[null,null,"4月",0,0,{"$f":"SUM(D1765:E1765)","v":0},0,0,{"$f":"SUM(G1765:H1765)","v":0},{"$f":"F1765+I1765","v":0},0,0,{"$f":"SUM(K1765:L1765)","v":0},0,0,{"$f":"SUM(N1765:O1765)","v":0},{"$f":"M1765+P1765","v":0}]
[null,null,"5月",0,0,0,0,0,0,0,0,0,0,0,0,0,0]
[null,null,"6月",0,0,0,1,0,1,1,0,0,0,0,0,0,0]
[null,null,"7月",0,0,0,0,0,0,0,0,0,0,0,0,0,0]
[null,null,"8月",0,0,0,1,0,1,1,0,0,0,0,0,0,0]
[null,null,"9月",0,0,0,0,0,0,0,0,0,0,0,0,0,0]
[null,null,"10月",0,0,0,0,0,0,0,0,0,0,0,0,0,0]
[null,null,"11月",0,0,0,0,0,0,0,0,0,0,0,0,0,0]
[null,null,"12月",0,0,0,0,0,0,0,0,0,0,0,0,0,0]
[]
[null,"利尻暦２","暦年 計",{"$f":"SUM(D1762:D1774)","v":0},0,0,2,0,2,2,0,0,{"$f":"SUM(M1762:M1774)","v":0},{"$f":"SUM(N1762:N1774)","v":0},{"$f":"SUM(O1762:O1774)","v":0},{"$f":"SUM(P1762:P1774)","v":0},{"$f":"SUM(Q1762:Q1774)","v":0}]
[]
[null,null,"1月",0,0,{"$f":"SUM(D1777:E1777)","v":0},0,0,{"$f":"SUM(G1777:H1777)","v":0},{"$f":"F1777+I1777","v":0},0,0,{"$f":"SUM(K1777:L1777)","v":0},0,0,{"$f":"SUM(N1777:O1777)","v":0},{"$f":"M1777+P1777","v":0}]
[null,null,"2月",0,0,{"$f":"SUM(D1778:E1778)","v":0},0,0,{"$f":"SUM(G1778:H1778)","v":0},{"$f":"F1778+I1778","v":0},0,0,{"$f":"SUM(K1778:L1778)","v":0},0,0,{"$f":"SUM(N1778:O1778)","v":0},{"$f":"M1778+P1778","v":0}]
[null,null,"3月",0,0,{"$f":"SUM(D1779:E1779)","v":0},0,0,{"$f":"SUM(G1779:H1779)","v":0},{"$f":"F1779+I1779","v":0},0,0,{"$f":"SUM(K1779:L1779)","v":0},0,0,{"$f":"SUM(N1779:O1779)","v":0},{"$f":"M1779+P1779","v":0}]
[]
[null,"利尻度２","年度計",{"$f":"SUM(D1765:D1773,D1777:D1779)","v":0},{"$f":"SUM(E1765:E1773,E1777:E1779)","v":0},{"$f":"SUM(F1765:F1773,F1777:F1779)","v":0},{"$f":"SUM(G1765:G1773,G1777:G1779)","v":2},0,2,2,0,0,{"$f":"SUM(M1765:M1773,M1777:M1779)","v":0},{"$f":"SUM(N1765:N1773,N1777:N1779)","v":0},{"$f":"SUM(O1765:O1773,O1777:O1779)","v":0},{"$f":"SUM(P1765:P1773,P1777:P1779)","v":0},{"$f":"SUM(Q1765:Q1773,Q1777:Q1779)","v":0}]
[]
[null,null,{"$f":"C1729","v":"平　成　２　８　年　空　港　管　理　状　況　調　書"}]
[null,null,"空港名 ：","礼    文              （地方管理）"]
[null,null,"項目",null,"着 陸 回 数 （回）",null,"乗   降   客   数   （人）",null,null,null,null,null,null,null,"航空燃料供給量　（KＬ）"]
[null,null,null,"国際線","国内線","計",null,"国 際 線",null,null,null,"国 内 線",null,"合 計","ジェット燃料","その他燃料","合計"]
[null,null,"月別",null,null,null,"乗 客","降 客","通過客","小 計","乗 客","降 客","小 計"]
[]
[null,null,"1月",0,0,{"$f":"SUM(D1789:E1789)","v":0},0,0,0,{"$f":"SUM(G1789:I1789)","v":0},0,0,{"$f":"SUM(K1789:L1789)","v":0},{"$f":"J1789+M1789","v":0},0,0,{"$f":"SUM(O1789:P1789)","v":0}]
[null,null,"2月",0,0,{"$f":"SUM(D1790:E1790)","v":0},0,0,0,{"$f":"SUM(G1790:I1790)","v":0},0,0,{"$f":"SUM(K1790:L1790)","v":0},{"$f":"J1790+M1790","v":0},0,0,{"$f":"SUM(O1790:P1790)","v":0}]
[null,null,"3月",0,0,0,0,0,0,0,0,0,0,0,0,0,0]
[null,null,"4月",0,0,0,0,0,0,0,0,0,0,0,0,0,0]
[null,null,"5月",0,0,0,0,0,0,0,0,0,0,0,0,0,0]
[null,null,"6月",0,0,0,0,0,0,0,0,0,0,0,0,0,0]
[null,null,"7月",0,0,0,0,0,0,0,0,0,0,0,0,0,0]
[null,null,"8月",0,0,0,0,0,0,0,0,0,0,0,0,0,0]
[null,null,"9月",0,0,0,0,0,0,0,0,0,0,0,0,0,0]
[null,null,"10月",0,0,0,0,0,0,0,0,0,0,0,0,0,0]
[null,null,"11月",0,0,0,0,0,0,0,0,0,0,0,0,0,0]
[null,null,"12月",0,0,0,0,0,0,0,0,0,0,0,0,0,0]
[]
[null,"礼文暦１","暦年 計",{"$f":"SUM(D1789:D1801)","v":0},{"$f":"SUM(E1789:E1801)","v":0},{"$f":"SUM(F1789:F1800)","v":0},{"$f":"SUM(G1789:G1800)","v":0},0,0,0,0,0,0,0,0,0,0]
[]
[null,null,"1月",0,0,0,0,0,0,0,0,0,0,{"$f":"SUM(M1804,J1804)","v":0},0,0,0]
[null,null,"2月",0,0,0,0,0,0,0,0,0,0,{"$f":"SUM(M1805,J1805)","v":0},0,0,0]
[null,null,"3月",0,0,0,0,0,0,0,0,0,0,{"$f":"SUM(M1806,J1806)","v":0},0,0,0]
[]
[null,"礼文度１","年度計",{"$f":"SUM(D1792:D1800,D1804:D1806)","v":0},0,0,0,0,0,0,0,0,0,{"$f":"SUM(N1792:N1800,N1804:N1806)","v":0},{"$f":"SUM(O1792:O1800,O1804:O1806)","v":0},{"$f":"SUM(P1792:P1800,P1804:P1806)","v":0},{"$f":"SUM(Q1792:Q1800,Q1804:Q1806)","v":0}]
[]
[]
[]
[null,null,"項目",null,null,null,"貨 物 取 扱 量 （トン）",null,null,null,null,null,null,"郵 便 取 扱 量 （kg）"]
[null,null,null,null,"国 際 線",null,null,"国 内 線",null,"合計",null,"国 際 線",null,null,"国 内 線",null,"合 計"]
[null,null,"月別","積","卸","小 計","積","卸","小 計",null,"積","卸","小 計","積","卸","小 計"]
[]
[null,null,"1月",0,0,{"$f":"SUM(D1816:E1816)","v":0},0,0,{"$f":"SUM(G1816:H1816)","v":0},{"$f":"F1816+I1816","v":0},0,0,{"$f":"SUM(K1816:L1816)","v":0},0,0,{"$f":"SUM(N1816:O1816)","v":0},{"$f":"M1816+P1816","v":0}]
[null,null,"2月",0,0,0,0,0,0,0,0,0,0,0,0,0,0]
[null,null,"3月",0,0,0,0,0,0,0,0,0,0,0,0,0,0]
[null,null,"4月",0,0,0,0,0,0,0,0,0,0,0,0,0,0]
[null,null,"5月",0,0,0,0,0,0,0,0,0,0,0,0,0,0]
[null,null,"6月",0,0,0,0,0,0,0,0,0,0,0,0,0,0]
[null,null,"7月",0,0,0,0,0,0,0,0,0,0,0,0,0,0]
[null,null,"8月",0,0,0,0,0,0,0,0,0,0,0,0,0,0]
[null,null,"9月",0,0,0,0,0,0,0,0,0,0,0,0,0,0]
[null,null,"10月",0,0,0,0,0,0,0,0,0,0,0,0,0,0]
[null,null,"11月",0,0,0,0,0,0,0,0,0,0,0,0,0,0]
[null,null,"12月",0,0,0,0,0,0,0,0,0,0,0,0,0,0]
[]
[null,"礼文暦２","暦年 計",{"$f":"SUM(D1816:D1828)","v":0},0,0,0,0,0,0,0,0,0,0,0,{"$f":"SUM(P1816:P1828)","v":0},{"$f":"SUM(Q1816:Q1828)","v":0}]
[]
[null,null,"1月",0,0,0,0,0,0,0,0,0,0,0,0,0,0]
[null,null,"2月",0,0,0,0,0,0,0,0,0,0,0,0,0,0]
[null,null,"3月",0,0,0,0,0,0,0,0,0,0,0,0,0,0]
[]
[null,"礼文度２","年度計",{"$f":"SUM(D1819:D1827,D1831:D1833)","v":0},0,0,0,0,0,0,0,0,0,0,0,{"$f":"SUM(P1819:P1827,P1831:P1833)","v":0},{"$f":"SUM(Q1819:Q1827,Q1831:Q1833)","v":0}]
[]
[null,null,{"$f":"C1783","v":"平　成　２　８　年　空　港　管　理　状　況　調　書"}]
[null,null,"空港名 ：","奥    尻              （地方管理）"]
[null,null,"項目",null,"着 陸 回 数 （回）",null,"乗   降   客   数   （人）",null,null,null,null,null,null,null,"航空燃料供給量　（KＬ）"]
[null,null,null,"国際線","国内線","計",null,"国 際 線",null,null,null,"国 内 線",null,"合 計","ジェット燃料","その他燃料","合計"]
[null,null,"月別",null,null,null,"乗 客","降 客","通過客","小 計","乗 客","降 客","小 計"]
[]
[null,null,"1月",0,36,{"$f":"SUM(D1843:E1843)","v":36},0,0,0,{"$f":"SUM(G1843:I1843)","v":0},440,507,{"$f":"SUM(K1843:L1843)","v":947},{"$f":"J1843+M1843","v":947},0,0,{"$f":"SUM(O1843:P1843)","v":0}]
[null,null,"2月",0,29,{"$f":"SUM(D1844:E1844)","v":29},0,0,0,{"$f":"SUM(G1844:I1844)","v":0},359,356,{"$f":"SUM(K1844:L1844)","v":715},{"$f":"J1844+M1844","v":715},0,0,{"$f":"SUM(O1844:P1844)","v":0}]
[null,null,"3月",0,34,{"$f":"SUM(D1845:E1845)","v":34},0,0,0,{"$f":"SUM(G1845:I1845)","v":0},418,465,{"$f":"SUM(K1845:L1845)","v":883},{"$f":"J1845+M1845","v":883},0,0,{"$f":"SUM(O1845:P1845)","v":0}]
[null,null,"4月",0,28,{"$f":"SUM(D1846:E1846)","v":28},0,0,0,{"$f":"SUM(G1846:I1846)","v":0},390,382,{"$f":"SUM(K1846:L1846)","v":772},{"$f":"J1846+M1846","v":772},0,0,{"$f":"SUM(O1846:P1846)","v":0}]
[null,null,"5月",0,33,33,0,0,0,0,323,346,669,669,0,0,{"$f":"SUM(O1847:P1847)","v":0}]
[null,null,"6月",0,29,29,0,0,0,0,318,351,669,669,0,0,0]
[null,null,"7月",0,29,29,0,0,0,0,315,381,696,696,0,0,0]
[null,null,"8月",0,33,33,0,0,0,0,592,595,1187,1187,0,0,0]
[null,null,"9月",0,38,38,0,0,0,0,444,430,874,874,0,0,0]
[null,null,"10月",0,35,35,0,0,0,0,444,441,885,885,0,0,0]
[null,null,"11月",0,30,30,0,0,0,0,424,440,864,864,0,0,0]
[null,null,"12月",0,29,29,0,0,0,0,489,449,938,938,0,0,0]
[]
[null,"奥尻暦１","暦年 計",{"$f":"SUM(D1843:D1854)","v":0},{"$f":"SUM(E1843:E1854)","v":383},{"$f":"SUM(F1843:F1854)","v":383},{"$f":"SUM(G1843:G1854)","v":0},{"$f":"SUM(H1843:H1854)","v":0},0,0,4956,5143,10099,10099,0,{"$f":"SUM(P1843:P1854)","v":0},{"$f":"SUM(Q1843:Q1854)","v":0}]
[]
[null,null,"1月",0,28,{"$f":"SUM(D1858:E1858)","v":28},0,0,0,{"$f":"SUM(G1858:I1858)","v":0},437,470,{"$f":"SUM(K1858:L1858)","v":907},{"$f":"J1858+M1858","v":907},0,0,{"$f":"SUM(O1858:P1858)","v":0}]
[null,null,"2月",0,29,{"$f":"SUM(D1859:E1859)","v":29},0,0,0,{"$f":"SUM(G1859:I1859)","v":0},417,443,{"$f":"SUM(K1859:L1859)","v":860},{"$f":"J1859+M1859","v":860},0,0,{"$f":"SUM(O1859:P1859)","v":0}]
[null,null,"3月",0,31,{"$f":"SUM(D1860:E1860)","v":31},0,0,0,{"$f":"SUM(G1860:I1860)","v":0},571,589,{"$f":"SUM(K1860:L1860)","v":1160},{"$f":"J1860+M1860","v":1160},0,0,{"$f":"SUM(O1860:P1860)","v":0}]
[]
[null,"奥尻度１","年度計",{"$f":"SUM(D1846:D1854,D1858:D1860)","v":0},{"$f":"SUM(E1846:E1854,E1858:E1860)","v":372},{"$f":"SUM(F1846:F1854,F1858:F1860)","v":372},{"$f":"SUM(G1846:G1854,G1858:G1860)","v":0},0,0,0,5164,5317,10481,10481,0,0,{"$f":"SUM(Q1846:Q1854,Q1858:Q1860)","v":0}]
[]
[]
[]
[null,null,"項目",null,null,null,"貨 物 取 扱 量 （トン）",null,null,null,null,null,null,"郵 便 取 扱 量 （kg）"]
[null,null,null,null,"国 際 線",null,null,"国 内 線",null,"合計",null,"国 際 線",null,null,"国 内 線",null,"合 計"]
[null,null,"月別","積","卸","小 計","積","卸","小 計",null,"積","卸","小 計","積","卸","小 計"]
[]
[null,null,"1月",0,0,{"$f":"SUM(D1870:E1870)","v":0},0,0,{"$f":"SUM(G1870:H1870)","v":0},{"$f":"F1870+I1870","v":0},0,0,{"$f":"SUM(K1870:L1870)","v":0},172,1281,{"$f":"SUM(N1870:O1870)","v":1453},{"$f":"M1870+P1870","v":1453}]
[null,null,"2月",0,0,{"$f":"SUM(D1871:E1871)","v":0},0,0,{"$f":"SUM(G1871:H1871)","v":0},{"$f":"F1871+I1871","v":0},0,0,{"$f":"SUM(K1871:L1871)","v":0},118,1133,{"$f":"SUM(N1871:O1871)","v":1251},{"$f":"M1871+P1871","v":1251}]
[null,null,"3月",0,0,{"$f":"SUM(D1872:E1872)","v":0},0,0,{"$f":"SUM(G1872:H1872)","v":0},{"$f":"F1872+I1872","v":0},0,0,{"$f":"SUM(K1872:L1872)","v":0},115,1297,{"$f":"SUM(N1872:O1872)","v":1412},{"$f":"M1872+P1872","v":1412}]
[null,null,"4月",0,0,{"$f":"SUM(D1873:E1873)","v":0},0,0,{"$f":"SUM(G1873:H1873)","v":0},{"$f":"F1873+I1873","v":0},0,0,{"$f":"SUM(K1873:L1873)","v":0},171,1340,{"$f":"SUM(N1873:O1873)","v":1511},{"$f":"M1873+P1873","v":1511}]
[null,null,"5月",0,0,0,0,0,0,0,0,0,0,345,0,345,345]
[null,null,"6月",0,0,0,0,0,0,0,0,0,0,294,0,294,294]
[null,null,"7月",0,0,0,0,0,0,0,0,0,0,259,0,259,259]
[null,null,"8月",0,0,0,0,0,0,0,0,0,0,306,0,306,306]
[null,null,"9月",0,0,0,0,0,0,0,0,0,0,343,0,343,343]
[null,null,"10月",0,0,0,0,0,0,0,0,0,0,469,0,469,469]
[null,null,"11月",0,0,0,0,0,0,0,0,0,0,336,592,928,928]
[null,null,"12月",0,0,0,0,0,0,0,0,0,0,182,1586,1768,1768]
[]
[null,"奥尻暦２","暦年 計",{"$f":"SUM(D1870:D1882)","v":0},0,0,0,0,0,0,0,0,{"$f":"SUM(M1870:M1882)","v":0},{"$f":"SUM(N1870:N1882)","v":3110},{"$f":"SUM(O1870:O1882)","v":7229},{"$f":"SUM(P1870:P1882)","v":10339},{"$f":"SUM(Q1870:Q1882)","v":10339}]
[]
[null,null,"1月",0,0,{"$f":"SUM(D1885:E1885)","v":0},1,0,{"$f":"SUM(G1885:H1885)","v":1},{"$f":"F1885+I1885","v":1},0,0,{"$f":"SUM(K1885:L1885)","v":0},262,1264,{"$f":"SUM(N1885:O1885)","v":1526},{"$f":"M1885+P1885","v":1526}]
[null,null,"2月",0,0,{"$f":"SUM(D1886:E1886)","v":0},0,0,{"$f":"SUM(G1886:H1886)","v":0},{"$f":"F1886+I1886","v":0},0,0,{"$f":"SUM(K1886:L1886)","v":0},237,1219,{"$f":"SUM(N1886:O1886)","v":1456},{"$f":"M1886+P1886","v":1456}]
[null,null,"3月",0,0,{"$f":"SUM(D1887:E1887)","v":0},0,0,{"$f":"SUM(G1887:H1887)","v":0},{"$f":"F1887+I1887","v":0},0,0,{"$f":"SUM(K1887:L1887)","v":0},144,1434,{"$f":"SUM(N1887:O1887)","v":1578},{"$f":"M1887+P1887","v":1578}]
[]
[null,"奥尻度２","年度計",{"$f":"SUM(D1873:D1881,D1885:D1887)","v":0},{"$f":"SUM(E1873:E1881,E1885:E1887)","v":0},{"$f":"SUM(F1873:F1881,F1885:F1887)","v":0},{"$f":"SUM(G1873:G1881,G1885:G1887)","v":1},0,1,1,0,0,{"$f":"SUM(M1873:M1881,M1885:M1887)","v":0},{"$f":"SUM(N1873:N1881,N1885:N1887)","v":3348},{"$f":"SUM(O1873:O1881,O1885:O1887)","v":7435},{"$f":"SUM(P1873:P1881,P1885:P1887)","v":10783},{"$f":"SUM(Q1873:Q1881,Q1885:Q1887)","v":10783}]
[]
[null,null,{"$f":"C1837","v":"平　成　２　８　年　空　港　管　理　状　況　調　書"}]
[null,null,"空港名 ：","中 標 津              （地方管理）"]
[null,null,"項目",null,"着 陸 回 数 （回）",null,"乗   降   客   数   （人）",null,null,null,null,null,null,null,"航空燃料供給量　（KＬ）"]
[null,null,null,"国際線","国内線","計",null,"国 際 線",null,null,null,"国 内 線",null,"合 計","ジェット燃料","その他燃料","合計"]
[null,null,"月別",null,null,null,"乗 客","降 客","通過客","小 計","乗 客","降 客","小 計"]
[]
[null,null,"1月",0,113,{"$f":"SUM(D1897:E1897)","v":113},0,0,0,{"$f":"SUM(G1897:I1897)","v":0},7162,6046,{"$f":"SUM(K1897:L1897)","v":13208},{"$f":"J1897+M1897","v":13208},166,0,{"$f":"SUM(O1897:P1897)","v":166}]
[null,null,"2月",2,119,{"$f":"SUM(D1898:E1898)","v":121},158,158,0,{"$f":"SUM(G1898:I1898)","v":316},6134,6411,{"$f":"SUM(K1898:L1898)","v":12545},{"$f":"J1898+M1898","v":12861},174,0,{"$f":"SUM(O1898:P1898)","v":174}]
[null,null,"3月",0,124,{"$f":"SUM(D1899:E1899)","v":124},0,0,0,{"$f":"SUM(G1899:I1899)","v":0},6947,6594,{"$f":"SUM(K1899:L1899)","v":13541},{"$f":"J1899+M1899","v":13541},160,0,{"$f":"SUM(O1899:P1899)","v":160}]
[null,null,"4月",0,117,{"$f":"SUM(D1900:E1900)","v":117},0,0,0,{"$f":"SUM(G1900:I1900)","v":0},5506,5928,{"$f":"SUM(K1900:L1900)","v":11434},{"$f":"SUM(G1900,K1900:L1900,H1900:I1900)","v":11434},145,0,{"$f":"SUM(O1900:P1900)","v":145}]
[null,null,"5月",0,131,131,0,0,0,0,7211,7759,14970,14970,174,0,174]
[null,null,"6月",0,138,138,0,0,0,0,7919,9274,17193,17193,161,0,{"$f":"SUM(O1902:P1902)","v":161}]
[null,null,"7月",0,173,173,0,0,0,0,11199,11718,22917,22917,346,0,346]
[null,null,"8月",0,157,157,0,0,0,0,12079,12281,24360,24360,311,0,311]
[null,null,"9月",0,140,140,0,0,0,0,10625,11868,22493,22493,297,0,297]
[null,null,"10月",0,129,129,0,0,0,0,9860,10372,20232,20232,249,0,249]
[null,null,"11月",0,131,131,0,0,0,0,8598,7993,16591,16591,157,0,157]
[null,null,"12月",0,109,109,0,0,0,0,5908,6993,12901,12901,143,0,143]
[]
[null,"中標津暦１","暦年 計",{"$f":"SUM(D1897:D1908)","v":2},{"$f":"SUM(E1897:E1908)","v":1581},{"$f":"SUM(F1897:F1908)","v":1583},{"$f":"SUM(G1897:G1908)","v":158},{"$f":"SUM(H1897:H1908)","v":158},0,316,99148,103237,202385,202701,2483,{"$f":"SUM(P1897:P1908)","v":0},{"$f":"SUM(Q1897:Q1908)","v":2483}]
[]
[null,null,"1月",0,119,{"$f":"SUM(D1912:E1912)","v":119},0,0,0,{"$f":"SUM(G1912:I1912)","v":0},7344,6395,{"$f":"SUM(K1912:L1912)","v":13739},{"$f":"J1912+M1912","v":13739},153,0,{"$f":"SUM(O1912:P1912)","v":153}]
[null,null,"2月",0,125,{"$f":"SUM(D1913:E1913)","v":125},0,0,0,{"$f":"SUM(G1913:I1913)","v":0},6843,6233,{"$f":"SUM(K1913:L1913)","v":13076},{"$f":"J1913+M1913","v":13076},149,0,{"$f":"SUM(O1913:P1913)","v":149}]
[null,null,"3月",0,129,{"$f":"SUM(D1914:E1914)","v":129},0,0,0,{"$f":"SUM(G1914:I1914)","v":0},7385,6959,{"$f":"SUM(K1914:L1914)","v":14344},{"$f":"J1914+M1914","v":14344},126,0,{"$f":"SUM(O1914:P1914)","v":126}]
[]
[null,"中標津度１","年度計",{"$f":"SUM(D1900:D1908,D1912:D1914)","v":0},{"$f":"SUM(E1900:E1908,E1912:E1914)","v":1598},{"$f":"SUM(F1900:F1908,F1912:F1914)","v":1598},{"$f":"SUM(G1900:G1908,G1912:G1914)","v":0},0,0,0,100477,103773,204250,204250,2411,0,{"$f":"SUM(Q1900:Q1908,Q1912:Q1914)","v":2411}]
[]
[]
[]
[null,null,"項目",null,null,null,"貨 物 取 扱 量 （トン）",null,null,null,null,null,null,"郵 便 取 扱 量 （kg）"]
[null,null,null,null,"国 際 線",null,null,"国 内 線",null,"合計",null,"国 際 線",null,null,"国 内 線",null,"合 計"]
[null,null,"月別","積","卸","小 計","積","卸","小 計",null,"積","卸","小 計","積","卸","小 計"]
[]
[null,null,"1月",0,0,{"$f":"SUM(D1924:E1924)","v":0},21,1,{"$f":"SUM(G1924:H1924)","v":22},{"$f":"F1924+I1924","v":22},0,0,{"$f":"SUM(K1924:L1924)","v":0},0,0,{"$f":"SUM(N1924:O1924)","v":0},{"$f":"M1924+P1924","v":0}]
[null,null,"2月",0,0,{"$f":"SUM(D1925:E1925)","v":0},17,1,{"$f":"SUM(G1925:H1925)","v":18},{"$f":"F1925+I1925","v":18},0,0,{"$f":"SUM(K1925:L1925)","v":0},0,0,{"$f":"SUM(N1925:O1925)","v":0},{"$f":"M1925+P1925","v":0}]
[null,null,"3月",0,0,{"$f":"SUM(D1926:E1926)","v":0},28,2,{"$f":"SUM(G1926:H1926)","v":30},{"$f":"F1926+I1926","v":30},0,0,{"$f":"SUM(K1926:L1926)","v":0},0,0,{"$f":"SUM(N1926:O1926)","v":0},{"$f":"M1926+P1926","v":0}]
[null,null,"4月",0,0,{"$f":"SUM(D1927:E1927)","v":0},23,1,{"$f":"SUM(G1927:H1927)","v":24},{"$f":"F1927+I1927","v":24},0,0,{"$f":"SUM(K1927:L1927)","v":0},0,0,{"$f":"SUM(N1927:O1927)","v":0},{"$f":"M1927+P1927","v":0}]
[null,null,"5月",0,0,0,20,1,21,21,0,0,0,0,0,0,0]
[null,null,"6月",0,0,0,45,1,46,46,0,0,0,0,0,0,0]
[null,null,"7月",0,0,0,65,1,66,66,0,0,0,0,0,0,0]
[null,null,"8月",0,0,0,70,3,73,73,0,0,0,0,0,0,0]
[null,null,"9月",0,0,0,67,2,69,69,0,0,0,0,0,0,0]
[null,null,"10月",0,0,0,33,1,34,34,0,0,0,0,0,0,0]
[null,null,"11月",0,0,0,17,1,18,18,0,0,0,0,0,0,0]
[null,null,"12月",0,0,0,28,2,30,30,0,0,0,0,0,0,0]
[]
[null,"中標津暦２","暦年 計",{"$f":"SUM(D1924:D1936)","v":0},0,0,{"$f":"SUM(G1924:G1935)","v":434},{"$f":"SUM(H1924:H1935)","v":17},451,451,0,0,{"$f":"SUM(M1924:M1936)","v":0},{"$f":"SUM(N1924:N1936)","v":0},{"$f":"SUM(O1924:O1936)","v":0},{"$f":"SUM(P1924:P1936)","v":0},{"$f":"SUM(Q1924:Q1936)","v":0}]
[]
[null,null,"1月",0,0,0,19,0,{"$f":"SUM(G1939:H1939)","v":19},{"$f":"F1939+I1939","v":19},0,0,{"$f":"SUM(K1939:L1939)","v":0},0,0,{"$f":"SUM(N1939:O1939)","v":0},{"$f":"M1939+P1939","v":0}]
[null,null,"2月",0,0,{"$f":"SUM(D1940:E1940)","v":0},19,1,{"$f":"SUM(G1940:H1940)","v":20},{"$f":"F1940+I1940","v":20},0,0,{"$f":"SUM(K1940:L1940)","v":0},0,0,{"$f":"SUM(N1940:O1940)","v":0},{"$f":"M1940+P1940","v":0}]
[null,null,"3月",0,0,{"$f":"SUM(D1941:E1941)","v":0},24,1,{"$f":"SUM(G1941:H1941)","v":25},{"$f":"F1941+I1941","v":25},0,0,{"$f":"SUM(K1941:L1941)","v":0},0,0,{"$f":"SUM(N1941:O1941)","v":0},{"$f":"M1941+P1941","v":0}]
[]
[null,"中標津度２","年度計",{"$f":"SUM(D1927:D1935,D1939:D1941)","v":0},0,0,430,15,445,445,0,0,0,0,0,0,0]
[]
[null,null,{"$f":"C1891","v":"平　成　２　８　年　空　港　管　理　状　況　調　書"}]
[null,null,"空港名 ：","紋    別              （地方管理）"]
[null,null,"項目",null,"着 陸 回 数 （回）",null,"乗   降   客   数   （人）",null,null,null,null,null,null,null,"航空燃料供給量　（KＬ）"]
[null,null,null,"国際線","国内線","計",null,"国 際 線",null,null,null,"国 内 線",null,"合 計","ジェット燃料","その他燃料","合計"]
[null,null,"月別",null,null,null,"乗 客","降 客","通過客","小 計","乗 客","降 客","小 計"]
[]
[null,null,"1月",0,30,{"$f":"SUM(D1951:E1951)","v":30},0,0,0,{"$f":"SUM(G1951:I1951)","v":0},2610,2677,{"$f":"SUM(K1951:L1951)","v":5287},{"$f":"J1951+M1951","v":5287},105,0,{"$f":"SUM(O1951:P1951)","v":105}]
[null,null,"2月",0,27,{"$f":"SUM(D1952:E1952)","v":27},0,0,0,{"$f":"SUM(G1952:I1952)","v":0},2883,3883,{"$f":"SUM(K1952:L1952)","v":6766},{"$f":"J1952+M1952","v":6766},83,0,{"$f":"SUM(O1952:P1952)","v":83}]
[null,null,"3月",0,31,{"$f":"SUM(D1953:E1953)","v":31},0,0,0,{"$f":"SUM(G1953:I1953)","v":0},2681,3487,{"$f":"SUM(K1953:L1953)","v":6168},{"$f":"J1953+M1953","v":6168},145,0,{"$f":"SUM(O1953:P1953)","v":145}]
[null,null,"4月",0,29,{"$f":"SUM(D1954:E1954)","v":29},0,0,0,{"$f":"SUM(G1954:I1954)","v":0},1751,2391,{"$f":"SUM(K1954:L1954)","v":4142},{"$f":"J1954+M1954","v":4142},122,0,{"$f":"SUM(O1954:P1954)","v":122}]
[null,null,"5月",0,32,32,0,0,0,0,2152,3117,5269,5269,151,0,151]
[null,null,"6月",0,33,33,0,0,0,0,2463,3640,6103,6103,131,0,131]
[null,null,"7月",0,39,39,0,0,0,0,2425,3148,5573,5573,105,0,105]
[null,null,"8月",0,32,32,0,0,0,0,3178,3466,6644,6644,148,0,148]
[null,null,"9月",0,36,36,0,0,0,0,3208,3766,6974,6974,152,0,152]
[null,null,"10月",0,36,36,0,0,0,0,3044,3802,6846,6846,145,0,145]
[null,null,"11月",0,31,31,0,0,0,0,2391,3133,5524,5524,99,0,99]
[null,null,"12月",0,31,31,0,0,0,0,2183,2591,4774,4774,79,0,79]
[]
[null,"紋別暦１","暦年 計",{"$f":"SUM(D1951:D1962)","v":0},{"$f":"SUM(E1951:E1962)","v":387},{"$f":"SUM(F1951:F1962)","v":387},{"$f":"SUM(G1951:G1962)","v":0},{"$f":"SUM(H1951:H1962)","v":0},0,0,30969,39101,70070,70070,1465,{"$f":"SUM(P1951:P1962)","v":0},{"$f":"SUM(Q1951:Q1962)","v":1465}]
[]
[null,null,"1月",0,31,{"$f":"SUM(D1966:E1966)","v":31},0,0,0,{"$f":"SUM(G1966:I1966)","v":0},3549,2846,{"$f":"SUM(K1966:L1966)","v":6395},{"$f":"J1966+M1966","v":6395},96,0,{"$f":"SUM(O1966:P1966)","v":96}]
[null,null,"2月",0,28,{"$f":"SUM(D1967:E1967)","v":28},0,0,0,{"$f":"SUM(G1967:I1967)","v":0},3315,3944,{"$f":"SUM(K1967:L1967)","v":7259},{"$f":"J1967+M1967","v":7259},98,0,{"$f":"SUM(O1967:P1967)","v":98}]
[null,null,"3月",0,31,{"$f":"SUM(D1968:E1968)","v":31},0,0,0,{"$f":"SUM(G1968:I1968)","v":0},3529,2997,{"$f":"SUM(K1968:L1968)","v":6526},{"$f":"J1968+M1968","v":6526},123,0,{"$f":"SUM(O1968:P1968)","v":123}]
[]
[null,"紋別度１","年度計",{"$f":"SUM(D1954:D1962,D1966:D1968)","v":0},{"$f":"SUM(E1954:E1962,E1966:E1968)","v":389},{"$f":"SUM(F1954:F1962,F1966:F1968)","v":389},{"$f":"SUM(G1954:G1962,G1966:G1968)","v":0},0,0,0,33188,38841,72029,72029,1449,0,{"$f":"SUM(Q1954:Q1962,Q1966:Q1968)","v":1449}]
[]
[]
[]
[null,null,"項目",null,null,null,"貨 物 取 扱 量 （トン）",null,null,null,null,null,null,"郵 便 取 扱 量 （kg）"]
[null,null,null,null,"国 際 線",null,null,"国 内 線",null,"合計",null,"国 際 線",null,null,"国 内 線",null,"合 計"]
[null,null,"月別","積","卸","小 計","積","卸","小 計",null,"積","卸","小 計","積","卸","小 計"]
[]
[null,null,"1月",0,0,{"$f":"SUM(D1978:E1978)","v":0},0,0,{"$f":"SUM(G1978:H1978)","v":0},{"$f":"F1978+I1978","v":0},0,0,{"$f":"SUM(K1978:L1978)","v":0},0,0,{"$f":"SUM(N1978:O1978)","v":0},{"$f":"M1978+P1978","v":0}]
[null,null,"2月",0,0,0,0,0,0,0,0,0,0,0,0,0,0]
[null,null,"3月",0,0,0,0,0,0,0,0,0,0,0,0,0,0]
[null,null,"4月",0,0,0,0,0,0,0,0,0,0,0,0,0,0]
[null,null,"5月",0,0,0,1,0,1,1,0,0,0,0,0,0,0]
[null,null,"6月",0,0,0,0,0,0,0,0,0,0,0,0,0,0]
[null,null,"7月",0,0,0,0,0,0,0,0,0,0,0,0,0,0]
[null,null,"8月",0,0,0,0,0,0,0,0,0,0,0,0,0,0]
[null,null,"9月",0,0,0,0,0,0,0,0,0,0,0,0,0,0]
[null,null,"10月",0,0,0,0,0,0,0,0,0,0,0,0,0,0]
[null,null,"11月",0,0,0,0,0,0,0,0,0,0,0,0,0,0]
[null,null,"12月",0,0,0,0,0,0,0,0,0,0,0,0,0,0]
[]
[null,"紋別暦２","暦年 計",{"$f":"SUM(D1978:D1990)","v":0},0,0,1,0,1,1,0,0,{"$f":"SUM(M1978:M1990)","v":0},{"$f":"SUM(N1978:N1990)","v":0},{"$f":"SUM(O1978:O1990)","v":0},{"$f":"SUM(P1978:P1990)","v":0},{"$f":"SUM(Q1978:Q1990)","v":0}]
[]
[null,null,"1月",0,0,{"$f":"SUM(D1993:E1993)","v":0},0,0,{"$f":"SUM(G1993:H1993)","v":0},{"$f":"F1993+I1993","v":0},0,0,{"$f":"SUM(K1993:L1993)","v":0},0,0,{"$f":"SUM(N1993:O1993)","v":0},{"$f":"M1993+P1993","v":0}]
[null,null,"2月",0,0,{"$f":"SUM(D1994:E1994)","v":0},0,0,{"$f":"SUM(G1994:H1994)","v":0},{"$f":"F1994+I1994","v":0},0,0,{"$f":"SUM(K1994:L1994)","v":0},0,0,{"$f":"SUM(N1994:O1994)","v":0},{"$f":"M1994+P1994","v":0}]
[null,null,"3月",0,0,{"$f":"SUM(D1995:E1995)","v":0},0,0,{"$f":"SUM(G1995:H1995)","v":0},{"$f":"F1995+I1995","v":0},0,0,{"$f":"SUM(K1995:L1995)","v":0},0,0,{"$f":"SUM(N1995:O1995)","v":0},{"$f":"M1995+P1995","v":0}]
[]
[null,"紋別度２","年度計",{"$f":"SUM(D1981:D1989,D1993:D1995)","v":0},{"$f":"SUM(E1981:E1989,E1993:E1995)","v":0},{"$f":"SUM(F1981:F1989,F1993:F1995)","v":0},{"$f":"SUM(G1981:G1989,G1993:G1995)","v":1},0,1,1,0,0,{"$f":"SUM(M1981:M1989,M1993:M1995)","v":0},{"$f":"SUM(N1981:N1989,N1993:N1995)","v":0},{"$f":"SUM(O1981:O1989,O1993:O1995)","v":0},{"$f":"SUM(P1981:P1989,P1993:P1995)","v":0},{"$f":"SUM(Q1981:Q1989,Q1993:Q1995)","v":0}]
[]
[null,null,{"$f":"C1945","v":"平　成　２　８　年　空　港　管　理　状　況　調　書"}]
[null,null,"空港名 ：","女 満 別              （地方管理）"]
[null,null,"項目",null,"着 陸 回 数 （回）",null,"乗   降   客   数   （人）",null,null,null,null,null,null,null,"航空燃料供給量　（KＬ）"]
[null,null,null,"国際線","国内線","計",null,"国 際 線",null,null,null,"国 内 線",null,"合 計","ジェット燃料","その他燃料","合計"]
[null,null,"月別",null,null,null,"乗 客","降 客","通過客","小 計","乗 客","降 客","小 計"]
[]
[null,null,"1月",0,379,{"$f":"SUM(D2005:E2005)","v":379},0,0,0,{"$f":"SUM(G2005:I2005)","v":0},27162,25044,{"$f":"SUM(K2005:L2005)","v":52206},{"$f":"J2005+M2005","v":52206},910,0,{"$f":"SUM(O2005:P2005)","v":910}]
[null,null,"2月",2,392,{"$f":"SUM(D2006:E2006)","v":394},185,185,0,{"$f":"SUM(G2006:I2006)","v":370},30106,29387,{"$f":"SUM(K2006:L2006)","v":59493},{"$f":"J2006+M2006","v":59863},998,0,{"$f":"SUM(O2006:P2006)","v":998}]
[null,null,"3月",0,405,{"$f":"SUM(D2007:E2007)","v":405},0,0,0,{"$f":"SUM(G2007:I2007)","v":0},28030,27257,{"$f":"SUM(K2007:L2007)","v":55287},{"$f":"J2007+M2007","v":55287},1089,0,{"$f":"SUM(O2007:P2007)","v":1089}]
[null,null,"4月",0,391,{"$f":"SUM(D2008:E2008)","v":391},0,0,0,{"$f":"SUM(G2008:I2008)","v":0},22377,24052,{"$f":"SUM(K2008:L2008)","v":46429},{"$f":"J2008+M2008","v":46429},940,0,{"$f":"SUM(O2008:P2008)","v":940}]
[null,null,"5月",0,432,432,0,0,0,0,28337,27888,56225,56225,1133,0,1133]
[null,null,"6月",0,410,410,0,0,0,0,31259,34307,65566,65566,1177,0,1177]
[null,null,"7月",0,448,448,0,0,0,0,38503,39302,77805,77805,1487,0,1487]
[null,null,"8月",0,492,492,0,0,0,0,50110,46776,96886,96886,2031,1,2032]
[null,null,"9月",0,437,437,0,0,0,0,42366,42152,84518,84518,1798,1,1799]
[null,null,"10月",0,433,433,0,0,0,0,35713,35159,70872,70872,1292,1,1293]
[null,null,"11月",0,395,395,0,0,0,0,28696,28039,56735,56735,999,1,1000]
[null,null,"12月",0,330,330,0,0,0,0,21788,24810,46598,46598,797,0,797]
[]
[null,"女満別暦１","暦年 計",{"$f":"SUM(D2005:D2016)","v":2},{"$f":"SUM(E2005:E2016)","v":4944},{"$f":"SUM(F2005:F2016)","v":4946},{"$f":"SUM(G2005:G2016)","v":185},{"$f":"SUM(H2005:H2016)","v":185},{"$f":"SUM(I2005:I2016)","v":0},370,384447,384173,768620,768990,14651,{"$f":"SUM(P2005:P2016)","v":4},{"$f":"SUM(Q2005:Q2016)","v":14655}]
[]
[null,null,"1月",0,348,{"$f":"SUM(D2020:E2020)","v":348},0,0,0,{"$f":"SUM(G2020:I2020)","v":0},26668,25236,{"$f":"SUM(K2020:L2020)","v":51904},{"$f":"J2020+M2020","v":51904},782,0,{"$f":"SUM(O2020:P2020)","v":782}]
[null,null,"2月",0,361,{"$f":"SUM(D2021:E2021)","v":361},0,0,0,{"$f":"SUM(G2021:I2021)","v":0},32632,32032,{"$f":"SUM(K2021:L2021)","v":64664},{"$f":"J2021+M2021","v":64664},1052,0,{"$f":"SUM(O2021:P2021)","v":1052}]
[null,null,"3月",0,382,{"$f":"SUM(D2022:E2022)","v":382},0,0,0,{"$f":"SUM(G2022:I2022)","v":0},32121,30509,{"$f":"SUM(K2022:L2022)","v":62630},{"$f":"J2022+M2022","v":62630},1004,0,{"$f":"SUM(O2022:P2022)","v":1004}]
[]
[null,"女満別度１","年度計",{"$f":"SUM(D2008:D2016,D2020:D2022)","v":0},{"$f":"SUM(E2008:E2016,E2020:E2022)","v":4859},{"$f":"SUM(F2008:F2016,F2020:F2022)","v":4859},{"$f":"SUM(G2008:G2016,G2020:G2022)","v":0},{"$f":"SUM(H2008:H2016,H2020:H2022)","v":0},{"$f":"SUM(I2008:I2016,I2020:I2022)","v":0},0,390570,390262,780832,780832,14492,4,{"$f":"SUM(Q2008:Q2016,Q2020:Q2022)","v":14496}]
[]
[]
[]
[null,null,"項目",null,null,null,"貨 物 取 扱 量 （トン）",null,null,null,null,null,null,"郵 便 取 扱 量 （kg）"]
[null,null,null,null,"国 際 線",null,null,"国 内 線",null,"合計",null,"国 際 線",null,null,"国 内 線",null,"合 計"]
[null,null,"月別","積","卸","小 計","積","卸","小 計",null,"積","卸","小 計","積","卸","小 計"]
[]
[null,null,"1月",0,0,{"$f":"SUM(D2032:E2032)","v":0},53,29,{"$f":"SUM(G2032:H2032)","v":82},{"$f":"F2032+I2032","v":82},0,0,{"$f":"SUM(K2032:L2032)","v":0},3178,0,{"$f":"SUM(N2032:O2032)","v":3178},{"$f":"M2032+P2032","v":3178}]
[null,null,"2月",0,0,{"$f":"SUM(D2033:E2033)","v":0},44,38,{"$f":"SUM(G2033:H2033)","v":82},{"$f":"F2033+I2033","v":82},0,0,{"$f":"SUM(K2033:L2033)","v":0},3514,0,{"$f":"SUM(N2033:O2033)","v":3514},{"$f":"M2033+P2033","v":3514}]
[null,null,"3月",0,0,{"$f":"SUM(D2034:E2034)","v":0},54,33,{"$f":"SUM(G2034:H2034)","v":87},{"$f":"F2034+I2034","v":87},0,0,{"$f":"SUM(K2034:L2034)","v":0},4013,0,{"$f":"SUM(N2034:O2034)","v":4013},{"$f":"M2034+P2034","v":4013}]
[null,null,"4月",0,0,{"$f":"SUM(D2035:E2035)","v":0},48,28,{"$f":"SUM(G2035:H2035)","v":76},{"$f":"F2035+I2035","v":76},0,0,{"$f":"SUM(K2035:L2035)","v":0},3673,0,{"$f":"SUM(N2035:O2035)","v":3673},{"$f":"M2035+P2035","v":3673}]
[null,null,"5月",0,0,0,49,25,74,74,0,0,0,3624,0,3624,3624]
[null,null,"6月",0,0,0,80,36,116,116,0,0,0,3570,0,3570,3570]
[null,null,"7月",0,0,0,114,48,162,162,0,0,0,3487,0,3487,3487]
[null,null,"8月",0,0,0,180,45,225,225,0,0,0,2984,0,2984,2984]
[null,null,"9月",0,0,0,173,58,231,231,0,0,0,3599,0,3599,3599]
[null,null,"10月",0,0,0,127,59,186,186,0,0,0,3624,0,3624,3624]
[null,null,"11月",0,0,0,98,44,142,142,0,0,0,3859,0,3859,3859]
[null,null,"12月",0,0,0,146,91,237,237,0,0,0,3978,0,3978,3978]
[]
[null,"女満別暦２","暦年 計",{"$f":"SUM(D2032:D2044)","v":0},0,0,1166,534,1700,1700,0,0,{"$f":"SUM(M2032:M2044)","v":0},{"$f":"SUM(N2032:N2044)","v":43103},{"$f":"SUM(O2032:O2044)","v":0},{"$f":"SUM(P2032:P2044)","v":43103},{"$f":"SUM(Q2032:Q2044)","v":43103}]
[]
[null,null,"1月",0,0,{"$f":"SUM(D2047:E2047)","v":0},76,50,{"$f":"SUM(G2047:H2047)","v":126},{"$f":"F2047+I2047","v":126},0,0,{"$f":"SUM(K2047:L2047)","v":0},3338,0,{"$f":"SUM(N2047:O2047)","v":3338},{"$f":"M2047+P2047","v":3338}]
[null,null,"2月",0,0,{"$f":"SUM(D2048:E2048)","v":0},98,60,{"$f":"SUM(G2048:H2048)","v":158},{"$f":"F2048+I2048","v":158},0,0,{"$f":"SUM(K2048:L2048)","v":0},3291,0,{"$f":"SUM(N2048:O2048)","v":3291},{"$f":"M2048+P2048","v":3291}]
[null,null,"3月",0,0,{"$f":"SUM(D2049:E2049)","v":0},59,60,{"$f":"SUM(G2049:H2049)","v":119},{"$f":"F2049+I2049","v":119},0,0,{"$f":"SUM(K2049:L2049)","v":0},4097,0,{"$f":"SUM(N2049:O2049)","v":4097},{"$f":"M2049+P2049","v":4097}]
[]
[null,"女満別度２","年度計",{"$f":"SUM(D2035:D2043,D2047:D2049)","v":0},{"$f":"SUM(E2035:E2043,E2047:E2049)","v":0},{"$f":"SUM(F2035:F2043,F2047:F2049)","v":0},{"$f":"SUM(G2035:G2043,G2047:G2049)","v":1248},604,1852,1852,0,0,{"$f":"SUM(M2035:M2043,M2047:M2049)","v":0},{"$f":"SUM(N2035:N2043,N2047:N2049)","v":43124},{"$f":"SUM(O2035:O2043,O2047:O2049)","v":0},{"$f":"SUM(P2035:P2043,P2047:P2049)","v":43124},{"$f":"SUM(Q2035:Q2043,Q2047:Q2049)","v":43124}]
[]
[null,null,{"$f":"C1999","v":"平　成　２　８　年　空　港　管　理　状　況　調　書"}]
[null,null,"空港名 ：","青    森              （地方管理）"]
[null,null,"項目",null,"着 陸 回 数 （回）",null,"乗   降   客   数   （人）",null,null,null,null,null,null,null,"航空燃料供給量　（KＬ）"]
[null,null,null,"国際線","国内線","計",null,"国 際 線",null,null,null,"国 内 線",null,"合 計","ジェット燃料","その他燃料","合計"]
[null,null,"月別",null,null,null,"乗 客","降 客","通過客","小 計","乗 客","降 客","小 計"]
[]
[null,null,"1月",16,562,{"$f":"SUM(D2059:E2059)","v":578},1901,2044,0,{"$f":"SUM(G2059:I2059)","v":3945},33900,31428,{"$f":"SUM(K2059:L2059)","v":65328},{"$f":"J2059+M2059","v":69273},828,0,{"$f":"SUM(O2059:P2059)","v":828}]
[null,null,"2月",17,558,{"$f":"SUM(D2060:E2060)","v":575},2110,1971,0,{"$f":"SUM(G2060:I2060)","v":4081},33930,34612,{"$f":"SUM(K2060:L2060)","v":68542},{"$f":"J2060+M2060","v":72623},891,0,{"$f":"SUM(O2060:P2060)","v":891}]
[null,null,"3月",13,651,{"$f":"SUM(D2061:E2061)","v":664},1418,1401,0,{"$f":"SUM(G2061:I2061)","v":2819},40902,40572,{"$f":"SUM(K2061:L2061)","v":81474},{"$f":"J2061+M2061","v":84293},1270,0,{"$f":"SUM(O2061:P2061)","v":1270}]
[null,null,"4月",22,657,{"$f":"SUM(D2062:E2062)","v":679},2792,2798,0,{"$f":"SUM(G2062:I2062)","v":5590},36906,40547,{"$f":"SUM(K2062:L2062)","v":77453},{"$f":"J2062+M2062","v":83043},1543,1,{"$f":"SUM(O2062:P2062)","v":1544}]
[null,null,"5月",15,726,741,1340,1489,0,2829,42609,42879,85488,88317,1531,3,1534]
[null,null,"6月",13,680,693,1136,1180,0,2316,42857,45084,87941,90257,1329,2,1331]
[null,null,"7月",14,734,748,1471,1643,0,3114,46605,49186,95791,98905,1543,2,1545]
[null,null,"8月",13,731,744,1510,1460,0,2970,53988,55115,109103,112073,1719,7,1726]
[null,null,"9月",13,736,749,1316,1334,0,2650,48783,50556,99339,101989,1677,2,1679]
[null,null,"10月",24,716,740,3012,3067,0,6079,49403,51565,100968,107047,1605,4,1609]
[null,null,"11月",16,657,673,1976,1674,0,3650,43727,43389,87116,90766,1298,1,1299]
[null,null,"12月",14,603,617,1361,1189,0,2550,33260,38158,71418,73968,1048,1,1049]
[]
[null,"青森暦１","暦年 計",{"$f":"SUM(D2059:D2070)","v":190},{"$f":"SUM(E2059:E2070)","v":8011},{"$f":"SUM(F2059:F2070)","v":8201},{"$f":"SUM(G2059:G2070)","v":21343},{"$f":"SUM(H2059:H2070)","v":21250},0,42593,506870,523091,1029961,1072554,16282,{"$f":"SUM(P2059:P2070)","v":23},{"$f":"SUM(Q2059:Q2070)","v":16305}]
[]
[null,null,"1月",28,585,{"$f":"SUM(D2074:E2074)","v":613},1305,1451,0,{"$f":"SUM(G2074:I2074)","v":2756},35135,31661,{"$f":"SUM(K2074:L2074)","v":66796},{"$f":"J2074+M2074","v":69552},1030,0,{"$f":"SUM(O2074:P2074)","v":1030}]
[null,null,"2月",41,542,{"$f":"SUM(D2075:E2075)","v":583},6169,6019,0,{"$f":"SUM(G2075:I2075)","v":12188},33116,32610,{"$f":"SUM(K2075:L2075)","v":65726},{"$f":"J2075+M2075","v":77914},1127,0,{"$f":"SUM(O2075:P2075)","v":1127}]
[null,null,"3月",29,660,{"$f":"SUM(D2076:E2076)","v":689},3647,3042,0,{"$f":"SUM(G2076:I2076)","v":6689},41857,41427,{"$f":"SUM(K2076:L2076)","v":83284},{"$f":"J2076+M2076","v":89973},1314,1,{"$f":"SUM(O2076:P2076)","v":1315}]
[]
[null,"青森度１","年度計",{"$f":"SUM(D2062:D2070,D2074:D2076)","v":242},{"$f":"SUM(E2062:E2070,E2074:E2076)","v":8027},{"$f":"SUM(F2062:F2070,F2074:F2076)","v":8269},{"$f":"SUM(G2062:G2070,G2074:G2076)","v":27035},26346,0,53381,508246,522177,1030423,1083804,16764,24,{"$f":"SUM(Q2062:Q2070,Q2074:Q2076)","v":16788}]
[]
[]
[]
[null,null,"項目",null,null,null,"貨 物 取 扱 量 （トン）",null,null,null,null,null,null,"郵 便 取 扱 量 （kg）"]
[null,null,null,null,"国 際 線",null,null,"国 内 線",null,"合計",null,"国 際 線",null,null,"国 内 線",null,"合 計"]
[null,null,"月別","積","卸","小 計","積","卸","小 計",null,"積","卸","小 計","積","卸","小 計"]
[]
[null,null,"1月",0,0,{"$f":"SUM(D2086:E2086)","v":0},40,77,{"$f":"SUM(G2086:H2086)","v":117},{"$f":"F2086+I2086","v":117},0,0,{"$f":"SUM(K2086:L2086)","v":0},25725,43522,{"$f":"SUM(N2086:O2086)","v":69247},{"$f":"M2086+P2086","v":69247}]
[null,null,"2月",0,0,{"$f":"SUM(D2087:E2087)","v":0},41,80,{"$f":"SUM(G2087:H2087)","v":121},{"$f":"F2087+I2087","v":121},0,0,{"$f":"SUM(K2087:L2087)","v":0},28001,40338,{"$f":"SUM(N2087:O2087)","v":68339},{"$f":"M2087+P2087","v":68339}]
[null,null,"3月",0,0,{"$f":"SUM(D2088:E2088)","v":0},48,97,{"$f":"SUM(G2088:H2088)","v":145},{"$f":"F2088+I2088","v":145},0,0,{"$f":"SUM(K2088:L2088)","v":0},26922,47170,{"$f":"SUM(N2088:O2088)","v":74092},{"$f":"M2088+P2088","v":74092}]
[null,null,"4月",0,0,{"$f":"SUM(D2089:E2089)","v":0},50,90,{"$f":"SUM(G2089:H2089)","v":140},{"$f":"F2089+I2089","v":140},0,0,{"$f":"SUM(K2089:L2089)","v":0},26304,43637,{"$f":"SUM(N2089:O2089)","v":69941},{"$f":"M2089+P2089","v":69941}]
[null,null,"5月",0,0,0,61,80,141,141,0,0,0,26836,41328,68164,68164]
[null,null,"6月",0,0,0,58,104,162,162,0,0,0,26784,50643,77427,77427]
[null,null,"7月",0,0,0,55,96,151,151,0,0,0,27628,58114,85742,85742]
[null,null,"8月",0,0,0,52,92,144,144,0,0,0,30261,51826,82087,82087]
[null,null,"9月",0,0,0,49,103,152,152,0,0,0,28478,33829,62307,62307]
[null,null,"10月",0,0,0,53,87,140,140,0,0,0,32425,38153,70578,70578]
[null,null,"11月",0,0,0,51,107,158,158,0,0,0,30884,38282,69166,69166]
[null,null,"12月",0,0,0,48,113,161,161,0,0,0,44226,46495,90721,90721]
[]
[null,"青森暦２","暦年 計",{"$f":"SUM(D2086:D2098)","v":0},0,0,606,1126,1732,1732,0,0,{"$f":"SUM(M2086:M2098)","v":0},{"$f":"SUM(N2086:N2098)","v":354474},{"$f":"SUM(O2086:O2098)","v":533337},{"$f":"SUM(P2086:P2098)","v":887811},{"$f":"SUM(Q2086:Q2098)","v":887811}]
[]
[null,null,"1月",0,0,{"$f":"SUM(D2101:E2101)","v":0},38,80,{"$f":"SUM(G2101:H2101)","v":118},{"$f":"F2101+I2101","v":118},0,0,{"$f":"SUM(K2101:L2101)","v":0},26906,35974,{"$f":"SUM(N2101:O2101)","v":62880},{"$f":"M2101+P2101","v":62880}]
[null,null,"2月",0,0,{"$f":"SUM(D2102:E2102)","v":0},43,86,{"$f":"SUM(G2102:H2102)","v":129},{"$f":"F2102+I2102","v":129},0,0,{"$f":"SUM(K2102:L2102)","v":0},23658,32625,{"$f":"SUM(N2102:O2102)","v":56283},{"$f":"M2102+P2102","v":56283}]
[null,null,"3月",0,0,{"$f":"SUM(D2103:E2103)","v":0},55,101,{"$f":"SUM(G2103:H2103)","v":156},{"$f":"F2103+I2103","v":156},0,0,{"$f":"SUM(K2103:L2103)","v":0},24883,39820,{"$f":"SUM(N2103:O2103)","v":64703},{"$f":"M2103+P2103","v":64703}]
[]
[null,"青森度２","年度計",{"$f":"SUM(D2089:D2097,D2101:D2103)","v":0},{"$f":"SUM(E2089:E2097,E2101:E2103)","v":0},{"$f":"SUM(F2089:F2097,F2101:F2103)","v":0},{"$f":"SUM(G2089:G2097,G2101:G2103)","v":613},1139,1752,1752,0,0,{"$f":"SUM(M2089:M2097,M2101:M2103)","v":0},{"$f":"SUM(N2089:N2097,N2101:N2103)","v":349273},{"$f":"SUM(O2089:O2097,O2101:O2103)","v":510726},{"$f":"SUM(P2089:P2097,P2101:P2103)","v":859999},{"$f":"SUM(Q2089:Q2097,Q2101:Q2103)","v":859999}]
[]
[null,null,{"$f":"C2053","v":"平　成　２　８　年　空　港　管　理　状　況　調　書"}]
[null,null,"空港名 ：","花    巻              （地方管理）"]
[null,null,"項目",null,"着 陸 回 数 （回）",null,"乗   降   客   数   （人）",null,null,null,null,null,null,null,"航空燃料供給量　（KＬ）"]
[null,null,null,"国際線","国内線","計",null,"国 際 線",null,null,null,"国 内 線",null,"合 計","ジェット燃料","その他燃料","合計"]
[null,null,"月別",null,null,null,"乗 客","降 客","通過客","小 計","乗 客","降 客","小 計"]
[]
[null,null,"1月",0,409,{"$f":"SUM(D2113:E2113)","v":409},0,0,0,{"$f":"SUM(G2113:I2113)","v":0},13386,13503,{"$f":"SUM(K2113:L2113)","v":26889},{"$f":"J2113+M2113","v":26889},446,1,{"$f":"SUM(O2113:P2113)","v":447}]
[null,null,"2月",0,417,{"$f":"SUM(D2114:E2114)","v":417},0,0,0,{"$f":"SUM(G2114:I2114)","v":0},13112,13352,{"$f":"SUM(K2114:L2114)","v":26464},{"$f":"J2114+M2114","v":26464},516,0,{"$f":"SUM(O2114:P2114)","v":516}]
[null,null,"3月",0,455,{"$f":"SUM(D2115:E2115)","v":455},0,0,0,{"$f":"SUM(G2115:I2115)","v":0},16580,16497,{"$f":"SUM(K2115:L2115)","v":33077},{"$f":"J2115+M2115","v":33077},611,1,{"$f":"SUM(O2115:P2115)","v":612}]
[null,null,"4月",8,447,{"$f":"SUM(D2116:E2116)","v":455},752,871,0,{"$f":"SUM(G2116:I2116)","v":1623},15114,15036,{"$f":"SUM(K2116:L2116)","v":30150},{"$f":"J2116+M2116","v":31773},733,0,{"$f":"SUM(O2116:P2116)","v":733}]
[null,null,"5月",2,519,521,200,201,0,401,17860,17098,34958,35359,690,1,691]
[null,null,"6月",9,499,508,1116,1180,0,2296,19445,18401,37846,40142,841,1,842]
[null,null,"7月",0,473,473,0,0,0,0,19191,18654,37845,37845,772,1,773]
[null,null,"8月",0,509,509,0,0,0,0,21242,20601,41843,41843,795,3,798]
[null,null,"9月",0,740,740,0,0,0,0,19988,19872,39860,39860,936,3,939]
[null,null,"10月",2,555,557,147,298,0,445,22720,21940,44660,45105,768,3,771]
[null,null,"11月",3,513,516,442,291,0,733,18584,17747,36331,37064,648,2,650]
[null,null,"12月",0,391,391,0,0,0,0,13040,13364,26404,26404,492,1,493]
[]
[null,"花巻暦１","暦年 計",{"$f":"SUM(D2113:D2124)","v":24},{"$f":"SUM(E2113:E2124)","v":5927},{"$f":"SUM(F2113:F2124)","v":5951},{"$f":"SUM(G2113:G2124)","v":2657},{"$f":"SUM(H2113:H2124)","v":2841},0,5498,210262,206065,416327,421825,8248,{"$f":"SUM(P2113:P2124)","v":17},{"$f":"SUM(Q2113:Q2124)","v":8265}]
[]
[null,null,"1月",0,415,{"$f":"SUM(D2128:E2128)","v":415},0,0,0,{"$f":"SUM(G2128:I2128)","v":0},13799,13667,{"$f":"SUM(K2128:L2128)","v":27466},{"$f":"J2128+M2128","v":27466},474,1,{"$f":"SUM(O2128:P2128)","v":475}]
[null,null,"2月",0,403,{"$f":"SUM(D2129:E2129)","v":403},0,0,0,{"$f":"SUM(G2129:I2129)","v":0},12718,12681,{"$f":"SUM(K2129:L2129)","v":25399},{"$f":"J2129+M2129","v":25399},430,2,{"$f":"SUM(O2129:P2129)","v":432}]
[null,null,"3月",0,472,{"$f":"SUM(D2130:E2130)","v":472},0,0,0,{"$f":"SUM(G2130:I2130)","v":0},17707,17083,{"$f":"SUM(K2130:L2130)","v":34790},{"$f":"J2130+M2130","v":34790},625,1,{"$f":"SUM(O2130:P2130)","v":626}]
[]
[null,"花巻度１","年度計",{"$f":"SUM(D2116:D2124,D2128:D2130)","v":24},{"$f":"SUM(E2116:E2124,E2128:E2130)","v":5936},{"$f":"SUM(F2116:F2124,F2128:F2130)","v":5960},{"$f":"SUM(G2116:G2124,G2128:G2130)","v":2657},2841,0,5498,211408,206144,417552,423050,8204,19,{"$f":"SUM(Q2116:Q2124,Q2128:Q2130)","v":8223}]
[]
[]
[]
[null,null,"項目",null,null,null,"貨 物 取 扱 量 （トン）",null,null,null,null,null,null,"郵 便 取 扱 量 （kg）"]
[null,null,null,null,"国 際 線",null,null,"国 内 線",null,"合計",null,"国 際 線",null,null,"国 内 線",null,"合 計"]
[null,null,"月別","積","卸","小 計","積","卸","小 計",null,"積","卸","小 計","積","卸","小 計"]
[]
[null,null,"1月",0,0,{"$f":"SUM(D2140:E2140)","v":0},9,1,{"$f":"SUM(G2140:H2140)","v":10},{"$f":"F2140+I2140","v":10},0,0,{"$f":"SUM(K2140:L2140)","v":0},880,4340,{"$f":"SUM(N2140:O2140)","v":5220},{"$f":"M2140+P2140","v":5220}]
[null,null,"2月",0,0,{"$f":"SUM(D2141:E2141)","v":0},12,2,{"$f":"SUM(G2141:H2141)","v":14},{"$f":"F2141+I2141","v":14},0,0,{"$f":"SUM(K2141:L2141)","v":0},873,3962,{"$f":"SUM(N2141:O2141)","v":4835},{"$f":"M2141+P2141","v":4835}]
[null,null,"3月",0,0,{"$f":"SUM(D2142:E2142)","v":0},10,2,{"$f":"SUM(G2142:H2142)","v":12},{"$f":"F2142+I2142","v":12},0,0,{"$f":"SUM(K2142:L2142)","v":0},1057,5160,{"$f":"SUM(N2142:O2142)","v":6217},{"$f":"M2142+P2142","v":6217}]
[null,null,"4月",0,0,{"$f":"SUM(D2143:E2143)","v":0},11,3,{"$f":"SUM(G2143:H2143)","v":14},{"$f":"F2143+I2143","v":14},0,0,{"$f":"SUM(K2143:L2143)","v":0},957,4257,{"$f":"SUM(N2143:O2143)","v":5214},{"$f":"M2143+P2143","v":5214}]
[null,null,"5月",0,0,0,12,2,14,14,0,0,0,914,4226,5140,5140]
[null,null,"6月",0,0,0,12,3,15,15,0,0,0,970,4288,5258,5258]
[null,null,"7月",0,0,0,11,2,13,13,0,0,0,933,4228,5161,5161]
[null,null,"8月",0,0,0,10,3,13,13,0,0,0,809,3516,4325,4325]
[null,null,"9月",0,0,0,11,3,{"$f":"SUM(G2148:H2148)","v":14},14,0,0,0,914,3857,4771,4771]
[null,null,"10月",0,0,0,10,4,14,14,0,0,0,950,4039,4989,4989]
[null,null,"11月",0,0,0,13,6,19,19,0,0,0,898,4336,5234,5234]
[null,null,"12月",0,0,0,10,6,16,16,0,0,0,823,4713,5536,5536]
[]
[null,"花巻暦２","暦年 計",{"$f":"SUM(D2140:D2152)","v":0},0,0,131,37,168,168,0,0,{"$f":"SUM(M2140:M2152)","v":0},{"$f":"SUM(N2140:N2152)","v":10978},{"$f":"SUM(O2140:O2152)","v":50922},{"$f":"SUM(P2140:P2152)","v":61900},{"$f":"SUM(Q2140:Q2152)","v":61900}]
[]
[null,null,"1月",0,0,{"$f":"SUM(D2155:E2155)","v":0},12,3,{"$f":"SUM(G2155:H2155)","v":15},{"$f":"F2155+I2155","v":15},0,0,{"$f":"SUM(K2155:L2155)","v":0},906,4177,{"$f":"SUM(N2155:O2155)","v":5083},{"$f":"M2155+P2155","v":5083}]
[null,null,"2月",0,0,{"$f":"SUM(D2156:E2156)","v":0},12,2,{"$f":"SUM(G2156:H2156)","v":14},{"$f":"F2156+I2156","v":14},0,0,{"$f":"SUM(K2156:L2156)","v":0},802,4360,{"$f":"SUM(N2156:O2156)","v":5162},{"$f":"M2156+P2156","v":5162}]
[null,null,"3月",0,0,{"$f":"SUM(D2157:E2157)","v":0},17,2,{"$f":"SUM(G2157:H2157)","v":19},{"$f":"F2157+I2157","v":19},0,0,{"$f":"SUM(K2157:L2157)","v":0},1131,4971,{"$f":"SUM(N2157:O2157)","v":6102},{"$f":"M2157+P2157","v":6102}]
[]
[null,"花巻度２","年度計",{"$f":"SUM(D2143:D2151,D2155:D2157)","v":0},{"$f":"SUM(E2143:E2151,E2155:E2157)","v":0},{"$f":"SUM(F2143:F2151,F2155:F2157)","v":0},{"$f":"SUM(G2143:G2151,G2155:G2157)","v":141},39,180,180,0,0,{"$f":"SUM(M2143:M2151,M2155:M2157)","v":0},{"$f":"SUM(N2143:N2151,N2155:N2157)","v":11007},{"$f":"SUM(O2143:O2151,O2155:O2157)","v":50968},{"$f":"SUM(P2143:P2151,P2155:P2157)","v":61975},{"$f":"SUM(Q2143:Q2151,Q2155:Q2157)","v":61975}]
[]
[null,null,{"$f":"C2107","v":"平　成　２　８　年　空　港　管　理　状　況　調　書"}]
[null,null,"空港名 ：","大館能代              （地方管理）"]
[null,null,"項目",null,"着 陸 回 数 （回）",null,"乗   降   客   数   （人）",null,null,null,null,null,null,null,"航空燃料供給量　（KＬ）"]
[null,null,null,"国際線","国内線","計",null,"国 際 線",null,null,null,"国 内 線",null,"合 計","ジェット燃料","その他燃料","合計"]
[null,null,"月別",null,null,null,"乗 客","降 客","通過客","小 計","乗 客","降 客","小 計"]
[]
[null,null,"1月",0,60,{"$f":"SUM(D2167:E2167)","v":60},0,0,0,{"$f":"SUM(G2167:I2167)","v":0},4822,3582,{"$f":"SUM(K2167:L2167)","v":8404},{"$f":"J2167+M2167","v":8404},96,0,{"$f":"SUM(O2167:P2167)","v":96}]
[null,null,"2月",0,61,{"$f":"SUM(D2168:E2168)","v":61},0,0,0,{"$f":"SUM(G2168:I2168)","v":0},3498,3499,{"$f":"SUM(K2168:L2168)","v":6997},{"$f":"J2168+M2168","v":6997},87,0,{"$f":"SUM(O2168:P2168)","v":87}]
[null,null,"3月",0,64,{"$f":"SUM(D2169:E2169)","v":64},0,0,0,{"$f":"SUM(G2169:I2169)","v":0},5157,5077,{"$f":"SUM(K2169:L2169)","v":10234},{"$f":"J2169+M2169","v":10234},187,0,{"$f":"SUM(O2169:P2169)","v":187}]
[null,null,"4月",0,62,{"$f":"SUM(D2170:E2170)","v":62},0,0,0,{"$f":"SUM(G2170:I2170)","v":0},4418,5131,{"$f":"SUM(K2170:L2170)","v":9549},{"$f":"J2170+M2170","v":9549},189,0,{"$f":"SUM(O2170:P2170)","v":189}]
[null,null,"5月",0,63,63,0,0,0,0,6423,5966,12389,12389,233,0,233]
[null,null,"6月",0,72,72,0,0,0,0,5426,5625,11051,11051,212,0,212]
[null,null,"7月",0,70,70,0,0,0,0,5725,5284,11009,11009,209,0,209]
[null,null,"8月",0,81,81,0,0,0,0,7616,7621,15237,15237,292,0,292]
[null,null,"9月",0,81,81,0,0,0,0,7201,7323,14524,14524,270,0,270]
[null,null,"10月",0,79,79,0,0,0,0,6630,6756,13386,13386,219,0,219]
[null,null,"11月",0,65,65,0,0,0,0,5823,5966,11789,11789,168,0,168]
[null,null,"12月",0,61,61,0,0,0,0,4101,5298,9399,9399,110,0,110]
[]
[null,"大館能代暦１","暦年 計",{"$f":"SUM(D2167:D2178)","v":0},{"$f":"SUM(E2167:E2178)","v":819},{"$f":"SUM(F2167:F2178)","v":819},{"$f":"SUM(G2167:G2178)","v":0},{"$f":"SUM(H2167:H2178)","v":0},0,0,66840,67128,133968,133968,2272,{"$f":"SUM(P2167:P2178)","v":0},{"$f":"SUM(Q2167:Q2178)","v":2272}]
[]
[null,null,"1月",0,63,{"$f":"SUM(D2182:E2182)","v":63},0,0,0,{"$f":"SUM(G2182:I2182)","v":0},5111,3962,{"$f":"SUM(K2182:L2182)","v":9073},{"$f":"J2182+M2182","v":9073},77,0,{"$f":"SUM(O2182:P2182)","v":77}]
[null,null,"2月",0,54,{"$f":"SUM(D2183:E2183)","v":54},0,0,0,{"$f":"SUM(G2183:I2183)","v":0},3729,3652,{"$f":"SUM(K2183:L2183)","v":7381},{"$f":"J2183+M2183","v":7381},69,0,{"$f":"SUM(O2183:P2183)","v":69}]
[null,null,"3月",0,66,{"$f":"SUM(D2184:E2184)","v":66},0,0,0,{"$f":"SUM(G2184:I2184)","v":0},5786,5545,{"$f":"SUM(K2184:L2184)","v":11331},{"$f":"J2184+M2184","v":11331},141,0,{"$f":"SUM(O2184:P2184)","v":141}]
[]
[null,"大館能代度１","年度計",{"$f":"SUM(D2170:D2178,D2182:D2184)","v":0},{"$f":"SUM(E2170:E2178,E2182:E2184)","v":817},{"$f":"SUM(F2170:F2178,F2182:F2184)","v":817},{"$f":"SUM(G2170:G2178,G2182:G2184)","v":0},0,0,0,67989,68129,136118,136118,2189,0,{"$f":"SUM(Q2170:Q2178,Q2182:Q2184)","v":2189}]
[]
[]
[]
[null,null,"項目",null,null,null,"貨 物 取 扱 量 （トン）",null,null,null,null,null,null,"郵 便 取 扱 量 （kg）"]
[null,null,null,null,"国 際 線",null,null,"国 内 線",null,"合計",null,"国 際 線",null,null,"国 内 線",null,"合 計"]
[null,null,"月別","積","卸","小 計","積","卸","小 計",null,"積","卸","小 計","積","卸","小 計"]
[]
[null,null,"1月",0,0,{"$f":"SUM(D2194:E2194)","v":0},4,4,{"$f":"SUM(G2194:H2194)","v":8},{"$f":"F2194+I2194","v":8},0,0,{"$f":"SUM(K2194:L2194)","v":0},0,0,{"$f":"SUM(N2194:O2194)","v":0},{"$f":"M2194+P2194","v":0}]
[null,null,"2月",0,0,{"$f":"SUM(D2195:E2195)","v":0},1,3,{"$f":"SUM(G2195:H2195)","v":4},{"$f":"F2195+I2195","v":4},0,0,{"$f":"SUM(K2195:L2195)","v":0},0,0,{"$f":"SUM(N2195:O2195)","v":0},{"$f":"M2195+P2195","v":0}]
[null,null,"3月",0,0,{"$f":"SUM(D2196:E2196)","v":0},1,5,{"$f":"SUM(G2196:H2196)","v":6},{"$f":"F2196+I2196","v":6},0,0,{"$f":"SUM(K2196:L2196)","v":0},0,0,{"$f":"SUM(N2196:O2196)","v":0},{"$f":"M2196+P2196","v":0}]
[null,null,"4月",0,0,{"$f":"SUM(D2197:E2197)","v":0},2,4,{"$f":"SUM(G2197:H2197)","v":6},{"$f":"F2197+I2197","v":6},0,0,{"$f":"SUM(K2197:L2197)","v":0},0,0,{"$f":"SUM(N2197:O2197)","v":0},{"$f":"M2197+P2197","v":0}]
[null,null,"5月",0,0,0,1,3,4,4,0,0,0,0,0,0,0]
[null,null,"6月",0,0,0,2,4,6,6,0,0,0,0,0,0,0]
[null,null,"7月",0,0,0,2,3,5,5,0,0,0,0,0,0,0]
[null,null,"8月",0,0,0,2,5,7,7,0,0,0,0,0,0,0]
[null,null,"9月",0,0,0,1,5,6,6,0,0,0,0,0,0,0]
[null,null,"10月",0,0,0,2,4,6,6,0,0,0,0,0,0,0]
[null,null,"11月",0,0,0,1,4,5,5,0,0,0,0,0,0,0]
[null,null,"12月",0,0,0,2,6,8,8,0,0,0,0,0,0,0]
[]
[null,"大館能代暦２","暦年 計",{"$f":"SUM(D2194:D2206)","v":0},0,0,21,50,71,71,0,0,{"$f":"SUM(M2194:M2206)","v":0},{"$f":"SUM(N2194:N2206)","v":0},{"$f":"SUM(O2194:O2206)","v":0},{"$f":"SUM(P2194:P2206)","v":0},{"$f":"SUM(Q2194:Q2206)","v":0}]
[]
[null,null,"1月",0,0,{"$f":"SUM(D2209:E2209)","v":0},1,3,{"$f":"SUM(G2209:H2209)","v":4},{"$f":"F2209+I2209","v":4},0,0,{"$f":"SUM(K2209:L2209)","v":0},0,0,{"$f":"SUM(N2209:O2209)","v":0},{"$f":"M2209+P2209","v":0}]
[null,null,"2月",0,0,{"$f":"SUM(D2210:E2210)","v":0},1,3,{"$f":"SUM(G2210:H2210)","v":4},{"$f":"F2210+I2210","v":4},0,0,{"$f":"SUM(K2210:L2210)","v":0},0,0,{"$f":"SUM(N2210:O2210)","v":0},{"$f":"M2210+P2210","v":0}]
[null,null,"3月",0,0,{"$f":"SUM(D2211:E2211)","v":0},2,4,{"$f":"SUM(G2211:H2211)","v":6},{"$f":"F2211+I2211","v":6},0,0,{"$f":"SUM(K2211:L2211)","v":0},0,0,{"$f":"SUM(N2211:O2211)","v":0},{"$f":"M2211+P2211","v":0}]
[]
[null,"大館能代度２","年度計",{"$f":"SUM(D2197:D2205,D2209:D2211)","v":0},{"$f":"SUM(E2197:E2205,E2209:E2211)","v":0},{"$f":"SUM(F2197:F2205,F2209:F2211)","v":0},{"$f":"SUM(G2197:G2205,G2209:G2211)","v":19},48,67,67,0,0,{"$f":"SUM(M2197:M2205,M2209:M2211)","v":0},{"$f":"SUM(N2197:N2205,N2209:N2211)","v":0},{"$f":"SUM(O2197:O2205,O2209:O2211)","v":0},{"$f":"SUM(P2197:P2205,P2209:P2211)","v":0},{"$f":"SUM(Q2197:Q2205,Q2209:Q2211)","v":0}]
[]
[null,null,{"$f":"C2161","v":"平　成　２　８　年　空　港　管　理　状　況　調　書"}]
[null,null,"空港名 ：","庄    内              （地方管理）"]
[null,null,"項目",null,"着 陸 回 数 （回）",null,"乗   降   客   数   （人）",null,null,null,null,null,null,null,"航空燃料供給量　（KＬ）"]
[null,null,null,"国際線","国内線","計",null,"国 際 線",null,null,null,"国 内 線",null,"合 計","ジェット燃料","その他燃料","合計"]
[null,null,"月別",null,null,null,"乗 客","降 客","通過客","小 計","乗 客","降 客","小 計"]
[]
[null,null,"1月",0,158,{"$f":"SUM(D2221:E2221)","v":158},0,0,0,{"$f":"SUM(G2221:I2221)","v":0},14527,12227,{"$f":"SUM(K2221:L2221)","v":26754},{"$f":"J2221+M2221","v":26754},216,0,{"$f":"SUM(O2221:P2221)","v":216}]
[null,null,"2月",0,140,{"$f":"SUM(D2222:E2222)","v":140},0,0,0,{"$f":"SUM(G2222:I2222)","v":0},12877,13181,{"$f":"SUM(K2222:L2222)","v":26058},{"$f":"J2222+M2222","v":26058},197,0,{"$f":"SUM(O2222:P2222)","v":197}]
[null,null,"3月",2,158,{"$f":"SUM(D2223:E2223)","v":160},297,297,0,{"$f":"SUM(G2223:I2223)","v":594},15609,15638,{"$f":"SUM(K2223:L2223)","v":31247},{"$f":"J2223+M2223","v":31841},411,0,{"$f":"SUM(O2223:P2223)","v":411}]
[null,null,"4月",0,171,{"$f":"SUM(D2224:E2224)","v":171},0,0,0,{"$f":"SUM(G2224:I2224)","v":0},14837,15615,{"$f":"SUM(K2224:L2224)","v":30452},{"$f":"J2224+M2224","v":30452},419,0,{"$f":"SUM(O2224:P2224)","v":419}]
[null,null,"5月",0,208,208,0,0,0,0,16235,15548,31783,31783,494,0,494]
[null,null,"6月",0,195,195,0,0,0,0,15990,16067,32057,32057,490,0,490]
[null,null,"7月",0,199,199,0,0,0,0,15900,16285,32185,32185,454,0,454]
[null,null,"8月",0,204,204,0,0,0,0,19113,19205,38318,38318,648,0,648]
[null,null,"9月",2,228,230,158,158,0,316,16753,16657,33410,33726,572,0,572]
[null,null,"10月",0,191,191,0,0,0,0,18201,18218,36419,36419,469,0,469]
[null,null,"11月",0,180,180,0,0,0,0,18224,17962,36186,36186,375,0,375]
[null,null,"12月",0,147,147,0,0,0,0,14118,16281,30399,30399,236,0,236]
[]
[null,"庄内暦１","暦年 計",{"$f":"SUM(D2221:D2232)","v":4},{"$f":"SUM(E2221:E2232)","v":2179},{"$f":"SUM(F2221:F2232)","v":2183},{"$f":"SUM(G2221:G2232)","v":455},{"$f":"SUM(H2221:H2232)","v":455},0,910,192384,192884,385268,386178,4981,{"$f":"SUM(P2221:P2232)","v":0},{"$f":"SUM(Q2221:Q2232)","v":4981}]
[]
[null,null,"1月",0,123,{"$f":"SUM(D2236:E2236)","v":123},0,0,0,{"$f":"SUM(G2236:I2236)","v":0},14508,12412,{"$f":"SUM(K2236:L2236)","v":26920},{"$f":"J2236+M2236","v":26920},194,0,{"$f":"SUM(O2236:P2236)","v":194}]
[null,null,"2月",0,134,{"$f":"SUM(D2237:E2237)","v":134},0,0,0,{"$f":"SUM(G2237:I2237)","v":0},13123,13111,{"$f":"SUM(K2237:L2237)","v":26234},{"$f":"J2237+M2237","v":26234},182,0,{"$f":"SUM(O2237:P2237)","v":182}]
[null,null,"3月",0,141,{"$f":"SUM(D2238:E2238)","v":141},0,0,0,{"$f":"SUM(G2238:I2238)","v":0},16347,16502,{"$f":"SUM(K2238:L2238)","v":32849},{"$f":"J2238+M2238","v":32849},303,0,{"$f":"SUM(O2238:P2238)","v":303}]
[]
[null,"庄内度１","年度計",{"$f":"SUM(D2224:D2232,D2236:D2238)","v":2},{"$f":"SUM(E2224:E2232,E2236:E2238)","v":2121},{"$f":"SUM(F2224:F2232,F2236:F2238)","v":2123},{"$f":"SUM(G2224:G2232,G2236:G2238)","v":158},158,0,316,193349,193863,387212,387528,4836,0,{"$f":"SUM(Q2224:Q2232,Q2236:Q2238)","v":4836}]
[]
[]
[]
[null,null,"項目",null,null,null,"貨 物 取 扱 量 （トン）",null,null,null,null,null,null,"郵 便 取 扱 量 （kg）"]
[null,null,null,null,"国 際 線",null,null,"国 内 線",null,"合計",null,"国 際 線",null,null,"国 内 線",null,"合 計"]
[null,null,"月別","積","卸","小 計","積","卸","小 計",null,"積","卸","小 計","積","卸","小 計"]
[]
[null,null,"1月",0,0,{"$f":"SUM(D2248:E2248)","v":0},21,22,{"$f":"SUM(G2248:H2248)","v":43},{"$f":"F2248+I2248","v":43},0,0,{"$f":"SUM(K2248:L2248)","v":0},0,0,{"$f":"SUM(N2248:O2248)","v":0},{"$f":"M2248+P2248","v":0}]
[null,null,"2月",0,0,{"$f":"SUM(D2249:E2249)","v":0},24,21,{"$f":"SUM(G2249:H2249)","v":45},{"$f":"F2249+I2249","v":45},0,0,{"$f":"SUM(K2249:L2249)","v":0},0,0,{"$f":"SUM(N2249:O2249)","v":0},{"$f":"M2249+P2249","v":0}]
[null,null,"3月",0,0,{"$f":"SUM(D2250:E2250)","v":0},13,23,{"$f":"SUM(G2250:H2250)","v":36},{"$f":"F2250+I2250","v":36},0,0,{"$f":"SUM(K2250:L2250)","v":0},0,0,{"$f":"SUM(N2250:O2250)","v":0},{"$f":"M2250+P2250","v":0}]
[null,null,"4月",0,0,{"$f":"SUM(D2251:E2251)","v":0},6,21,{"$f":"SUM(G2251:H2251)","v":27},{"$f":"F2251+I2251","v":27},0,0,{"$f":"SUM(K2251:L2251)","v":0},0,0,{"$f":"SUM(N2251:O2251)","v":0},{"$f":"M2251+P2251","v":0}]
[null,null,"5月",0,0,0,6,17,23,23,0,0,0,0,0,0,0]
[null,null,"6月",0,0,0,53,21,74,74,0,0,0,0,0,0,0]
[null,null,"7月",0,0,0,18,20,38,38,0,0,0,0,0,0,0]
[null,null,"8月",0,0,0,54,21,75,75,0,0,0,0,0,0,0]
[null,null,"9月",0,0,0,23,24,47,47,0,0,0,0,0,0,0]
[null,null,"10月",0,0,0,9,17,26,26,0,0,0,0,0,0,0]
[null,null,"11月",0,0,0,15,17,32,32,0,0,0,0,0,0,0]
[null,null,"12月",0,0,0,17,18,35,35,0,0,0,0,0,0,0]
[]
[null,"庄内暦２","暦年 計",{"$f":"SUM(D2248:D2260)","v":0},0,0,259,242,501,501,0,0,{"$f":"SUM(M2248:M2260)","v":0},{"$f":"SUM(N2248:N2260)","v":0},{"$f":"SUM(O2248:O2260)","v":0},{"$f":"SUM(P2248:P2260)","v":0},{"$f":"SUM(Q2248:Q2260)","v":0}]
[]
[null,null,"1月",0,0,{"$f":"SUM(D2263:E2263)","v":0},23,14,{"$f":"SUM(G2263:H2263)","v":37},{"$f":"F2263+I2263","v":37},0,0,{"$f":"SUM(K2263:L2263)","v":0},0,0,{"$f":"SUM(N2263:O2263)","v":0},{"$f":"M2263+P2263","v":0}]
[null,null,"2月",0,0,{"$f":"SUM(D2264:E2264)","v":0},27,17,{"$f":"SUM(G2264:H2264)","v":44},{"$f":"F2264+I2264","v":44},0,0,{"$f":"SUM(K2264:L2264)","v":0},0,0,{"$f":"SUM(N2264:O2264)","v":0},{"$f":"M2264+P2264","v":0}]
[null,null,"3月",0,0,{"$f":"SUM(D2265:E2265)","v":0},17,23,{"$f":"SUM(G2265:H2265)","v":40},{"$f":"F2265+I2265","v":40},0,0,{"$f":"SUM(K2265:L2265)","v":0},0,0,{"$f":"SUM(N2265:O2265)","v":0},{"$f":"M2265+P2265","v":0}]
[]
[null,"庄内度２","年度計",{"$f":"SUM(D2251:D2259,D2263:D2265)","v":0},{"$f":"SUM(E2251:E2259,E2263:E2265)","v":0},{"$f":"SUM(F2251:F2259,F2263:F2265)","v":0},{"$f":"SUM(G2251:G2259,G2263:G2265)","v":268},230,498,498,0,0,{"$f":"SUM(M2251:M2259,M2263:M2265)","v":0},{"$f":"SUM(N2251:N2259,N2263:N2265)","v":0},{"$f":"SUM(O2251:O2259,O2263:O2265)","v":0},{"$f":"SUM(P2251:P2259,P2263:P2265)","v":0},{"$f":"SUM(Q2251:Q2259,Q2263:Q2265)","v":0}]
[]
[null,null,{"$f":"C2215","v":"平　成　２　８　年　空　港　管　理　状　況　調　書"}]
[null,null,"空港名 ：","福    島              （地方管理）"]
[null,null,"項目",null,"着 陸 回 数 （回）",null,"乗   降   客   数   （人）",null,null,null,null,null,null,null,"航空燃料供給量　（KＬ）"]
[null,null,null,"国際線","国内線","計",null,"国 際 線",null,null,null,"国 内 線",null,"合 計","ジェット燃料","その他燃料","合計"]
[null,null,"月別",null,null,null,"乗 客","降 客","通過客","小 計","乗 客","降 客","小 計"]
[]
[null,null,"1月",0,285,{"$f":"SUM(D2275:E2275)","v":285},0,0,0,{"$f":"SUM(G2275:I2275)","v":0},7619,8328,{"$f":"SUM(K2275:L2275)","v":15947},{"$f":"J2275+M2275","v":15947},486,0,{"$f":"SUM(O2275:P2275)","v":486}]
[null,null,"2月",0,309,{"$f":"SUM(D2276:E2276)","v":309},0,0,0,{"$f":"SUM(G2276:I2276)","v":0},7608,7744,{"$f":"SUM(K2276:L2276)","v":15352},{"$f":"J2276+M2276","v":15352},501,0,{"$f":"SUM(O2276:P2276)","v":501}]
[null,null,"3月",4,288,{"$f":"SUM(D2277:E2277)","v":292},281,405,0,{"$f":"SUM(G2277:I2277)","v":686},9994,10084,{"$f":"SUM(K2277:L2277)","v":20078},{"$f":"J2277+M2277","v":20764},567,0,{"$f":"SUM(O2277:P2277)","v":567}]
[null,null,"4月",3,275,{"$f":"SUM(D2278:E2278)","v":278},374,251,0,{"$f":"SUM(G2278:I2278)","v":625},9557,9564,{"$f":"SUM(K2278:L2278)","v":19121},{"$f":"J2278+M2278","v":19746},534,0,{"$f":"SUM(O2278:P2278)","v":534}]
[null,null,"5月",2,310,312,189,189,0,378,10181,11095,21276,21654,493,0,493]
[null,null,"6月",0,285,285,0,0,0,0,10697,10541,21238,21238,487,0,487]
[null,null,"7月",0,335,335,0,0,0,0,10844,11244,22088,22088,458,0,458]
[null,null,"8月",0,298,298,0,0,0,0,10774,11571,22345,22345,496,0,496]
[null,null,"9月",3,323,{"$f":"SUM(D2283:E2283)","v":326},275,284,0,{"$f":"SUM(G2283:I2283)","v":559},11161,10936,{"$f":"SUM(K2283:L2283)","v":22097},{"$f":"J2283+M2283","v":22656},444,0,{"$f":"SUM(O2283:P2283)","v":444}]
[null,null,"10月",0,445,445,0,0,0,0,12473,12648,25121,25121,587,0,587]
[null,null,"11月",8,286,294,810,823,0,1633,10989,11184,22173,23806,548,0,548]
[null,null,"12月",2,291,293,271,272,0,543,9298,9010,18308,18851,551,0,551]
[]
[null,"福島暦１","暦年 計",{"$f":"SUM(D2275:D2286)","v":22},{"$f":"SUM(E2275:E2286)","v":3730},{"$f":"SUM(F2275:F2286)","v":3752},{"$f":"SUM(G2275:G2286)","v":2200},{"$f":"SUM(H2275:H2286)","v":2224},0,4424,121195,123949,245144,249568,6152,{"$f":"SUM(P2275:P2286)","v":0},{"$f":"SUM(Q2275:Q2286)","v":6152}]
[]
[null,null,"1月",0,260,{"$f":"SUM(D2290:E2290)","v":260},0,0,0,{"$f":"SUM(G2290:I2290)","v":0},7621,8417,{"$f":"SUM(K2290:L2290)","v":16038},{"$f":"J2290+M2290","v":16038},477,0,{"$f":"SUM(O2290:P2290)","v":477}]
[null,null,"2月",2,239,{"$f":"SUM(D2291:E2291)","v":241},239,239,0,{"$f":"SUM(G2291:I2291)","v":478},7290,7557,{"$f":"SUM(K2291:L2291)","v":14847},{"$f":"J2291+M2291","v":15325},462,0,{"$f":"SUM(O2291:P2291)","v":462}]
[null,null,"3月",4,295,{"$f":"SUM(D2292:E2292)","v":299},341,341,0,{"$f":"SUM(G2292:I2292)","v":682},9998,9865,{"$f":"SUM(K2292:L2292)","v":19863},{"$f":"J2292+M2292","v":20545},471,0,{"$f":"SUM(O2292:P2292)","v":471}]
[]
[null,"福島度１","年度計",{"$f":"SUM(D2278:D2286,D2290:D2292)","v":24},{"$f":"SUM(E2278:E2286,E2290:E2292)","v":3642},{"$f":"SUM(F2278:F2286,F2290:F2292)","v":3666},{"$f":"SUM(G2278:G2286,G2290:G2292)","v":2499},2399,0,4898,120883,123632,244515,249413,6008,0,{"$f":"SUM(Q2278:Q2286,Q2290:Q2292)","v":6008}]
[]
[]
[]
[null,null,"項目",null,null,null,"貨 物 取 扱 量 （トン）",null,null,null,null,null,null,"郵 便 取 扱 量 （kg）"]
[null,null,null,null,"国 際 線",null,null,"国 内 線",null,"合計",null,"国 際 線",null,null,"国 内 線",null,"合 計"]
[null,null,"月別","積","卸","小 計","積","卸","小 計",null,"積","卸","小 計","積","卸","小 計"]
[]
[null,null,"1月",0,0,{"$f":"SUM(D2302:E2302)","v":0},3,1,{"$f":"SUM(G2302:H2302)","v":4},{"$f":"F2302+I2302","v":4},0,0,{"$f":"SUM(K2302:L2302)","v":0},0,5918,{"$f":"SUM(N2302:O2302)","v":5918},{"$f":"M2302+P2302","v":5918}]
[null,null,"2月",0,0,{"$f":"SUM(D2303:E2303)","v":0},3,4,{"$f":"SUM(G2303:H2303)","v":7},{"$f":"F2303+I2303","v":7},0,0,{"$f":"SUM(K2303:L2303)","v":0},0,5138,{"$f":"SUM(N2303:O2303)","v":5138},{"$f":"M2303+P2303","v":5138}]
[null,null,"3月",0,0,{"$f":"SUM(D2304:E2304)","v":0},2,2,{"$f":"SUM(G2304:H2304)","v":4},{"$f":"F2304+I2304","v":4},0,0,{"$f":"SUM(K2304:L2304)","v":0},0,6215,{"$f":"SUM(N2304:O2304)","v":6215},{"$f":"M2304+P2304","v":6215}]
[null,null,"4月",0,0,{"$f":"SUM(D2305:E2305)","v":0},1,2,{"$f":"SUM(G2305:H2305)","v":3},{"$f":"F2305+I2305","v":3},0,0,{"$f":"SUM(K2305:L2305)","v":0},0,6045,{"$f":"SUM(N2305:O2305)","v":6045},{"$f":"M2305+P2305","v":6045}]
[null,null,"5月",0,0,0,1,1,2,2,0,0,0,0,5572,5572,5572]
[null,null,"6月",0,0,0,15,6,21,21,0,0,0,0,6974,6974,6974]
[null,null,"7月",0,0,0,5,5,10,10,0,0,0,0,6825,6825,6825]
[null,null,"8月",0,0,0,1,5,6,6,0,0,0,0,6548,6548,6548]
[null,null,"9月",0,0,0,0,2,2,2,0,0,0,0,6498,6498,6498]
[null,null,"10月",0,0,0,0,1,1,1,0,0,0,0,6833,6833,6833]
[null,null,"11月",0,0,0,1,2,3,3,0,0,0,0,7061,7061,7061]
[null,null,"12月",0,0,0,8,9,17,17,0,0,0,0,7104,7104,7104]
[]
[null,"福島暦２","暦年 計",{"$f":"SUM(D2302:D2314)","v":0},0,0,40,40,80,80,0,0,{"$f":"SUM(M2302:M2314)","v":0},{"$f":"SUM(N2302:N2314)","v":0},{"$f":"SUM(O2302:O2314)","v":76731},{"$f":"SUM(P2302:P2314)","v":76731},{"$f":"SUM(Q2302:Q2314)","v":76731}]
[]
[null,null,"1月",0,0,{"$f":"SUM(D2317:E2317)","v":0},1,3,{"$f":"SUM(G2317:H2317)","v":4},{"$f":"F2317+I2317","v":4},0,0,{"$f":"SUM(K2317:L2317)","v":0},0,6626,{"$f":"SUM(N2317:O2317)","v":6626},{"$f":"M2317+P2317","v":6626}]
[null,null,"2月",0,0,{"$f":"SUM(D2318:E2318)","v":0},0,1,{"$f":"SUM(G2318:H2318)","v":1},{"$f":"F2318+I2318","v":1},0,0,{"$f":"SUM(K2318:L2318)","v":0},0,6151,{"$f":"SUM(N2318:O2318)","v":6151},{"$f":"M2318+P2318","v":6151}]
[null,null,"3月",0,0,{"$f":"SUM(D2319:E2319)","v":0},0,1,{"$f":"SUM(G2319:H2319)","v":1},{"$f":"F2319+I2319","v":1},0,0,{"$f":"SUM(K2319:L2319)","v":0},0,7391,{"$f":"SUM(N2319:O2319)","v":7391},{"$f":"M2319+P2319","v":7391}]
[]
[null,"福島度２","年度計",{"$f":"SUM(D2305:D2313,D2317:D2319)","v":0},{"$f":"SUM(E2305:E2313,E2317:E2319)","v":0},{"$f":"SUM(F2305:F2313,F2317:F2319)","v":0},{"$f":"SUM(G2305:G2313,G2317:G2319)","v":33},38,71,71,0,0,{"$f":"SUM(M2305:M2313,M2317:M2319)","v":0},{"$f":"SUM(N2305:N2313,N2317:N2319)","v":0},{"$f":"SUM(O2305:O2313,O2317:O2319)","v":79628},{"$f":"SUM(P2305:P2313,P2317:P2319)","v":79628},{"$f":"SUM(Q2305:Q2313,Q2317:Q2319)","v":79628}]
[]
[null,null,{"$f":"C2269","v":"平　成　２　８　年　空　港　管　理　状　況　調　書"}]
[null,null,"空港名 ：","大    島              （地方管理）"]
[null,null,"項目",null,"着 陸 回 数 （回）",null,"乗   降   客   数   （人）",null,null,null,null,null,null,null,"航空燃料供給量　（KＬ）"]
[null,null,null,"国際線","国内線","計",null,"国 際 線",null,null,null,"国 内 線",null,"合 計","ジェット燃料","その他燃料","合計"]
[null,null,"月別",null,null,null,"乗 客","降 客","通過客","小 計","乗 客","降 客","小 計"]
[]
[null,null,"1月",0,201,{"$f":"SUM(D2329:E2329)","v":201},0,0,0,{"$f":"SUM(G2329:I2329)","v":0},1164,1067,{"$f":"SUM(K2329:L2329)","v":2231},{"$f":"J2329+M2329","v":2231},8,0,{"$f":"SUM(O2329:P2329)","v":8}]
[null,null,"2月",0,238,{"$f":"SUM(D2330:E2330)","v":238},0,0,0,{"$f":"SUM(G2330:I2330)","v":0},1166,1098,{"$f":"SUM(K2330:L2330)","v":2264},{"$f":"J2330+M2330","v":2264},7,0,{"$f":"SUM(O2330:P2330)","v":7}]
[null,null,"3月",0,197,{"$f":"SUM(D2331:E2331)","v":197},0,0,0,{"$f":"SUM(G2331:I2331)","v":0},1275,1142,{"$f":"SUM(K2331:L2331)","v":2417},{"$f":"J2331+M2331","v":2417},6,0,{"$f":"SUM(O2331:P2331)","v":6}]
[null,null,"4月",0,183,{"$f":"SUM(D2332:E2332)","v":183},0,0,0,{"$f":"SUM(G2332:I2332)","v":0},1019,979,{"$f":"SUM(K2332:L2332)","v":1998},{"$f":"J2332+M2332","v":1998},6,0,{"$f":"SUM(O2332:P2332)","v":6}]
[null,null,"5月",0,218,218,0,0,0,0,1126,1048,2174,2174,6,0,6]
[null,null,"6月",0,173,173,0,0,0,0,812,756,1568,1568,7,0,7]
[null,null,"7月",0,217,217,0,0,0,0,1069,1099,2168,2168,6,0,6]
[null,null,"8月",0,225,225,0,0,0,0,1469,1450,2919,2919,7,0,7]
[null,null,"9月",0,207,207,0,0,0,0,1052,941,1993,1993,6,0,6]
[null,null,"10月",0,234,234,0,0,0,0,1119,1086,2205,2205,9,0,9]
[null,null,"11月",0,229,{"$f":"SUM(D2339:E2339)","v":229},0,0,0,{"$f":"SUM(G2339:I2339)","v":0},1041,1097,{"$f":"SUM(K2339:L2339)","v":2138},{"$f":"J2339+M2339","v":2138},9,0,{"$f":"SUM(O2339:P2339)","v":9}]
[null,null,"12月",0,245,245,0,0,0,0,1274,1331,2605,2605,9,0,9]
[]
[null,"大島暦１","暦年 計",{"$f":"SUM(D2329:D2340)","v":0},{"$f":"SUM(E2329:E2340)","v":2567},{"$f":"SUM(F2329:F2340)","v":2567},{"$f":"SUM(G2329:G2340)","v":0},{"$f":"SUM(H2329:H2340)","v":0},0,0,13586,13094,26680,26680,86,{"$f":"SUM(P2329:P2340)","v":0},{"$f":"SUM(Q2329:Q2340)","v":86}]
[]
[null,null,"1月",0,217,{"$f":"SUM(D2344:E2344)","v":217},0,0,0,{"$f":"SUM(G2344:I2344)","v":0},1294,1125,{"$f":"SUM(K2344:L2344)","v":2419},{"$f":"J2344+M2344","v":2419},11,0,{"$f":"SUM(O2344:P2344)","v":11}]
[null,null,"2月",0,195,{"$f":"SUM(D2345:E2345)","v":195},0,0,0,{"$f":"SUM(G2345:I2345)","v":0},1137,1145,{"$f":"SUM(K2345:L2345)","v":2282},{"$f":"J2345+M2345","v":2282},8,0,{"$f":"SUM(O2345:P2345)","v":8}]
[null,null,"3月",0,230,{"$f":"SUM(D2346:E2346)","v":230},0,0,0,{"$f":"SUM(G2346:I2346)","v":0},1418,1343,{"$f":"SUM(K2346:L2346)","v":2761},{"$f":"J2346+M2346","v":2761},7,0,{"$f":"SUM(O2346:P2346)","v":7}]
[]
[null,"大島度１","年度計",{"$f":"SUM(D2332:D2340,D2344:D2346)","v":0},{"$f":"SUM(E2332:E2340,E2344:E2346)","v":2573},{"$f":"SUM(F2332:F2340,F2344:F2346)","v":2573},{"$f":"SUM(G2332:G2340,G2344:G2346)","v":0},0,0,0,13830,13400,27230,27230,91,0,{"$f":"SUM(Q2332:Q2340,Q2344:Q2346)","v":91}]
[]
[]
[]
[null,null,"項目",null,null,null,"貨 物 取 扱 量 （トン）",null,null,null,null,null,null,"郵 便 取 扱 量 （kg）"]
[null,null,null,null,"国 際 線",null,null,"国 内 線",null,"合計",null,"国 際 線",null,null,"国 内 線",null,"合 計"]
[null,null,"月別","積","卸","小 計","積","卸","小 計",null,"積","卸","小 計","積","卸","小 計"]
[]
[null,null,"1月",0,0,{"$f":"SUM(D2356:E2356)","v":0},0,1,{"$f":"SUM(G2356:H2356)","v":1},{"$f":"F2356+I2356","v":1},0,0,{"$f":"SUM(K2356:L2356)","v":0},0,0,{"$f":"SUM(N2356:O2356)","v":0},{"$f":"M2356+P2356","v":0}]
[null,null,"2月",0,0,{"$f":"SUM(D2357:E2357)","v":0},0,1,{"$f":"SUM(G2357:H2357)","v":1},{"$f":"F2357+I2357","v":1},0,0,{"$f":"SUM(K2357:L2357)","v":0},0,0,{"$f":"SUM(N2357:O2357)","v":0},{"$f":"M2357+P2357","v":0}]
[null,null,"3月",0,0,{"$f":"SUM(D2358:E2358)","v":0},0,1,{"$f":"SUM(G2358:H2358)","v":1},{"$f":"F2358+I2358","v":1},0,0,{"$f":"SUM(K2358:L2358)","v":0},0,0,{"$f":"SUM(N2358:O2358)","v":0},{"$f":"M2358+P2358","v":0}]
[null,null,"4月",0,0,{"$f":"SUM(D2359:E2359)","v":0},0,1,1,{"$f":"F2359+I2359","v":1},0,0,{"$f":"SUM(K2359:L2359)","v":0},0,0,{"$f":"SUM(N2359:O2359)","v":0},{"$f":"M2359+P2359","v":0}]
[null,null,"5月",0,0,0,0,1,{"$f":"SUM(G2360:H2360)","v":1},1,0,0,0,0,0,0,0]
[null,null,"6月",0,0,0,0,1,1,1,0,0,0,0,0,{"$f":"SUM(N2361:O2361)","v":0},0]
[null,null,"7月",0,0,0,0,1,1,1,0,0,0,0,0,{"$f":"SUM(N2362:O2362)","v":0},0]
[null,null,"8月",0,0,0,0,1,1,1,0,0,0,0,0,0,0]
[null,null,"9月",0,0,0,0,1,1,1,0,0,0,0,0,0,0]
[null,null,"10月",0,0,0,0,1,1,1,0,0,0,0,0,0,0]
[null,null,"11月",0,0,0,0,1,1,1,0,0,0,0,0,0,0]
[null,null,"12月",0,0,0,0,0,0,0,0,0,0,0,0,0,0]
[]
[null,"大島暦２","暦年 計",{"$f":"SUM(D2356:D2368)","v":0},0,0,0,11,11,11,0,0,{"$f":"SUM(M2356:M2368)","v":0},{"$f":"SUM(N2356:N2368)","v":0},{"$f":"SUM(O2356:O2368)","v":0},{"$f":"SUM(P2356:P2368)","v":0},{"$f":"SUM(Q2356:Q2368)","v":0}]
[]
[null,null,"1月",0,0,{"$f":"SUM(D2371:E2371)","v":0},0,1,1,{"$f":"F2371+I2371","v":1},0,0,{"$f":"SUM(K2371:L2371)","v":0},0,0,{"$f":"SUM(N2371:O2371)","v":0},{"$f":"M2371+P2371","v":0}]
[null,null,"2月",0,0,0,0,1,1,{"$f":"F2372+I2372","v":1},0,0,{"$f":"SUM(K2372:L2372)","v":0},0,0,{"$f":"SUM(N2372:O2372)","v":0},{"$f":"M2372+P2372","v":0}]
[null,null,"3月",0,0,0,0,1,1,{"$f":"F2373+I2373","v":1},0,0,{"$f":"SUM(K2373:L2373)","v":0},0,0,{"$f":"SUM(N2373:O2373)","v":0},{"$f":"M2373+P2373","v":0}]
[]
[null,"大島度２","年度計",{"$f":"SUM(D2359:D2367,D2371:D2373)","v":0},{"$f":"SUM(E2359:E2367,E2371:E2373)","v":0},{"$f":"SUM(F2359:F2367,F2371:F2373)","v":0},{"$f":"SUM(G2359:G2367,G2371:G2373)","v":0},11,11,11,0,0,{"$f":"SUM(M2359:M2367,M2371:M2373)","v":0},{"$f":"SUM(N2359:N2367,N2371:N2373)","v":0},{"$f":"SUM(O2359:O2367,O2371:O2373)","v":0},{"$f":"SUM(P2359:P2367,P2371:P2373)","v":0},{"$f":"SUM(Q2359:Q2367,Q2371:Q2373)","v":0}]
[]
[null,null,{"$f":"C2323","v":"平　成　２　８　年　空　港　管　理　状　況　調　書"}]
[null,null,"空港名 ：","新    島              （地方管理）"]
[null,null,"項目",null,"着 陸 回 数 （回）",null,"乗   降   客   数   （人）",null,null,null,null,null,null,null,"航空燃料供給量　（KＬ）"]
[null,null,null,"国際線","国内線","計",null,"国 際 線",null,null,null,"国 内 線",null,"合 計","ジェット燃料","その他燃料","合計"]
[null,null,"月別",null,null,null,"乗 客","降 客","通過客","小 計","乗 客","降 客","小 計"]
[]
[null,null,"1月",0,129,{"$f":"SUM(D2383:E2383)","v":129},0,0,0,{"$f":"SUM(G2383:I2383)","v":0},1230,1462,{"$f":"SUM(K2383:L2383)","v":2692},{"$f":"J2383+M2383","v":2692},23,0,{"$f":"SUM(O2383:P2383)","v":23}]
[null,null,"2月",0,127,{"$f":"SUM(D2384:E2384)","v":127},0,0,0,{"$f":"SUM(G2384:I2384)","v":0},1226,1430,{"$f":"SUM(K2384:L2384)","v":2656},{"$f":"J2384+M2384","v":2656},22,0,{"$f":"SUM(O2384:P2384)","v":22}]
[null,null,"3月",0,132,{"$f":"SUM(D2385:E2385)","v":132},0,0,0,{"$f":"SUM(G2385:I2385)","v":0},1255,1645,{"$f":"SUM(K2385:L2385)","v":2900},{"$f":"J2385+M2385","v":2900},21,0,{"$f":"SUM(O2385:P2385)","v":21}]
[null,null,"4月",0,121,{"$f":"SUM(D2386:E2386)","v":121},0,0,0,{"$f":"SUM(G2386:I2386)","v":0},1275,1288,{"$f":"SUM(K2386:L2386)","v":2563},{"$f":"J2386+M2386","v":2563},8,0,{"$f":"SUM(O2386:P2386)","v":8}]
[null,null,"5月",0,119,119,0,0,0,0,1303,1489,2792,2792,2,0,2]
[null,null,"6月",0,110,110,0,0,0,0,1256,1342,2598,2598,20,0,20]
[null,null,"7月",0,133,133,0,0,0,0,1289,1490,2779,2779,22,0,22]
[null,null,"8月",0,131,131,0,0,0,0,1540,1747,3287,3287,23,0,23]
[null,null,"9月",0,120,120,0,0,0,0,1232,1475,2707,2707,24,0,24]
[null,null,"10月",0,133,133,0,0,0,0,1232,1629,2861,2861,23,0,23]
[null,null,"11月",0,122,122,0,0,0,0,1154,1541,2695,2695,20,0,20]
[null,null,"12月",0,132,132,0,0,0,0,1293,1583,2876,2876,24,0,24]
[]
[null,"新島暦１","暦年 計",{"$f":"SUM(D2383:D2394)","v":0},{"$f":"SUM(E2383:E2394)","v":1509},{"$f":"SUM(F2383:F2394)","v":1509},{"$f":"SUM(G2383:G2394)","v":0},{"$f":"SUM(H2383:H2394)","v":0},0,0,15285,18121,33406,33406,232,{"$f":"SUM(P2383:P2394)","v":0},{"$f":"SUM(Q2383:Q2394)","v":232}]
[]
[null,null,"1月",0,127,{"$f":"SUM(D2398:E2398)","v":127},0,0,0,{"$f":"SUM(G2398:I2398)","v":0},1197,1397,{"$f":"SUM(K2398:L2398)","v":2594},{"$f":"J2398+M2398","v":2594},23,0,{"$f":"SUM(O2398:P2398)","v":23}]
[null,null,"2月",0,120,{"$f":"SUM(D2399:E2399)","v":120},0,0,0,{"$f":"SUM(G2399:I2399)","v":0},1112,1306,{"$f":"SUM(K2399:L2399)","v":2418},{"$f":"J2399+M2399","v":2418},18,0,{"$f":"SUM(O2399:P2399)","v":18}]
[null,null,"3月",0,135,{"$f":"SUM(D2400:E2400)","v":135},0,0,0,{"$f":"SUM(G2400:I2400)","v":0},1208,1619,{"$f":"SUM(K2400:L2400)","v":2827},{"$f":"J2400+M2400","v":2827},21,0,{"$f":"SUM(O2400:P2400)","v":21}]
[]
[null,"新島度１","年度計",{"$f":"SUM(D2386:D2394,D2398:D2400)","v":0},{"$f":"SUM(E2386:E2394,E2398:E2400)","v":1503},{"$f":"SUM(F2386:F2394,F2398:F2400)","v":1503},{"$f":"SUM(G2386:G2394,G2398:G2400)","v":0},0,0,0,15091,17906,32997,32997,228,0,{"$f":"SUM(Q2386:Q2394,Q2398:Q2400)","v":228}]
[]
[]
[]
[null,null,"項目",null,null,null,"貨 物 取 扱 量 （トン）",null,null,null,null,null,null,"郵 便 取 扱 量 （kg）"]
[null,null,null,null,"国 際 線",null,null,"国 内 線",null,"合計",null,"国 際 線",null,null,"国 内 線",null,"合 計"]
[null,null,"月別","積","卸","小 計","積","卸","小 計",null,"積","卸","小 計","積","卸","小 計"]
[]
[null,null,"1月",0,0,{"$f":"SUM(D2410:E2410)","v":0},0,2,{"$f":"SUM(G2410:H2410)","v":2},{"$f":"F2410+I2410","v":2},0,0,{"$f":"SUM(K2410:L2410)","v":0},0,0,{"$f":"SUM(N2410:O2410)","v":0},{"$f":"M2410+P2410","v":0}]
[null,null,"2月",0,0,{"$f":"SUM(D2411:E2411)","v":0},1,2,{"$f":"SUM(G2411:H2411)","v":3},{"$f":"F2411+I2411","v":3},0,0,{"$f":"SUM(K2411:L2411)","v":0},0,0,{"$f":"SUM(N2411:O2411)","v":0},{"$f":"M2411+P2411","v":0}]
[null,null,"3月",0,0,{"$f":"SUM(D2412:E2412)","v":0},1,2,{"$f":"SUM(G2412:H2412)","v":3},{"$f":"F2412+I2412","v":3},0,0,{"$f":"SUM(K2412:L2412)","v":0},0,0,{"$f":"SUM(N2412:O2412)","v":0},{"$f":"M2412+P2412","v":0}]
[null,null,"4月",0,0,{"$f":"SUM(D2413:E2413)","v":0},2,1,{"$f":"SUM(G2413:H2413)","v":3},{"$f":"F2413+I2413","v":3},0,0,{"$f":"SUM(K2413:L2413)","v":0},0,0,{"$f":"SUM(N2413:O2413)","v":0},{"$f":"M2413+P2413","v":0}]
[null,null,"5月",0,0,0,1,2,3,3,0,0,0,0,0,0,0]
[null,null,"6月",0,0,0,1,2,3,3,0,0,0,0,0,0,0]
[null,null,"7月",0,0,0,1,2,3,3,0,0,0,0,0,0,0]
[null,null,"8月",0,0,0,0,2,2,2,0,0,0,0,0,0,0]
[null,null,"9月",0,0,0,0,1,1,1,0,0,0,0,0,0,0]
[null,null,"10月",0,0,0,0,2,2,2,0,0,0,0,0,0,0]
[null,null,"11月",0,0,0,0,2,2,2,0,0,0,0,0,0,0]
[null,null,"12月",0,0,0,0,2,2,2,0,0,0,0,0,0,0]
[]
[null,"新島暦２","暦年 計",{"$f":"SUM(D2410:D2422)","v":0},0,0,7,22,29,29,0,0,{"$f":"SUM(M2410:M2422)","v":0},{"$f":"SUM(N2410:N2422)","v":0},{"$f":"SUM(O2410:O2422)","v":0},{"$f":"SUM(P2410:P2422)","v":0},{"$f":"SUM(Q2410:Q2422)","v":0}]
[]
[null,null,"1月",0,0,{"$f":"SUM(D2425:E2425)","v":0},0,2,{"$f":"SUM(G2425:H2425)","v":2},{"$f":"F2425+I2425","v":2},0,0,{"$f":"SUM(K2425:L2425)","v":0},0,0,{"$f":"SUM(N2425:O2425)","v":0},{"$f":"M2425+P2425","v":0}]
[null,null,"2月",0,0,{"$f":"SUM(D2426:E2426)","v":0},0,1,{"$f":"SUM(G2426:H2426)","v":1},{"$f":"F2426+I2426","v":1},0,0,{"$f":"SUM(K2426:L2426)","v":0},0,0,{"$f":"SUM(N2426:O2426)","v":0},{"$f":"M2426+P2426","v":0}]
[null,null,"3月",0,0,{"$f":"SUM(D2427:E2427)","v":0},1,2,{"$f":"SUM(G2427:H2427)","v":3},{"$f":"F2427+I2427","v":3},0,0,{"$f":"SUM(K2427:L2427)","v":0},0,0,{"$f":"SUM(N2427:O2427)","v":0},{"$f":"M2427+P2427","v":0}]
[]
[null,"新島度２","年度計",{"$f":"SUM(D2413:D2421,D2425:D2427)","v":0},{"$f":"SUM(E2413:E2421,E2425:E2427)","v":0},{"$f":"SUM(F2413:F2421,F2425:F2427)","v":0},{"$f":"SUM(G2413:G2421,G2425:G2427)","v":6},21,27,27,0,0,{"$f":"SUM(M2413:M2421,M2425:M2427)","v":0},{"$f":"SUM(N2413:N2421,N2425:N2427)","v":0},{"$f":"SUM(O2413:O2421,O2425:O2427)","v":0},{"$f":"SUM(P2413:P2421,P2425:P2427)","v":0},{"$f":"SUM(Q2413:Q2421,Q2425:Q2427)","v":0}]
[]
[null,null,{"$f":"C2377","v":"平　成　２　８　年　空　港　管　理　状　況　調　書"}]
[null,null,"空港名 ：","神 津 島              （地方管理）"]
[null,null,"項目",null,"着 陸 回 数 （回）",null,"乗   降   客   数   （人）",null,null,null,null,null,null,null,"航空燃料供給量　（KＬ）"]
[null,null,null,"国際線","国内線","計",null,"国 際 線",null,null,null,"国 内 線",null,"合 計","ジェット燃料","その他燃料","合計"]
[null,null,"月別",null,null,null,"乗 客","降 客","通過客","小 計","乗 客","降 客","小 計"]
[]
[null,null,"1月",0,89,{"$f":"SUM(D2437:E2437)","v":89},0,0,0,{"$f":"SUM(G2437:I2437)","v":0},934,744,{"$f":"SUM(K2437:L2437)","v":1678},{"$f":"J2437+M2437","v":1678},19,0,{"$f":"SUM(O2437:P2437)","v":19}]
[null,null,"2月",0,82,{"$f":"SUM(D2438:E2438)","v":82},0,0,0,{"$f":"SUM(G2438:I2438)","v":0},810,630,{"$f":"SUM(K2438:L2438)","v":1440},{"$f":"J2438+M2438","v":1440},18,0,{"$f":"SUM(O2438:P2438)","v":18}]
[null,null,"3月",0,89,{"$f":"SUM(D2439:E2439)","v":89},0,0,0,{"$f":"SUM(G2439:I2439)","v":0},964,695,{"$f":"SUM(K2439:L2439)","v":1659},{"$f":"J2439+M2439","v":1659},20,0,{"$f":"SUM(O2439:P2439)","v":20}]
[null,null,"4月",0,79,{"$f":"SUM(D2440:E2440)","v":79},0,0,0,{"$f":"SUM(G2440:I2440)","v":0},752,740,{"$f":"SUM(K2440:L2440)","v":1492},{"$f":"J2440+M2440","v":1492},17,0,{"$f":"SUM(O2440:P2440)","v":17}]
[null,null,"5月",0,83,83,0,0,0,0,966,742,1708,1708,18,0,18]
[null,null,"6月",0,77,77,0,0,0,0,688,583,1271,1271,15,0,15]
[null,null,"7月",0,85,85,0,0,0,0,873,871,1744,1744,16,0,16]
[null,null,"8月",0,104,104,0,0,0,0,1413,1223,2636,2636,21,0,21]
[null,null,"9月",0,88,88,0,0,0,0,963,774,1737,1737,17,0,17]
[null,null,"10月",0,88,88,0,0,0,0,1102,902,2004,2004,19,0,19]
[null,null,"11月",0,85,85,0,0,0,0,1012,829,1841,1841,18,0,18]
[null,null,"12月",0,87,87,0,0,0,0,1004,876,1880,1880,19,0,19]
[]
[null,"神津島暦１","暦年 計",{"$f":"SUM(D2437:D2448)","v":0},{"$f":"SUM(E2437:E2448)","v":1036},{"$f":"SUM(F2437:F2448)","v":1036},{"$f":"SUM(G2437:G2448)","v":0},{"$f":"SUM(H2437:H2448)","v":0},0,0,11481,9609,21090,21090,217,{"$f":"SUM(P2437:P2448)","v":0},{"$f":"SUM(Q2437:Q2448)","v":217}]
[]
[null,null,"1月",0,90,{"$f":"SUM(D2452:E2452)","v":90},0,0,0,{"$f":"SUM(G2452:I2452)","v":0},1088,889,{"$f":"SUM(K2452:L2452)","v":1977},{"$f":"J2452+M2452","v":1977},19,0,{"$f":"SUM(O2452:P2452)","v":19}]
[null,null,"2月",0,80,{"$f":"SUM(D2453:E2453)","v":80},0,0,0,{"$f":"SUM(G2453:I2453)","v":0},983,765,{"$f":"SUM(K2453:L2453)","v":1748},{"$f":"J2453+M2453","v":1748},16,0,{"$f":"SUM(O2453:P2453)","v":16}]
[null,null,"3月",0,93,{"$f":"SUM(D2454:E2454)","v":93},0,0,0,{"$f":"SUM(G2454:I2454)","v":0},1234,916,{"$f":"SUM(K2454:L2454)","v":2150},{"$f":"J2454+M2454","v":2150},20,0,{"$f":"SUM(O2454:P2454)","v":20}]
[]
[null,"神津島度１","年度計",{"$f":"SUM(D2440:D2448,D2452:D2454)","v":0},{"$f":"SUM(E2440:E2448,E2452:E2454)","v":1039},{"$f":"SUM(F2440:F2448,F2452:F2454)","v":1039},{"$f":"SUM(G2440:G2448,G2452:G2454)","v":0},0,0,0,12078,10110,22188,22188,215,0,{"$f":"SUM(Q2440:Q2448,Q2452:Q2454)","v":215}]
[]
[]
[]
[null,null,"項目",null,null,null,"貨 物 取 扱 量 （トン）",null,null,null,null,null,null,"郵 便 取 扱 量 （kg）"]
[null,null,null,null,"国 際 線",null,null,"国 内 線",null,"合計",null,"国 際 線",null,null,"国 内 線",null,"合 計"]
[null,null,"月別","積","卸","小 計","積","卸","小 計",null,"積","卸","小 計","積","卸","小 計"]
[]
[null,null,"1月",0,0,{"$f":"SUM(D2464:E2464)","v":0},0,0,{"$f":"SUM(G2464:H2464)","v":0},{"$f":"F2464+I2464","v":0},0,0,{"$f":"SUM(K2464:L2464)","v":0},0,0,{"$f":"SUM(N2464:O2464)","v":0},{"$f":"M2464+P2464","v":0}]
[null,null,"2月",0,0,{"$f":"SUM(D2465:E2465)","v":0},0,0,{"$f":"SUM(G2465:H2465)","v":0},{"$f":"F2465+I2465","v":0},0,0,{"$f":"SUM(K2465:L2465)","v":0},0,0,{"$f":"SUM(N2465:O2465)","v":0},{"$f":"M2465+P2465","v":0}]
[null,null,"3月",0,0,{"$f":"SUM(D2466:E2466)","v":0},0,0,{"$f":"SUM(G2466:H2466)","v":0},{"$f":"F2466+I2466","v":0},0,0,{"$f":"SUM(K2466:L2466)","v":0},0,0,{"$f":"SUM(N2466:O2466)","v":0},{"$f":"M2466+P2466","v":0}]
[null,null,"4月",0,0,{"$f":"SUM(D2467:E2467)","v":0},0,0,{"$f":"SUM(G2467:H2467)","v":0},{"$f":"F2467+I2467","v":0},0,0,{"$f":"SUM(K2467:L2467)","v":0},0,0,{"$f":"SUM(N2467:O2467)","v":0},{"$f":"M2467+P2467","v":0}]
[null,null,"5月",0,0,0,0,0,0,0,0,0,0,0,0,0,0]
[null,null,"6月",0,0,0,0,0,0,0,0,0,0,0,0,0,0]
[null,null,"7月",0,0,0,0,0,0,0,0,0,0,0,0,0,0]
[null,null,"8月",0,0,0,0,0,0,0,0,0,0,0,0,0,0]
[null,null,"9月",0,0,0,0,0,0,0,0,0,0,0,0,0,0]
[null,null,"10月",0,0,0,0,0,0,0,0,0,0,0,0,0,0]
[null,null,"11月",0,0,0,0,0,0,0,0,0,0,0,0,0,0]
[null,null,"12月",0,0,0,0,0,0,0,0,0,0,0,0,0,0]
[]
[null,"神津島暦２","暦年 計",{"$f":"SUM(D2464:D2476)","v":0},0,0,0,0,0,0,0,0,{"$f":"SUM(M2464:M2476)","v":0},{"$f":"SUM(N2464:N2476)","v":0},{"$f":"SUM(O2464:O2476)","v":0},{"$f":"SUM(P2464:P2476)","v":0},{"$f":"SUM(Q2464:Q2476)","v":0}]
[]
[null,null,"1月",0,0,{"$f":"SUM(D2479:E2479)","v":0},0,0,{"$f":"SUM(G2479:H2479)","v":0},{"$f":"F2479+I2479","v":0},0,0,{"$f":"SUM(K2479:L2479)","v":0},0,0,{"$f":"SUM(N2479:O2479)","v":0},{"$f":"M2479+P2479","v":0}]
[null,null,"2月",0,0,{"$f":"SUM(D2480:E2480)","v":0},0,0,{"$f":"SUM(G2480:H2480)","v":0},{"$f":"F2480+I2480","v":0},0,0,{"$f":"SUM(K2480:L2480)","v":0},0,0,{"$f":"SUM(N2480:O2480)","v":0},{"$f":"M2480+P2480","v":0}]
[null,null,"3月",0,0,{"$f":"SUM(D2481:E2481)","v":0},0,0,{"$f":"SUM(G2481:H2481)","v":0},{"$f":"F2481+I2481","v":0},0,0,{"$f":"SUM(K2481:L2481)","v":0},0,0,{"$f":"SUM(N2481:O2481)","v":0},{"$f":"M2481+P2481","v":0}]
[]
[null,"神津島度２","年度計",{"$f":"SUM(D2467:D2475,D2479:D2481)","v":0},{"$f":"SUM(E2467:E2475,E2479:E2481)","v":0},{"$f":"SUM(F2467:F2475,F2479:F2481)","v":0},{"$f":"SUM(G2467:G2475,G2479:G2481)","v":0},0,0,0,0,0,{"$f":"SUM(M2467:M2475,M2479:M2481)","v":0},{"$f":"SUM(N2467:N2475,N2479:N2481)","v":0},{"$f":"SUM(O2467:O2475,O2479:O2481)","v":0},{"$f":"SUM(P2467:P2475,P2479:P2481)","v":0},{"$f":"SUM(Q2467:Q2475,Q2479:Q2481)","v":0}]
[]
[null,null,{"$f":"C2431","v":"平　成　２　８　年　空　港　管　理　状　況　調　書"}]
[null,null,"空港名 ：","三 宅 島              （地方管理）"]
[null,null,"項目",null,"着 陸 回 数 （回）",null,"乗   降   客   数   （人）",null,null,null,null,null,null,null,"航空燃料供給量　（KＬ）"]
[null,null,null,"国際線","国内線","計",null,"国 際 線",null,null,null,"国 内 線",null,"合 計","ジェット燃料","その他燃料","合計"]
[null,null,"月別",null,null,null,"乗 客","降 客","通過客","小 計","乗 客","降 客","小 計"]
[]
[null,null,"1月",0,103,{"$f":"SUM(D2491:E2491)","v":103},0,0,0,{"$f":"SUM(G2491:I2491)","v":0},1194,641,{"$f":"SUM(K2491:L2491)","v":1835},{"$f":"J2491+M2491","v":1835},21,0,{"$f":"SUM(O2491:P2491)","v":21}]
[null,null,"2月",0,98,{"$f":"SUM(D2492:E2492)","v":98},0,0,0,{"$f":"SUM(G2492:I2492)","v":0},1217,708,{"$f":"SUM(K2492:L2492)","v":1925},{"$f":"J2492+M2492","v":1925},21,0,{"$f":"SUM(O2492:P2492)","v":21}]
[null,null,"3月",0,102,{"$f":"SUM(D2493:E2493)","v":102},0,0,0,{"$f":"SUM(G2493:I2493)","v":0},1347,782,{"$f":"SUM(K2493:L2493)","v":2129},{"$f":"J2493+M2493","v":2129},23,0,{"$f":"SUM(O2493:P2493)","v":23}]
[null,null,"4月",0,94,{"$f":"SUM(D2494:E2494)","v":94},0,0,0,{"$f":"SUM(G2494:I2494)","v":0},1114,583,{"$f":"SUM(K2494:L2494)","v":1697},{"$f":"J2494+M2494","v":1697},20,0,{"$f":"SUM(O2494:P2494)","v":20}]
[null,null,"5月",0,88,88,0,0,0,0,1148,653,1801,1801,20,0,20]
[null,null,"6月",0,84,84,0,0,0,0,1054,474,1528,1528,17,0,17]
[null,null,"7月",0,99,99,0,0,0,0,1270,704,1974,1974,21,0,21]
[null,null,"8月",0,102,102,0,0,0,0,1436,890,2326,2326,24,0,24]
[null,null,"9月",0,101,101,0,0,0,0,1275,702,1977,1977,23,0,23]
[null,null,"10月",0,93,93,0,0,0,0,1348,662,2010,2010,21,0,21]
[null,null,"11月",0,97,97,0,0,0,0,1285,709,1994,1994,23,0,23]
[null,null,"12月",0,95,95,0,0,0,0,1296,648,1944,1944,21,0,21]
[]
[null,"三宅島暦１","暦年 計",{"$f":"SUM(D2491:D2502)","v":0},{"$f":"SUM(E2491:E2502)","v":1156},{"$f":"SUM(F2491:F2502)","v":1156},{"$f":"SUM(G2491:G2502)","v":0},{"$f":"SUM(H2491:H2502)","v":0},0,0,14984,8156,23140,23140,255,{"$f":"SUM(P2491:P2502)","v":0},{"$f":"SUM(Q2491:Q2502)","v":255}]
[]
[null,null,"1月",0,97,{"$f":"SUM(D2506:E2506)","v":97},0,0,0,{"$f":"SUM(G2506:I2506)","v":0},1267,807,{"$f":"SUM(K2506:L2506)","v":2074},{"$f":"J2506+M2506","v":2074},23,0,{"$f":"SUM(O2506:P2506)","v":23}]
[null,null,"2月",0,90,{"$f":"SUM(D2507:E2507)","v":90},0,0,0,{"$f":"SUM(G2507:I2507)","v":0},1147,691,{"$f":"SUM(K2507:L2507)","v":1838},{"$f":"J2507+M2507","v":1838},20,0,{"$f":"SUM(O2507:P2507)","v":20}]
[null,null,"3月",0,104,{"$f":"SUM(D2508:E2508)","v":104},0,0,0,{"$f":"SUM(G2508:I2508)","v":0},1384,763,{"$f":"SUM(K2508:L2508)","v":2147},{"$f":"J2508+M2508","v":2147},25,0,{"$f":"SUM(O2508:P2508)","v":25}]
[]
[null,"三宅島度１","年度計",{"$f":"SUM(D2494:D2502,D2506:D2508)","v":0},{"$f":"SUM(E2494:E2502,E2506:E2508)","v":1144},{"$f":"SUM(F2494:F2502,F2506:F2508)","v":1144},{"$f":"SUM(G2494:G2502,G2506:G2508)","v":0},0,0,0,15024,8286,23310,23310,258,0,{"$f":"SUM(Q2494:Q2502,Q2506:Q2508)","v":258}]
[]
[]
[]
[null,null,"項目",null,null,null,"貨 物 取 扱 量 （トン）",null,null,null,null,null,null,"郵 便 取 扱 量 （kg）"]
[null,null,null,null,"国 際 線",null,null,"国 内 線",null,"合計",null,"国 際 線",null,null,"国 内 線",null,"合 計"]
[null,null,"月別","積","卸","小 計","積","卸","小 計",null,"積","卸","小 計","積","卸","小 計"]
[]
[null,null,"1月",0,0,{"$f":"SUM(D2518:E2518)","v":0},0,0,{"$f":"SUM(G2518:H2518)","v":0},{"$f":"F2518+I2518","v":0},0,0,{"$f":"SUM(K2518:L2518)","v":0},0,0,{"$f":"SUM(N2518:O2518)","v":0},{"$f":"M2518+P2518","v":0}]
[null,null,"2月",0,0,{"$f":"SUM(D2519:E2519)","v":0},0,0,{"$f":"SUM(G2519:H2519)","v":0},{"$f":"F2519+I2519","v":0},0,0,{"$f":"SUM(K2519:L2519)","v":0},0,0,{"$f":"SUM(N2519:O2519)","v":0},{"$f":"M2519+P2519","v":0}]
[null,null,"3月",0,0,{"$f":"SUM(D2520:E2520)","v":0},0,0,{"$f":"SUM(G2520:H2520)","v":0},{"$f":"F2520+I2520","v":0},0,0,{"$f":"SUM(K2520:L2520)","v":0},0,0,{"$f":"SUM(N2520:O2520)","v":0},{"$f":"M2520+P2520","v":0}]
[null,null,"4月",0,0,{"$f":"SUM(D2521:E2521)","v":0},0,0,{"$f":"SUM(G2521:H2521)","v":0},{"$f":"F2521+I2521","v":0},0,0,{"$f":"SUM(K2521:L2521)","v":0},0,0,{"$f":"SUM(N2521:O2521)","v":0},{"$f":"M2521+P2521","v":0}]
[null,null,"5月",0,0,0,1,0,1,1,0,0,0,0,0,0,0]
[null,null,"6月",0,0,0,1,0,1,1,0,0,0,0,0,0,0]
[null,null,"7月",0,0,0,0,0,0,0,0,0,0,0,0,0,0]
[null,null,"8月",0,0,0,0,0,0,0,0,0,0,0,0,0,0]
[null,null,"9月",0,0,0,0,0,0,0,0,0,0,0,0,0,0]
[null,null,"10月",0,0,0,0,0,0,0,0,0,0,0,0,0,0]
[null,null,"11月",0,0,0,0,0,0,0,0,0,0,0,0,0,0]
[null,null,"12月",0,0,0,0,0,0,0,0,0,0,0,0,0,0]
[]
[null,"三宅島暦２","暦年 計",{"$f":"SUM(D2518:D2530)","v":0},0,0,2,0,2,2,0,0,{"$f":"SUM(M2518:M2530)","v":0},{"$f":"SUM(N2518:N2530)","v":0},{"$f":"SUM(O2518:O2530)","v":0},{"$f":"SUM(P2518:P2530)","v":0},{"$f":"SUM(Q2518:Q2530)","v":0}]
[]
[null,null,"1月",0,0,{"$f":"SUM(D2533:E2533)","v":0},0,0,{"$f":"SUM(G2533:H2533)","v":0},{"$f":"F2533+I2533","v":0},0,0,{"$f":"SUM(K2533:L2533)","v":0},0,0,{"$f":"SUM(N2533:O2533)","v":0},{"$f":"M2533+P2533","v":0}]
[null,null,"2月",0,0,{"$f":"SUM(D2534:E2534)","v":0},0,0,{"$f":"SUM(G2534:H2534)","v":0},{"$f":"F2534+I2534","v":0},0,0,{"$f":"SUM(K2534:L2534)","v":0},0,0,{"$f":"SUM(N2534:O2534)","v":0},{"$f":"M2534+P2534","v":0}]
[null,null,"3月",0,0,{"$f":"SUM(D2535:E2535)","v":0},0,0,{"$f":"SUM(G2535:H2535)","v":0},{"$f":"F2535+I2535","v":0},0,0,{"$f":"SUM(K2535:L2535)","v":0},0,0,{"$f":"SUM(N2535:O2535)","v":0},{"$f":"M2535+P2535","v":0}]
[]
[null,"三宅島度２","年度計",{"$f":"SUM(D2521:D2529,D2533:D2535)","v":0},{"$f":"SUM(E2521:E2529,E2533:E2535)","v":0},{"$f":"SUM(F2521:F2529,F2533:F2535)","v":0},{"$f":"SUM(G2521:G2529,G2533:G2535)","v":2},0,2,2,0,0,{"$f":"SUM(M2521:M2529,M2533:M2535)","v":0},{"$f":"SUM(N2521:N2529,N2533:N2535)","v":0},{"$f":"SUM(O2521:O2529,O2533:O2535)","v":0},{"$f":"SUM(P2521:P2529,P2533:P2535)","v":0},{"$f":"SUM(Q2521:Q2529,Q2533:Q2535)","v":0}]
[]
[null,null,{"$f":"C2485","v":"平　成　２　８　年　空　港　管　理　状　況　調　書"}]
[null,null,"空港名 ：","八 丈 島              （地方管理）"]
[null,null,"項目",null,"着 陸 回 数 （回）",null,"乗   降   客   数   （人）",null,null,null,null,null,null,null,"航空燃料供給量　（KＬ）"]
[null,null,null,"国際線","国内線","計",null,"国 際 線",null,null,null,"国 内 線",null,"合 計","ジェット燃料","その他燃料","合計"]
[null,null,"月別",null,null,null,"乗 客","降 客","通過客","小 計","乗 客","降 客","小 計"]
[]
[null,null,"1月",0,179,{"$f":"SUM(D2545:E2545)","v":179},0,0,0,{"$f":"SUM(G2545:I2545)","v":0},7546,6210,{"$f":"SUM(K2545:L2545)","v":13756},{"$f":"J2545+M2545","v":13756},37,0,{"$f":"SUM(O2545:P2545)","v":37}]
[null,null,"2月",0,153,{"$f":"SUM(D2546:E2546)","v":153},0,0,0,{"$f":"SUM(G2546:I2546)","v":0},5889,6004,{"$f":"SUM(K2546:L2546)","v":11893},{"$f":"J2546+M2546","v":11893},34,0,{"$f":"SUM(O2546:P2546)","v":34}]
[null,null,"3月",0,163,{"$f":"SUM(D2547:E2547)","v":163},0,0,0,{"$f":"SUM(G2547:I2547)","v":0},8666,7743,{"$f":"SUM(K2547:L2547)","v":16409},{"$f":"J2547+M2547","v":16409},39,0,{"$f":"SUM(O2547:P2547)","v":39}]
[null,null,"4月",0,154,{"$f":"SUM(D2548:E2548)","v":154},0,0,0,{"$f":"SUM(G2548:I2548)","v":0},6807,6942,{"$f":"SUM(K2548:L2548)","v":13749},{"$f":"J2548+M2548","v":13749},31,0,{"$f":"SUM(O2548:P2548)","v":31}]
[null,null,"5月",0,159,159,0,0,0,0,8435,7093,15528,15528,27,0,27]
[null,null,"6月",0,138,138,0,0,0,0,6027,5336,11363,11363,28,0,28]
[null,null,"7月",0,170,170,0,0,0,0,9554,9243,18797,18797,36,0,36]
[null,null,"8月",0,171,171,0,0,0,0,14301,12259,26560,26560,32,0,32]
[null,null,"9月",0,167,167,0,0,0,0,9584,8450,18034,18034,36,0,36]
[null,null,"10月",0,187,187,0,0,0,0,8495,7866,16361,16361,52,0,52]
[null,null,"11月",0,165,165,0,0,0,0,7834,7094,14928,14928,39,0,39]
[null,null,"12月",0,181,181,0,0,0,0,6888,7004,13892,13892,36,0,36]
[]
[null,"八丈島暦１","暦年 計",{"$f":"SUM(D2545:D2556)","v":0},{"$f":"SUM(E2545:E2556)","v":1987},{"$f":"SUM(F2545:F2556)","v":1987},{"$f":"SUM(G2545:G2556)","v":0},{"$f":"SUM(H2545:H2556)","v":0},0,0,100026,91244,191270,191270,427,{"$f":"SUM(P2545:P2556)","v":0},{"$f":"SUM(Q2545:Q2556)","v":427}]
[]
[null,null,"1月",0,167,{"$f":"SUM(D2560:E2560)","v":167},0,0,0,{"$f":"SUM(G2560:I2560)","v":0},7796,6583,{"$f":"SUM(K2560:L2560)","v":14379},{"$f":"J2560+M2560","v":14379},41,0,{"$f":"SUM(O2560:P2560)","v":41}]
[null,null,"2月",0,160,{"$f":"SUM(D2561:E2561)","v":160},0,0,0,{"$f":"SUM(G2561:I2561)","v":0},6630,6345,{"$f":"SUM(K2561:L2561)","v":12975},{"$f":"J2561+M2561","v":12975},41,0,{"$f":"SUM(O2561:P2561)","v":41}]
[null,null,"3月",0,177,{"$f":"SUM(D2562:E2562)","v":177},0,0,0,{"$f":"SUM(G2562:I2562)","v":0},9204,8252,{"$f":"SUM(K2562:L2562)","v":17456},{"$f":"J2562+M2562","v":17456},34,0,{"$f":"SUM(O2562:P2562)","v":34}]
[]
[null,"八丈島度１","年度計",{"$f":"SUM(D2548:D2556,D2560:D2562)","v":0},{"$f":"SUM(E2548:E2556,E2560:E2562)","v":1996},{"$f":"SUM(F2548:F2556,F2560:F2562)","v":1996},{"$f":"SUM(G2548:G2556,G2560:G2562)","v":0},0,0,0,101555,92467,194022,194022,433,0,{"$f":"SUM(Q2548:Q2556,Q2560:Q2562)","v":433}]
[]
[]
[]
[null,null,"項目",null,null,null,"貨 物 取 扱 量 （トン）",null,null,null,null,null,null,"郵 便 取 扱 量 （kg）"]
[null,null,null,null,"国 際 線",null,null,"国 内 線",null,"合計",null,"国 際 線",null,null,"国 内 線",null,"合 計"]
[null,null,"月別","積","卸","小 計","積","卸","小 計",null,"積","卸","小 計","積","卸","小 計"]
[]
[null,null,"1月",0,0,{"$f":"SUM(D2572:E2572)","v":0},58,25,{"$f":"SUM(G2572:H2572)","v":83},{"$f":"F2572+I2572","v":83},0,0,{"$f":"SUM(K2572:L2572)","v":0},1394,4319,{"$f":"SUM(N2572:O2572)","v":5713},{"$f":"M2572+P2572","v":5713}]
[null,null,"2月",0,0,{"$f":"SUM(D2573:E2573)","v":0},46,22,{"$f":"SUM(G2573:H2573)","v":68},{"$f":"F2573+I2573","v":68},0,0,{"$f":"SUM(K2573:L2573)","v":0},1244,2985,{"$f":"SUM(N2573:O2573)","v":4229},{"$f":"M2573+P2573","v":4229}]
[null,null,"3月",0,0,{"$f":"SUM(D2574:E2574)","v":0},71,22,{"$f":"SUM(G2574:H2574)","v":93},{"$f":"F2574+I2574","v":93},0,0,{"$f":"SUM(K2574:L2574)","v":0},1457,3294,{"$f":"SUM(N2574:O2574)","v":4751},{"$f":"M2574+P2574","v":4751}]
[null,null,"4月",0,0,{"$f":"SUM(D2575:E2575)","v":0},58,26,{"$f":"SUM(G2575:H2575)","v":84},{"$f":"F2575+I2575","v":84},0,0,{"$f":"SUM(K2575:L2575)","v":0},1458,4001,{"$f":"SUM(N2575:O2575)","v":5459},{"$f":"M2575+P2575","v":5459}]
[null,null,"5月",0,0,0,69,24,93,93,0,0,0,1219,3035,4254,4254]
[null,null,"6月",0,0,0,55,19,74,74,0,0,0,1350,3067,4417,4417]
[null,null,"7月",0,0,0,67,18,85,85,0,0,0,1304,2912,4216,4216]
[null,null,"8月",0,0,0,73,31,104,104,0,0,0,1325,3635,4960,4960]
[null,null,"9月",0,0,0,54,23,77,77,0,0,0,1275,2669,3944,3944]
[null,null,"10月",0,0,0,49,16,65,65,0,0,0,1377,3184,4561,4561]
[null,null,"11月",0,0,0,61,22,83,83,0,0,0,1296,3338,4634,4634]
[null,null,"12月",0,0,0,95,23,118,118,0,0,0,1719,3359,5078,5078]
[]
[null,"八丈島暦２","暦年 計",{"$f":"SUM(D2572:D2584)","v":0},0,0,756,271,1027,1027,0,0,{"$f":"SUM(M2572:M2584)","v":0},{"$f":"SUM(N2572:N2584)","v":16418},{"$f":"SUM(O2572:O2584)","v":39798},{"$f":"SUM(P2572:P2584)","v":56216},{"$f":"SUM(Q2572:Q2584)","v":56216}]
[]
[null,null,"1月",0,0,{"$f":"SUM(D2587:E2587)","v":0},54,25,{"$f":"SUM(G2587:H2587)","v":79},{"$f":"F2587+I2587","v":79},0,0,{"$f":"SUM(K2587:L2587)","v":0},1523,3956,{"$f":"SUM(N2587:O2587)","v":5479},{"$f":"M2587+P2587","v":5479}]
[null,null,"2月",0,0,{"$f":"SUM(D2588:E2588)","v":0},52,26,{"$f":"SUM(G2588:H2588)","v":78},{"$f":"F2588+I2588","v":78},0,0,{"$f":"SUM(K2588:L2588)","v":0},1463,3791,{"$f":"SUM(N2588:O2588)","v":5254},{"$f":"M2588+P2588","v":5254}]
[null,null,"3月",0,0,{"$f":"SUM(D2589:E2589)","v":0},64,24,{"$f":"SUM(G2589:H2589)","v":88},{"$f":"F2589+I2589","v":88},0,0,{"$f":"SUM(K2589:L2589)","v":0},1526,3811,{"$f":"SUM(N2589:O2589)","v":5337},{"$f":"M2589+P2589","v":5337}]
[]
[null,"八丈島度２","年度計",{"$f":"SUM(D2575:D2583,D2587:D2589)","v":0},{"$f":"SUM(E2575:E2583,E2587:E2589)","v":0},{"$f":"SUM(F2575:F2583,F2587:F2589)","v":0},{"$f":"SUM(G2575:G2583,G2587:G2589)","v":751},277,1028,1028,0,0,{"$f":"SUM(M2575:M2583,M2587:M2589)","v":0},{"$f":"SUM(N2575:N2583,N2587:N2589)","v":16835},{"$f":"SUM(O2575:O2583,O2587:O2589)","v":40758},{"$f":"SUM(P2575:P2583,P2587:P2589)","v":57593},{"$f":"SUM(Q2575:Q2583,Q2587:Q2589)","v":57593}]
[]
[null,null,{"$f":"C2539","v":"平　成　２　８　年　空　港　管　理　状　況　調　書"}]
[null,null,"空港名 ：","佐    渡              （地方管理）"]
[null,null,"項目",null,"着 陸 回 数 （回）",null,"乗   降   客   数   （人）",null,null,null,null,null,null,null,"航空燃料供給量　（KＬ）"]
[null,null,null,"国際線","国内線","計",null,"国 際 線",null,null,null,"国 内 線",null,"合 計","ジェット燃料","その他燃料","合計"]
[null,null,"月別",null,null,null,"乗 客","降 客","通過客","小 計","乗 客","降 客","小 計"]
[]
[null,null,"1月",0,1,{"$f":"SUM(D2599:E2599)","v":1},0,0,0,{"$f":"SUM(G2599:I2599)","v":0},0,0,{"$f":"SUM(K2599:L2599)","v":0},{"$f":"J2599+M2599","v":0},0,0,{"$f":"SUM(O2599:P2599)","v":0}]
[null,null,"2月",0,2,{"$f":"SUM(D2600:E2600)","v":2},0,0,0,{"$f":"SUM(G2600:I2600)","v":0},0,0,{"$f":"SUM(K2600:L2600)","v":0},{"$f":"J2600+M2600","v":0},0,0,{"$f":"SUM(O2600:P2600)","v":0}]
[null,null,"3月",0,8,{"$f":"SUM(D2601:E2601)","v":8},0,0,0,{"$f":"SUM(G2601:I2601)","v":0},0,0,{"$f":"SUM(K2601:L2601)","v":0},{"$f":"J2601+M2601","v":0},0,0,{"$f":"SUM(O2601:P2601)","v":0}]
[null,null,"4月",0,6,{"$f":"SUM(D2602:E2602)","v":6},0,0,0,{"$f":"SUM(G2602:I2602)","v":0},0,0,{"$f":"SUM(K2602:L2602)","v":0},{"$f":"J2602+M2602","v":0},0,0,{"$f":"SUM(O2602:P2602)","v":0}]
[null,null,"5月",0,9,9,0,0,0,0,0,0,0,0,0,0,0]
[null,null,"6月",0,22,22,0,0,0,0,0,0,0,0,0,0,0]
[null,null,"7月",0,14,14,0,0,0,0,0,0,0,0,0,0,0]
[null,null,"8月",0,9,9,0,0,0,0,0,0,0,0,0,0,0]
[null,null,"9月",0,43,43,0,0,0,0,86,0,86,86,0,0,0]
[null,null,"10月",0,9,9,0,0,0,0,0,0,0,0,0,0,0]
[null,null,"11月",0,2,2,0,0,0,0,0,0,0,0,0,0,0]
[null,null,"12月",0,5,5,0,0,0,0,0,0,0,0,0,0,0]
[]
[null,"佐渡暦１","暦年 計",{"$f":"SUM(D2599:D2610)","v":0},{"$f":"SUM(E2599:E2610)","v":130},{"$f":"SUM(F2599:F2610)","v":130},{"$f":"SUM(G2599:G2610)","v":0},{"$f":"SUM(H2599:H2610)","v":0},0,0,86,0,86,86,0,{"$f":"SUM(P2599:P2610)","v":0},{"$f":"SUM(Q2599:Q2610)","v":0}]
[]
[null,null,"1月",0,0,{"$f":"SUM(D2614:E2614)","v":0},0,0,0,{"$f":"SUM(G2614:I2614)","v":0},0,0,{"$f":"SUM(K2614:L2614)","v":0},{"$f":"J2614+M2614","v":0},0,0,{"$f":"SUM(O2614:P2614)","v":0}]
[null,null,"2月",0,5,{"$f":"SUM(D2615:E2615)","v":5},0,0,0,{"$f":"SUM(G2615:I2615)","v":0},0,0,{"$f":"SUM(K2615:L2615)","v":0},{"$f":"J2615+M2615","v":0},0,0,{"$f":"SUM(O2615:P2615)","v":0}]
[null,null,"3月",0,4,{"$f":"SUM(D2616:E2616)","v":4},0,0,0,{"$f":"SUM(G2616:I2616)","v":0},0,0,{"$f":"SUM(K2616:L2616)","v":0},{"$f":"J2616+M2616","v":0},0,0,{"$f":"SUM(O2616:P2616)","v":0}]
[]
[null,"佐渡度１","年度計",{"$f":"SUM(D2602:D2610,D2614:D2616)","v":0},{"$f":"SUM(E2602:E2610,E2614:E2616)","v":128},{"$f":"SUM(F2602:F2610,F2614:F2616)","v":128},{"$f":"SUM(G2602:G2610,G2614:G2616)","v":0},0,0,0,86,0,86,86,0,0,{"$f":"SUM(Q2602:Q2610,Q2614:Q2616)","v":0}]
[]
[]
[]
[null,null,"項目",null,null,null,"貨 物 取 扱 量 （トン）",null,null,null,null,null,null,"郵 便 取 扱 量 （kg）"]
[null,null,null,null,"国 際 線",null,null,"国 内 線",null,"合計",null,"国 際 線",null,null,"国 内 線",null,"合 計"]
[null,null,"月別","積","卸","小 計","積","卸","小 計",null,"積","卸","小 計","積","卸","小 計"]
[]
[null,null,"1月",0,0,{"$f":"SUM(D2626:E2626)","v":0},0,0,{"$f":"SUM(G2626:H2626)","v":0},{"$f":"F2626+I2626","v":0},0,0,{"$f":"SUM(K2626:L2626)","v":0},0,0,{"$f":"SUM(N2626:O2626)","v":0},{"$f":"M2626+P2626","v":0}]
[null,null,"2月",0,0,0,0,0,0,0,0,0,0,0,0,0,0]
[null,null,"3月",0,0,0,0,0,0,0,0,0,0,0,0,0,0]
[null,null,"4月",0,0,0,0,0,0,0,0,0,0,0,0,0,0]
[null,null,"5月",0,0,0,0,0,0,0,0,0,0,0,0,0,0]
[null,null,"6月",0,0,0,0,0,0,0,0,0,0,0,0,0,0]
[null,null,"7月",0,0,0,0,0,0,0,0,0,0,0,0,0,0]
[null,null,"8月",0,0,0,0,0,0,0,0,0,0,0,0,0,0]
[null,null,"9月",0,0,0,0,0,0,0,0,0,0,0,0,0,0]
[null,null,"10月",0,0,0,0,0,0,0,0,0,0,0,0,0,0]
[null,null,"11月",0,0,0,0,0,0,0,0,0,0,0,0,0,0]
[null,null,"12月",0,0,0,0,0,0,0,0,0,0,0,0,0,0]
[]
[null,"佐渡暦２","暦年 計",{"$f":"SUM(D2626:D2638)","v":0},0,0,0,0,0,0,0,0,{"$f":"SUM(M2626:M2638)","v":0},{"$f":"SUM(N2626:N2638)","v":0},{"$f":"SUM(O2626:O2638)","v":0},{"$f":"SUM(P2626:P2638)","v":0},{"$f":"SUM(Q2626:Q2638)","v":0}]
[]
[null,null,"1月",0,0,{"$f":"SUM(D2641:E2641)","v":0},0,0,{"$f":"SUM(G2641:H2641)","v":0},{"$f":"F2641+I2641","v":0},0,0,{"$f":"SUM(K2641:L2641)","v":0},0,0,{"$f":"SUM(N2641:O2641)","v":0},{"$f":"M2641+P2641","v":0}]
[null,null,"2月",0,0,{"$f":"SUM(D2642:E2642)","v":0},0,0,{"$f":"SUM(G2642:H2642)","v":0},{"$f":"F2642+I2642","v":0},0,0,{"$f":"SUM(K2642:L2642)","v":0},0,0,{"$f":"SUM(N2642:O2642)","v":0},{"$f":"M2642+P2642","v":0}]
[null,null,"3月",0,0,{"$f":"SUM(D2643:E2643)","v":0},0,0,{"$f":"SUM(G2643:H2643)","v":0},{"$f":"F2643+I2643","v":0},0,0,{"$f":"SUM(K2643:L2643)","v":0},0,0,{"$f":"SUM(N2643:O2643)","v":0},{"$f":"M2643+P2643","v":0}]
[]
[null,"佐渡度２","年度計",{"$f":"SUM(D2629:D2637,D2641:D2643)","v":0},{"$f":"SUM(E2629:E2637,E2641:E2643)","v":0},{"$f":"SUM(F2629:F2637,F2641:F2643)","v":0},{"$f":"SUM(G2629:G2637,G2641:G2643)","v":0},0,0,0,0,0,{"$f":"SUM(M2629:M2637,M2641:M2643)","v":0},{"$f":"SUM(N2629:N2637,N2641:N2643)","v":0},{"$f":"SUM(O2629:O2637,O2641:O2643)","v":0},{"$f":"SUM(P2629:P2637,P2641:P2643)","v":0},{"$f":"SUM(Q2629:Q2637,Q2641:Q2643)","v":0}]
[]
[null,null,{"$f":"C2863","v":"平　成　２　８　年　空　港　管　理　状　況　調　書"}]
[null,null,"空港名 ：","松    本              （地方管理）"]
[null,null,"項目",null,"着 陸 回 数 （回）",null,"乗   降   客   数   （人）",null,null,null,null,null,null,null,"航空燃料供給量　（KＬ）"]
[null,null,null,"国際線","国内線","計",null,"国 際 線",null,null,null,"国 内 線",null,"合 計","ジェット燃料","その他燃料","合計"]
[null,null,"月別",null,null,null,"乗 客","降 客","通過客","小 計","乗 客","降 客","小 計"]
[]
[null,null,"1月",0,256,{"$f":"SUM(D2653:E2653)","v":256},0,0,0,{"$f":"SUM(G2653:I2653)","v":0},3640,3702,{"$f":"SUM(K2653:L2653)","v":7342},{"$f":"J2653+M2653","v":7342},268,1,{"$f":"SUM(O2653:P2653)","v":269}]
[null,null,"2月",0,235,{"$f":"SUM(D2654:E2654)","v":235},0,0,0,{"$f":"SUM(G2654:I2654)","v":0},4062,4015,{"$f":"SUM(K2654:L2654)","v":8077},{"$f":"J2654+M2654","v":8077},280,1,{"$f":"SUM(O2654:P2654)","v":281}]
[null,null,"3月",0,266,{"$f":"SUM(D2655:E2655)","v":266},0,0,0,{"$f":"SUM(G2655:I2655)","v":0},4837,4943,{"$f":"SUM(K2655:L2655)","v":9780},{"$f":"J2655+M2655","v":9780},320,1,{"$f":"SUM(O2655:P2655)","v":321}]
[null,null,"4月",0,301,{"$f":"SUM(D2656:E2656)","v":301},0,0,0,{"$f":"SUM(G2656:I2656)","v":0},4168,3989,{"$f":"SUM(K2656:L2656)","v":8157},{"$f":"J2656+M2656","v":8157},307,2,{"$f":"SUM(O2656:P2656)","v":309}]
[null,null,"5月",0,319,319,0,0,0,0,4799,4823,9622,9622,341,3,344]
[null,null,"6月",0,320,320,0,0,0,0,4484,4597,9081,9081,332,2,334]
[null,null,"7月",0,325,325,0,0,0,0,5657,6000,11657,11657,346,2,348]
[null,null,"8月",0,399,399,0,0,0,0,8136,8463,16599,16599,409,2,411]
[null,null,"9月",0,295,295,0,0,0,0,5266,5420,10686,10686,300,1,301]
[null,null,"10月",0,367,367,0,0,0,0,6258,6526,12784,12784,385,4,389]
[null,null,"11月",0,324,324,0,0,0,0,5146,5103,10249,10249,349,3,352]
[null,null,"12月",1,241,242,8,0,0,8,4055,3894,7949,7957,330,2,332]
[]
[null,"松本暦１","暦年 計",{"$f":"SUM(D2653:D2664)","v":1},{"$f":"SUM(E2653:E2664)","v":3648},{"$f":"SUM(F2653:F2664)","v":3649},{"$f":"SUM(G2653:G2664)","v":8},{"$f":"SUM(H2653:H2664)","v":0},0,8,60508,61475,121983,121991,3967,{"$f":"SUM(P2653:P2664)","v":24},{"$f":"SUM(Q2653:Q2664)","v":3991}]
[]
[null,null,"1月",0,237,{"$f":"SUM(D2668:E2668)","v":237},0,0,0,{"$f":"SUM(G2668:I2668)","v":0},3507,3673,{"$f":"SUM(K2668:L2668)","v":7180},{"$f":"J2668+M2668","v":7180},226,1,{"$f":"SUM(O2668:P2668)","v":227}]
[null,null,"2月",0,207,{"$f":"SUM(D2669:E2669)","v":207},0,0,0,{"$f":"SUM(G2669:I2669)","v":0},4320,4280,{"$f":"SUM(K2669:L2669)","v":8600},{"$f":"J2669+M2669","v":8600},316,1,{"$f":"SUM(O2669:P2669)","v":317}]
[null,null,"3月",0,255,{"$f":"SUM(D2670:E2670)","v":255},0,0,0,{"$f":"SUM(G2670:I2670)","v":0},5907,5761,{"$f":"SUM(K2670:L2670)","v":11668},{"$f":"J2670+M2670","v":11668},352,1,{"$f":"SUM(O2670:P2670)","v":353}]
[]
[null,"松本度１","年度計",{"$f":"SUM(D2656:D2664,D2668:D2670)","v":1},{"$f":"SUM(E2656:E2664,E2668:E2670)","v":3590},{"$f":"SUM(F2656:F2664,F2668:F2670)","v":3591},{"$f":"SUM(G2656:G2664,G2668:G2670)","v":8},0,0,8,61703,62529,124232,124240,3993,24,{"$f":"SUM(Q2656:Q2664,Q2668:Q2670)","v":4017}]
[]
[]
[]
[null,null,"項目",null,null,null,"貨 物 取 扱 量 （トン）",null,null,null,null,null,null,"郵 便 取 扱 量 （kg）"]
[null,null,null,null,"国 際 線",null,null,"国 内 線",null,"合計",null,"国 際 線",null,null,"国 内 線",null,"合 計"]
[null,null,"月別","積","卸","小 計","積","卸","小 計",null,"積","卸","小 計","積","卸","小 計"]
[]
[null,null,"1月",0,0,{"$f":"SUM(D2680:E2680)","v":0},0,0,{"$f":"SUM(G2680:H2680)","v":0},{"$f":"F2680+I2680","v":0},0,0,{"$f":"SUM(K2680:L2680)","v":0},0,0,{"$f":"SUM(N2680:O2680)","v":0},{"$f":"M2680+P2680","v":0}]
[null,null,"2月",0,0,0,0,0,0,0,0,0,0,0,0,0,0]
[null,null,"3月",0,0,0,0,0,0,0,0,0,0,0,0,0,0]
[null,null,"4月",0,0,0,0,0,0,0,0,0,0,0,0,0,0]
[null,null,"5月",0,0,0,0,0,0,0,0,0,0,0,0,0,0]
[null,null,"6月",0,0,0,0,0,0,0,0,0,0,0,0,0,0]
[null,null,"7月",0,0,0,0,0,0,0,0,0,0,0,0,0,0]
[null,null,"8月",0,0,0,0,0,0,0,0,0,0,0,0,0,0]
[null,null,"9月",0,0,0,0,0,0,0,0,0,0,0,0,0,0]
[null,null,"10月",0,0,0,0,0,0,0,0,0,0,0,0,0,0]
[null,null,"11月",0,0,0,0,0,0,0,0,0,0,0,0,0,0]
[null,null,"12月",0,0,0,0,0,0,0,0,0,0,0,0,0,0]
[]
[null,"松本暦２","暦年 計",{"$f":"SUM(D2680:D2692)","v":0},0,0,0,0,0,0,0,0,{"$f":"SUM(M2680:M2692)","v":0},{"$f":"SUM(N2680:N2692)","v":0},{"$f":"SUM(O2680:O2692)","v":0},{"$f":"SUM(P2680:P2692)","v":0},{"$f":"SUM(Q2680:Q2692)","v":0}]
[]
[null,null,"1月",0,0,{"$f":"SUM(D2695:E2695)","v":0},0,0,{"$f":"SUM(G2695:H2695)","v":0},{"$f":"F2695+I2695","v":0},0,0,{"$f":"SUM(K2695:L2695)","v":0},0,0,{"$f":"SUM(N2695:O2695)","v":0},{"$f":"M2695+P2695","v":0}]
[null,null,"2月",0,0,{"$f":"SUM(D2696:E2696)","v":0},0,0,{"$f":"SUM(G2696:H2696)","v":0},{"$f":"F2696+I2696","v":0},0,0,{"$f":"SUM(K2696:L2696)","v":0},0,0,{"$f":"SUM(N2696:O2696)","v":0},{"$f":"M2696+P2696","v":0}]
[null,null,"3月",0,0,{"$f":"SUM(D2697:E2697)","v":0},0,0,{"$f":"SUM(G2697:H2697)","v":0},{"$f":"F2697+I2697","v":0},0,0,{"$f":"SUM(K2697:L2697)","v":0},0,0,{"$f":"SUM(N2697:O2697)","v":0},{"$f":"M2697+P2697","v":0}]
[]
[null,"松本度２","年度計",{"$f":"SUM(D2683:D2691,D2695:D2697)","v":0},{"$f":"SUM(E2683:E2691,E2695:E2697)","v":0},{"$f":"SUM(F2683:F2691,F2695:F2697)","v":0},{"$f":"SUM(G2683:G2691,G2695:G2697)","v":0},0,0,0,0,0,{"$f":"SUM(M2683:M2691,M2695:M2697)","v":0},{"$f":"SUM(N2683:N2691,N2695:N2697)","v":0},{"$f":"SUM(O2683:O2691,O2695:O2697)","v":0},{"$f":"SUM(P2683:P2691,P2695:P2697)","v":0},{"$f":"SUM(Q2683:Q2691,Q2695:Q2697)","v":0}]
[]
[null,null,{"$f":"C2647","v":"平　成　２　８　年　空　港　管　理　状　況　調　書"}]
[null,null,"空港名 ：","静    岡              （地方管理）"]
[null,null,"項目",null,"着 陸 回 数 （回）",null,"乗   降   客   数   （人）",null,null,null,null,null,null,null,"航空燃料供給量　（KＬ）"]
[null,null,null,"国際線","国内線","計",null,"国 際 線",null,null,null,"国 内 線",null,"合 計","ジェット燃料","その他燃料","合計"]
[null,null,"月別",null,null,null,"乗 客","降 客","通過客","小 計","乗 客","降 客","小 計"]
[]
[null,null,"1月",125,256,{"$f":"SUM(D2707:E2707)","v":381},11311,12460,0,{"$f":"SUM(G2707:I2707)","v":23771},11042,11524,{"$f":"SUM(K2707:L2707)","v":22566},{"$f":"J2707+M2707","v":46337},1987,0,{"$f":"SUM(O2707:P2707)","v":1987}]
[null,null,"2月",127,281,{"$f":"SUM(D2708:E2708)","v":408},14063,12773,0,{"$f":"SUM(G2708:I2708)","v":26836},11813,11817,{"$f":"SUM(K2708:L2708)","v":23630},{"$f":"J2708+M2708","v":50466},1966,0,{"$f":"SUM(O2708:P2708)","v":1966}]
[null,null,"3月",120,266,{"$f":"SUM(D2709:E2709)","v":386},12790,12778,0,{"$f":"SUM(G2709:I2709)","v":25568},15599,16406,{"$f":"SUM(K2709:L2709)","v":32005},{"$f":"J2709+M2709","v":57573},1822,0,{"$f":"SUM(O2709:P2709)","v":1822}]
[null,null,"4月",108,259,{"$f":"SUM(D2710:E2710)","v":367},11907,10789,0,{"$f":"SUM(G2710:I2710)","v":22696},12206,11428,{"$f":"SUM(K2710:L2710)","v":23634},{"$f":"J2710+M2710","v":46330},1747,0,{"$f":"SUM(O2710:P2710)","v":1747}]
[null,null,"5月",115,285,400,10893,10873,0,21766,12950,15157,28107,49873,1748,0,1748]
[null,null,"6月",110,314,424,12030,11988,0,24018,12126,11759,23885,47903,1700,0,1700]
[null,null,"7月",116,284,400,15077,14825,0,29902,14262,13942,28204,58106,1690,0,1690]
[null,null,"8月",125,292,417,16812,14890,0,31702,18982,19975,38957,70659,1851,0,1851]
[null,null,"9月",92,290,382,8655,8669,0,17324,15803,15538,31341,48665,1518,0,1518]
[null,null,"10月",93,322,415,9169,8675,0,17844,15497,15881,31378,49222,1585,0,1585]
[null,null,"11月",94,267,361,9598,8623,0,18221,14012,14630,28642,46863,1444,0,1444]
[null,null,"12月",100,269,369,9388,8994,0,18382,13478,12527,26005,44387,1607,0,1607]
[]
[null,"静岡暦１","暦年 計",{"$f":"SUM(D2707:D2718)","v":1325},{"$f":"SUM(E2707:E2718)","v":3385},{"$f":"SUM(F2707:F2718)","v":4710},{"$f":"SUM(G2707:G2718)","v":141693},{"$f":"SUM(H2707:H2718)","v":136337},0,278030,167770,170584,338354,616384,20665,{"$f":"SUM(P2707:P2718)","v":0},{"$f":"SUM(Q2707:Q2718)","v":20665}]
[]
[null,null,"1月",104,250,{"$f":"SUM(D2722:E2722)","v":354},11364,13732,0,{"$f":"SUM(G2722:I2722)","v":25096},12586,13842,{"$f":"SUM(K2722:L2722)","v":26428},{"$f":"J2722+M2722","v":51524},1692,0,{"$f":"SUM(O2722:P2722)","v":1692}]
[null,null,"2月",96,237,{"$f":"SUM(D2723:E2723)","v":333},13111,11316,0,{"$f":"SUM(G2723:I2723)","v":24427},12519,12762,{"$f":"SUM(K2723:L2723)","v":25281},{"$f":"J2723+M2723","v":49708},1564,0,{"$f":"SUM(O2723:P2723)","v":1564}]
[null,null,"3月",106,268,{"$f":"SUM(D2724:E2724)","v":374},11407,11755,0,{"$f":"SUM(G2724:I2724)","v":23162},17857,17727,{"$f":"SUM(K2724:L2724)","v":35584},{"$f":"J2724+M2724","v":58746},1739,0,{"$f":"SUM(O2724:P2724)","v":1739}]
[]
[null,"静岡度１","年度計",{"$f":"SUM(D2710:D2718,D2722:D2724)","v":1259},{"$f":"SUM(E2710:E2718,E2722:E2724)","v":3337},{"$f":"SUM(F2710:F2718,F2722:F2724)","v":4596},{"$f":"SUM(G2710:G2718,G2722:G2724)","v":139411},135129,0,274540,172278,175168,347446,621986,19885,0,{"$f":"SUM(Q2710:Q2718,Q2722:Q2724)","v":19885}]
[]
[]
[]
[null,null,"項目",null,null,null,"貨 物 取 扱 量 （トン）",null,null,null,null,null,null,"郵 便 取 扱 量 （kg）"]
[null,null,null,null,"国 際 線",null,null,"国 内 線",null,"合計",null,"国 際 線",null,null,"国 内 線",null,"合 計"]
[null,null,"月別","積","卸","小 計","積","卸","小 計",null,"積","卸","小 計","積","卸","小 計"]
[]
[null,null,"1月",2,9,{"$f":"SUM(D2734:E2734)","v":11},25,5,{"$f":"SUM(G2734:H2734)","v":30},{"$f":"F2734+I2734","v":41},0,0,{"$f":"SUM(K2734:L2734)","v":0},0,0,{"$f":"SUM(N2734:O2734)","v":0},{"$f":"M2734+P2734","v":0}]
[null,null,"2月",1,10,{"$f":"SUM(D2735:E2735)","v":11},25,7,{"$f":"SUM(G2735:H2735)","v":32},{"$f":"F2735+I2735","v":43},0,0,{"$f":"SUM(K2735:L2735)","v":0},0,0,{"$f":"SUM(N2735:O2735)","v":0},{"$f":"M2735+P2735","v":0}]
[null,null,"3月",1,12,{"$f":"SUM(D2736:E2736)","v":13},31,6,{"$f":"SUM(G2736:H2736)","v":37},{"$f":"F2736+I2736","v":50},0,0,{"$f":"SUM(K2736:L2736)","v":0},0,0,{"$f":"SUM(N2736:O2736)","v":0},{"$f":"M2736+P2736","v":0}]
[null,null,"4月",0,9,{"$f":"SUM(D2737:E2737)","v":9},45,5,{"$f":"SUM(G2737:H2737)","v":50},{"$f":"F2737+I2737","v":59},0,0,0,0,0,{"$f":"SUM(N2737:O2737)","v":0},{"$f":"M2737+P2737","v":0}]
[null,null,"5月",0,7,7,38,1,39,46,0,0,0,0,0,0,0]
[null,null,"6月",1,13,14,29,1,30,44,0,0,0,0,0,0,0]
[null,null,"7月",0,10,10,28,0,28,38,0,0,0,0,0,0,0]
[null,null,"8月",1,8,9,26,2,28,37,0,0,0,0,0,0,0]
[null,null,"9月",0,17,17,37,3,40,57,0,0,0,0,0,{"$f":"SUM(N2742:O2742)","v":0},0]
[null,null,"10月",1,13,14,41,1,42,56,0,0,0,0,0,0,0]
[null,null,"11月",0,8,8,33,1,34,42,0,0,0,0,0,0,0]
[null,null,"12月",0,9,9,53,1,54,63,0,0,0,0,0,0,0]
[]
[null,"静岡暦２","暦年 計",{"$f":"SUM(D2734:D2746)","v":7},125,132,411,33,444,576,0,0,{"$f":"SUM(M2734:M2746)","v":0},{"$f":"SUM(N2734:N2746)","v":0},{"$f":"SUM(O2734:O2746)","v":0},{"$f":"SUM(P2734:P2746)","v":0},{"$f":"SUM(Q2734:Q2746)","v":0}]
[]
[null,null,"1月",0,12,{"$f":"SUM(D2749:E2749)","v":12},42,1,{"$f":"SUM(G2749:H2749)","v":43},{"$f":"F2749+I2749","v":55},0,0,{"$f":"SUM(K2749:L2749)","v":0},0,0,{"$f":"SUM(N2749:O2749)","v":0},{"$f":"M2749+P2749","v":0}]
[null,null,"2月",0,8,{"$f":"SUM(D2750:E2750)","v":8},32,0,{"$f":"SUM(G2750:H2750)","v":32},{"$f":"F2750+I2750","v":40},0,0,{"$f":"SUM(K2750:L2750)","v":0},0,0,{"$f":"SUM(N2750:O2750)","v":0},{"$f":"M2750+P2750","v":0}]
[null,null,"3月",1,19,{"$f":"SUM(D2751:E2751)","v":20},50,0,{"$f":"SUM(G2751:H2751)","v":50},{"$f":"F2751+I2751","v":70},0,0,{"$f":"SUM(K2751:L2751)","v":0},0,0,{"$f":"SUM(N2751:O2751)","v":0},{"$f":"M2751+P2751","v":0}]
[]
[null,"静岡度２","年度計",{"$f":"SUM(D2737:D2745,D2749:D2751)","v":4},{"$f":"SUM(E2737:E2745,E2749:E2751)","v":133},{"$f":"SUM(F2737:F2745,F2749:F2751)","v":137},{"$f":"SUM(G2737:G2745,G2749:G2751)","v":454},16,470,607,0,0,{"$f":"SUM(M2737:M2745,M2749:M2751)","v":0},{"$f":"SUM(N2737:N2745,N2749:N2751)","v":0},{"$f":"SUM(O2737:O2745,O2749:O2751)","v":0},{"$f":"SUM(P2737:P2745,P2749:P2751)","v":0},{"$f":"SUM(Q2737:Q2745,Q2749:Q2751)","v":0}]
[]
[null,null,{"$f":"C2593","v":"平　成　２　８　年　空　港　管　理　状　況　調　書"}]
[null,null,"空港名 ：","富    山              （地方管理）"]
[null,null,"項目",null,"着 陸 回 数 （回）",null,"乗   降   客   数   （人）",null,null,null,null,null,null,null,"航空燃料供給量　（ＫＬ）"]
[null,null,null,"国際線","国内線","計",null,"国 際 線",null,null,null,"国 内 線",null,"合 計","ジェット燃料","その他燃料","合計"]
[null,null,"月別",null,null,null,"乗 客","降 客","通過客","小 計","乗 客","降 客","小 計"]
[]
[null,null,"1月",43,255,{"$f":"SUM(D2761:E2761)","v":298},4176,5105,0,{"$f":"SUM(G2761:I2761)","v":9281},17423,15678,{"$f":"SUM(K2761:L2761)","v":33101},{"$f":"J2761+M2761","v":42382},805,0,{"$f":"SUM(O2761:P2761)","v":805}]
[null,null,"2月",44,253,{"$f":"SUM(D2762:E2762)","v":297},5031,5099,0,{"$f":"SUM(G2762:I2762)","v":10130},18832,19176,{"$f":"SUM(K2762:L2762)","v":38008},{"$f":"J2762+M2762","v":48138},855,0,{"$f":"SUM(O2762:P2762)","v":855}]
[null,null,"3月",48,336,384,4652,5439,0,10091,21728,22125,43853,53944,1046,0,1046]
[null,null,"4月",56,269,325,5807,6483,0,12290,18304,18189,36493,48783,917,0,917]
[null,null,"5月",55,334,389,4797,5019,0,9816,20548,19609,40157,49973,944,0,944]
[null,null,"6月",44,286,330,4099,4487,0,8586,20202,20198,40400,48986,885,0,885]
[null,null,"7月",48,295,343,4538,5130,0,9668,21372,21314,42686,52354,910,0,910]
[null,null,"8月",48,298,346,5426,5431,0,10857,20807,21355,42162,53019,958,0,958]
[null,null,"9月",44,324,368,3990,4685,0,8675,20815,21246,42061,50736,845,0,845]
[null,null,"10月",53,307,360,5522,5809,0,11331,21594,21824,43418,54749,970,0,970]
[null,null,"11月",36,286,322,3257,3484,0,6741,19899,20057,39956,46697,830,0,{"$f":"SUM(O2771:P2771)","v":830}]
[null,null,"12月",27,269,296,2290,2270,0,4560,16605,18323,34928,39488,724,0,724]
[]
[null,"富山暦１","暦年 計",{"$f":"SUM(D2761:D2772)","v":546},{"$f":"SUM(E2761:E2772)","v":3512},{"$f":"SUM(F2761:F2772)","v":4058},{"$f":"SUM(G2761:G2772)","v":53585},{"$f":"SUM(H2761:H2772)","v":58441},0,112026,238129,239094,477223,589249,10689,{"$f":"SUM(P2761:P2772)","v":0},{"$f":"SUM(Q2761:Q2772)","v":10689}]
[]
[null,null,"1月",30,214,{"$f":"SUM(D2776:E2776)","v":244},2639,3180,0,{"$f":"SUM(G2776:I2776)","v":5819},15053,14147,{"$f":"SUM(K2776:L2776)","v":29200},{"$f":"J2776+M2776","v":35019},662,0,{"$f":"SUM(O2776:P2776)","v":662}]
[null,null,"2月",32,214,{"$f":"SUM(D2777:E2777)","v":246},3761,3471,0,{"$f":"SUM(G2777:I2777)","v":7232},15042,15579,{"$f":"SUM(K2777:L2777)","v":30621},{"$f":"J2777+M2777","v":37853},675,0,{"$f":"SUM(O2777:P2777)","v":675}]
[null,null,"3月",38,289,{"$f":"SUM(D2778:E2778)","v":327},3566,3879,0,{"$f":"SUM(G2778:I2778)","v":7445},19837,19776,{"$f":"SUM(K2778:L2778)","v":39613},{"$f":"J2778+M2778","v":47058},859,0,{"$f":"SUM(O2778:P2778)","v":859}]
[]
[null,"富山度１","年度計",{"$f":"SUM(D2764:D2772,D2776:D2778)","v":511},{"$f":"SUM(E2764:E2772,E2776:E2778)","v":3385},{"$f":"SUM(F2764:F2772,F2776:F2778)","v":3896},{"$f":"SUM(G2764:G2772,G2776:G2778)","v":49692},53328,0,103020,230078,231617,461695,564715,10179,0,{"$f":"SUM(Q2764:Q2772,Q2776:Q2778)","v":10179}]
[]
[]
[]
[null,null,"項目",null,null,null,"貨 物 取 扱 量 （トン）",null,null,null,null,null,null,"郵 便 取 扱 量 （kg）"]
[null,null,null,null,"国 際 線",null,null,"国 内 線",null,"合計",null,"国 際 線",null,null,"国 内 線",null,"合 計"]
[null,null,"月別","積","卸","小 計","積","卸","小 計",null,"積","卸","小 計","積","卸","小 計"]
[]
[null,null,"1月",1,3,{"$f":"SUM(D2788:E2788)","v":4},46,28,{"$f":"SUM(G2788:H2788)","v":74},{"$f":"F2788+I2788","v":78},0,0,{"$f":"SUM(K2788:L2788)","v":0},8226,17944,{"$f":"SUM(N2788:O2788)","v":26170},{"$f":"M2788+P2788","v":26170}]
[null,null,"2月",1,4,5,39,27,66,71,0,0,0,8310,15859,24169,24169]
[null,null,"3月",1,10,11,70,37,107,118,0,0,0,9275,18450,27725,27725]
[null,null,"4月",1,7,8,41,28,69,77,0,0,0,8867,16721,25588,25588]
[null,null,"5月",1,4,5,28,27,55,60,0,0,0,7930,16902,24832,24832]
[null,null,"6月",1,3,4,20,26,46,50,0,0,0,7732,20635,28367,28367]
[null,null,"7月",1,8,9,26,37,63,72,0,0,0,7688,16921,24609,24609]
[null,null,"8月",1,6,7,27,36,63,70,0,0,0,7271,15144,22415,22415]
[null,null,"9月",1,9,10,57,38,95,105,0,0,0,6949,15933,22882,22882]
[null,null,"10月",1,5,6,95,45,140,146,0,0,0,7845,17685,25530,25530]
[null,null,"11月",1,8,9,68,42,110,119,0,0,0,8844,17365,26209,26209]
[null,null,"12月",1,4,5,60,35,95,100,0,0,0,10579,21115,31694,31694]
[]
[null,"富山暦２","暦年 計",{"$f":"SUM(D2788:D2800)","v":12},71,83,577,406,983,1066,0,0,{"$f":"SUM(M2788:M2800)","v":0},{"$f":"SUM(N2788:N2800)","v":99516},{"$f":"SUM(O2788:O2800)","v":210674},{"$f":"SUM(P2788:P2800)","v":310190},{"$f":"SUM(Q2788:Q2800)","v":310190}]
[]
[null,null,"1月",1,5,{"$f":"SUM(D2803:E2803)","v":6},48,26,{"$f":"SUM(G2803:H2803)","v":74},{"$f":"F2803+I2803","v":80},0,0,{"$f":"SUM(K2803:L2803)","v":0},7773,16976,{"$f":"SUM(N2803:O2803)","v":24749},{"$f":"M2803+P2803","v":24749}]
[null,null,"2月",1,5,{"$f":"SUM(D2804:E2804)","v":6},46,25,{"$f":"SUM(G2804:H2804)","v":71},{"$f":"F2804+I2804","v":77},0,0,{"$f":"SUM(K2804:L2804)","v":0},6511,14879,{"$f":"SUM(N2804:O2804)","v":21390},{"$f":"M2804+P2804","v":21390}]
[null,null,"3月",1,8,{"$f":"SUM(D2805:E2805)","v":9},81,41,{"$f":"SUM(G2805:H2805)","v":122},{"$f":"F2805+I2805","v":131},0,0,{"$f":"SUM(K2805:L2805)","v":0},8285,18826,{"$f":"SUM(N2805:O2805)","v":27111},{"$f":"M2805+P2805","v":27111}]
[]
[null,"富山度２","年度計",{"$f":"SUM(D2791:D2799,D2803:D2805)","v":12},{"$f":"SUM(E2791:E2799,E2803:E2805)","v":72},{"$f":"SUM(F2791:F2799,F2803:F2805)","v":84},{"$f":"SUM(G2791:G2799,G2803:G2805)","v":597},406,1003,1087,0,0,{"$f":"SUM(M2791:M2799,M2803:M2805)","v":0},{"$f":"SUM(N2791:N2799,N2803:N2805)","v":96274},{"$f":"SUM(O2791:O2799,O2803:O2805)","v":209102},{"$f":"SUM(P2791:P2799,P2803:P2805)","v":305376},{"$f":"SUM(Q2791:Q2799,Q2803:Q2805)","v":305376}]
[]
[null,null,{"$f":"C2755","v":"平　成　２　８　年　空　港　管　理　状　況　調　書"}]
[null,null,"空港名 ：","能    登              （地方管理）"]
[null,null,"項目",null,"着 陸 回 数 （回）",null,"乗   降   客   数   （人）",null,null,null,null,null,null,null,"航空燃料供給量　（ＫＬ）"]
[null,null,null,"国際線","国内線","計",null,"国 際 線",null,null,null,"国 内 線",null,"合 計","ジェット燃料","その他燃料","合計"]
[null,null,"月別",null,null,null,"乗 客","降 客","通過客","小 計","乗 客","降 客","小 計"]
[]
[null,null,"1月",0,76,{"$f":"SUM(D2815:E2815)","v":76},0,0,0,{"$f":"SUM(G2815:I2815)","v":0},5138,5057,{"$f":"SUM(K2815:L2815)","v":10195},{"$f":"J2815+M2815","v":10195},140,0,{"$f":"SUM(O2815:P2815)","v":140}]
[null,null,"2月",0,70,{"$f":"SUM(D2816:E2816)","v":70},0,0,0,{"$f":"SUM(G2816:I2816)","v":0},5461,6490,{"$f":"SUM(K2816:L2816)","v":11951},{"$f":"J2816+M2816","v":11951},138,0,{"$f":"SUM(O2816:P2816)","v":138}]
[null,null,"3月",0,102,102,0,0,0,0,6461,6470,12931,12931,234,0,234]
[null,null,"4月",4,116,120,440,586,0,1026,5998,6893,12891,13917,253,0,253]
[null,null,"5月",9,177,186,1129,983,0,2112,6781,6899,13680,15792,306,0,306]
[null,null,"6月",3,123,126,281,280,0,561,7546,7070,14616,15177,281,0,281]
[null,null,"7月",0,130,130,0,0,0,0,6334,6407,12741,12741,210,0,210]
[null,null,"8月",0,144,144,0,0,0,0,7333,7440,14773,14773,278,0,278]
[null,null,"9月",0,159,159,0,0,0,0,6715,7123,13838,13838,274,0,274]
[null,null,"10月",4,229,233,408,410,0,818,7616,7345,14961,15779,298,0,298]
[null,null,"11月",0,133,133,0,0,0,0,7624,7397,15021,15021,217,0,217]
[null,null,"12月",0,79,79,0,0,0,0,5016,6065,11081,11081,155,0,155]
[]
[null,"能登暦１","暦年 計",{"$f":"SUM(D2815:D2826)","v":20},{"$f":"SUM(E2815:E2826)","v":1538},{"$f":"SUM(F2815:F2826)","v":1558},{"$f":"SUM(G2815:G2826)","v":2258},{"$f":"SUM(H2815:H2826)","v":2259},0,4517,78023,80656,158679,163196,2784,{"$f":"SUM(P2815:P2826)","v":0},{"$f":"SUM(Q2815:Q2826)","v":2784}]
[]
[null,null,"1月",0,93,{"$f":"SUM(D2830:E2830)","v":93},0,0,0,{"$f":"SUM(G2830:I2830)","v":0},5767,5258,{"$f":"SUM(K2830:L2830)","v":11025},{"$f":"J2830+M2830","v":11025},131,0,{"$f":"SUM(O2830:P2830)","v":131}]
[null,null,"2月",0,86,{"$f":"SUM(D2831:E2831)","v":86},0,0,0,{"$f":"SUM(G2831:I2831)","v":0},5309,5532,{"$f":"SUM(K2831:L2831)","v":10841},{"$f":"J2831+M2831","v":10841},132,0,{"$f":"SUM(O2831:P2831)","v":132}]
[null,null,"3月",0,106,{"$f":"SUM(D2832:E2832)","v":106},0,0,0,{"$f":"SUM(G2832:I2832)","v":0},7372,7072,{"$f":"SUM(K2832:L2832)","v":14444},{"$f":"J2832+M2832","v":14444},204,0,{"$f":"SUM(O2832:P2832)","v":204}]
[]
[null,"能登度１","年度計",{"$f":"SUM(D2818:D2826,D2830:D2832)","v":20},{"$f":"SUM(E2818:E2826,E2830:E2832)","v":1575},{"$f":"SUM(F2818:F2826,F2830:F2832)","v":1595},{"$f":"SUM(G2818:G2826,G2830:G2832)","v":2258},2259,0,4517,79411,80501,159912,164429,2739,0,{"$f":"SUM(Q2818:Q2826,Q2830:Q2832)","v":2739}]
[]
[]
[]
[null,null,"項目",null,null,null,"貨 物 取 扱 量 （トン）",null,null,null,null,null,null,"郵 便 取 扱 量 （kg）"]
[null,null,null,null,"国 際 線",null,null,"国 内 線",null,"合計",null,"国 際 線",null,null,"国 内 線",null,"合 計"]
[null,null,"月別","積","卸","小 計","積","卸","小 計",null,"積","卸","小 計","積","卸","小 計"]
[]
[null,null,"1月",0,0,{"$f":"SUM(D2842:E2842)","v":0},0,0,{"$f":"SUM(G2842:H2842)","v":0},{"$f":"F2842+I2842","v":0},0,0,{"$f":"SUM(K2842:L2842)","v":0},0,0,{"$f":"SUM(N2842:O2842)","v":0},{"$f":"M2842+P2842","v":0}]
[null,null,"2月",0,0,0,0,0,0,0,0,0,0,0,0,0,0]
[null,null,"3月",0,0,0,1,1,2,2,0,0,0,0,0,0,0]
[null,null,"4月",0,0,0,0,0,0,0,0,0,0,0,0,0,0]
[null,null,"5月",0,0,0,0,0,0,0,0,0,0,0,0,0,0]
[null,null,"6月",0,0,0,0,1,1,1,0,0,0,0,0,0,0]
[null,null,"7月",0,0,0,0,0,0,0,0,0,0,0,0,0,0]
[null,null,"8月",0,0,0,0,0,0,0,0,0,0,0,0,0,0]
[null,null,"9月",0,0,0,0,1,1,1,0,0,0,0,0,0,0]
[null,null,"10月",0,0,0,0,0,0,0,0,0,0,0,0,0,0]
[null,null,"11月",0,0,0,1,0,1,1,0,0,0,0,0,0,0]
[null,null,"12月",0,0,0,2,1,3,3,0,0,0,0,0,0,0]
[]
[null,"能登暦２","暦年 計",{"$f":"SUM(D2842:D2854)","v":0},0,0,4,4,8,8,0,0,{"$f":"SUM(M2842:M2854)","v":0},{"$f":"SUM(N2842:N2854)","v":0},{"$f":"SUM(O2842:O2854)","v":0},{"$f":"SUM(P2842:P2854)","v":0},{"$f":"SUM(Q2842:Q2854)","v":0}]
[]
[null,null,"1月",0,0,{"$f":"SUM(D2857:E2857)","v":0},2,0,{"$f":"SUM(G2857:H2857)","v":2},{"$f":"F2857+I2857","v":2},0,0,{"$f":"SUM(K2857:L2857)","v":0},0,0,{"$f":"SUM(N2857:O2857)","v":0},{"$f":"M2857+P2857","v":0}]
[null,null,"2月",0,0,{"$f":"SUM(D2858:E2858)","v":0},2,0,{"$f":"SUM(G2858:H2858)","v":2},{"$f":"F2858+I2858","v":2},0,0,{"$f":"SUM(K2858:L2858)","v":0},0,0,{"$f":"SUM(N2858:O2858)","v":0},{"$f":"M2858+P2858","v":0}]
[null,null,"3月",0,0,{"$f":"SUM(D2859:E2859)","v":0},5,1,{"$f":"SUM(G2859:H2859)","v":6},{"$f":"F2859+I2859","v":6},0,0,{"$f":"SUM(K2859:L2859)","v":0},0,0,{"$f":"SUM(N2859:O2859)","v":0},{"$f":"M2859+P2859","v":0}]
[]
[null,"能登度２","年度計",{"$f":"SUM(D2845:D2853,D2857:D2859)","v":0},{"$f":"SUM(E2845:E2853,E2857:E2859)","v":0},{"$f":"SUM(F2845:F2853,F2857:F2859)","v":0},{"$f":"SUM(G2845:G2853,G2857:G2859)","v":12},4,16,16,0,0,{"$f":"SUM(M2845:M2853,M2857:M2859)","v":0},{"$f":"SUM(N2845:N2853,N2857:N2859)","v":0},{"$f":"SUM(O2845:O2853,O2857:O2859)","v":0},{"$f":"SUM(P2845:P2853,P2857:P2859)","v":0},{"$f":"SUM(Q2845:Q2853,Q2857:Q2859)","v":0}]
[]
[null,null,{"$f":"C2809","v":"平　成　２　８　年　空　港　管　理　状　況　調　書"}]
[null,null,"空港名 ：","福    井              （地方管理）"]
[null,null,"項目",null,"着 陸 回 数 （回）",null,"乗   降   客   数   （人）",null,null,null,null,null,null,null,"航空燃料供給量　（ＫＬ）"]
[null,null,null,"国際線","国内線","計",null,"国 際 線",null,null,null,"国 内 線",null,"合 計","ジェット燃料","その他燃料","合計"]
[null,null,"月別",null,null,null,"乗 客","降 客","通過客","小 計","乗 客","降 客","小 計"]
[]
[null,null,"1月",0,93,{"$f":"SUM(D2869:E2869)","v":93},0,0,0,{"$f":"SUM(G2869:I2869)","v":0},0,0,{"$f":"SUM(K2869:L2869)","v":0},{"$f":"J2869+M2869","v":0},5,1,{"$f":"SUM(O2869:P2869)","v":6}]
[null,null,"2月",0,116,{"$f":"SUM(D2870:E2870)","v":116},0,0,0,{"$f":"SUM(G2870:I2870)","v":0},0,0,{"$f":"SUM(K2870:L2870)","v":0},{"$f":"J2870+M2870","v":0},13,1,{"$f":"SUM(O2870:P2870)","v":14}]
[null,null,"3月",0,152,152,0,0,0,0,0,0,0,0,21,1,22]
[null,null,"4月",0,303,303,0,0,0,0,0,0,0,0,18,2,20]
[null,null,"5月",0,482,482,0,0,0,0,0,0,0,0,20,3,23]
[null,null,"6月",0,361,361,0,0,0,0,0,0,0,0,19,2,21]
[null,null,"7月",0,223,223,0,0,0,0,0,0,0,0,19,2,21]
[null,null,"8月",0,784,784,0,0,0,0,0,0,0,0,24,2,26]
[null,null,"9月",0,492,492,0,0,0,0,0,0,0,0,17,2,19]
[null,null,"10月",0,457,457,0,0,0,0,0,0,0,0,22,4,26]
[null,null,"11月",0,183,183,0,0,0,0,0,0,0,0,11,2,13]
[null,null,"12月",0,129,129,0,0,0,0,0,0,0,0,5,2,7]
[]
[null,"福井暦１","暦年 計",{"$f":"SUM(D2869:D2880)","v":0},{"$f":"SUM(E2869:E2880)","v":3775},{"$f":"SUM(F2869:F2880)","v":3775},{"$f":"SUM(G2869:G2880)","v":0},{"$f":"SUM(H2869:H2880)","v":0},0,0,0,0,0,0,194,{"$f":"SUM(P2869:P2880)","v":24},{"$f":"SUM(Q2869:Q2880)","v":218}]
[]
[null,null,"1月",0,129,{"$f":"SUM(D2884:E2884)","v":129},0,0,0,{"$f":"SUM(G2884:I2884)","v":0},0,0,{"$f":"SUM(K2884:L2884)","v":0},{"$f":"J2884+M2884","v":0},5,1,{"$f":"SUM(O2884:P2884)","v":6}]
[null,null,"2月",0,149,{"$f":"SUM(D2885:E2885)","v":149},0,0,0,{"$f":"SUM(G2885:I2885)","v":0},0,0,{"$f":"SUM(K2885:L2885)","v":0},{"$f":"J2885+M2885","v":0},9,1,{"$f":"SUM(O2885:P2885)","v":10}]
[null,null,"3月",0,297,{"$f":"SUM(D2886:E2886)","v":297},0,0,0,{"$f":"SUM(G2886:I2886)","v":0},0,0,{"$f":"SUM(K2886:L2886)","v":0},{"$f":"J2886+M2886","v":0},20,2,{"$f":"SUM(O2886:P2886)","v":22}]
[]
[null,"福井度１","年度計",{"$f":"SUM(D2872:D2880,D2884:D2886)","v":0},{"$f":"SUM(E2872:E2880,E2884:E2886)","v":3989},{"$f":"SUM(F2872:F2880,F2884:F2886)","v":3989},{"$f":"SUM(G2872:G2880,G2884:G2886)","v":0},0,0,0,0,0,0,0,189,25,{"$f":"SUM(Q2872:Q2880,Q2884:Q2886)","v":214}]
[]
[]
[]
[null,null,"項目",null,null,null,"貨 物 取 扱 量 （トン）",null,null,null,null,null,null,"郵 便 取 扱 量 （kg）"]
[null,null,null,null,"国 際 線",null,null,"国 内 線",null,"合計",null,"国 際 線",null,null,"国 内 線",null,"合 計"]
[null,null,"月別","積","卸","小 計","積","卸","小 計",null,"積","卸","小 計","積","卸","小 計"]
[]
[null,null,"1月",0,0,{"$f":"SUM(D2896:E2896)","v":0},0,0,{"$f":"SUM(G2896:H2896)","v":0},{"$f":"F2896+I2896","v":0},0,0,{"$f":"SUM(K2896:L2896)","v":0},0,0,{"$f":"SUM(N2896:O2896)","v":0},{"$f":"M2896+P2896","v":0}]
[null,null,"2月",0,0,0,0,0,0,0,0,0,0,0,0,0,0]
[null,null,"3月",0,0,0,0,0,0,0,0,0,0,0,0,0,0]
[null,null,"4月",0,0,0,0,0,0,0,0,0,0,0,0,0,0]
[null,null,"5月",0,0,0,0,0,0,0,0,0,0,0,0,0,0]
[null,null,"6月",0,0,0,0,0,0,0,0,0,0,0,0,0,0]
[null,null,"7月",0,0,0,0,0,0,0,0,0,0,0,0,0,0]
[null,null,"8月",0,0,0,0,0,0,0,0,0,0,0,0,0,0]
[null,null,"9月",0,0,0,0,0,0,0,0,0,0,0,0,0,0]
[null,null,"10月",0,0,0,0,0,0,0,0,0,0,0,0,0,0]
[null,null,"11月",0,0,0,0,0,0,0,0,0,0,0,0,0,0]
[null,null,"12月",0,0,0,0,0,0,0,0,0,0,0,0,0,0]
[]
[null,"福井暦２","暦年 計",{"$f":"SUM(D2896:D2908)","v":0},0,0,0,0,0,0,0,0,{"$f":"SUM(M2896:M2908)","v":0},{"$f":"SUM(N2896:N2908)","v":0},{"$f":"SUM(O2896:O2908)","v":0},{"$f":"SUM(P2896:P2908)","v":0},{"$f":"SUM(Q2896:Q2908)","v":0}]
[]
[null,null,"1月",0,0,{"$f":"SUM(D2911:E2911)","v":0},0,0,{"$f":"SUM(G2911:H2911)","v":0},{"$f":"F2911+I2911","v":0},0,0,{"$f":"SUM(K2911:L2911)","v":0},0,0,{"$f":"SUM(N2911:O2911)","v":0},{"$f":"M2911+P2911","v":0}]
[null,null,"2月",0,0,{"$f":"SUM(D2912:E2912)","v":0},0,0,{"$f":"SUM(G2912:H2912)","v":0},{"$f":"F2912+I2912","v":0},0,0,{"$f":"SUM(K2912:L2912)","v":0},0,0,{"$f":"SUM(N2912:O2912)","v":0},{"$f":"M2912+P2912","v":0}]
[null,null,"3月",0,0,{"$f":"SUM(D2913:E2913)","v":0},0,0,{"$f":"SUM(G2913:H2913)","v":0},{"$f":"F2913+I2913","v":0},0,0,{"$f":"SUM(K2913:L2913)","v":0},0,0,{"$f":"SUM(N2913:O2913)","v":0},{"$f":"M2913+P2913","v":0}]
[]
[null,"福井度２","年度計",{"$f":"SUM(D2899:D2907,D2911:D2913)","v":0},{"$f":"SUM(E2899:E2907,E2911:E2913)","v":0},{"$f":"SUM(F2899:F2907,F2911:F2913)","v":0},{"$f":"SUM(G2899:G2907,G2911:G2913)","v":0},0,0,0,0,0,{"$f":"SUM(M2899:M2907,M2911:M2913)","v":0},{"$f":"SUM(N2899:N2907,N2911:N2913)","v":0},{"$f":"SUM(O2899:O2907,O2911:O2913)","v":0},{"$f":"SUM(P2899:P2907,P2911:P2913)","v":0},{"$f":"SUM(Q2899:Q2907,Q2911:Q2913)","v":0}]
[]
[null,null,{"$f":"C2701","v":"平　成　２　８　年　空　港　管　理　状　況　調　書"}]
[null,null,"空港名 ：","神    戸              （地方管理）"]
[null,null,"項目",null,"着 陸 回 数 （回）",null,"乗   降   客   数   （人）",null,null,null,null,null,null,null,"航空燃料供給量　（ＫＬ）"]
[null,null,null,"国際線","国内線","計",null,"国 際 線",null,null,null,"国 内 線",null,"合 計","ジェット燃料","その他燃料","合計"]
[null,null,"月別",null,null,null,"乗 客","降 客","通過客","小 計","乗 客","降 客","小 計"]
[]
[null,null,"1月",0,1077,{"$f":"SUM(D2923:E2923)","v":1077},0,0,0,{"$f":"SUM(G2923:I2923)","v":0},100447,100342,{"$f":"SUM(K2923:L2923)","v":200789},{"$f":"J2923+M2923","v":200789},5286,0,{"$f":"SUM(O2923:P2923)","v":5286}]
[null,null,"2月",0,1001,{"$f":"SUM(D2924:E2924)","v":1001},1,0,0,{"$f":"SUM(G2924:I2924)","v":1},101712,103985,{"$f":"SUM(K2924:L2924)","v":205697},{"$f":"J2924+M2924","v":205698},4866,0,{"$f":"SUM(O2924:P2924)","v":4866}]
[null,null,"3月",0,1108,1108,0,0,0,0,124585,128660,253245,253245,5242,0,5242]
[null,null,"4月",3,940,943,39,13,0,52,100267,100709,200976,201028,4362,0,4362]
[null,null,"5月",1,1024,1025,13,6,0,19,108795,111242,220037,220056,4408,0,4408]
[null,null,"6月",3,959,962,8,41,0,49,102523,102889,205412,205461,4475,0,4475]
[null,null,"7月",2,1051,1053,37,11,0,48,112570,113138,225708,225756,4781,0,4781]
[null,null,"8月",3,1061,1064,13,13,0,26,125893,128063,253956,253982,4967,0,4967]
[null,null,"9月",1,967,968,0,0,0,0,117973,120687,238660,238660,4423,0,4423]
[null,null,"10月",1,1014,1015,5,0,0,5,114851,116470,231321,231326,4526,0,4526]
[null,null,"11月",2,1035,1037,11,14,0,25,115220,116897,232117,232142,4381,0,4381]
[null,null,"12月",0,1202,1202,8,0,0,8,115032,114744,229776,229784,4522,0,4522]
[]
[null,"神戸暦１","暦年 計",{"$f":"SUM(D2923:D2934)","v":16},{"$f":"SUM(E2923:E2934)","v":12439},{"$f":"SUM(F2923:F2934)","v":12455},{"$f":"SUM(G2923:G2934)","v":135},{"$f":"SUM(H2923:H2934)","v":98},0,233,1339868,1357826,2697694,2697927,56239,{"$f":"SUM(P2923:P2934)","v":0},{"$f":"SUM(Q2923:Q2934)","v":56239}]
[]
[null,null,"1月",2,1073,{"$f":"SUM(D2938:E2938)","v":1075},13,13,0,{"$f":"SUM(G2938:I2938)","v":26},118795,119314,{"$f":"SUM(K2938:L2938)","v":238109},{"$f":"J2938+M2938","v":238135},4841,0,{"$f":"SUM(O2938:P2938)","v":4841}]
[null,null,"2月",0,991,{"$f":"SUM(D2939:E2939)","v":991},0,0,0,{"$f":"SUM(G2939:I2939)","v":0},113208,114727,{"$f":"SUM(K2939:L2939)","v":227935},{"$f":"J2939+M2939","v":227935},4510,0,{"$f":"SUM(O2939:P2939)","v":4510}]
[null,null,"3月",0,1178,{"$f":"SUM(D2940:E2940)","v":1178},0,0,0,{"$f":"SUM(G2940:I2940)","v":0},137921,141450,{"$f":"SUM(K2940:L2940)","v":279371},{"$f":"J2940+M2940","v":279371},4881,0,{"$f":"SUM(O2940:P2940)","v":4881}]
[]
[null,"神戸度１","年度計",{"$f":"SUM(D2926:D2934,D2938:D2940)","v":18},{"$f":"SUM(E2926:E2934,E2938:E2940)","v":12495},{"$f":"SUM(F2926:F2934,F2938:F2940)","v":12513},{"$f":"SUM(G2926:G2934,G2938:G2940)","v":147},111,0,258,1383048,1400330,2783378,2783636,55077,0,{"$f":"SUM(Q2926:Q2934,Q2938:Q2940)","v":55077}]
[]
[]
[]
[null,null,"項目",null,null,null,"貨 物 取 扱 量 （トン）",null,null,null,null,null,null,"郵 便 取 扱 量 （kg）"]
[null,null,null,null,"国 際 線",null,null,"国 内 線",null,"合計",null,"国 際 線",null,null,"国 内 線",null,"合 計"]
[null,null,"月別","積","卸","小 計","積","卸","小 計",null,"積","卸","小 計","積","卸","小 計"]
[]
[null,null,"1月",0,0,{"$f":"SUM(D2950:E2950)","v":0},0,0,{"$f":"SUM(G2950:H2950)","v":0},{"$f":"F2950+I2950","v":0},0,0,{"$f":"SUM(K2950:L2950)","v":0},0,0,{"$f":"SUM(N2950:O2950)","v":0},{"$f":"M2950+P2950","v":0}]
[null,null,"2月",0,0,0,0,0,0,0,0,0,0,0,0,0,0]
[null,null,"3月",0,0,0,0,0,0,0,0,0,0,0,0,0,0]
[null,null,"4月",0,0,0,0,0,0,0,0,0,0,0,0,0,0]
[null,null,"5月",0,0,0,0,0,0,0,0,0,0,0,0,0,0]
[null,null,"6月",0,0,0,0,0,0,0,0,0,0,0,0,0,0]
[null,null,"7月",0,0,0,0,0,0,0,0,0,0,0,0,0,0]
[null,null,"8月",0,0,0,0,0,0,0,0,0,0,0,0,0,0]
[null,null,"9月",0,0,0,0,0,0,0,0,0,0,0,0,0,0]
[null,null,"10月",0,0,0,0,0,0,0,0,0,0,0,0,0,0]
[null,null,"11月",0,0,0,0,0,0,0,0,0,0,0,0,0,0]
[null,null,"12月",0,0,0,0,0,0,0,0,0,0,0,0,0,0]
[]
[null,"神戸暦２","暦年 計",{"$f":"SUM(D2950:D2962)","v":0},0,0,0,0,0,0,0,0,{"$f":"SUM(M2950:M2962)","v":0},{"$f":"SUM(N2950:N2962)","v":0},{"$f":"SUM(O2950:O2962)","v":0},{"$f":"SUM(P2950:P2962)","v":0},{"$f":"SUM(Q2950:Q2962)","v":0}]
[]
[null,null,"1月",0,0,{"$f":"SUM(D2965:E2965)","v":0},0,0,{"$f":"SUM(G2965:H2965)","v":0},{"$f":"F2965+I2965","v":0},0,0,{"$f":"SUM(K2965:L2965)","v":0},0,0,{"$f":"SUM(N2965:O2965)","v":0},{"$f":"M2965+P2965","v":0}]
[null,null,"2月",0,0,{"$f":"SUM(D2966:E2966)","v":0},0,0,{"$f":"SUM(G2966:H2966)","v":0},{"$f":"F2966+I2966","v":0},0,0,{"$f":"SUM(K2966:L2966)","v":0},0,0,{"$f":"SUM(N2966:O2966)","v":0},{"$f":"M2966+P2966","v":0}]
[null,null,"3月",0,0,{"$f":"SUM(D2967:E2967)","v":0},0,0,{"$f":"SUM(G2967:H2967)","v":0},{"$f":"F2967+I2967","v":0},0,0,{"$f":"SUM(K2967:L2967)","v":0},0,0,{"$f":"SUM(N2967:O2967)","v":0},{"$f":"M2967+P2967","v":0}]
[]
[null,"神戸度２","年度計",{"$f":"SUM(D2953:D2961,D2965:D2967)","v":0},{"$f":"SUM(E2953:E2961,E2965:E2967)","v":0},{"$f":"SUM(F2953:F2961,F2965:F2967)","v":0},{"$f":"SUM(G2953:G2961,G2965:G2967)","v":0},0,0,0,0,0,{"$f":"SUM(M2953:M2961,M2965:M2967)","v":0},{"$f":"SUM(N2953:N2961,N2965:N2967)","v":0},{"$f":"SUM(O2953:O2961,O2965:O2967)","v":0},{"$f":"SUM(P2953:P2961,P2965:P2967)","v":0},{"$f":"SUM(Q2953:Q2961,Q2965:Q2967)","v":0}]
[]
[null,null,{"$f":"C2917","v":"平　成　２　８　年　空　港　管　理　状　況　調　書"}]
[null,null,"空港名 ：","南紀白浜              （地方管理）"]
[null,null,"項目",null,"着 陸 回 数 （回）",null,"乗   降   客   数   （人）",null,null,null,null,null,null,null,"航空燃料供給量　（ＫＬ）"]
[null,null,null,"国際線","国内線","計",null,"国 際 線",null,null,null,"国 内 線",null,"合 計","ジェット燃料","その他燃料","合計"]
[null,null,"月別",null,null,null,"乗 客","降 客","通過客","小 計","乗 客","降 客","小 計"]
[]
[null,null,"1月",0,173,{"$f":"SUM(D2977:E2977)","v":173},0,0,0,{"$f":"SUM(G2977:I2977)","v":0},3804,4183,{"$f":"SUM(K2977:L2977)","v":7987},{"$f":"J2977+M2977","v":7987},150,1,{"$f":"SUM(O2977:P2977)","v":151}]
[null,null,"2月",0,166,{"$f":"SUM(D2978:E2978)","v":166},0,0,0,{"$f":"SUM(G2978:I2978)","v":0},4270,4310,{"$f":"SUM(K2978:L2978)","v":8580},{"$f":"J2978+M2978","v":8580},151,1,{"$f":"SUM(O2978:P2978)","v":152}]
[null,null,"3月",0,191,191,0,0,0,0,4605,5020,9625,9625,181,1,182]
[null,null,"4月",0,197,197,0,0,0,0,4147,4424,8571,8571,174,1,175]
[null,null,"5月",0,152,152,0,0,0,0,5282,5212,10494,10494,196,1,197]
[null,null,"6月",0,130,130,0,0,0,0,3963,4108,8071,8071,148,1,149]
[null,null,"7月",0,187,187,0,0,0,0,4745,5325,10070,10070,176,1,177]
[null,null,"8月",0,162,162,0,0,0,0,6032,6173,12205,12205,222,1,223]
[null,null,"9月",0,158,158,0,0,0,0,4830,5118,9948,9948,161,1,162]
[null,null,"10月",0,174,174,0,0,0,0,5296,5630,10926,10926,181,2,183]
[null,null,"11月",0,160,160,0,0,0,0,5812,6176,11988,11988,201,1,202]
[null,null,"12月",0,194,194,0,0,0,0,4054,4858,8912,8912,157,2,159]
[]
[null,"南紀白浜暦１","暦年 計",{"$f":"SUM(D2977:D2988)","v":0},{"$f":"SUM(E2977:E2988)","v":2044},{"$f":"SUM(F2977:F2988)","v":2044},{"$f":"SUM(G2977:G2988)","v":0},{"$f":"SUM(H2977:H2988)","v":0},0,0,56840,60537,117377,117377,2098,{"$f":"SUM(P2977:P2988)","v":14},{"$f":"SUM(Q2977:Q2988)","v":2112}]
[]
[null,null,"1月",0,178,{"$f":"SUM(D2992:E2992)","v":178},0,0,0,{"$f":"SUM(G2992:I2992)","v":0},4600,4122,{"$f":"SUM(K2992:L2992)","v":8722},{"$f":"J2992+M2992","v":8722},140,1,{"$f":"SUM(O2992:P2992)","v":141}]
[null,null,"2月",0,146,{"$f":"SUM(D2993:E2993)","v":146},0,0,0,{"$f":"SUM(G2993:I2993)","v":0},4282,4624,{"$f":"SUM(K2993:L2993)","v":8906},{"$f":"J2993+M2993","v":8906},155,1,{"$f":"SUM(O2993:P2993)","v":156}]
[null,null,"3月",0,179,{"$f":"SUM(D2994:E2994)","v":179},0,0,0,{"$f":"SUM(G2994:I2994)","v":0},5463,5746,{"$f":"SUM(K2994:L2994)","v":11209},{"$f":"J2994+M2994","v":11209},162,1,{"$f":"SUM(O2994:P2994)","v":163}]
[]
[null,"南紀白浜度１","年度計",{"$f":"SUM(D2980:D2988,D2992:D2994)","v":0},{"$f":"SUM(E2980:E2988,E2992:E2994)","v":2017},{"$f":"SUM(F2980:F2988,F2992:F2994)","v":2017},{"$f":"SUM(G2980:G2988,G2992:G2994)","v":0},0,0,0,58506,61516,120022,120022,2073,14,{"$f":"SUM(Q2980:Q2988,Q2992:Q2994)","v":2087}]
[]
[]
[]
[null,null,"項目",null,null,null,"貨 物 取 扱 量 （トン）",null,null,null,null,null,null,"郵 便 取 扱 量 （kg）"]
[null,null,null,null,"国 際 線",null,null,"国 内 線",null,"合計",null,"国 際 線",null,null,"国 内 線",null,"合 計"]
[null,null,"月別","積","卸","小 計","積","卸","小 計",null,"積","卸","小 計","積","卸","小 計"]
[]
[null,null,"1月",0,0,{"$f":"SUM(D3004:E3004)","v":0},0,0,{"$f":"SUM(G3004:H3004)","v":0},{"$f":"F3004+I3004","v":0},0,0,{"$f":"SUM(K3004:L3004)","v":0},0,0,{"$f":"SUM(N3004:O3004)","v":0},{"$f":"M3004+P3004","v":0}]
[null,null,"2月",0,0,0,0,0,0,0,0,0,0,0,0,0,0]
[null,null,"3月",0,0,0,0,1,1,1,0,0,0,0,0,0,0]
[null,null,"4月",0,0,0,0,0,0,0,0,0,0,0,0,0,0]
[null,null,"5月",0,0,0,1,0,1,1,0,0,0,0,0,0,0]
[null,null,"6月",0,0,0,1,0,1,1,0,0,0,0,0,0,0]
[null,null,"7月",0,0,0,0,0,0,0,0,0,0,0,0,0,0]
[null,null,"8月",0,0,0,0,1,1,1,0,0,0,0,0,0,0]
[null,null,"9月",0,0,0,0,0,0,0,0,0,0,0,0,0,0]
[null,null,"10月",0,0,0,0,0,0,0,0,0,0,0,0,0,0]
[null,null,"11月",0,0,0,1,1,2,2,0,0,0,0,0,0,0]
[null,null,"12月",0,0,0,0,0,0,0,0,0,0,0,0,0,0]
[]
[null,"南紀白浜暦２","暦年 計",{"$f":"SUM(D3004:D3016)","v":0},0,0,3,3,6,6,0,0,{"$f":"SUM(M3004:M3016)","v":0},{"$f":"SUM(N3004:N3016)","v":0},{"$f":"SUM(O3004:O3016)","v":0},{"$f":"SUM(P3004:P3016)","v":0},{"$f":"SUM(Q3004:Q3016)","v":0}]
[]
[null,null,"1月",0,0,{"$f":"SUM(D3019:E3019)","v":0},0,0,{"$f":"SUM(G3019:H3019)","v":0},{"$f":"F3019+I3019","v":0},0,0,{"$f":"SUM(K3019:L3019)","v":0},0,0,{"$f":"SUM(N3019:O3019)","v":0},{"$f":"M3019+P3019","v":0}]
[null,null,"2月",0,0,{"$f":"SUM(D3020:E3020)","v":0},0,0,{"$f":"SUM(G3020:H3020)","v":0},{"$f":"F3020+I3020","v":0},0,0,{"$f":"SUM(K3020:L3020)","v":0},0,0,{"$f":"SUM(N3020:O3020)","v":0},{"$f":"M3020+P3020","v":0}]
[null,null,"3月",0,0,{"$f":"SUM(D3021:E3021)","v":0},0,0,{"$f":"SUM(G3021:H3021)","v":0},{"$f":"F3021+I3021","v":0},0,0,{"$f":"SUM(K3021:L3021)","v":0},0,0,{"$f":"SUM(N3021:O3021)","v":0},{"$f":"M3021+P3021","v":0}]
[]
[null,"南紀白浜度２","年度計",{"$f":"SUM(D3007:D3015,D3019:D3021)","v":0},{"$f":"SUM(E3007:E3015,E3019:E3021)","v":0},{"$f":"SUM(F3007:F3015,F3019:F3021)","v":0},{"$f":"SUM(G3007:G3015,G3019:G3021)","v":3},2,5,5,0,0,{"$f":"SUM(M3007:M3015,M3019:M3021)","v":0},{"$f":"SUM(N3007:N3015,N3019:N3021)","v":0},{"$f":"SUM(O3007:O3015,O3019:O3021)","v":0},{"$f":"SUM(P3007:P3015,P3019:P3021)","v":0},{"$f":"SUM(Q3007:Q3015,Q3019:Q3021)","v":0}]
[]
[null,null,{"$f":"C2971","v":"平　成　２　８　年　空　港　管　理　状　況　調　書"}]
[null,null,"空港名 ：","鳥    取              （地方管理）"]
[null,null,"項目",null,"着 陸 回 数 （回）",null,"乗   降   客   数   （人）",null,null,null,null,null,null,null,"航空燃料供給量　（ＫＬ）"]
[null,null,null,"国際線","国内線","計",null,"国 際 線",null,null,null,"国 内 線",null,"合 計","ジェット燃料","その他燃料","合計"]
[null,null,"月別",null,null,null,"乗 客","降 客","通過客","小 計","乗 客","降 客","小 計"]
[]
[null,null,"1月",0,211,{"$f":"SUM(D3031:E3031)","v":211},0,0,0,{"$f":"SUM(G3031:I3031)","v":0},13295,11436,{"$f":"SUM(K3031:L3031)","v":24731},{"$f":"J3031+M3031","v":24731},411,0,{"$f":"SUM(O3031:P3031)","v":411}]
[null,null,"2月",0,212,{"$f":"SUM(D3032:E3032)","v":212},0,0,0,{"$f":"SUM(G3032:I3032)","v":0},12051,12165,{"$f":"SUM(K3032:L3032)","v":24216},{"$f":"J3032+M3032","v":24216},415,0,{"$f":"SUM(O3032:P3032)","v":415}]
[null,null,"3月",2,203,205,111,111,0,222,15490,16115,31605,31827,589,0,589]
[null,null,"4月",0,201,201,0,0,0,0,14236,14973,29209,29209,592,0,592]
[null,null,"5月",0,218,218,0,0,0,0,15520,15034,30554,30554,623,0,623]
[null,null,"6月",0,211,211,0,0,0,0,14445,14909,29354,29354,624,0,624]
[null,null,"7月",0,230,230,0,0,0,0,15666,17173,32839,32839,666,0,666]
[null,null,"8月",2,207,209,89,88,0,177,19188,19074,38262,38439,792,0,792]
[null,null,"9月",0,194,194,0,0,0,0,16240,16771,33011,33011,637,0,637]
[null,null,"10月",2,231,233,236,231,0,467,17641,18235,35876,36343,589,0,589]
[null,null,"11月",0,199,199,0,0,0,0,17568,18290,35858,35858,588,0,588]
[null,null,"12月",0,195,195,0,0,0,0,13756,16185,29941,29941,462,0,462]
[]
[null,"鳥取暦１","暦年 計",{"$f":"SUM(D3031:D3042)","v":6},{"$f":"SUM(E3031:E3042)","v":2512},{"$f":"SUM(F3031:F3042)","v":2518},{"$f":"SUM(G3031:G3042)","v":436},{"$f":"SUM(H3031:H3042)","v":430},0,866,185096,190360,375456,376322,6988,{"$f":"SUM(P3031:P3042)","v":0},{"$f":"SUM(Q3031:Q3042)","v":6988}]
[]
[null,null,"1月",0,162,{"$f":"SUM(D3046:E3046)","v":162},0,0,0,{"$f":"SUM(G3046:I3046)","v":0},12511,10290,{"$f":"SUM(K3046:L3046)","v":22801},{"$f":"J3046+M3046","v":22801},370,0,{"$f":"SUM(O3046:P3046)","v":370}]
[null,null,"2月",0,204,{"$f":"SUM(D3047:E3047)","v":204},0,0,0,{"$f":"SUM(G3047:I3047)","v":0},10776,10960,{"$f":"SUM(K3047:L3047)","v":21736},{"$f":"J3047+M3047","v":21736},400,0,{"$f":"SUM(O3047:P3047)","v":400}]
[null,null,"3月",0,266,{"$f":"SUM(D3048:E3048)","v":266},0,0,0,{"$f":"SUM(G3048:I3048)","v":0},17074,17009,{"$f":"SUM(K3048:L3048)","v":34083},{"$f":"J3048+M3048","v":34083},453,0,{"$f":"SUM(O3048:P3048)","v":453}]
[]
[null,"鳥取度１","年度計",{"$f":"SUM(D3034:D3042,D3046:D3048)","v":4},{"$f":"SUM(E3034:E3042,E3046:E3048)","v":2518},{"$f":"SUM(F3034:F3042,F3046:F3048)","v":2522},{"$f":"SUM(G3034:G3042,G3046:G3048)","v":325},319,0,644,184621,188903,373524,374168,6796,0,{"$f":"SUM(Q3034:Q3042,Q3046:Q3048)","v":6796}]
[]
[]
[]
[null,null,"項目",null,null,null,"貨 物 取 扱 量 （トン）",null,null,null,null,null,null,"郵 便 取 扱 量 （kg）"]
[null,null,null,null,"国 際 線",null,null,"国 内 線",null,"合計",null,"国 際 線",null,null,"国 内 線",null,"合 計"]
[null,null,"月別","積","卸","小 計","積","卸","小 計",null,"積","卸","小 計","積","卸","小 計"]
[]
[null,null,"1月",0,0,{"$f":"SUM(D3058:E3058)","v":0},30,12,{"$f":"SUM(G3058:H3058)","v":42},{"$f":"F3058+I3058","v":42},0,0,{"$f":"SUM(K3058:L3058)","v":0},1258,0,{"$f":"SUM(N3058:O3058)","v":1258},{"$f":"M3058+P3058","v":1258}]
[null,null,"2月",0,0,{"$f":"SUM(D3059:E3059)","v":0},28,13,41,41,0,0,0,1289,0,1289,1289]
[null,null,"3月",0,0,{"$f":"SUM(D3060:E3060)","v":0},34,17,51,51,0,0,0,1538,0,1538,1538]
[null,null,"4月",0,0,{"$f":"SUM(D3061:E3061)","v":0},30,12,42,42,0,0,0,1290,0,1290,1290]
[null,null,"5月",0,0,0,27,11,38,38,0,0,0,1415,0,1415,1415]
[null,null,"6月",0,0,0,24,14,38,38,0,0,0,1290,0,1290,1290]
[null,null,"7月",0,0,0,24,12,36,36,0,0,0,1278,0,1278,1278]
[null,null,"8月",0,0,0,25,11,36,36,0,0,0,1250,0,1250,1250]
[null,null,"9月",0,0,0,24,14,38,38,0,0,0,1232,0,1232,1232]
[null,null,"10月",0,0,0,30,13,43,43,0,0,0,1278,0,1278,1278]
[null,null,"11月",0,0,0,36,18,54,54,0,0,0,1271,0,1271,1271]
[null,null,"12月",0,0,0,32,15,47,47,0,0,0,1271,0,1271,1271]
[]
[null,"鳥取暦２","暦年 計",{"$f":"SUM(D3058:D3070)","v":0},0,0,344,162,506,506,0,0,{"$f":"SUM(M3058:M3070)","v":0},{"$f":"SUM(N3058:N3070)","v":15660},{"$f":"SUM(O3058:O3070)","v":0},{"$f":"SUM(P3058:P3070)","v":15660},{"$f":"SUM(Q3058:Q3070)","v":15660}]
[]
[null,null,"1月",0,0,{"$f":"SUM(D3073:E3073)","v":0},27,12,{"$f":"SUM(G3073:H3073)","v":39},{"$f":"F3073+I3073","v":39},0,0,{"$f":"SUM(K3073:L3073)","v":0},1173,0,{"$f":"SUM(N3073:O3073)","v":1173},{"$f":"M3073+P3073","v":1173}]
[null,null,"2月",0,0,{"$f":"SUM(D3074:E3074)","v":0},36,18,{"$f":"SUM(G3074:H3074)","v":54},{"$f":"F3074+I3074","v":54},0,0,{"$f":"SUM(K3074:L3074)","v":0},1115,0,{"$f":"SUM(N3074:O3074)","v":1115},{"$f":"M3074+P3074","v":1115}]
[null,null,"3月",0,0,{"$f":"SUM(D3075:E3075)","v":0},42,21,{"$f":"SUM(G3075:H3075)","v":63},{"$f":"F3075+I3075","v":63},0,0,{"$f":"SUM(K3075:L3075)","v":0},1413,0,{"$f":"SUM(N3075:O3075)","v":1413},{"$f":"M3075+P3075","v":1413}]
[]
[null,"鳥取度２","年度計",{"$f":"SUM(D3061:D3069,D3073:D3075)","v":0},{"$f":"SUM(E3061:E3069,E3073:E3075)","v":0},{"$f":"SUM(F3061:F3069,F3073:F3075)","v":0},{"$f":"SUM(G3061:G3069,G3073:G3075)","v":357},171,528,528,0,0,{"$f":"SUM(M3061:M3069,M3073:M3075)","v":0},{"$f":"SUM(N3061:N3069,N3073:N3075)","v":15276},{"$f":"SUM(O3061:O3069,O3073:O3075)","v":0},{"$f":"SUM(P3061:P3069,P3073:P3075)","v":15276},{"$f":"SUM(Q3061:Q3069,Q3073:Q3075)","v":15276}]
[]
[null,null,{"$f":"C3025","v":"平　成　２　８　年　空　港　管　理　状　況　調　書"}]
[null,null,"空港名 ：","隠    岐              （地方管理）"]
[null,null,"項目",null,"着 陸 回 数 （回）",null,"乗   降   客   数   （人）",null,null,null,null,null,null,null,"航空燃料供給量　（ＫＬ）"]
[null,null,null,"国際線","国内線","計",null,"国 際 線",null,null,null,"国 内 線",null,"合 計","ジェット燃料","その他燃料","合計"]
[null,null,"月別",null,null,null,"乗 客","降 客","通過客","小 計","乗 客","降 客","小 計"]
[]
[null,null,"1月",0,64,{"$f":"SUM(D3085:E3085)","v":64},0,0,0,{"$f":"SUM(G3085:I3085)","v":0},1935,1644,{"$f":"SUM(K3085:L3085)","v":3579},{"$f":"J3085+M3085","v":3579},15,0,{"$f":"SUM(O3085:P3085)","v":15}]
[null,null,"2月",0,58,{"$f":"SUM(D3086:E3086)","v":58},0,0,0,{"$f":"SUM(G3086:I3086)","v":0},1641,1610,{"$f":"SUM(K3086:L3086)","v":3251},{"$f":"J3086+M3086","v":3251},16,0,{"$f":"SUM(O3086:P3086)","v":16}]
[null,null,"3月",0,65,65,0,0,0,0,1909,2023,3932,3932,16,0,16]
[null,null,"4月",0,65,65,0,0,0,0,1680,1824,3504,3504,14,0,14]
[null,null,"5月",0,77,77,0,0,0,0,2729,2835,5564,5564,16,0,16]
[null,null,"6月",0,64,64,0,0,0,0,2052,2117,4169,4169,16,0,16]
[null,null,"7月",0,65,65,0,0,0,0,2077,2266,4343,4343,15,0,15]
[null,null,"8月",0,68,68,0,0,0,0,4893,4724,9617,9617,43,0,43]
[null,null,"9月",0,75,75,0,0,0,0,2838,2716,5554,5554,12,0,12]
[null,null,"10月",0,98,98,0,0,0,0,3214,3379,6593,6593,15,0,15]
[null,null,"11月",0,65,65,0,0,0,0,1974,1939,3913,3913,14,0,14]
[null,null,"12月",0,62,62,0,0,0,0,2106,2187,4293,4293,14,0,14]
[]
[null,"隠岐暦１","暦年 計",{"$f":"SUM(D3085:D3096)","v":0},{"$f":"SUM(E3085:E3096)","v":826},{"$f":"SUM(F3085:F3096)","v":826},{"$f":"SUM(G3085:G3096)","v":0},{"$f":"SUM(H3085:H3096)","v":0},0,0,29048,29264,58312,58312,206,{"$f":"SUM(P3085:P3096)","v":0},{"$f":"SUM(Q3085:Q3096)","v":206}]
[]
[null,null,"1月",0,62,{"$f":"SUM(D3100:E3100)","v":62},0,0,0,{"$f":"SUM(G3100:I3100)","v":0},2032,1780,{"$f":"SUM(K3100:L3100)","v":3812},{"$f":"J3100+M3100","v":3812},13,0,{"$f":"SUM(O3100:P3100)","v":13}]
[null,null,"2月",0,58,{"$f":"SUM(D3101:E3101)","v":58},0,0,0,{"$f":"SUM(G3101:I3101)","v":0},1427,1484,{"$f":"SUM(K3101:L3101)","v":2911},{"$f":"J3101+M3101","v":2911},10,0,{"$f":"SUM(O3101:P3101)","v":10}]
[null,null,"3月",0,72,{"$f":"SUM(D3102:E3102)","v":72},0,0,0,{"$f":"SUM(G3102:I3102)","v":0},2225,2278,{"$f":"SUM(K3102:L3102)","v":4503},{"$f":"J3102+M3102","v":4503},15,0,{"$f":"SUM(O3102:P3102)","v":15}]
[]
[null,"隠岐度１","年度計",{"$f":"SUM(D3088:D3096,D3100:D3102)","v":0},{"$f":"SUM(E3088:E3096,E3100:E3102)","v":831},{"$f":"SUM(F3088:F3096,F3100:F3102)","v":831},{"$f":"SUM(G3088:G3096,G3100:G3102)","v":0},0,0,0,29247,29529,58776,58776,197,0,{"$f":"SUM(Q3088:Q3096,Q3100:Q3102)","v":197}]
[]
[]
[]
[null,null,"項目",null,null,null,"貨 物 取 扱 量 （トン）",null,null,null,null,null,null,"郵 便 取 扱 量 （kg）"]
[null,null,null,null,"国 際 線",null,null,"国 内 線",null,"合計",null,"国 際 線",null,null,"国 内 線",null,"合 計"]
[null,null,"月別","積","卸","小 計","積","卸","小 計",null,"積","卸","小 計","積","卸","小 計"]
[]
[null,null,"1月",0,0,{"$f":"SUM(D3112:E3112)","v":0},0,0,{"$f":"SUM(G3112:H3112)","v":0},{"$f":"F3112+I3112","v":0},0,0,{"$f":"SUM(K3112:L3112)","v":0},0,0,{"$f":"SUM(N3112:O3112)","v":0},{"$f":"M3112+P3112","v":0}]
[null,null,"2月",0,0,0,0,0,0,0,0,0,0,0,0,0,0]
[null,null,"3月",0,0,0,0,0,0,0,0,0,0,0,0,0,0]
[null,null,"4月",0,0,0,0,0,0,0,0,0,0,0,0,0,0]
[null,null,"5月",0,0,0,0,0,0,0,0,0,0,0,0,0,0]
[null,null,"6月",0,0,0,0,0,0,0,0,0,0,0,0,0,0]
[null,null,"7月",0,0,0,0,0,0,0,0,0,0,0,0,0,0]
[null,null,"8月",0,0,0,0,0,0,0,0,0,0,0,0,0,0]
[null,null,"9月",0,0,0,0,0,0,0,0,0,0,0,0,0,0]
[null,null,"10月",0,0,0,0,0,0,0,0,0,0,0,0,0,0]
[null,null,"11月",0,0,0,0,0,0,0,0,0,0,0,0,0,0]
[null,null,"12月",0,0,0,0,0,0,0,0,0,0,0,0,0,0]
[]
[null,"隠岐暦２","暦年 計",{"$f":"SUM(D3112:D3124)","v":0},0,0,0,0,0,0,0,0,{"$f":"SUM(M3112:M3124)","v":0},{"$f":"SUM(N3112:N3124)","v":0},{"$f":"SUM(O3112:O3124)","v":0},{"$f":"SUM(P3112:P3124)","v":0},{"$f":"SUM(Q3112:Q3124)","v":0}]
[]
[null,null,"1月",0,0,{"$f":"SUM(D3127:E3127)","v":0},0,0,{"$f":"SUM(G3127:H3127)","v":0},{"$f":"F3127+I3127","v":0},0,0,{"$f":"SUM(K3127:L3127)","v":0},0,0,{"$f":"SUM(N3127:O3127)","v":0},{"$f":"M3127+P3127","v":0}]
[null,null,"2月",0,0,{"$f":"SUM(D3128:E3128)","v":0},0,0,{"$f":"SUM(G3128:H3128)","v":0},{"$f":"F3128+I3128","v":0},0,0,{"$f":"SUM(K3128:L3128)","v":0},0,0,{"$f":"SUM(N3128:O3128)","v":0},{"$f":"M3128+P3128","v":0}]
[null,null,"3月",0,0,{"$f":"SUM(D3129:E3129)","v":0},0,0,{"$f":"SUM(G3129:H3129)","v":0},{"$f":"F3129+I3129","v":0},0,0,{"$f":"SUM(K3129:L3129)","v":0},0,0,{"$f":"SUM(N3129:O3129)","v":0},{"$f":"M3129+P3129","v":0}]
[]
[null,"隠岐度２","年度計",{"$f":"SUM(D3115:D3123,D3127:D3129)","v":0},{"$f":"SUM(E3115:E3123,E3127:E3129)","v":0},{"$f":"SUM(F3115:F3123,F3127:F3129)","v":0},{"$f":"SUM(G3115:G3123,G3127:G3129)","v":0},0,0,0,0,0,{"$f":"SUM(M3115:M3123,M3127:M3129)","v":0},{"$f":"SUM(N3115:N3123,N3127:N3129)","v":0},{"$f":"SUM(O3115:O3123,O3127:O3129)","v":0},{"$f":"SUM(P3115:P3123,P3127:P3129)","v":0},{"$f":"SUM(Q3115:Q3123,Q3127:Q3129)","v":0}]
[]
[null,null,{"$f":"C3079","v":"平　成　２　８　年　空　港　管　理　状　況　調　書"}]
[null,null,"空港名 ：","出    雲              （地方管理）"]
[null,null,"項目",null,"着 陸 回 数 （回）",null,"乗   降   客   数   （人）",null,null,null,null,null,null,null,"航空燃料供給量　（ＫＬ）"]
[null,null,null,"国際線","国内線","計",null,"国 際 線",null,null,null,"国 内 線",null,"合 計","ジェット燃料","その他燃料","合計"]
[null,null,"月別",null,null,null,"乗 客","降 客","通過客","小 計","乗 客","降 客","小 計"]
[]
[null,null,"1月",0,489,{"$f":"SUM(D3139:E3139)","v":489},0,0,0,{"$f":"SUM(G3139:I3139)","v":0},31425,27851,{"$f":"SUM(K3139:L3139)","v":59276},{"$f":"J3139+M3139","v":59276},563,0,{"$f":"SUM(O3139:P3139)","v":563}]
[null,null,"2月",0,482,{"$f":"SUM(D3140:E3140)","v":482},0,0,0,{"$f":"SUM(G3140:I3140)","v":0},30548,30057,{"$f":"SUM(K3140:L3140)","v":60605},{"$f":"J3140+M3140","v":60605},626,0,{"$f":"SUM(O3140:P3140)","v":626}]
[null,null,"3月",0,531,531,0,0,0,0,36449,36261,72710,72710,766,1,767]
[null,null,"4月",0,490,490,0,0,0,0,32010,33443,65453,65453,746,0,746]
[null,null,"5月",0,491,491,0,0,0,0,36689,34999,71688,71688,797,0,797]
[null,null,"6月",0,507,507,0,0,0,0,33960,32952,66912,66912,790,0,790]
[null,null,"7月",2,563,565,279,279,0,558,36756,38411,75167,75725,1015,1,1016]
[null,null,"8月",0,564,564,0,0,0,0,48099,46925,95024,95024,1288,0,1288]
[null,null,"9月",0,492,492,0,0,0,0,40716,40550,81266,81266,942,0,942]
[null,null,"10月",0,527,527,0,0,0,0,44642,45041,89683,89683,946,1,947]
[null,null,"11月",0,549,549,0,0,0,0,44450,44715,89165,89165,999,1,1000]
[null,null,"12月",0,542,542,0,0,0,0,33408,36266,69674,69674,683,0,683]
[]
[null,"出雲暦１","暦年 計",{"$f":"SUM(D3139:D3150)","v":2},{"$f":"SUM(E3139:E3150)","v":6227},{"$f":"SUM(F3139:F3150)","v":6229},{"$f":"SUM(G3139:G3150)","v":279},{"$f":"SUM(H3139:H3150)","v":279},0,558,449152,447471,896623,897181,10161,{"$f":"SUM(P3139:P3150)","v":4},{"$f":"SUM(Q3139:Q3150)","v":10165}]
[]
[null,null,"1月",0,495,{"$f":"SUM(D3154:E3154)","v":495},0,0,0,{"$f":"SUM(G3154:I3154)","v":0},32647,28863,{"$f":"SUM(K3154:L3154)","v":61510},{"$f":"J3154+M3154","v":61510},618,0,{"$f":"SUM(O3154:P3154)","v":618}]
[null,null,"2月",2,494,{"$f":"SUM(D3155:E3155)","v":496},271,272,0,{"$f":"SUM(G3155:I3155)","v":543},30015,30367,{"$f":"SUM(K3155:L3155)","v":60382},{"$f":"J3155+M3155","v":60925},688,0,{"$f":"SUM(O3155:P3155)","v":688}]
[null,null,"3月",0,571,{"$f":"SUM(D3156:E3156)","v":571},0,0,0,{"$f":"SUM(G3156:I3156)","v":0},40206,41634,{"$f":"SUM(K3156:L3156)","v":81840},{"$f":"J3156+M3156","v":81840},780,0,{"$f":"SUM(O3156:P3156)","v":780}]
[]
[null,"出雲度１","年度計",{"$f":"SUM(D3142:D3150,D3154:D3156)","v":4},{"$f":"SUM(E3142:E3150,E3154:E3156)","v":6285},{"$f":"SUM(F3142:F3150,F3154:F3156)","v":6289},{"$f":"SUM(G3142:G3150,G3154:G3156)","v":550},551,0,1101,453598,454166,907764,908865,10292,3,{"$f":"SUM(Q3142:Q3150,Q3154:Q3156)","v":10295}]
[]
[]
[]
[null,null,"項目",null,null,null,"貨 物 取 扱 量 （トン）",null,null,null,null,null,null,"郵 便 取 扱 量 （kg）"]
[null,null,null,null,"国 際 線",null,null,"国 内 線",null,"合計",null,"国 際 線",null,null,"国 内 線",null,"合 計"]
[null,null,"月別","積","卸","小 計","積","卸","小 計",null,"積","卸","小 計","積","卸","小 計"]
[]
[null,null,"1月",0,0,{"$f":"SUM(D3166:E3166)","v":0},64,22,{"$f":"SUM(G3166:H3166)","v":86},{"$f":"F3166+I3166","v":86},0,0,{"$f":"SUM(K3166:L3166)","v":0},798,0,{"$f":"SUM(N3166:O3166)","v":798},{"$f":"M3166+P3166","v":798}]
[null,null,"2月",0,0,0,59,22,81,81,0,0,0,465,0,465,465]
[null,null,"3月",0,0,0,72,24,96,96,0,0,0,490,0,490,490]
[null,null,"4月",0,0,0,55,24,79,79,0,0,0,546,0,546,546]
[null,null,"5月",0,0,0,55,19,74,74,0,0,0,485,0,485,485]
[null,null,"6月",0,0,0,57,23,80,80,0,0,0,509,0,509,509]
[null,null,"7月",0,0,0,58,27,85,85,0,0,0,1219,0,1219,1219]
[null,null,"8月",0,0,0,57,25,82,82,0,0,0,1127,0,1127,1127]
[null,null,"9月",0,0,0,65,26,91,91,0,0,0,1296,0,1296,1296]
[null,null,"10月",0,0,0,57,25,82,82,0,0,0,1328,0,1328,1328]
[null,null,"11月",0,0,0,64,26,90,90,0,0,0,1401,0,1401,1401]
[null,null,"12月",0,0,0,64,28,92,92,0,0,0,2373,0,2373,2373]
[]
[null,"出雲暦２","暦年 計",{"$f":"SUM(D3166:D3178)","v":0},0,0,727,291,1018,1018,0,0,{"$f":"SUM(M3166:M3178)","v":0},{"$f":"SUM(N3166:N3178)","v":12037},{"$f":"SUM(O3166:O3178)","v":0},{"$f":"SUM(P3166:P3178)","v":12037},{"$f":"SUM(Q3166:Q3178)","v":12037}]
[]
[null,null,"1月",0,0,{"$f":"SUM(D3181:E3181)","v":0},45,19,{"$f":"SUM(G3181:H3181)","v":64},{"$f":"F3181+I3181","v":64},0,0,{"$f":"SUM(K3181:L3181)","v":0},1583,0,{"$f":"SUM(N3181:O3181)","v":1583},{"$f":"M3181+P3181","v":1583}]
[null,null,"2月",0,0,{"$f":"SUM(D3182:E3182)","v":0},61,20,{"$f":"SUM(G3182:H3182)","v":81},{"$f":"F3182+I3182","v":81},0,0,{"$f":"SUM(K3182:L3182)","v":0},1159,0,{"$f":"SUM(N3182:O3182)","v":1159},{"$f":"M3182+P3182","v":1159}]
[null,null,"3月",0,0,{"$f":"SUM(D3183:E3183)","v":0},72,21,{"$f":"SUM(G3183:H3183)","v":93},{"$f":"F3183+I3183","v":93},0,0,{"$f":"SUM(K3183:L3183)","v":0},1291,0,{"$f":"SUM(N3183:O3183)","v":1291},{"$f":"M3183+P3183","v":1291}]
[]
[null,"出雲度２","年度計",{"$f":"SUM(D3169:D3177,D3181:D3183)","v":0},{"$f":"SUM(E3169:E3177,E3181:E3183)","v":0},{"$f":"SUM(F3169:F3177,F3181:F3183)","v":0},{"$f":"SUM(G3169:G3177,G3181:G3183)","v":710},283,993,993,0,0,{"$f":"SUM(M3169:M3177,M3181:M3183)","v":0},{"$f":"SUM(N3169:N3177,N3181:N3183)","v":14317},{"$f":"SUM(O3169:O3177,O3181:O3183)","v":0},{"$f":"SUM(P3169:P3177,P3181:P3183)","v":14317},{"$f":"SUM(Q3169:Q3177,Q3181:Q3183)","v":14317}]
[]
[null,null,{"$f":"C3133","v":"平　成　２　８　年　空　港　管　理　状　況　調　書"}]
[null,null,"空港名 ：","石    見              （地方管理）"]
[null,null,"項目",null,"着 陸 回 数 （回）",null,"乗   降   客   数   （人）",null,null,null,null,null,null,null,"航空燃料供給量　（ＫＬ）"]
[null,null,null,"国際線","国内線","計",null,"国 際 線",null,null,null,"国 内 線",null,"合 計","ジェット燃料","その他燃料","合計"]
[null,null,"月別",null,null,null,"乗 客","降 客","通過客","小 計","乗 客","降 客","小 計"]
[]
[null,null,"1月",0,66,{"$f":"SUM(D3193:E3193)","v":66},0,0,0,{"$f":"SUM(G3193:I3193)","v":0},4462,3051,{"$f":"SUM(K3193:L3193)","v":7513},{"$f":"J3193+M3193","v":7513},174,0,{"$f":"SUM(O3193:P3193)","v":174}]
[null,null,"2月",0,66,{"$f":"SUM(D3194:E3194)","v":66},0,0,0,{"$f":"SUM(G3194:I3194)","v":0},3654,3660,{"$f":"SUM(K3194:L3194)","v":7314},{"$f":"J3194+M3194","v":7314},164,0,{"$f":"SUM(O3194:P3194)","v":164}]
[null,null,"3月",0,75,75,0,0,0,0,5442,4893,10335,10335,223,0,223]
[null,null,"4月",0,65,65,0,0,0,0,3822,3952,7774,7774,207,0,207]
[null,null,"5月",0,87,87,0,0,0,0,5080,4510,9590,9590,235,0,235]
[null,null,"6月",0,105,105,0,0,0,0,4685,4492,9177,9177,236,0,236]
[null,null,"7月",0,122,122,0,0,0,0,5032,5212,10244,10244,275,0,275]
[null,null,"8月",0,131,131,0,0,0,0,8070,7223,15293,15293,330,0,330]
[null,null,"9月",0,102,102,0,0,0,0,5600,5308,10908,10908,264,0,264]
[null,null,"10月",0,107,107,0,0,0,0,5762,5452,11214,11214,250,0,250]
[null,null,"11月",0,77,77,0,0,0,0,6464,5739,12203,12203,213,0,213]
[null,null,"12月",0,72,72,0,0,0,0,4317,5350,9667,9667,169,0,169]
[]
[null,"石見暦１","暦年 計",{"$f":"SUM(D3193:D3204)","v":0},{"$f":"SUM(E3193:E3204)","v":1075},{"$f":"SUM(F3193:F3204)","v":1075},{"$f":"SUM(G3193:G3204)","v":0},{"$f":"SUM(H3193:H3204)","v":0},0,0,62390,58842,121232,121232,2740,{"$f":"SUM(P3193:P3204)","v":0},{"$f":"SUM(Q3193:Q3204)","v":2740}]
[]
[null,null,"1月",0,68,{"$f":"SUM(D3208:E3208)","v":68},0,0,0,{"$f":"SUM(G3208:I3208)","v":0},4872,3694,{"$f":"SUM(K3208:L3208)","v":8566},{"$f":"J3208+M3208","v":8566},166,0,{"$f":"SUM(O3208:P3208)","v":166}]
[null,null,"2月",0,65,{"$f":"SUM(D3209:E3209)","v":65},0,0,0,{"$f":"SUM(G3209:I3209)","v":0},3693,3618,{"$f":"SUM(K3209:L3209)","v":7311},{"$f":"J3209+M3209","v":7311},163,0,{"$f":"SUM(O3209:P3209)","v":163}]
[null,null,"3月",0,70,{"$f":"SUM(D3210:E3210)","v":70},0,0,0,{"$f":"SUM(G3210:I3210)","v":0},6185,6117,{"$f":"SUM(K3210:L3210)","v":12302},{"$f":"J3210+M3210","v":12302},201,0,{"$f":"SUM(O3210:P3210)","v":201}]
[]
[null,"石見度１","年度計",{"$f":"SUM(D3196:D3204,D3208:D3210)","v":0},{"$f":"SUM(E3196:E3204,E3208:E3210)","v":1071},{"$f":"SUM(F3196:F3204,F3208:F3210)","v":1071},{"$f":"SUM(G3196:G3204,G3208:G3210)","v":0},0,0,0,63582,60667,124249,124249,2709,0,{"$f":"SUM(Q3196:Q3204,Q3208:Q3210)","v":2709}]
[]
[]
[]
[null,null,"項目",null,null,null,"貨 物 取 扱 量 （トン）",null,null,null,null,null,null,"郵 便 取 扱 量 （kg）"]
[null,null,null,null,"国 際 線",null,null,"国 内 線",null,"合計",null,"国 際 線",null,null,"国 内 線",null,"合 計"]
[null,null,"月別","積","卸","小 計","積","卸","小 計",null,"積","卸","小 計","積","卸","小 計"]
[]
[null,null,"1月",0,0,{"$f":"SUM(D3220:E3220)","v":0},0,0,{"$f":"SUM(G3220:H3220)","v":0},{"$f":"F3220+I3220","v":0},0,0,{"$f":"SUM(K3220:L3220)","v":0},0,0,{"$f":"SUM(N3220:O3220)","v":0},{"$f":"M3220+P3220","v":0}]
[null,null,"2月",0,0,0,0,0,0,0,0,0,0,0,0,0,0]
[null,null,"3月",0,0,0,0,0,0,0,0,0,0,0,0,0,0]
[null,null,"4月",0,0,0,0,0,0,0,0,0,0,0,0,0,0]
[null,null,"5月",0,0,0,0,0,0,0,0,0,0,0,0,0,0]
[null,null,"6月",0,0,0,0,0,0,0,0,0,0,0,0,0,0]
[null,null,"7月",0,0,0,0,0,0,0,0,0,0,0,0,0,0]
[null,null,"8月",0,0,0,0,0,0,0,0,0,0,0,0,0,0]
[null,null,"9月",0,0,0,0,0,0,0,0,0,0,0,0,0,0]
[null,null,"10月",0,0,0,0,0,0,0,0,0,0,0,0,0,0]
[null,null,"11月",0,0,0,0,0,0,0,0,0,0,0,0,0,0]
[null,null,"12月",0,0,0,0,0,0,0,0,0,0,0,0,0,0]
[]
[null,"石見暦２","暦年 計",{"$f":"SUM(D3220:D3232)","v":0},0,0,0,0,0,0,0,0,{"$f":"SUM(M3220:M3232)","v":0},{"$f":"SUM(N3220:N3232)","v":0},{"$f":"SUM(O3220:O3232)","v":0},{"$f":"SUM(P3220:P3232)","v":0},{"$f":"SUM(Q3220:Q3232)","v":0}]
[]
[null,null,"1月",0,0,{"$f":"SUM(D3235:E3235)","v":0},0,0,{"$f":"SUM(G3235:H3235)","v":0},{"$f":"F3235+I3235","v":0},0,0,{"$f":"SUM(K3235:L3235)","v":0},0,0,{"$f":"SUM(N3235:O3235)","v":0},{"$f":"M3235+P3235","v":0}]
[null,null,"2月",0,0,{"$f":"SUM(D3236:E3236)","v":0},0,0,{"$f":"SUM(G3236:H3236)","v":0},{"$f":"F3236+I3236","v":0},0,0,{"$f":"SUM(K3236:L3236)","v":0},0,0,{"$f":"SUM(N3236:O3236)","v":0},{"$f":"M3236+P3236","v":0}]
[null,null,"3月",0,0,{"$f":"SUM(D3237:E3237)","v":0},0,0,{"$f":"SUM(G3237:H3237)","v":0},{"$f":"F3237+I3237","v":0},0,0,{"$f":"SUM(K3237:L3237)","v":0},0,0,{"$f":"SUM(N3237:O3237)","v":0},{"$f":"M3237+P3237","v":0}]
[]
[null,"石見度２","年度計",{"$f":"SUM(D3223:D3231,D3235:D3237)","v":0},{"$f":"SUM(E3223:E3231,E3235:E3237)","v":0},{"$f":"SUM(F3223:F3231,F3235:F3237)","v":0},{"$f":"SUM(G3223:G3231,G3235:G3237)","v":0},0,0,0,0,0,{"$f":"SUM(M3223:M3231,M3235:M3237)","v":0},{"$f":"SUM(N3223:N3231,N3235:N3237)","v":0},{"$f":"SUM(O3223:O3231,O3235:O3237)","v":0},{"$f":"SUM(P3223:P3231,P3235:P3237)","v":0},{"$f":"SUM(Q3223:Q3231,Q3235:Q3237)","v":0}]
[]
[null,null,{"$f":"C3187","v":"平　成　２　８　年　空　港　管　理　状　況　調　書"}]
[null,null,"空港名 ：","岡    山              （地方管理）"]
[null,null,"項目",null,"着 陸 回 数 （回）",null,"乗   降   客   数   （人）",null,null,null,null,null,null,null,"航空燃料供給量　（ＫＬ）"]
[null,null,null,"国際線","国内線","計",null,"国 際 線",null,null,null,"国 内 線",null,"合 計","ジェット燃料","その他燃料","合計"]
[null,null,"月別",null,null,null,"乗 客","降 客","通過客","小 計","乗 客","降 客","小 計"]
[]
[null,null,"1月",60,382,{"$f":"SUM(D3247:E3247)","v":442},5476,5932,0,{"$f":"SUM(G3247:I3247)","v":11408},48964,44435,{"$f":"SUM(K3247:L3247)","v":93399},{"$f":"J3247+M3247","v":104807},2007,0,{"$f":"SUM(O3247:P3247)","v":2007}]
[null,null,"2月",63,379,{"$f":"SUM(D3248:E3248)","v":442},6683,5975,0,{"$f":"SUM(G3248:I3248)","v":12658},44915,47067,{"$f":"SUM(K3248:L3248)","v":91982},{"$f":"J3248+M3248","v":104640},2068,0,{"$f":"SUM(O3248:P3248)","v":2068}]
[null,null,"3月",71,389,460,6577,7919,0,14496,49970,52203,102173,116669,2255,0,2255]
[null,null,"4月",84,399,483,8224,8436,0,16660,46354,49395,95749,112409,2332,0,2332]
[null,null,"5月",86,394,480,7788,8045,0,15833,50648,50346,100994,116827,2405,0,2405]
[null,null,"6月",85,385,470,8381,8801,0,17182,48792,51314,100106,117288,2297,0,2297]
[null,null,"7月",83,384,467,8892,8836,0,17728,51716,56037,107753,125481,2335,0,2335]
[null,null,"8月",77,399,476,9362,9292,0,18654,58841,59543,118384,137038,2597,0,2597]
[null,null,"9月",75,390,465,7774,8477,0,16251,54314,56882,111196,127447,2080,0,2080]
[null,null,"10月",79,421,500,8428,8458,0,16886,55027,58075,113102,129988,2138,0,2138]
[null,null,"11月",81,430,511,8715,8779,0,17494,52333,55198,107531,125025,2142,0,2142]
[null,null,"12月",87,405,492,9247,8145,0,17392,48020,54090,102110,119502,2033,0,2033]
[]
[null,"岡山暦１","暦年 計",{"$f":"SUM(D3247:D3258)","v":931},{"$f":"SUM(E3247:E3258)","v":4757},{"$f":"SUM(F3247:F3258)","v":5688},{"$f":"SUM(G3247:G3258)","v":95547},{"$f":"SUM(H3247:H3258)","v":97095},0,192642,609894,634585,1244479,1437121,26689,{"$f":"SUM(P3247:P3258)","v":0},{"$f":"SUM(Q3247:Q3258)","v":26689}]
[]
[null,null,"1月",87,394,{"$f":"SUM(D3262:E3262)","v":481},8320,9800,0,{"$f":"SUM(G3262:I3262)","v":18120},48146,45574,{"$f":"SUM(K3262:L3262)","v":93720},{"$f":"J3262+M3262","v":111840},1996,0,{"$f":"SUM(O3262:P3262)","v":1996}]
[null,null,"2月",77,369,{"$f":"SUM(D3263:E3263)","v":446},9800,8542,0,{"$f":"SUM(G3263:I3263)","v":18342},43158,44366,{"$f":"SUM(K3263:L3263)","v":87524},{"$f":"J3263+M3263","v":105866},1996,0,{"$f":"SUM(O3263:P3263)","v":1996}]
[null,null,"3月",87,445,{"$f":"SUM(D3264:E3264)","v":532},10474,11397,0,{"$f":"SUM(G3264:I3264)","v":21871},53888,55419,{"$f":"SUM(K3264:L3264)","v":109307},{"$f":"J3264+M3264","v":131178},2293,0,{"$f":"SUM(O3264:P3264)","v":2293}]
[]
[null,"岡山度１","年度計",{"$f":"SUM(D3250:D3258,D3262:D3264)","v":988},{"$f":"SUM(E3250:E3258,E3262:E3264)","v":4815},{"$f":"SUM(F3250:F3258,F3262:F3264)","v":5803},{"$f":"SUM(G3250:G3258,G3262:G3264)","v":105405},107008,0,212413,611237,636239,1247476,1459889,26644,0,{"$f":"SUM(Q3250:Q3258,Q3262:Q3264)","v":26644}]
[]
[]
[]
[null,null,"項目",null,null,null,"貨 物 取 扱 量 （トン）",null,null,null,null,null,null,"郵 便 取 扱 量 （kg）"]
[null,null,null,null,"国 際 線",null,null,"国 内 線",null,"合計",null,"国 際 線",null,null,"国 内 線",null,"合 計"]
[null,null,"月別","積","卸","小 計","積","卸","小 計",null,"積","卸","小 計","積","卸","小 計"]
[]
[null,null,"1月",0,14,{"$f":"SUM(D3274:E3274)","v":14},171,172,{"$f":"SUM(G3274:H3274)","v":343},{"$f":"F3274+I3274","v":357},0,0,{"$f":"SUM(K3274:L3274)","v":0},9685,46191,{"$f":"SUM(N3274:O3274)","v":55876},{"$f":"M3274+P3274","v":55876}]
[null,null,"2月",0,9,9,155,173,328,337,0,0,0,7974,40713,48687,48687]
[null,null,"3月",0,18,18,185,215,400,418,0,0,0,9701,41923,51624,51624]
[null,null,"4月",0,3,3,134,195,329,332,0,0,0,8728,42484,51212,51212]
[null,null,"5月",0,1,1,118,182,300,301,0,0,0,8247,44102,52349,52349]
[null,null,"6月",0,1,1,155,232,387,388,0,0,0,8363,44098,52461,52461]
[null,null,"7月",0,2,2,188,262,450,452,0,0,0,7807,42893,50700,50700]
[null,null,"8月",0,1,1,181,254,435,436,0,0,0,7417,35450,42867,42867]
[null,null,"9月",0,2,2,128,215,343,345,0,0,0,6393,39161,45554,45554]
[null,null,"10月",0,2,2,135,202,337,339,0,0,0,7345,43675,51020,51020]
[null,null,"11月",0,2,2,148,198,346,348,0,0,0,7230,42378,49608,49608]
[null,null,"12月",0,3,3,178,198,376,379,0,0,0,11865,79226,91091,91091]
[]
[null,"岡山暦２","暦年 計",{"$f":"SUM(D3274:D3286)","v":0},58,58,1876,2498,4374,4432,0,0,{"$f":"SUM(M3274:M3286)","v":0},{"$f":"SUM(N3274:N3286)","v":100755},{"$f":"SUM(O3274:O3286)","v":542294},{"$f":"SUM(P3274:P3286)","v":643049},{"$f":"SUM(Q3274:Q3286)","v":643049}]
[]
[null,null,"1月",0,8,{"$f":"SUM(D3289:E3289)","v":8},163,162,{"$f":"SUM(G3289:H3289)","v":325},{"$f":"F3289+I3289","v":333},0,0,{"$f":"SUM(K3289:L3289)","v":0},9773,56996,{"$f":"SUM(N3289:O3289)","v":66769},{"$f":"M3289+P3289","v":66769}]
[null,null,"2月",0,4,{"$f":"SUM(D3290:E3290)","v":4},128,157,{"$f":"SUM(G3290:H3290)","v":285},{"$f":"F3290+I3290","v":289},0,0,{"$f":"SUM(K3290:L3290)","v":0},7840,54398,{"$f":"SUM(N3290:O3290)","v":62238},{"$f":"M3290+P3290","v":62238}]
[null,null,"3月",0,5,{"$f":"SUM(D3291:E3291)","v":5},173,207,{"$f":"SUM(G3291:H3291)","v":380},{"$f":"F3291+I3291","v":385},0,0,{"$f":"SUM(K3291:L3291)","v":0},8095,66370,{"$f":"SUM(N3291:O3291)","v":74465},{"$f":"M3291+P3291","v":74465}]
[]
[null,"岡山度２","年度計",{"$f":"SUM(D3277:D3285,D3289:D3291)","v":0},{"$f":"SUM(E3277:E3285,E3289:E3291)","v":34},{"$f":"SUM(F3277:F3285,F3289:F3291)","v":34},{"$f":"SUM(G3277:G3285,G3289:G3291)","v":1829},2464,4293,4327,0,0,{"$f":"SUM(M3277:M3285,M3289:M3291)","v":0},{"$f":"SUM(N3277:N3285,N3289:N3291)","v":99103},{"$f":"SUM(O3277:O3285,O3289:O3291)","v":591231},{"$f":"SUM(P3277:P3285,P3289:P3291)","v":690334},{"$f":"SUM(Q3277:Q3285,Q3289:Q3291)","v":690334}]
[]
[null,null,{"$f":"C3241","v":"平　成　２　８　年　空　港　管　理　状　況　調　書"}]
[null,null,"空港名 ：","佐    賀              （地方管理）"]
[null,null,"項目",null,"着 陸 回 数 （回）",null,"乗   降   客   数   （人）",null,null,null,null,null,null,null,"航空燃料供給量　（ＫＬ）"]
[null,null,null,"国際線","国内線","計",null,"国 際 線",null,null,null,"国 内 線",null,"合 計","ジェット燃料","その他燃料","合計"]
[null,null,"月別",null,null,null,"乗 客","降 客","通過客","小 計","乗 客","降 客","小 計"]
[]
[null,null,"1月",26,340,{"$f":"SUM(D3301:E3301)","v":366},3771,4263,0,{"$f":"SUM(G3301:I3301)","v":8034},24223,19537,{"$f":"SUM(K3301:L3301)","v":43760},{"$f":"J3301+M3301","v":51794},930,7,{"$f":"SUM(O3301:P3301)","v":937}]
[null,null,"2月",25,377,{"$f":"SUM(D3302:E3302)","v":402},3995,3728,0,{"$f":"SUM(G3302:I3302)","v":7723},20783,20151,{"$f":"SUM(K3302:L3302)","v":40934},{"$f":"J3302+M3302","v":48657},947,11,{"$f":"SUM(O3302:P3302)","v":958}]
[null,null,"3月",26,418,444,3893,4128,0,8021,23927,23459,47386,55407,1078,14,1092]
[null,null,"4月",25,467,492,3046,2676,0,5722,19751,21128,40879,46601,853,11,864]
[null,null,"5月",13,450,463,1447,1646,0,3093,21549,20321,41870,44963,842,14,856]
[null,null,"6月",25,352,377,3244,3709,0,6953,17844,17893,35737,42690,1025,12,1037]
[null,null,"7月",27,398,425,3572,3927,0,7499,20921,22335,43256,50755,1183,9,1192]
[null,null,"8月",27,400,427,4345,4255,0,8600,28429,29060,57489,66089,1426,8,1434]
[null,null,"9月",25,345,370,4009,4232,0,8241,24742,24928,49670,57911,1213,6,1219]
[null,null,"10月",27,435,462,4364,4460,0,8824,24421,25256,49677,58501,1141,17,1158]
[null,null,"11月",28,398,426,3979,4082,0,8061,23638,23755,47393,55454,1042,9,1051]
[null,null,"12月",30,391,421,4652,4685,0,9337,23162,27983,51145,60482,1032,7,1039]
[]
[null,"佐賀暦１","暦年 計",{"$f":"SUM(D3301:D3312)","v":304},{"$f":"SUM(E3301:E3312)","v":4771},{"$f":"SUM(F3301:F3312)","v":5075},{"$f":"SUM(G3301:G3312)","v":44317},{"$f":"SUM(H3301:H3312)","v":45791},0,90108,273390,275806,549196,639304,12712,{"$f":"SUM(P3301:P3312)","v":125},{"$f":"SUM(Q3301:Q3312)","v":12837}]
[]
[null,null,"1月",41,355,{"$f":"SUM(D3316:E3316)","v":396},6059,6565,0,{"$f":"SUM(G3316:I3316)","v":12624},25554,21648,{"$f":"SUM(K3316:L3316)","v":47202},{"$f":"J3316+M3316","v":59826},1097,5,{"$f":"SUM(O3316:P3316)","v":1102}]
[null,null,"2月",38,357,{"$f":"SUM(D3317:E3317)","v":395},6189,5939,0,{"$f":"SUM(G3317:I3317)","v":12128},20788,21684,{"$f":"SUM(K3317:L3317)","v":42472},{"$f":"J3317+M3317","v":54600},1068,7,{"$f":"SUM(O3317:P3317)","v":1075}]
[null,null,"3月",32,406,{"$f":"SUM(D3318:E3318)","v":438},4820,4815,0,{"$f":"SUM(G3318:I3318)","v":9635},26468,27100,{"$f":"SUM(K3318:L3318)","v":53568},{"$f":"J3318+M3318","v":63203},1099,7,{"$f":"SUM(O3318:P3318)","v":1106}]
[]
[null,"佐賀度１","年度計",{"$f":"SUM(D3304:D3312,D3316:D3318)","v":338},{"$f":"SUM(E3304:E3312,E3316:E3318)","v":4754},{"$f":"SUM(F3304:F3312,F3316:F3318)","v":5092},{"$f":"SUM(G3304:G3312,G3316:G3318)","v":49726},50991,0,100717,277267,283091,560358,661075,13021,112,{"$f":"SUM(Q3304:Q3312,Q3316:Q3318)","v":13133}]
[]
[]
[]
[null,null,"項目",null,null,null,"貨 物 取 扱 量 （トン）",null,null,null,null,null,null,"郵 便 取 扱 量 （kg）"]
[null,null,null,null,"国 際 線",null,null,"国 内 線",null,"合計",null,"国 際 線",null,null,"国 内 線",null,"合 計"]
[null,null,"月別","積","卸","小 計","積","卸","小 計",null,"積","卸","小 計","積","卸","小 計"]
[]
[null,null,"1月",122,0,{"$f":"SUM(D3328:E3328)","v":122},28,153,{"$f":"SUM(G3328:H3328)","v":181},{"$f":"F3328+I3328","v":303},0,0,{"$f":"SUM(K3328:L3328)","v":0},0,0,{"$f":"SUM(N3328:O3328)","v":0},{"$f":"M3328+P3328","v":0}]
[null,null,"2月",128,0,128,40,157,197,325,0,0,0,0,0,0,0]
[null,null,"3月",157,0,157,64,201,265,422,0,0,0,0,0,0,0]
[null,null,"4月",141,0,141,33,208,241,382,0,0,0,0,0,0,0]
[null,null,"5月",92,0,92,18,130,148,240,0,0,0,0,0,0,0]
[null,null,"6月",193,0,193,45,177,222,415,0,0,0,0,0,0,0]
[null,null,"7月",140,0,140,48,188,236,376,0,0,0,0,0,0,0]
[null,null,"8月",113,0,113,36,156,192,305,0,0,0,0,0,0,0]
[null,null,"9月",135,0,135,90,171,261,396,0,0,0,0,0,0,0]
[null,null,"10月",126,0,126,33,182,215,341,0,0,0,0,0,0,0]
[null,null,"11月",144,0,144,14,179,193,337,0,0,0,0,0,0,0]
[null,null,"12月",136,0,136,37,201,238,374,0,0,0,0,0,0,0]
[]
[null,"佐賀暦２","暦年 計",{"$f":"SUM(D3328:D3340)","v":1627},0,1627,486,2103,2589,4216,0,0,{"$f":"SUM(M3328:M3340)","v":0},{"$f":"SUM(N3328:N3340)","v":0},{"$f":"SUM(O3328:O3340)","v":0},{"$f":"SUM(P3328:P3340)","v":0},{"$f":"SUM(Q3328:Q3340)","v":0}]
[]
[null,null,"1月",139,0,{"$f":"SUM(D3343:E3343)","v":139},45,140,{"$f":"SUM(G3343:H3343)","v":185},{"$f":"F3343+I3343","v":324},0,0,{"$f":"SUM(K3343:L3343)","v":0},0,0,{"$f":"SUM(N3343:O3343)","v":0},{"$f":"M3343+P3343","v":0}]
[null,null,"2月",173,0,{"$f":"SUM(D3344:E3344)","v":173},59,155,{"$f":"SUM(G3344:H3344)","v":214},{"$f":"F3344+I3344","v":387},0,0,{"$f":"SUM(K3344:L3344)","v":0},0,0,{"$f":"SUM(N3344:O3344)","v":0},{"$f":"M3344+P3344","v":0}]
[null,null,"3月",156,0,{"$f":"SUM(D3345:E3345)","v":156},109,197,{"$f":"SUM(G3345:H3345)","v":306},{"$f":"F3345+I3345","v":462},0,0,{"$f":"SUM(K3345:L3345)","v":0},0,0,{"$f":"SUM(N3345:O3345)","v":0},{"$f":"M3345+P3345","v":0}]
[]
[null,"佐賀度２","年度計",{"$f":"SUM(D3331:D3339,D3343:D3345)","v":1688},0,1688,567,2084,2651,4339,0,0,0,0,0,0,0]
[]
[null,null,{"$f":"C3295","v":"平　成　２　８　年　空　港　管　理　状　況　調　書"}]
[null,null,"空港名 ：","対    馬              （地方管理）"]
[null,null,"項目",null,"着 陸 回 数 （回）",null,"乗   降   客   数   （人）",null,null,null,null,null,null,null,"航空燃料供給量　（ＫＬ）"]
[null,null,null,"国際線","国内線","計",null,"国 際 線",null,null,null,"国 内 線",null,"合 計","ジェット燃料","その他燃料","合計"]
[null,null,"月別",null,null,null,"乗 客","降 客","通過客","小 計","乗 客","降 客","小 計"]
[]
[null,null,"1月",0,228,{"$f":"SUM(D3355:E3355)","v":228},0,0,0,{"$f":"SUM(G3355:I3355)","v":0},11286,9989,{"$f":"SUM(K3355:L3355)","v":21275},{"$f":"J3355+M3355","v":21275},1,0,{"$f":"SUM(O3355:P3355)","v":1}]
[null,null,"2月",0,239,239,0,0,0,{"$f":"SUM(G3356:I3356)","v":0},9780,9550,19330,{"$f":"J3356+M3356","v":19330},1,0,{"$f":"SUM(O3356:P3356)","v":1}]
[null,null,"3月",0,264,264,0,0,0,0,11030,10464,21494,21494,2,0,2]
[null,null,"4月",0,243,243,0,0,0,0,8558,8191,16749,16749,0,0,0]
[null,null,"5月",0,257,257,0,0,0,0,9530,9365,18895,18895,0,0,0]
[null,null,"6月",0,192,192,0,0,0,0,8058,7709,15767,15767,1,0,1]
[null,null,"7月",0,254,254,0,0,0,0,9570,9230,18800,18800,1,0,1]
[null,null,"8月",0,292,292,0,0,0,0,13014,12640,25654,25654,0,0,0]
[null,null,"9月",0,235,235,0,0,0,0,8701,8198,16899,16899,0,0,0]
[null,null,"10月",0,263,263,0,0,0,0,9879,9729,19608,19608,0,0,0]
[null,null,"11月",0,265,265,0,0,0,0,9573,9144,18717,18717,0,0,0]
[null,null,"12月",0,270,270,0,0,0,0,9393,10038,19431,19431,1,0,1]
[]
[null,"対馬暦１","暦年 計",{"$f":"SUM(D3355:D3366)","v":0},{"$f":"SUM(E3355:E3366)","v":3002},{"$f":"SUM(F3355:F3366)","v":3002},{"$f":"SUM(G3355:G3366)","v":0},{"$f":"SUM(H3355:H3366)","v":0},0,0,118372,114247,232619,232619,7,{"$f":"SUM(P3355:P3366)","v":0},{"$f":"SUM(Q3355:Q3366)","v":7}]
[]
[null,null,"1月",0,278,{"$f":"SUM(D3370:E3370)","v":278},0,0,0,{"$f":"SUM(G3370:I3370)","v":0},10988,9745,{"$f":"SUM(K3370:L3370)","v":20733},{"$f":"J3370+M3370","v":20733},0,0,{"$f":"SUM(O3370:P3370)","v":0}]
[null,null,"2月",0,251,{"$f":"SUM(D3371:E3371)","v":251},0,0,0,{"$f":"SUM(G3371:I3371)","v":0},9311,8786,{"$f":"SUM(K3371:L3371)","v":18097},{"$f":"J3371+M3371","v":18097},1,0,{"$f":"SUM(O3371:P3371)","v":1}]
[null,null,"3月",0,287,{"$f":"SUM(D3372:E3372)","v":287},0,0,0,{"$f":"SUM(G3372:I3372)","v":0},11717,11032,{"$f":"SUM(K3372:L3372)","v":22749},{"$f":"J3372+M3372","v":22749},0,0,{"$f":"SUM(O3372:P3372)","v":0}]
[]
[null,"対馬度１","年度計",{"$f":"SUM(D3358:D3366,D3370:D3372)","v":0},{"$f":"SUM(E3358:E3366,E3370:E3372)","v":3087},{"$f":"SUM(F3358:F3366,F3370:F3372)","v":3087},{"$f":"SUM(G3358:G3366,G3370:G3372)","v":0},0,0,0,118292,113807,232099,232099,4,0,{"$f":"SUM(Q3358:Q3366,Q3370:Q3372)","v":4}]
[]
[]
[]
[null,null,"項目",null,null,null,"貨 物 取 扱 量 （トン）",null,null,null,null,null,null,"郵 便 取 扱 量 （kg）"]
[null,null,null,null,"国 際 線",null,null,"国 内 線",null,"合計",null,"国 際 線",null,null,"国 内 線",null,"合 計"]
[null,null,"月別","積","卸","小 計","積","卸","小 計",null,"積","卸","小 計","積","卸","小 計"]
[]
[null,null,"1月",0,0,{"$f":"SUM(D3382:E3382)","v":0},14,13,{"$f":"SUM(G3382:H3382)","v":27},{"$f":"F3382+I3382","v":27},0,0,{"$f":"SUM(K3382:L3382)","v":0},1050,79,{"$f":"SUM(N3382:O3382)","v":1129},{"$f":"M3382+P3382","v":1129}]
[null,null,"2月",0,0,0,12,12,24,24,0,0,0,765,116,881,881]
[null,null,"3月",0,0,0,18,16,34,34,0,0,0,873,108,981,981]
[null,null,"4月",0,0,0,19,13,32,32,0,0,0,815,117,932,932]
[null,null,"5月",0,0,0,15,12,27,27,0,0,0,772,97,869,869]
[null,null,"6月",0,0,0,10,13,23,23,0,0,0,832,353,1185,1185]
[null,null,"7月",0,0,0,12,15,27,27,0,0,0,760,106,866,866]
[null,null,"8月",0,0,0,12,15,27,27,0,0,0,700,92,792,792]
[null,null,"9月",0,0,0,14,14,28,28,0,0,0,704,135,839,839]
[null,null,"10月",0,0,0,12,13,25,25,0,0,0,571,74,645,645]
[null,null,"11月",0,0,0,11,14,25,25,0,0,0,592,80,672,672]
[null,null,"12月",0,0,0,10,19,29,29,0,0,0,617,121,738,738]
[]
[null,"対馬暦２","暦年 計",{"$f":"SUM(D3382:D3394)","v":0},0,0,159,169,328,328,0,0,{"$f":"SUM(M3382:M3394)","v":0},{"$f":"SUM(N3382:N3394)","v":9051},{"$f":"SUM(O3382:O3394)","v":1478},{"$f":"SUM(P3382:P3394)","v":10529},{"$f":"SUM(Q3382:Q3394)","v":10529}]
[]
[null,null,"1月",0,0,{"$f":"SUM(D3397:E3397)","v":0},10,13,{"$f":"SUM(G3397:H3397)","v":23},{"$f":"F3397+I3397","v":23},0,0,{"$f":"SUM(K3397:L3397)","v":0},513,98,{"$f":"SUM(N3397:O3397)","v":611},{"$f":"M3397+P3397","v":611}]
[null,null,"2月",0,0,{"$f":"SUM(D3398:E3398)","v":0},9,12,{"$f":"SUM(G3398:H3398)","v":21},{"$f":"F3398+I3398","v":21},0,0,{"$f":"SUM(K3398:L3398)","v":0},519,94,{"$f":"SUM(N3398:O3398)","v":613},{"$f":"M3398+P3398","v":613}]
[null,null,"3月",0,0,{"$f":"SUM(D3399:E3399)","v":0},15,15,{"$f":"SUM(G3399:H3399)","v":30},{"$f":"F3399+I3399","v":30},0,0,{"$f":"SUM(K3399:L3399)","v":0},591,113,{"$f":"SUM(N3399:O3399)","v":704},{"$f":"M3399+P3399","v":704}]
[]
[null,"対馬度２","年度計",{"$f":"SUM(D3385:D3393,D3397:D3399)","v":0},0,0,149,168,317,317,0,0,0,7986,1480,9466,9466]
[]
[null,null,{"$f":"C3349","v":"平　成　２　８　年　空　港　管　理　状　況　調　書"}]
[null,null,"空港名 ：","小 値 賀              （地方管理）"]
[null,null,"項目",null,"着 陸 回 数 （回）",null,"乗   降   客   数   （人）",null,null,null,null,null,null,null,"航空燃料供給量　（ＫＬ）"]
[null,null,null,"国際線","国内線","計",null,"国 際 線",null,null,null,"国 内 線",null,"合 計","ジェット燃料","その他燃料","合計"]
[null,null,"月別",null,null,null,"乗 客","降 客","通過客","小 計","乗 客","降 客","小 計"]
[]
[null,null,"1月",0,2,{"$f":"SUM(D3409:E3409)","v":2},0,0,0,{"$f":"SUM(G3409:I3409)","v":0},0,0,{"$f":"SUM(K3409:L3409)","v":0},{"$f":"J3409+M3409","v":0},0,0,{"$f":"SUM(O3409:P3409)","v":0}]
[null,null,"2月",0,3,{"$f":"SUM(D3410:E3410)","v":3},0,0,0,{"$f":"SUM(G3410:I3410)","v":0},0,0,{"$f":"SUM(K3410:L3410)","v":0},{"$f":"J3410+M3410","v":0},0,0,{"$f":"SUM(O3410:P3410)","v":0}]
[null,null,"3月",0,6,6,0,0,0,0,0,0,0,0,0,0,0]
[null,null,"4月",0,4,4,0,0,0,0,0,0,0,0,0,0,0]
[null,null,"5月",0,9,9,0,0,0,0,0,0,0,0,0,0,0]
[null,null,"6月",0,17,17,0,0,0,0,0,0,0,0,0,0,0]
[null,null,"7月",0,9,9,0,0,0,0,0,0,0,0,0,0,0]
[null,null,"8月",0,7,7,0,0,0,0,0,0,0,0,0,0,0]
[null,null,"9月",0,5,5,0,0,0,0,0,0,0,0,0,0,0]
[null,null,"10月",0,1,1,0,0,0,0,0,0,0,0,0,0,0]
[null,null,"11月",0,4,4,0,0,0,0,0,0,0,0,0,0,0]
[null,null,"12月",0,7,7,0,0,0,0,0,0,0,0,0,0,0]
[]
[null,"小値賀暦１","暦年 計",{"$f":"SUM(D3409:D3420)","v":0},{"$f":"SUM(E3409:E3420)","v":74},{"$f":"SUM(F3409:F3420)","v":74},{"$f":"SUM(G3409:G3420)","v":0},{"$f":"SUM(H3409:H3420)","v":0},0,0,0,0,0,0,0,{"$f":"SUM(P3409:P3420)","v":0},{"$f":"SUM(Q3409:Q3420)","v":0}]
[]
[null,null,"1月",0,3,{"$f":"SUM(D3424:E3424)","v":3},0,0,0,{"$f":"SUM(G3424:I3424)","v":0},0,0,{"$f":"SUM(K3424:L3424)","v":0},{"$f":"J3424+M3424","v":0},0,0,{"$f":"SUM(O3424:P3424)","v":0}]
[null,null,"2月",0,14,{"$f":"SUM(D3425:E3425)","v":14},0,0,0,{"$f":"SUM(G3425:I3425)","v":0},0,0,{"$f":"SUM(K3425:L3425)","v":0},{"$f":"J3425+M3425","v":0},0,0,{"$f":"SUM(O3425:P3425)","v":0}]
[null,null,"3月",0,9,{"$f":"SUM(D3426:E3426)","v":9},0,0,0,{"$f":"SUM(G3426:I3426)","v":0},0,0,{"$f":"SUM(K3426:L3426)","v":0},{"$f":"J3426+M3426","v":0},0,0,{"$f":"SUM(O3426:P3426)","v":0}]
[]
[null,"小値賀度１","年度計",{"$f":"SUM(D3412:D3420,D3424:D3426)","v":0},{"$f":"SUM(E3412:E3420,E3424:E3426)","v":89},{"$f":"SUM(F3412:F3420,F3424:F3426)","v":89},{"$f":"SUM(G3412:G3420,G3424:G3426)","v":0},0,0,0,0,0,0,0,0,0,{"$f":"SUM(Q3412:Q3420,Q3424:Q3426)","v":0}]
[]
[]
[]
[null,null,"項目",null,null,null,"貨 物 取 扱 量 （トン）",null,null,null,null,null,null,"郵 便 取 扱 量 （kg）"]
[null,null,null,null,"国 際 線",null,null,"国 内 線",null,"合計",null,"国 際 線",null,null,"国 内 線",null,"合 計"]
[null,null,"月別","積","卸","小 計","積","卸","小 計",null,"積","卸","小 計","積","卸","小 計"]
[]
[null,null,"1月",0,0,{"$f":"SUM(D3436:E3436)","v":0},0,0,{"$f":"SUM(G3436:H3436)","v":0},{"$f":"F3436+I3436","v":0},0,0,{"$f":"SUM(K3436:L3436)","v":0},0,0,{"$f":"SUM(N3436:O3436)","v":0},{"$f":"M3436+P3436","v":0}]
[null,null,"2月",0,0,0,0,0,0,0,0,0,0,0,0,0,0]
[null,null,"3月",0,0,0,0,0,0,0,0,0,0,0,0,0,0]
[null,null,"4月",0,0,0,0,0,0,0,0,0,0,{"$f":"[2]小値賀!$DC$50","v":0},0,0,0]
[null,null,"5月",0,0,0,0,0,0,0,0,0,0,{"$f":"[2]小値賀!$DD$50","v":0},0,0,0]
[null,null,"6月",0,0,0,0,0,0,0,0,0,0,{"$f":"[2]小値賀!$DE$50","v":0},0,0,0]
[null,null,"7月",0,0,0,0,0,0,0,0,0,0,{"$f":"[2]小値賀!$DF$50","v":0},0,0,0]
[null,null,"8月",0,0,0,0,0,0,0,0,0,0,{"$f":"[2]小値賀!$DG$50","v":0},0,0,0]
[null,null,"9月",0,0,0,0,0,0,0,0,0,0,{"$f":"[2]小値賀!$DH$50","v":0},0,0,0]
[null,null,"10月",0,0,0,0,0,0,0,0,0,0,{"$f":"[2]小値賀!$DI$50","v":0},0,0,0]
[null,null,"11月",0,0,0,0,0,0,0,0,0,0,{"$f":"[2]小値賀!$DJ$50","v":0},0,0,0]
[null,null,"12月",0,0,0,0,0,0,0,0,0,0,{"$f":"[2]小値賀!$DK$50","v":0},0,0,0]
[]
[null,"小値賀暦２","暦年 計",{"$f":"SUM(D3436:D3448)","v":0},0,0,0,0,0,0,0,0,{"$f":"SUM(M3436:M3448)","v":0},{"$f":"SUM(N3436:N3448)","v":0},{"$f":"SUM(O3436:O3448)","v":0},{"$f":"SUM(P3436:P3448)","v":0},{"$f":"SUM(Q3436:Q3448)","v":0}]
[]
[null,null,"1月",0,0,{"$f":"SUM(D3451:E3451)","v":0},0,0,{"$f":"SUM(G3451:H3451)","v":0},{"$f":"F3451+I3451","v":0},0,0,{"$f":"SUM(K3451:L3451)","v":0},{"$f":"[2]小値賀!$DM$50","v":0},0,0,{"$f":"M3451+P3451","v":0}]
[null,null,"2月",0,0,{"$f":"SUM(D3452:E3452)","v":0},0,0,{"$f":"SUM(G3452:H3452)","v":0},{"$f":"F3452+I3452","v":0},0,0,{"$f":"SUM(K3452:L3452)","v":0},{"$f":"[2]小値賀!$DN$50","v":0},0,0,{"$f":"M3452+P3452","v":0}]
[null,null,"3月",0,0,{"$f":"SUM(D3453:E3453)","v":0},0,0,{"$f":"SUM(G3453:H3453)","v":0},{"$f":"F3453+I3453","v":0},0,0,{"$f":"SUM(K3453:L3453)","v":0},{"$f":"[2]小値賀!$DO$50","v":0},0,0,{"$f":"M3453+P3453","v":0}]
[]
[null,"小値賀度２","年度計",{"$f":"SUM(D3439:D3447,D3451:D3453)","v":0},{"$f":"SUM(E3439:E3447,E3451:E3453)","v":0},{"$f":"SUM(F3439:F3447,F3451:F3453)","v":0},{"$f":"SUM(G3439:G3447,G3451:G3453)","v":0},0,0,0,0,0,{"$f":"SUM(M3439:M3447,M3451:M3453)","v":0},{"$f":"SUM(N3439:N3447,N3451:N3453)","v":0},{"$f":"SUM(O3439:O3447,O3451:O3453)","v":0},{"$f":"SUM(P3439:P3447,P3451:P3453)","v":0},{"$f":"SUM(Q3439:Q3447,Q3451:Q3453)","v":0}]
[]
[null,null,{"$f":"C3403","v":"平　成　２　８　年　空　港　管　理　状　況　調　書"}]
[null,null,"空港名 ：","福    江              （地方管理）"]
[null,null,"項目",null,"着 陸 回 数 （回）",null,"乗   降   客   数   （人）",null,null,null,null,null,null,null,"航空燃料供給量　（ＫＬ）"]
[null,null,null,"国際線","国内線","計",null,"国 際 線",null,null,null,"国 内 線",null,"合 計","ジェット燃料","その他燃料","合計"]
[null,null,"月別",null,null,null,"乗 客","降 客","通過客","小 計","乗 客","降 客","小 計"]
[]
[null,null,"1月",0,190,{"$f":"SUM(D3463:E3463)","v":190},0,0,0,{"$f":"SUM(G3463:I3463)","v":0},5760,4115,{"$f":"SUM(K3463:L3463)","v":9875},{"$f":"J3463+M3463","v":9875},0,0,{"$f":"SUM(O3463:P3463)","v":0}]
[null,null,"2月",0,209,{"$f":"SUM(D3464:E3464)","v":209},0,0,0,{"$f":"SUM(G3464:I3464)","v":0},4874,4524,{"$f":"SUM(K3464:L3464)","v":9398},{"$f":"J3464+M3464","v":9398},0,0,{"$f":"SUM(O3464:P3464)","v":0}]
[null,null,"3月",0,232,232,0,0,0,0,5792,5242,11034,11034,0,0,0]
[null,null,"4月",0,214,214,0,0,0,0,4623,4704,9327,9327,0,0,0]
[null,null,"5月",0,211,211,0,0,0,0,5716,5187,10903,10903,0,0,0]
[null,null,"6月",0,169,169,0,0,0,0,4219,3904,8123,8123,0,0,0]
[null,null,"7月",0,210,210,0,0,0,0,5697,5692,11389,11389,0,0,0]
[null,null,"8月",0,246,246,0,0,0,0,9452,8602,18054,18054,0,0,0]
[null,null,"9月",0,201,201,0,0,0,0,5089,4706,9795,9795,0,0,0]
[null,null,"10月",0,227,227,0,0,0,0,6024,5542,11566,11566,0,0,0]
[null,null,"11月",0,211,211,0,0,0,0,5786,5381,11167,11167,0,0,0]
[null,null,"12月",0,239,239,0,0,0,0,4874,5713,10587,10587,0,0,0]
[]
[null,"福江暦１","暦年 計",{"$f":"SUM(D3463:D3474)","v":0},{"$f":"SUM(E3463:E3474)","v":2559},{"$f":"SUM(F3463:F3474)","v":2559},{"$f":"SUM(G3463:G3474)","v":0},{"$f":"SUM(H3463:H3474)","v":0},0,0,67906,63312,131218,131218,0,{"$f":"SUM(P3463:P3474)","v":0},{"$f":"SUM(Q3463:Q3474)","v":0}]
[]
[null,null,"1月",0,235,{"$f":"SUM(D3478:E3478)","v":235},0,0,0,{"$f":"SUM(G3478:I3478)","v":0},6203,4400,{"$f":"SUM(K3478:L3478)","v":10603},{"$f":"J3478+M3478","v":10603},0,0,{"$f":"SUM(O3478:P3478)","v":0}]
[null,null,"2月",0,212,{"$f":"SUM(D3479:E3479)","v":212},0,0,0,{"$f":"SUM(G3479:I3479)","v":0},4907,4448,{"$f":"SUM(K3479:L3479)","v":9355},{"$f":"J3479+M3479","v":9355},0,0,{"$f":"SUM(O3479:P3479)","v":0}]
[null,null,"3月",0,244,{"$f":"SUM(D3480:E3480)","v":244},0,0,0,{"$f":"SUM(G3480:I3480)","v":0},5613,5243,{"$f":"SUM(K3480:L3480)","v":10856},{"$f":"J3480+M3480","v":10856},0,0,{"$f":"SUM(O3480:P3480)","v":0}]
[]
[null,"福江度１","年度計",{"$f":"SUM(D3466:D3474,D3478:D3480)","v":0},{"$f":"SUM(E3466:E3474,E3478:E3480)","v":2619},{"$f":"SUM(F3466:F3474,F3478:F3480)","v":2619},{"$f":"SUM(G3466:G3474,G3478:G3480)","v":0},0,0,0,68203,63522,131725,131725,0,0,{"$f":"SUM(Q3466:Q3474,Q3478:Q3480)","v":0}]
[]
[]
[]
[null,null,"項目",null,null,null,"貨 物 取 扱 量 （トン）",null,null,null,null,null,null,"郵 便 取 扱 量 （kg）"]
[null,null,null,null,"国 際 線",null,null,"国 内 線",null,"合計",null,"国 際 線",null,null,"国 内 線",null,"合 計"]
[null,null,"月別","積","卸","小 計","積","卸","小 計",null,"積","卸","小 計","積","卸","小 計"]
[]
[null,null,"1月",0,0,{"$f":"SUM(D3490:E3490)","v":0},16,3,{"$f":"SUM(G3490:H3490)","v":19},{"$f":"F3490+I3490","v":19},0,0,{"$f":"SUM(K3490:L3490)","v":0},0,0,{"$f":"SUM(N3490:O3490)","v":0},{"$f":"M3490+P3490","v":0}]
[null,null,"2月",0,0,0,15,2,17,17,0,0,0,0,0,0,0]
[null,null,"3月",0,0,0,17,3,20,20,0,0,0,0,0,0,0]
[null,null,"4月",0,0,0,15,4,19,19,0,0,0,0,0,0,0]
[null,null,"5月",0,0,0,14,2,16,16,0,0,0,0,0,0,0]
[null,null,"6月",0,0,0,11,2,13,13,0,0,0,0,0,0,0]
[null,null,"7月",0,0,0,11,4,15,15,0,0,0,0,0,0,0]
[null,null,"8月",0,0,0,15,3,18,18,0,0,0,0,0,0,0]
[null,null,"9月",0,0,0,12,3,15,15,0,0,0,0,0,0,0]
[null,null,"10月",0,0,0,12,2,14,14,0,0,0,0,0,0,0]
[null,null,"11月",0,0,0,12,3,15,15,0,0,0,0,0,0,0]
[null,null,"12月",0,0,0,20,3,23,23,0,0,0,0,0,0,0]
[]
[null,"福江暦２","暦年 計",{"$f":"SUM(D3490:D3502)","v":0},0,0,170,34,204,204,0,0,{"$f":"SUM(M3490:M3502)","v":0},{"$f":"SUM(N3490:N3502)","v":0},{"$f":"SUM(O3490:O3502)","v":0},{"$f":"SUM(P3490:P3502)","v":0},{"$f":"SUM(Q3490:Q3502)","v":0}]
[]
[null,null,"1月",0,0,{"$f":"SUM(D3505:E3505)","v":0},14,2,{"$f":"SUM(G3505:H3505)","v":16},{"$f":"F3505+I3505","v":16},0,0,{"$f":"SUM(K3505:L3505)","v":0},0,0,{"$f":"SUM(N3505:O3505)","v":0},{"$f":"M3505+P3505","v":0}]
[null,null,"2月",0,0,{"$f":"SUM(D3506:E3506)","v":0},11,3,{"$f":"SUM(G3506:H3506)","v":14},{"$f":"F3506+I3506","v":14},0,0,{"$f":"SUM(K3506:L3506)","v":0},0,0,{"$f":"SUM(N3506:O3506)","v":0},{"$f":"M3506+P3506","v":0}]
[null,null,"3月",0,0,{"$f":"SUM(D3507:E3507)","v":0},15,2,{"$f":"SUM(G3507:H3507)","v":17},{"$f":"F3507+I3507","v":17},0,0,{"$f":"SUM(K3507:L3507)","v":0},0,0,{"$f":"SUM(N3507:O3507)","v":0},{"$f":"M3507+P3507","v":0}]
[]
[null,"福江度２","年度計",{"$f":"SUM(D3493:D3501,D3505:D3507)","v":0},{"$f":"SUM(E3493:E3501,E3505:E3507)","v":0},{"$f":"SUM(F3493:F3501,F3505:F3507)","v":0},{"$f":"SUM(G3493:G3501,G3505:G3507)","v":162},33,195,195,0,0,{"$f":"SUM(M3493:M3501,M3505:M3507)","v":0},{"$f":"SUM(N3493:N3501,N3505:N3507)","v":0},{"$f":"SUM(O3493:O3501,O3505:O3507)","v":0},{"$f":"SUM(P3493:P3501,P3505:P3507)","v":0},{"$f":"SUM(Q3493:Q3501,Q3505:Q3507)","v":0}]
[]
[null,null,{"$f":"C3457","v":"平　成　２　８　年　空　港　管　理　状　況　調　書"}]
[null,null,"空港名 ：","上 五 島              （地方管理）"]
[null,null,"項目",null,"着 陸 回 数 （回）",null,"乗   降   客   数   （人）",null,null,null,null,null,null,null,"航空燃料供給量　（ＫＬ）"]
[null,null,null,"国際線","国内線","計",null,"国 際 線",null,null,null,"国 内 線",null,"合 計","ジェット燃料","その他燃料","合計"]
[null,null,"月別",null,null,null,"乗 客","降 客","通過客","小 計","乗 客","降 客","小 計"]
[]
[null,null,"1月",0,2,{"$f":"SUM(D3517:E3517)","v":2},0,0,0,{"$f":"SUM(G3517:I3517)","v":0},0,0,{"$f":"SUM(K3517:L3517)","v":0},{"$f":"J3517+M3517","v":0},0,0,{"$f":"SUM(O3517:P3517)","v":0}]
[null,null,"2月",0,7,{"$f":"SUM(D3518:E3518)","v":7},0,0,0,{"$f":"SUM(G3518:I3518)","v":0},0,0,{"$f":"SUM(K3518:L3518)","v":0},{"$f":"J3518+M3518","v":0},0,0,{"$f":"SUM(O3518:P3518)","v":0}]
[null,null,"3月",0,10,10,0,0,0,0,0,0,0,0,0,0,0]
[null,null,"4月",0,7,7,0,0,0,0,0,0,0,0,0,0,0]
[null,null,"5月",0,2,2,0,0,0,0,0,0,0,0,0,0,0]
[null,null,"6月",0,1,1,0,0,0,0,0,0,0,0,0,0,0]
[null,null,"7月",0,4,4,0,0,0,0,0,0,0,0,0,0,0]
[null,null,"8月",0,8,8,0,0,0,0,0,0,0,0,0,0,0]
[null,null,"9月",0,5,5,0,0,0,0,0,0,0,0,0,0,0]
[null,null,"10月",0,7,7,0,0,0,0,0,0,0,0,0,0,0]
[null,null,"11月",0,3,3,0,0,0,0,0,0,0,0,0,0,0]
[null,null,"12月",0,5,5,0,0,0,0,0,0,0,0,0,0,0]
[]
[null,"上五島暦１","暦年 計",{"$f":"SUM(D3517:D3528)","v":0},{"$f":"SUM(E3517:E3528)","v":61},{"$f":"SUM(F3517:F3528)","v":61},{"$f":"SUM(G3517:G3528)","v":0},{"$f":"SUM(H3517:H3528)","v":0},0,0,0,0,0,0,0,{"$f":"SUM(P3517:P3528)","v":0},{"$f":"SUM(Q3517:Q3528)","v":0}]
[]
[null,null,"1月",0,10,{"$f":"SUM(D3532:E3532)","v":10},0,0,0,{"$f":"SUM(G3532:I3532)","v":0},0,0,{"$f":"SUM(K3532:L3532)","v":0},{"$f":"J3532+M3532","v":0},0,0,{"$f":"SUM(O3532:P3532)","v":0}]
[null,null,"2月",0,15,{"$f":"SUM(D3533:E3533)","v":15},0,0,0,{"$f":"SUM(G3533:I3533)","v":0},0,0,{"$f":"SUM(K3533:L3533)","v":0},{"$f":"J3533+M3533","v":0},0,0,{"$f":"SUM(O3533:P3533)","v":0}]
[null,null,"3月",0,11,{"$f":"SUM(D3534:E3534)","v":11},0,0,0,{"$f":"SUM(G3534:I3534)","v":0},0,0,{"$f":"SUM(K3534:L3534)","v":0},{"$f":"J3534+M3534","v":0},0,0,{"$f":"SUM(O3534:P3534)","v":0}]
[]
[null,"上五島度１","年度計",{"$f":"SUM(D3520:D3528,D3532:D3534)","v":0},{"$f":"SUM(E3520:E3528,E3532:E3534)","v":78},{"$f":"SUM(F3520:F3528,F3532:F3534)","v":78},{"$f":"SUM(G3520:G3528,G3532:G3534)","v":0},0,0,0,0,0,0,0,0,0,{"$f":"SUM(Q3520:Q3528,Q3532:Q3534)","v":0}]
[]
[]
[]
[null,null,"項目",null,null,null,"貨 物 取 扱 量 （トン）",null,null,null,null,null,null,"郵 便 取 扱 量 （kg）"]
[null,null,null,null,"国 際 線",null,null,"国 内 線",null,"合計",null,"国 際 線",null,null,"国 内 線",null,"合 計"]
[null,null,"月別","積","卸","小 計","積","卸","小 計",null,"積","卸","小 計","積","卸","小 計"]
[]
[null,null,"1月",0,0,{"$f":"SUM(D3544:E3544)","v":0},0,0,{"$f":"SUM(G3544:H3544)","v":0},{"$f":"F3544+I3544","v":0},0,0,{"$f":"SUM(K3544:L3544)","v":0},0,0,{"$f":"SUM(N3544:O3544)","v":0},{"$f":"M3544+P3544","v":0}]
[null,null,"2月",0,0,0,0,0,0,0,0,0,0,0,0,0,0]
[null,null,"3月",0,0,0,0,0,0,0,0,0,0,0,0,0,0]
[null,null,"4月",0,0,0,0,0,0,0,0,0,0,0,0,0,0]
[null,null,"5月",0,0,0,0,0,0,0,0,0,0,0,0,0,0]
[null,null,"6月",0,0,0,0,0,0,0,0,0,0,0,0,0,0]
[null,null,"7月",0,0,0,0,0,0,0,0,0,0,0,0,0,0]
[null,null,"8月",0,0,0,0,0,0,0,0,0,0,0,0,0,0]
[null,null,"9月",0,0,0,0,0,0,0,0,0,0,0,0,0,0]
[null,null,"10月",0,0,0,0,0,0,0,0,0,0,0,0,0,0]
[null,null,"11月",0,0,0,0,0,0,0,0,0,0,0,0,0,0]
[null,null,"12月",0,0,0,0,0,0,0,0,0,0,0,0,0,0]
[]
[null,"上五島暦２","暦年 計",{"$f":"SUM(D3544:D3556)","v":0},0,0,0,0,0,0,0,0,{"$f":"SUM(M3544:M3556)","v":0},{"$f":"SUM(N3544:N3556)","v":0},{"$f":"SUM(O3544:O3556)","v":0},{"$f":"SUM(P3544:P3556)","v":0},{"$f":"SUM(Q3544:Q3556)","v":0}]
[]
[null,null,"1月",0,0,{"$f":"SUM(D3559:E3559)","v":0},0,0,{"$f":"SUM(G3559:H3559)","v":0},{"$f":"F3559+I3559","v":0},0,0,{"$f":"SUM(K3559:L3559)","v":0},0,0,{"$f":"SUM(N3559:O3559)","v":0},{"$f":"M3559+P3559","v":0}]
[null,null,"2月",0,0,{"$f":"SUM(D3560:E3560)","v":0},0,0,{"$f":"SUM(G3560:H3560)","v":0},{"$f":"F3560+I3560","v":0},0,0,{"$f":"SUM(K3560:L3560)","v":0},0,0,{"$f":"SUM(N3560:O3560)","v":0},{"$f":"M3560+P3560","v":0}]
[null,null,"3月",0,0,{"$f":"SUM(D3561:E3561)","v":0},0,0,{"$f":"SUM(G3561:H3561)","v":0},{"$f":"F3561+I3561","v":0},0,0,{"$f":"SUM(K3561:L3561)","v":0},0,0,{"$f":"SUM(N3561:O3561)","v":0},{"$f":"M3561+P3561","v":0}]
[]
[null,"上五島度２","年度計",{"$f":"SUM(D3547:D3555,D3559:D3561)","v":0},{"$f":"SUM(E3547:E3555,E3559:E3561)","v":0},{"$f":"SUM(F3547:F3555,F3559:F3561)","v":0},{"$f":"SUM(G3547:G3555,G3559:G3561)","v":0},0,0,0,0,0,{"$f":"SUM(M3547:M3555,M3559:M3561)","v":0},{"$f":"SUM(N3547:N3555,N3559:N3561)","v":0},{"$f":"SUM(O3547:O3555,O3559:O3561)","v":0},{"$f":"SUM(P3547:P3555,P3559:P3561)","v":0},{"$f":"SUM(Q3547:Q3555,Q3559:Q3561)","v":0}]
[]
[null,null,{"$f":"C3511","v":"平　成　２　８　年　空　港　管　理　状　況　調　書"}]
[null,null,"空港名 ：","壱    岐              （地方管理）"]
[null,null,"項目",null,"着 陸 回 数 （回）",null,"乗   降   客   数   （人）",null,null,null,null,null,null,null,"航空燃料供給量　（ＫＬ）"]
[null,null,null,"国際線","国内線","計",null,"国 際 線",null,null,null,"国 内 線",null,"合 計","ジェット燃料","その他燃料","合計"]
[null,null,"月別",null,null,null,"乗 客","降 客","通過客","小 計","乗 客","降 客","小 計"]
[]
[null,null,"1月",0,56,{"$f":"SUM(D3571:E3571)","v":56},0,0,0,{"$f":"SUM(G3571:I3571)","v":0},1139,1057,{"$f":"SUM(K3571:L3571)","v":2196},{"$f":"J3571+M3571","v":2196},0,0,{"$f":"SUM(O3571:P3571)","v":0}]
[null,null,"2月",0,62,{"$f":"SUM(D3572:E3572)","v":62},0,0,0,{"$f":"SUM(G3572:I3572)","v":0},1311,1235,{"$f":"SUM(K3572:L3572)","v":2546},{"$f":"J3572+M3572","v":2546},0,0,{"$f":"SUM(O3572:P3572)","v":0}]
[null,null,"3月",0,73,73,0,0,0,0,1399,1292,2691,2691,0,0,0]
[null,null,"4月",0,68,68,0,0,0,0,1101,1061,2162,2162,0,0,0]
[null,null,"5月",0,68,68,0,0,0,0,1405,1274,2679,2679,0,0,0]
[null,null,"6月",0,43,43,0,0,0,0,701,711,1412,1412,0,0,0]
[null,null,"7月",0,68,68,0,0,0,0,1452,1381,2833,2833,0,0,0]
[null,null,"8月",0,71,71,0,0,0,0,1789,1645,3434,3434,0,0,0]
[null,null,"9月",0,59,59,0,0,0,0,1118,1028,2146,2146,0,0,0]
[null,null,"10月",0,65,65,0,0,0,0,1495,1373,2868,2868,0,0,0]
[null,null,"11月",0,71,71,0,0,0,0,1433,1390,2823,2823,0,0,0]
[null,null,"12月",0,69,69,0,0,0,0,1250,1247,2497,2497,0,0,0]
[]
[null,"壱岐暦１","暦年 計",{"$f":"SUM(D3571:D3582)","v":0},{"$f":"SUM(E3571:E3582)","v":773},{"$f":"SUM(F3571:F3582)","v":773},{"$f":"SUM(G3571:G3582)","v":0},{"$f":"SUM(H3571:H3582)","v":0},0,0,15593,14694,30287,30287,0,{"$f":"SUM(P3571:P3582)","v":0},{"$f":"SUM(Q3571:Q3582)","v":0}]
[]
[null,null,"1月",0,71,{"$f":"SUM(D3586:E3586)","v":71},0,0,0,{"$f":"SUM(G3586:I3586)","v":0},1444,1276,{"$f":"SUM(K3586:L3586)","v":2720},{"$f":"J3586+M3586","v":2720},0,0,{"$f":"SUM(O3586:P3586)","v":0}]
[null,null,"2月",0,69,{"$f":"SUM(D3587:E3587)","v":69},0,0,0,{"$f":"SUM(G3587:I3587)","v":0},1349,1222,{"$f":"SUM(K3587:L3587)","v":2571},{"$f":"J3587+M3587","v":2571},0,0,{"$f":"SUM(O3587:P3587)","v":0}]
[null,null,"3月",0,83,{"$f":"SUM(D3588:E3588)","v":83},0,0,0,{"$f":"SUM(G3588:I3588)","v":0},1411,1270,{"$f":"SUM(K3588:L3588)","v":2681},{"$f":"J3588+M3588","v":2681},0,0,{"$f":"SUM(O3588:P3588)","v":0}]
[]
[null,"壱岐度１","年度計",{"$f":"SUM(D3574:D3582,D3586:D3588)","v":0},{"$f":"SUM(E3574:E3582,E3586:E3588)","v":805},{"$f":"SUM(F3574:F3582,F3586:F3588)","v":805},{"$f":"SUM(G3574:G3582,G3586:G3588)","v":0},0,0,0,15948,14878,30826,30826,0,0,{"$f":"SUM(Q3574:Q3582,Q3586:Q3588)","v":0}]
[]
[]
[]
[null,null,"項目",null,null,null,"貨 物 取 扱 量 （トン）",null,null,null,null,null,null,"郵 便 取 扱 量 （kg）"]
[null,null,null,null,"国 際 線",null,null,"国 内 線",null,"合計",null,"国 際 線",null,null,"国 内 線",null,"合 計"]
[null,null,"月別","積","卸","小 計","積","卸","小 計",null,"積","卸","小 計","積","卸","小 計"]
[]
[null,null,"1月",0,0,{"$f":"SUM(D3598:E3598)","v":0},0,0,{"$f":"SUM(G3598:H3598)","v":0},{"$f":"F3598+I3598","v":0},0,0,{"$f":"SUM(K3598:L3598)","v":0},0,0,{"$f":"SUM(N3598:O3598)","v":0},{"$f":"M3598+P3598","v":0}]
[null,null,"2月",0,0,0,0,0,0,0,0,0,0,0,0,0,0]
[null,null,"3月",0,0,0,0,0,0,0,0,0,0,0,0,0,0]
[null,null,"4月",0,0,0,0,0,0,0,0,0,0,0,0,0,0]
[null,null,"5月",0,0,0,0,0,0,0,0,0,0,0,0,0,0]
[null,null,"6月",0,0,0,0,0,0,0,0,0,0,0,0,0,0]
[null,null,"7月",0,0,0,0,0,0,0,0,0,0,0,0,0,0]
[null,null,"8月",0,0,0,0,0,0,0,0,0,0,0,0,0,0]
[null,null,"9月",0,0,0,0,0,0,0,0,0,0,0,0,0,0]
[null,null,"10月",0,0,0,0,0,0,0,0,0,0,0,0,0,0]
[null,null,"11月",0,0,0,0,0,0,0,0,0,0,0,0,0,0]
[null,null,"12月",0,0,0,0,0,0,0,0,0,0,0,0,0,0]
[]
[null,"壱岐暦２","暦年 計",{"$f":"SUM(D3598:D3610)","v":0},0,0,0,0,0,0,0,0,{"$f":"SUM(M3598:M3610)","v":0},{"$f":"SUM(N3598:N3610)","v":0},{"$f":"SUM(O3598:O3610)","v":0},{"$f":"SUM(P3598:P3610)","v":0},{"$f":"SUM(Q3598:Q3610)","v":0}]
[]
[null,null,"1月",0,0,{"$f":"SUM(D3613:E3613)","v":0},0,0,{"$f":"SUM(G3613:H3613)","v":0},{"$f":"F3613+I3613","v":0},0,0,{"$f":"SUM(K3613:L3613)","v":0},0,0,{"$f":"SUM(N3613:O3613)","v":0},{"$f":"M3613+P3613","v":0}]
[null,null,"2月",0,0,{"$f":"SUM(D3614:E3614)","v":0},0,0,{"$f":"SUM(G3614:H3614)","v":0},{"$f":"F3614+I3614","v":0},0,0,{"$f":"SUM(K3614:L3614)","v":0},0,0,{"$f":"SUM(N3614:O3614)","v":0},{"$f":"M3614+P3614","v":0}]
[null,null,"3月",0,0,{"$f":"SUM(D3615:E3615)","v":0},0,0,{"$f":"SUM(G3615:H3615)","v":0},{"$f":"F3615+I3615","v":0},0,0,{"$f":"SUM(K3615:L3615)","v":0},0,0,{"$f":"SUM(N3615:O3615)","v":0},{"$f":"M3615+P3615","v":0}]
[]
[null,"壱岐度２","年度計",{"$f":"SUM(D3601:D3609,D3613:D3615)","v":0},{"$f":"SUM(E3601:E3609,E3613:E3615)","v":0},{"$f":"SUM(F3601:F3609,F3613:F3615)","v":0},{"$f":"SUM(G3601:G3609,G3613:G3615)","v":0},0,0,0,0,0,{"$f":"SUM(M3601:M3609,M3613:M3615)","v":0},{"$f":"SUM(N3601:N3609,N3613:N3615)","v":0},{"$f":"SUM(O3601:O3609,O3613:O3615)","v":0},{"$f":"SUM(P3601:P3609,P3613:P3615)","v":0},{"$f":"SUM(Q3601:Q3609,Q3613:Q3615)","v":0}]
[]
[null,null,{"$f":"C3565","v":"平　成　２　８　年　空　港　管　理　状　況　調　書"}]
[null,null,"空港名 ：","種 子 島              （地方管理）"]
[null,null,"項目",null,"着 陸 回 数 （回）",null,"乗   降   客   数   （人）",null,null,null,null,null,null,null,"航空燃料供給量　（ＫＬ）"]
[null,null,null,"国際線","国内線","計",null,"国 際 線",null,null,null,"国 内 線",null,"合 計","ジェット燃料","その他燃料","合計"]
[null,null,"月別",null,null,null,"乗 客","降 客","通過客","小 計","乗 客","降 客","小 計"]
[]
[null,null,"1月",0,119,{"$f":"SUM(D3625:E3625)","v":119},0,0,0,{"$f":"SUM(G3625:I3625)","v":0},3192,3025,{"$f":"SUM(K3625:L3625)","v":6217},{"$f":"J3625+M3625","v":6217},34,0,{"$f":"SUM(O3625:P3625)","v":34}]
[null,null,"2月",0,161,{"$f":"SUM(D3626:E3626)","v":161},0,0,0,{"$f":"SUM(G3626:I3626)","v":0},3381,3523,{"$f":"SUM(K3626:L3626)","v":6904},{"$f":"J3626+M3626","v":6904},67,0,{"$f":"SUM(O3626:P3626)","v":67}]
[null,null,"3月",0,121,121,0,0,0,0,3191,3166,6357,6357,33,0,33]
[null,null,"4月",0,117,117,0,0,0,0,2216,2310,4526,4526,17,0,17]
[null,null,"5月",0,112,112,0,0,0,0,2530,2410,4940,4940,20,0,20]
[null,null,"6月",0,106,106,0,0,0,0,2256,2259,4515,4515,22,0,22]
[null,null,"7月",0,136,136,0,0,0,0,2856,3220,6076,6076,21,0,21]
[null,null,"8月",0,162,162,0,0,0,0,5031,4720,9751,9751,64,0,64]
[null,null,"9月",0,135,135,0,0,0,0,3341,3403,6744,6744,61,0,61]
[null,null,"10月",0,128,128,0,0,0,0,3583,3733,7316,7316,42,0,42]
[null,null,"11月",0,158,158,0,0,0,0,3303,3442,6745,6745,36,0,36]
[null,null,"12月",0,157,157,0,0,0,0,3170,3426,6596,6596,36,0,36]
[]
[null,"種子島暦１","暦年 計",{"$f":"SUM(D3625:D3636)","v":0},{"$f":"SUM(E3625:E3636)","v":1612},{"$f":"SUM(F3625:F3636)","v":1612},{"$f":"SUM(G3625:G3636)","v":0},{"$f":"SUM(H3625:H3636)","v":0},0,0,38050,38637,76687,76687,453,{"$f":"SUM(P3625:P3636)","v":0},{"$f":"SUM(Q3625:Q3636)","v":453}]
[]
[null,null,"1月",0,137,{"$f":"SUM(D3640:E3640)","v":137},0,0,0,{"$f":"SUM(G3640:I3640)","v":0},3163,3194,{"$f":"SUM(K3640:L3640)","v":6357},{"$f":"J3640+M3640","v":6357},34,0,{"$f":"SUM(O3640:P3640)","v":34}]
[null,null,"2月",0,142,{"$f":"SUM(D3641:E3641)","v":142},0,0,0,{"$f":"SUM(G3641:I3641)","v":0},3098,3408,{"$f":"SUM(K3641:L3641)","v":6506},{"$f":"J3641+M3641","v":6506},49,0,{"$f":"SUM(O3641:P3641)","v":49}]
[null,null,"3月",0,174,{"$f":"SUM(D3642:E3642)","v":174},0,0,0,{"$f":"SUM(G3642:I3642)","v":0},3653,3735,{"$f":"SUM(K3642:L3642)","v":7388},{"$f":"J3642+M3642","v":7388},58,0,{"$f":"SUM(O3642:P3642)","v":58}]
[]
[null,"種子島度１","年度計",{"$f":"SUM(D3628:D3636,D3640:D3642)","v":0},{"$f":"SUM(E3628:E3636,E3640:E3642)","v":1664},{"$f":"SUM(F3628:F3636,F3640:F3642)","v":1664},{"$f":"SUM(G3628:G3636,G3640:G3642)","v":0},0,0,0,38200,39260,77460,77460,460,0,{"$f":"SUM(Q3628:Q3636,Q3640:Q3642)","v":460}]
[]
[]
[]
[null,null,"項目",null,null,null,"貨 物 取 扱 量 （トン）",null,null,null,null,null,null,"郵 便 取 扱 量 （kg）"]
[null,null,null,null,"国 際 線",null,null,"国 内 線",null,"合計",null,"国 際 線",null,null,"国 内 線",null,"合 計"]
[null,null,"月別","積","卸","小 計","積","卸","小 計",null,"積","卸","小 計","積","卸","小 計"]
[]
[null,null,"1月",0,0,{"$f":"SUM(D3652:E3652)","v":0},2,7,{"$f":"SUM(G3652:H3652)","v":9},{"$f":"F3652+I3652","v":9},0,0,{"$f":"SUM(K3652:L3652)","v":0},1076,880,{"$f":"SUM(N3652:O3652)","v":1956},{"$f":"M3652+P3652","v":1956}]
[null,null,"2月",0,0,0,3,9,12,12,0,0,0,860,767,1627,1627]
[null,null,"3月",0,0,0,4,10,14,14,0,0,0,915,802,1717,1717]
[null,null,"4月",0,0,0,3,8,11,11,0,0,0,680,364,1044,1044]
[null,null,"5月",0,0,0,3,6,9,9,0,0,0,654,448,1102,1102]
[null,null,"6月",0,0,0,2,8,10,10,0,0,0,527,406,933,933]
[null,null,"7月",0,0,0,3,9,12,12,0,0,0,582,409,991,991]
[null,null,"8月",0,0,0,3,9,12,12,0,0,0,788,424,1212,1212]
[null,null,"9月",0,0,0,3,8,11,11,0,0,0,724,766,1490,1490]
[null,null,"10月",0,0,0,2,8,10,10,0,0,0,503,346,849,849]
[null,null,"11月",0,0,0,2,8,10,10,0,0,0,574,416,990,990]
[null,null,"12月",0,0,0,3,9,12,12,0,0,0,826,834,1660,1660]
[]
[null,"種子島暦２","暦年 計",{"$f":"SUM(D3652:D3664)","v":0},0,0,33,99,132,132,0,0,{"$f":"SUM(M3652:M3664)","v":0},{"$f":"SUM(N3652:N3664)","v":8709},{"$f":"SUM(O3652:O3664)","v":6862},{"$f":"SUM(P3652:P3664)","v":15571},{"$f":"SUM(Q3652:Q3664)","v":15571}]
[]
[null,null,"1月",0,0,{"$f":"SUM(D3667:E3667)","v":0},3,6,{"$f":"SUM(G3667:H3667)","v":9},{"$f":"F3667+I3667","v":9},0,0,{"$f":"SUM(K3667:L3667)","v":0},593,595,{"$f":"SUM(N3667:O3667)","v":1188},{"$f":"M3667+P3667","v":1188}]
[null,null,"2月",0,0,{"$f":"SUM(D3668:E3668)","v":0},2,8,{"$f":"SUM(G3668:H3668)","v":10},{"$f":"F3668+I3668","v":10},0,0,{"$f":"SUM(K3668:L3668)","v":0},701,845,{"$f":"SUM(N3668:O3668)","v":1546},{"$f":"M3668+P3668","v":1546}]
[null,null,"3月",0,0,{"$f":"SUM(D3669:E3669)","v":0},2,9,{"$f":"SUM(G3669:H3669)","v":11},{"$f":"F3669+I3669","v":11},0,0,{"$f":"SUM(K3669:L3669)","v":0},727,655,{"$f":"SUM(N3669:O3669)","v":1382},{"$f":"M3669+P3669","v":1382}]
[]
[null,"種子島度２","年度計",{"$f":"SUM(D3655:D3663,D3667:D3669)","v":0},{"$f":"SUM(E3655:E3663,E3667:E3669)","v":0},{"$f":"SUM(F3655:F3663,F3667:F3669)","v":0},{"$f":"SUM(G3655:G3663,G3667:G3669)","v":31},96,127,127,0,0,{"$f":"SUM(M3655:M3663,M3667:M3669)","v":0},{"$f":"SUM(N3655:N3663,N3667:N3669)","v":7879},{"$f":"SUM(O3655:O3663,O3667:O3669)","v":6508},{"$f":"SUM(P3655:P3663,P3667:P3669)","v":14387},{"$f":"SUM(Q3655:Q3663,Q3667:Q3669)","v":14387}]
[]
[null,null,{"$f":"C3619","v":"平　成　２　８　年　空　港　管　理　状　況　調　書"}]
[null,null,"空港名 ：","屋 久 島              （地方管理）"]
[null,null,"項目",null,"着 陸 回 数 （回）",null,"乗   降   客   数   （人）",null,null,null,null,null,null,null,"航空燃料供給量　（ＫＬ）"]
[null,null,null,"国際線","国内線","計",null,"国 際 線",null,null,null,"国 内 線",null,"合 計","ジェット燃料","その他燃料","合計"]
[null,null,"月別",null,null,null,"乗 客","降 客","通過客","小 計","乗 客","降 客","小 計"]
[]
[null,null,"1月",0,150,{"$f":"SUM(D3679:E3679)","v":150},0,0,0,{"$f":"SUM(G3679:I3679)","v":0},4327,4122,{"$f":"SUM(K3679:L3679)","v":8449},{"$f":"J3679+M3679","v":8449},0,0,{"$f":"SUM(O3679:P3679)","v":0}]
[null,null,"2月",0,142,{"$f":"SUM(D3680:E3680)","v":142},0,0,0,{"$f":"SUM(G3680:I3680)","v":0},4578,4967,{"$f":"SUM(K3680:L3680)","v":9545},{"$f":"J3680+M3680","v":9545},0,0,{"$f":"SUM(O3680:P3680)","v":0}]
[null,null,"3月",0,167,167,0,0,0,0,7687,7813,15500,15500,0,0,0]
[null,null,"4月",0,179,179,0,0,0,0,5882,7037,12919,12919,0,0,0]
[null,null,"5月",0,185,185,0,0,0,0,9272,9187,18459,18459,0,0,0]
[null,null,"6月",0,144,144,0,0,0,0,5363,5621,10984,10984,0,0,0]
[null,null,"7月",0,183,183,0,0,0,0,7282,7781,15063,15063,0,0,0]
[null,null,"8月",0,204,204,0,0,0,0,10223,10085,20308,20308,0,0,0]
[null,null,"9月",0,180,180,0,0,0,0,7980,8052,16032,16032,0,0,0]
[null,null,"10月",0,179,179,0,0,0,0,7854,8330,16184,16184,0,0,0]
[null,null,"11月",0,189,189,0,0,0,0,7399,6853,14252,14252,0,0,0]
[null,null,"12月",0,165,165,0,0,0,0,5018,5307,10325,10325,0,0,0]
[]
[null,"屋久島暦１","暦年 計",{"$f":"SUM(D3679:D3690)","v":0},{"$f":"SUM(E3679:E3690)","v":2067},{"$f":"SUM(F3679:F3690)","v":2067},{"$f":"SUM(G3679:G3690)","v":0},{"$f":"SUM(H3679:H3690)","v":0},0,0,82865,85155,168020,168020,0,{"$f":"SUM(P3679:P3690)","v":0},{"$f":"SUM(Q3679:Q3690)","v":0}]
[]
[null,null,"1月",0,158,{"$f":"SUM(D3694:E3694)","v":158},0,0,0,{"$f":"SUM(G3694:I3694)","v":0},4521,4280,{"$f":"SUM(K3694:L3694)","v":8801},{"$f":"J3694+M3694","v":8801},0,0,{"$f":"SUM(O3694:P3694)","v":0}]
[null,null,"2月",0,143,{"$f":"SUM(D3695:E3695)","v":143},0,0,0,{"$f":"SUM(G3695:I3695)","v":0},4914,4819,{"$f":"SUM(K3695:L3695)","v":9733},{"$f":"J3695+M3695","v":9733},0,0,{"$f":"SUM(O3695:P3695)","v":0}]
[null,null,"3月",0,192,{"$f":"SUM(D3696:E3696)","v":192},0,0,0,{"$f":"SUM(G3696:I3696)","v":0},8580,8938,{"$f":"SUM(K3696:L3696)","v":17518},{"$f":"J3696+M3696","v":17518},0,0,{"$f":"SUM(O3696:P3696)","v":0}]
[]
[null,"屋久島度１","年度計",{"$f":"SUM(D3682:D3690,D3694:D3696)","v":0},{"$f":"SUM(E3682:E3690,E3694:E3696)","v":2101},{"$f":"SUM(F3682:F3690,F3694:F3696)","v":2101},{"$f":"SUM(G3682:G3690,G3694:G3696)","v":0},0,0,0,84288,86290,170578,170578,0,0,{"$f":"SUM(Q3682:Q3690,Q3694:Q3696)","v":0}]
[]
[]
[]
[null,null,"項目",null,null,null,"貨 物 取 扱 量 （トン）",null,null,null,null,null,null,"郵 便 取 扱 量 （kg）"]
[null,null,null,null,"国 際 線",null,null,"国 内 線",null,"合計",null,"国 際 線",null,null,"国 内 線",null,"合 計"]
[null,null,"月別","積","卸","小 計","積","卸","小 計",null,"積","卸","小 計","積","卸","小 計"]
[]
[null,null,"1月",0,0,{"$f":"SUM(D3706:E3706)","v":0},5,9,{"$f":"SUM(G3706:H3706)","v":14},{"$f":"F3706+I3706","v":14},0,0,{"$f":"SUM(K3706:L3706)","v":0},2029,1121,{"$f":"SUM(N3706:O3706)","v":3150},{"$f":"M3706+P3706","v":3150}]
[null,null,"2月",0,0,0,1,4,5,5,0,0,0,1655,502,2157,2157]
[null,null,"3月",0,0,0,1,3,4,4,0,0,0,1900,411,2311,2311]
[null,null,"4月",0,0,0,5,4,9,9,0,0,0,1762,340,2102,2102]
[null,null,"5月",0,0,0,12,3,15,15,0,0,0,1728,275,2003,2003]
[null,null,"6月",0,0,0,10,4,14,14,0,0,0,1672,274,1946,1946]
[null,null,"7月",0,0,0,7,3,10,10,0,0,0,1429,326,1755,1755]
[null,null,"8月",0,0,0,2,5,7,7,0,0,0,1339,352,1691,1691]
[null,null,"9月",0,0,0,2,5,7,7,0,0,0,1441,494,1935,1935]
[null,null,"10月",0,0,0,7,3,10,10,0,0,0,1337,314,1651,1651]
[null,null,"11月",0,0,0,9,3,12,12,0,0,0,1431,298,1729,1729]
[null,null,"12月",0,0,0,13,5,18,18,0,0,0,1804,706,2510,2510]
[]
[null,"屋久島暦２","暦年 計",{"$f":"SUM(D3706:D3718)","v":0},0,0,74,51,125,125,0,0,{"$f":"SUM(M3706:M3718)","v":0},{"$f":"SUM(N3706:N3718)","v":19527},{"$f":"SUM(O3706:O3718)","v":5413},{"$f":"SUM(P3706:P3718)","v":24940},{"$f":"SUM(Q3706:Q3718)","v":24940}]
[]
[null,null,"1月",0,0,{"$f":"SUM(D3721:E3721)","v":0},6,4,{"$f":"SUM(G3721:H3721)","v":10},{"$f":"F3721+I3721","v":10},0,0,{"$f":"SUM(K3721:L3721)","v":0},1568,396,{"$f":"SUM(N3721:O3721)","v":1964},{"$f":"M3721+P3721","v":1964}]
[null,null,"2月",0,0,{"$f":"SUM(D3722:E3722)","v":0},2,5,{"$f":"SUM(G3722:H3722)","v":7},{"$f":"F3722+I3722","v":7},0,0,{"$f":"SUM(K3722:L3722)","v":0},1272,566,{"$f":"SUM(N3722:O3722)","v":1838},{"$f":"M3722+P3722","v":1838}]
[null,null,"3月",0,0,{"$f":"SUM(D3723:E3723)","v":0},5,5,{"$f":"SUM(G3723:H3723)","v":10},{"$f":"F3723+I3723","v":10},0,0,{"$f":"SUM(K3723:L3723)","v":0},1391,590,{"$f":"SUM(N3723:O3723)","v":1981},{"$f":"M3723+P3723","v":1981}]
[]
[null,"屋久島度２","年度計",{"$f":"SUM(D3709:D3717,D3721:D3723)","v":0},{"$f":"SUM(E3709:E3717,E3721:E3723)","v":0},{"$f":"SUM(F3709:F3717,F3721:F3723)","v":0},{"$f":"SUM(G3709:G3717,G3721:G3723)","v":80},49,129,129,0,0,{"$f":"SUM(M3709:M3717,M3721:M3723)","v":0},{"$f":"SUM(N3709:N3717,N3721:N3723)","v":18174},{"$f":"SUM(O3709:O3717,O3721:O3723)","v":4931},{"$f":"SUM(P3709:P3717,P3721:P3723)","v":23105},{"$f":"SUM(Q3709:Q3717,Q3721:Q3723)","v":23105}]
[]
[null,null,{"$f":"C3673","v":"平　成　２　８　年　空　港　管　理　状　況　調　書"}]
[null,null,"空港名 ：","奄    美              （地方管理）"]
[null,null,"項目",null,"着 陸 回 数 （回）",null,"乗   降   客   数   （人）",null,null,null,null,null,null,null,"航空燃料供給量　（ＫＬ）"]
[null,null,null,"国際線","国内線","計",null,"国 際 線",null,null,null,"国 内 線",null,"合 計","ジェット燃料","その他燃料","合計"]
[null,null,"月別",null,null,null,"乗 客","降 客","通過客","小 計","乗 客","降 客","小 計"]
[]
[null,null,"1月",0,617,{"$f":"SUM(D3733:E3733)","v":617},0,0,0,{"$f":"SUM(G3733:I3733)","v":0},27523,26640,{"$f":"SUM(K3733:L3733)","v":54163},{"$f":"J3733+M3733","v":54163},541,2,{"$f":"SUM(O3733:P3733)","v":543}]
[null,null,"2月",0,647,647,0,0,0,0,25715,25420,51135,51135,538,5,543]
[null,null,"3月",0,685,685,0,0,0,0,29486,28422,57908,57908,579,6,585]
[null,null,"4月",0,599,599,0,0,0,0,23618,24061,47679,47679,507,3,510]
[null,null,"5月",0,578,578,0,0,0,0,26614,25698,{"$f":"SUM(K3737:L3737)","v":52312},52312,521,2,523]
[null,null,"6月",0,602,602,0,0,0,0,24911,25505,50416,50416,547,3,550]
[null,null,"7月",0,608,608,0,0,0,0,30664,31115,61779,61779,723,2,725]
[null,null,"8月",0,675,675,0,0,0,0,42086,42065,84151,84151,858,0,858]
[null,null,"9月",0,588,588,0,0,0,0,31548,30746,62294,62294,573,1,574]
[null,null,"10月",0,634,634,0,0,0,0,31086,31263,62349,62349,553,1,554]
[null,null,"11月",0,622,622,0,0,0,0,29474,28817,58291,58291,502,1,503]
[null,null,"12月",0,610,610,0,0,0,0,25977,27350,53327,53327,512,0,512]
[]
[null,"奄美暦１","暦年 計",{"$f":"SUM(D3733:D3744)","v":0},7465,7465,0,0,0,0,348702,347102,695804,695804,6954,26,{"$f":"SUM(O3746:P3746)","v":6980}]
[]
[null,null,"1月",0,616,{"$f":"SUM(D3748:E3748)","v":616},0,0,0,{"$f":"SUM(G3748:I3748)","v":0},28330,26645,{"$f":"SUM(K3748:L3748)","v":54975},{"$f":"J3748+M3748","v":54975},487,1,{"$f":"SUM(O3748:P3748)","v":488}]
[null,null,"2月",0,565,{"$f":"SUM(D3749:E3749)","v":565},0,0,0,{"$f":"SUM(G3749:I3749)","v":0},26946,27009,{"$f":"SUM(K3749:L3749)","v":53955},{"$f":"J3749+M3749","v":53955},475,0,{"$f":"SUM(O3749:P3749)","v":475}]
[null,null,"3月",0,635,{"$f":"SUM(D3750:E3750)","v":635},0,0,0,{"$f":"SUM(G3750:I3750)","v":0},31761,30597,{"$f":"SUM(K3750:L3750)","v":62358},{"$f":"J3750+M3750","v":62358},513,1,{"$f":"SUM(O3750:P3750)","v":514}]
[]
[null,"奄美度１","年度計",{"$f":"SUM(D3736:D3744,D3748:D3750)","v":0},{"$f":"SUM(E3736:E3744,E3748:E3750)","v":7332},{"$f":"SUM(F3736:F3744,F3748:F3750)","v":7332},{"$f":"SUM(G3736:G3744,G3748:G3750)","v":0},0,0,0,353015,350871,703886,703886,6771,15,{"$f":"SUM(Q3736:Q3744,Q3748:Q3750)","v":6786}]
[]
[]
[]
[null,null,"項目",null,null,null,"貨 物 取 扱 量 （トン）",null,null,null,null,null,null,"郵 便 取 扱 量 （kg）"]
[null,null,null,null,"国 際 線",null,null,"国 内 線",null,"合計",null,"国 際 線",null,null,"国 内 線",null,"合 計"]
[null,null,"月別","積","卸","小 計","積","卸","小 計",null,"積","卸","小 計","積","卸","小 計"]
[]
[null,null,"1月",0,0,{"$f":"SUM(D3760:E3760)","v":0},47,39,{"$f":"SUM(G3760:H3760)","v":86},{"$f":"F3760+I3760","v":86},0,0,{"$f":"SUM(K3760:L3760)","v":0},3772,8253,{"$f":"SUM(N3760:O3760)","v":12025},{"$f":"M3760+P3760","v":12025}]
[null,null,"2月",0,0,0,52,39,91,91,0,0,0,2768,6795,9563,9563]
[null,null,"3月",0,0,0,58,48,106,106,0,0,0,3290,8009,11299,11299]
[null,null,"4月",0,0,0,55,41,96,96,0,0,0,3267,7395,10662,10662]
[null,null,"5月",0,0,0,43,39,82,82,0,0,0,2911,7605,10516,10516]
[null,null,"6月",0,0,0,45,42,87,87,0,0,0,3138,7759,10897,10897]
[null,null,"7月",0,0,0,36,40,76,76,0,0,0,2912,7121,10033,10033]
[null,null,"8月",0,0,0,31,38,69,69,0,0,0,2875,7308,10183,10183]
[null,null,"9月",0,0,0,35,39,74,74,0,0,0,4016,8602,12618,12618]
[null,null,"10月",0,0,0,39,38,77,77,0,0,0,3467,7591,11058,11058]
[null,null,"11月",0,0,0,46,41,87,87,0,0,0,3173,6709,9882,9882]
[null,null,"12月",0,0,0,66,46,112,112,0,0,0,3867,7990,11857,11857]
[]
[null,"奄美暦２","暦年 計",{"$f":"SUM(D3760:D3772)","v":0},0,0,553,490,1043,1043,0,0,{"$f":"SUM(M3760:M3772)","v":0},{"$f":"SUM(N3760:N3772)","v":39456},{"$f":"SUM(O3760:O3772)","v":91137},{"$f":"SUM(P3760:P3772)","v":130593},{"$f":"SUM(Q3760:Q3772)","v":130593}]
[]
[null,null,"1月",0,0,{"$f":"SUM(D3775:E3775)","v":0},42,35,{"$f":"SUM(G3775:H3775)","v":77},{"$f":"F3775+I3775","v":77},0,0,{"$f":"SUM(K3775:L3775)","v":0},2945,6887,{"$f":"SUM(N3775:O3775)","v":9832},{"$f":"M3775+P3775","v":9832}]
[null,null,"2月",0,0,{"$f":"SUM(D3776:E3776)","v":0},44,38,{"$f":"SUM(G3776:H3776)","v":82},{"$f":"F3776+I3776","v":82},0,0,{"$f":"SUM(K3776:L3776)","v":0},3193,6777,{"$f":"SUM(N3776:O3776)","v":9970},{"$f":"M3776+P3776","v":9970}]
[null,null,"3月",0,0,{"$f":"SUM(D3777:E3777)","v":0},40,43,{"$f":"SUM(G3777:H3777)","v":83},{"$f":"F3777+I3777","v":83},0,0,{"$f":"SUM(K3777:L3777)","v":0},3353,7313,{"$f":"SUM(N3777:O3777)","v":10666},{"$f":"M3777+P3777","v":10666}]
[]
[null,"奄美度２","年度計",{"$f":"SUM(D3763:D3771,D3775:D3777)","v":0},{"$f":"SUM(E3763:E3771,E3775:E3777)","v":0},{"$f":"SUM(F3763:F3771,F3775:F3777)","v":0},{"$f":"SUM(G3763:G3771,G3775:G3777)","v":522},480,1002,1002,0,0,{"$f":"SUM(M3763:M3771,M3775:M3777)","v":0},{"$f":"SUM(N3763:N3771,N3775:N3777)","v":39117},{"$f":"SUM(O3763:O3771,O3775:O3777)","v":89057},{"$f":"SUM(P3763:P3771,P3775:P3777)","v":128174},{"$f":"SUM(Q3763:Q3771,Q3775:Q3777)","v":128174}]
[]
[null,null,{"$f":"C3727","v":"平　成　２　８　年　空　港　管　理　状　況　調　書"}]
[null,null,"空港名 ：","喜    界              （地方管理）"]
[null,null,"項目",null,"着 陸 回 数 （回）",null,"乗   降   客   数   （人）",null,null,null,null,null,null,null,"航空燃料供給量　（ＫＬ）"]
[null,null,null,"国際線","国内線","計",null,"国 際 線",null,null,null,"国 内 線",null,"合 計","ジェット燃料","その他燃料","合計"]
[null,null,"月別",null,null,null,"乗 客","降 客","通過客","小 計","乗 客","降 客","小 計"]
[]
[null,null,"1月",0,167,{"$f":"SUM(D3787:E3787)","v":167},0,0,0,{"$f":"SUM(G3787:I3787)","v":0},3422,3199,{"$f":"SUM(K3787:L3787)","v":6621},{"$f":"J3787+M3787","v":6621},0,0,{"$f":"SUM(O3787:P3787)","v":0}]
[null,null,"2月",0,150,{"$f":"SUM(D3788:E3788)","v":150},0,0,0,{"$f":"SUM(G3788:I3788)","v":0},3152,3098,{"$f":"SUM(K3788:L3788)","v":6250},{"$f":"J3788+M3788","v":6250},0,0,{"$f":"SUM(O3788:P3788)","v":0}]
[null,null,"3月",0,168,168,0,0,0,0,3304,3339,6643,6643,0,0,0]
[null,null,"4月",0,151,151,0,0,0,0,2711,2768,5479,5479,0,0,0]
[null,null,"5月",0,147,147,0,0,0,0,3022,3106,6128,6128,0,0,0]
[null,null,"6月",0,157,157,0,0,0,0,2990,3176,6166,6166,0,0,0]
[null,null,"7月",0,170,170,0,0,0,0,3512,3620,7132,7132,0,0,0]
[null,null,"8月",0,166,166,0,0,0,0,4201,4354,8555,8555,0,0,0]
[null,null,"9月",0,156,156,0,0,0,0,3277,3344,6621,6621,0,0,0]
[null,null,"10月",0,166,166,0,0,0,0,3659,3811,7470,7470,0,0,0]
[null,null,"11月",0,160,160,0,0,0,0,3357,3503,6860,6860,0,0,0]
[null,null,"12月",0,170,170,0,0,0,0,3294,3845,7139,7139,0,0,0]
[]
[null,"喜界暦１","暦年 計",{"$f":"SUM(D3787:D3798)","v":0},{"$f":"SUM(E3787:E3798)","v":1928},{"$f":"SUM(F3787:F3798)","v":1928},{"$f":"SUM(G3787:G3798)","v":0},{"$f":"SUM(H3787:H3798)","v":0},0,0,39901,41163,81064,81064,0,{"$f":"SUM(P3787:P3798)","v":0},{"$f":"SUM(Q3787:Q3798)","v":0}]
[]
[null,null,"1月",0,164,{"$f":"SUM(D3802:E3802)","v":164},0,0,0,{"$f":"SUM(G3802:I3802)","v":0},3460,3324,{"$f":"SUM(K3802:L3802)","v":6784},{"$f":"J3802+M3802","v":6784},0,0,{"$f":"SUM(O3802:P3802)","v":0}]
[null,null,"2月",0,149,{"$f":"SUM(D3803:E3803)","v":149},0,0,0,{"$f":"SUM(G3803:I3803)","v":0},3241,3285,{"$f":"SUM(K3803:L3803)","v":6526},{"$f":"J3803+M3803","v":6526},0,0,{"$f":"SUM(O3803:P3803)","v":0}]
[null,null,"3月",0,163,{"$f":"SUM(D3804:E3804)","v":163},0,0,0,{"$f":"SUM(G3804:I3804)","v":0},3531,3722,{"$f":"SUM(K3804:L3804)","v":7253},{"$f":"J3804+M3804","v":7253},0,0,{"$f":"SUM(O3804:P3804)","v":0}]
[]
[null,"喜界度１","年度計",{"$f":"SUM(D3790:D3798,D3802:D3804)","v":0},{"$f":"SUM(E3790:E3798,E3802:E3804)","v":1919},{"$f":"SUM(F3790:F3798,F3802:F3804)","v":1919},{"$f":"SUM(G3790:G3798,G3802:G3804)","v":0},0,0,0,40255,41858,82113,82113,0,0,{"$f":"SUM(Q3790:Q3798,Q3802:Q3804)","v":0}]
[]
[]
[]
[null,null,"項目",null,null,null,"貨 物 取 扱 量 （トン）",null,null,null,null,null,null,"郵 便 取 扱 量 （kg）"]
[null,null,null,null,"国 際 線",null,null,"国 内 線",null,"合計",null,"国 際 線",null,null,"国 内 線",null,"合 計"]
[null,null,"月別","積","卸","小 計","積","卸","小 計",null,"積","卸","小 計","積","卸","小 計"]
[]
[null,null,"1月",0,0,{"$f":"SUM(D3814:E3814)","v":0},4,10,{"$f":"SUM(G3814:H3814)","v":14},{"$f":"F3814+I3814","v":14},0,0,{"$f":"SUM(K3814:L3814)","v":0},380,1325,{"$f":"SUM(N3814:O3814)","v":1705},{"$f":"M3814+P3814","v":1705}]
[null,null,"2月",0,0,0,6,10,16,16,0,0,0,415,1219,1634,1634]
[null,null,"3月",0,0,0,8,11,19,19,0,0,0,445,1365,1810,1810]
[null,null,"4月",0,0,0,8,9,17,17,0,0,0,474,1179,1653,1653]
[null,null,"5月",0,0,0,7,9,16,16,0,0,0,313,1112,1425,1425]
[null,null,"6月",0,0,0,5,10,15,15,0,0,0,343,1388,1731,1731]
[null,null,"7月",0,0,0,3,10,13,13,0,0,0,312,1274,1586,1586]
[null,null,"8月",0,0,0,2,12,14,14,0,0,0,339,1236,1575,1575]
[null,null,"9月",0,0,0,1,11,12,12,0,0,0,412,1234,1646,1646]
[null,null,"10月",0,0,0,3,10,13,13,0,0,0,376,1121,1497,1497]
[null,null,"11月",0,0,0,5,10,15,15,0,0,0,374,1156,1530,1530]
[null,null,"12月",0,0,0,8,11,19,19,0,0,0,459,1145,1604,1604]
[]
[null,"喜界暦２","暦年 計",{"$f":"SUM(D3814:D3826)","v":0},0,0,60,123,183,183,0,0,{"$f":"SUM(M3814:M3826)","v":0},{"$f":"SUM(N3814:N3826)","v":4642},{"$f":"SUM(O3814:O3826)","v":14754},{"$f":"SUM(P3814:P3826)","v":19396},{"$f":"SUM(Q3814:Q3826)","v":19396}]
[]
[null,null,"1月",0,0,{"$f":"SUM(D3829:E3829)","v":0},5,10,{"$f":"SUM(G3829:H3829)","v":15},{"$f":"F3829+I3829","v":15},0,0,{"$f":"SUM(K3829:L3829)","v":0},416,1046,{"$f":"SUM(N3829:O3829)","v":1462},{"$f":"M3829+P3829","v":1462}]
[null,null,"2月",0,0,{"$f":"SUM(D3830:E3830)","v":0},5,9,{"$f":"SUM(G3830:H3830)","v":14},{"$f":"F3830+I3830","v":14},0,0,{"$f":"SUM(K3830:L3830)","v":0},488,1016,{"$f":"SUM(N3830:O3830)","v":1504},{"$f":"M3830+P3830","v":1504}]
[null,null,"3月",0,0,{"$f":"SUM(D3831:E3831)","v":0},5,11,{"$f":"SUM(G3831:H3831)","v":16},{"$f":"F3831+I3831","v":16},0,0,{"$f":"SUM(K3831:L3831)","v":0},379,1134,{"$f":"SUM(N3831:O3831)","v":1513},{"$f":"M3831+P3831","v":1513}]
[]
[null,"喜界度２","年度計",{"$f":"SUM(D3817:D3825,D3829:D3831)","v":0},{"$f":"SUM(E3817:E3825,E3829:E3831)","v":0},{"$f":"SUM(F3817:F3825,F3829:F3831)","v":0},{"$f":"SUM(G3817:G3825,G3829:G3831)","v":57},122,179,179,0,0,{"$f":"SUM(M3817:M3825,M3829:M3831)","v":0},{"$f":"SUM(N3817:N3825,N3829:N3831)","v":4685},{"$f":"SUM(O3817:O3825,O3829:O3831)","v":14041},{"$f":"SUM(P3817:P3825,P3829:P3831)","v":18726},{"$f":"SUM(Q3817:Q3825,Q3829:Q3831)","v":18726}]
[]
[null,null,{"$f":"C3781","v":"平　成　２　８　年　空　港　管　理　状　況　調　書"}]
[null,null,"空港名 ：","徳 之 島              （地方管理）"]
[null,null,"項目",null,"着 陸 回 数 （回）",null,"乗   降   客   数   （人）",null,null,null,null,null,null,null,"航空燃料供給量　（ＫＬ）"]
[null,null,null,"国際線","国内線","計",null,"国 際 線",null,null,null,"国 内 線",null,"合 計","ジェット燃料","その他燃料","合計"]
[null,null,"月別",null,null,null,"乗 客","降 客","通過客","小 計","乗 客","降 客","小 計"]
[]
[null,null,"1月",0,207,{"$f":"SUM(D3841:E3841)","v":207},0,0,0,{"$f":"SUM(G3841:I3841)","v":0},7848,7024,{"$f":"SUM(K3841:L3841)","v":14872},{"$f":"J3841+M3841","v":14872},42,0,{"$f":"SUM(O3841:P3841)","v":42}]
[null,null,"2月",0,219,{"$f":"SUM(D3842:E3842)","v":219},0,0,0,{"$f":"SUM(G3842:I3842)","v":0},6330,6482,{"$f":"SUM(K3842:L3842)","v":12812},{"$f":"J3842+M3842","v":12812},41,0,{"$f":"SUM(O3842:P3842)","v":41}]
[null,null,"3月",0,210,210,0,0,0,0,7401,6691,14092,14092,41,0,41]
[null,null,"4月",0,191,191,0,0,0,0,5780,5917,11697,11697,51,0,51]
[null,null,"5月",0,194,194,0,0,0,0,6927,6355,13282,13282,39,0,39]
[null,null,"6月",0,200,200,0,0,0,0,6833,6835,13668,13668,73,0,73]
[null,null,"7月",0,212,212,0,0,0,0,7457,7247,14704,14704,64,0,64]
[null,null,"8月",0,209,209,0,0,0,0,9499,9219,18718,18718,18,0,18]
[null,null,"9月",0,189,189,0,0,0,0,6746,6399,13145,13145,31,0,31]
[null,null,"10月",0,203,203,0,0,0,0,7289,7350,14639,14639,49,0,49]
[null,null,"11月",0,207,207,0,0,0,0,7130,7238,14368,14368,50,0,50]
[null,null,"12月",0,213,213,0,0,0,0,6869,7392,14261,14261,59,0,59]
[]
[null,"徳之島暦１","暦年 計",{"$f":"SUM(D3841:D3852)","v":0},{"$f":"SUM(E3841:E3852)","v":2454},{"$f":"SUM(F3841:F3852)","v":2454},{"$f":"SUM(G3841:G3852)","v":0},{"$f":"SUM(H3841:H3852)","v":0},0,0,86109,84149,170258,170258,558,{"$f":"SUM(P3841:P3852)","v":0},{"$f":"SUM(Q3841:Q3852)","v":558}]
[]
[null,null,"1月",0,204,{"$f":"SUM(D3856:E3856)","v":204},0,0,0,{"$f":"SUM(G3856:I3856)","v":0},7494,6726,{"$f":"SUM(K3856:L3856)","v":14220},{"$f":"J3856+M3856","v":14220},54,0,{"$f":"SUM(O3856:P3856)","v":54}]
[null,null,"2月",0,183,{"$f":"SUM(D3857:E3857)","v":183},0,0,0,{"$f":"SUM(G3857:I3857)","v":0},6197,6368,{"$f":"SUM(K3857:L3857)","v":12565},{"$f":"J3857+M3857","v":12565},37,0,{"$f":"SUM(O3857:P3857)","v":37}]
[null,null,"3月",0,212,{"$f":"SUM(D3858:E3858)","v":212},0,0,0,{"$f":"SUM(G3858:I3858)","v":0},7668,7161,{"$f":"SUM(K3858:L3858)","v":14829},{"$f":"J3858+M3858","v":14829},49,0,{"$f":"SUM(O3858:P3858)","v":49}]
[]
[null,"徳之島度１","年度計",{"$f":"SUM(D3844:D3852,D3856:D3858)","v":0},{"$f":"SUM(E3844:E3852,E3856:E3858)","v":2417},{"$f":"SUM(F3844:F3852,F3856:F3858)","v":2417},{"$f":"SUM(G3844:G3852,G3856:G3858)","v":0},0,0,0,85889,84207,170096,170096,574,0,{"$f":"SUM(Q3844:Q3852,Q3856:Q3858)","v":574}]
[]
[]
[]
[null,null,"項目",null,null,null,"貨 物 取 扱 量 （トン）",null,null,null,null,null,null,"郵 便 取 扱 量 （kg）"]
[null,null,null,null,"国 際 線",null,null,"国 内 線",null,"合計",null,"国 際 線",null,null,"国 内 線",null,"合 計"]
[null,null,"月別","積","卸","小 計","積","卸","小 計",null,"積","卸","小 計","積","卸","小 計"]
[]
[null,null,"1月",0,0,{"$f":"SUM(D3868:E3868)","v":0},2,17,{"$f":"SUM(G3868:H3868)","v":19},{"$f":"F3868+I3868","v":19},0,0,{"$f":"SUM(K3868:L3868)","v":0},1809,3094,{"$f":"SUM(N3868:O3868)","v":4903},{"$f":"M3868+P3868","v":4903}]
[null,null,"2月",0,0,0,2,12,14,14,0,0,0,1455,2949,4404,4404]
[null,null,"3月",0,0,0,2,14,16,16,0,0,0,1636,3098,4734,4734]
[null,null,"4月",0,0,0,2,13,15,15,0,0,0,1827,3013,4840,4840]
[null,null,"5月",0,0,0,3,11,14,14,0,0,0,1473,2860,4333,4333]
[null,null,"6月",0,0,0,2,13,15,15,0,0,0,1656,3133,4789,4789]
[null,null,"7月",0,0,0,2,14,16,16,0,0,0,1555,2954,4509,4509]
[null,null,"8月",0,0,0,2,16,18,18,0,0,0,1442,2620,4062,4062]
[null,null,"9月",0,0,0,2,20,22,22,0,0,0,1721,3022,4743,4743]
[null,null,"10月",0,0,0,2,14,16,16,0,0,0,1705,2985,4690,4690]
[null,null,"11月",0,0,0,2,14,16,16,0,0,0,1715,2604,4319,4319]
[null,null,"12月",0,0,0,2,15,17,17,0,0,0,1907,3170,5077,5077]
[]
[null,"徳之島暦２","暦年 計",{"$f":"SUM(D3868:D3880)","v":0},0,0,25,173,198,198,0,0,{"$f":"SUM(M3868:M3880)","v":0},{"$f":"SUM(N3868:N3880)","v":19901},{"$f":"SUM(O3868:O3880)","v":35502},{"$f":"SUM(P3868:P3880)","v":55403},{"$f":"SUM(Q3868:Q3880)","v":55403}]
[]
[null,null,"1月",0,0,{"$f":"SUM(D3883:E3883)","v":0},2,11,{"$f":"SUM(G3883:H3883)","v":13},{"$f":"F3883+I3883","v":13},0,0,{"$f":"SUM(K3883:L3883)","v":0},1637,2729,{"$f":"SUM(N3883:O3883)","v":4366},{"$f":"M3883+P3883","v":4366}]
[null,null,"2月",0,0,{"$f":"SUM(D3884:E3884)","v":0},1,13,{"$f":"SUM(G3884:H3884)","v":14},{"$f":"F3884+I3884","v":14},0,0,{"$f":"SUM(K3884:L3884)","v":0},1481,2596,{"$f":"SUM(N3884:O3884)","v":4077},{"$f":"M3884+P3884","v":4077}]
[null,null,"3月",0,0,{"$f":"SUM(D3885:E3885)","v":0},2,13,{"$f":"SUM(G3885:H3885)","v":15},{"$f":"F3885+I3885","v":15},0,0,{"$f":"SUM(K3885:L3885)","v":0},1631,2748,{"$f":"SUM(N3885:O3885)","v":4379},{"$f":"M3885+P3885","v":4379}]
[]
[null,"徳之島度２","年度計",{"$f":"SUM(D3871:D3879,D3883:D3885)","v":0},{"$f":"SUM(E3871:E3879,E3883:E3885)","v":0},{"$f":"SUM(F3871:F3879,F3883:F3885)","v":0},{"$f":"SUM(G3871:G3879,G3883:G3885)","v":24},167,191,191,0,0,{"$f":"SUM(M3871:M3879,M3883:M3885)","v":0},{"$f":"SUM(N3871:N3879,N3883:N3885)","v":19750},{"$f":"SUM(O3871:O3879,O3883:O3885)","v":34434},{"$f":"SUM(P3871:P3879,P3883:P3885)","v":54184},{"$f":"SUM(Q3871:Q3879,Q3883:Q3885)","v":54184}]
[]
[null,null,{"$f":"C3835","v":"平　成　２　８　年　空　港　管　理　状　況　調　書"}]
[null,null,"空港名 ：","沖永良部              （地方管理）"]
[null,null,"項目",null,"着 陸 回 数 （回）",null,"乗   降   客   数   （人）",null,null,null,null,null,null,null,"航空燃料供給量　（ＫＬ）"]
[null,null,null,"国際線","国内線","計",null,"国 際 線",null,null,null,"国 内 線",null,"合 計","ジェット燃料","その他燃料","合計"]
[null,null,"月別",null,null,null,"乗 客","降 客","通過客","小 計","乗 客","降 客","小 計"]
[]
[null,null,"1月",0,155,{"$f":"SUM(D3895:E3895)","v":155},0,0,0,{"$f":"SUM(G3895:I3895)","v":0},4330,4011,{"$f":"SUM(K3895:L3895)","v":8341},{"$f":"J3895+M3895","v":8341},40,0,{"$f":"SUM(O3895:P3895)","v":40}]
[null,null,"2月",0,146,{"$f":"SUM(D3896:E3896)","v":146},0,0,0,{"$f":"SUM(G3896:I3896)","v":0},4185,4122,{"$f":"SUM(K3896:L3896)","v":8307},{"$f":"J3896+M3896","v":8307},44,0,{"$f":"SUM(O3896:P3896)","v":44}]
[null,null,"3月",0,151,151,0,0,0,0,4157,3962,8119,8119,32,0,32]
[null,null,"4月",0,137,137,0,0,0,0,{"$f":"[2]沖永良部!$DC$30","v":3322},{"$f":"[2]沖永良部!$DC$31","v":3222},6544,6544,38,0,38]
[null,null,"5月",0,147,147,0,0,0,0,3939,4056,7995,7995,38,0,38]
[null,null,"6月",0,155,155,0,0,0,0,3766,3759,7525,7525,54,0,54]
[null,null,"7月",0,166,166,0,0,0,0,4326,4232,8558,8558,62,0,62]
[null,null,"8月",0,159,159,0,0,0,0,5424,5398,10822,10822,53,0,53]
[null,null,"9月",0,149,149,0,0,0,0,4808,4049,8857,8857,27,0,27]
[null,null,"10月",0,152,152,0,0,0,0,4308,4045,8353,8353,36,0,36]
[null,null,"11月",0,148,148,0,0,0,0,3950,3961,7911,7911,35,0,35]
[null,null,"12月",0,156,156,0,0,0,0,3692,3777,7469,7469,33,0,33]
[]
[null,"沖永良部暦１","暦年 計",{"$f":"SUM(D3895:D3906)","v":0},{"$f":"SUM(E3895:E3906)","v":1821},{"$f":"SUM(F3895:F3906)","v":1821},{"$f":"SUM(G3895:G3906)","v":0},{"$f":"SUM(H3895:H3906)","v":0},0,0,50207,48594,98801,98801,492,{"$f":"SUM(P3895:P3906)","v":0},{"$f":"SUM(Q3895:Q3906)","v":492}]
[]
[null,null,"1月",0,133,{"$f":"SUM(D3910:E3910)","v":133},0,0,0,{"$f":"SUM(G3910:I3910)","v":0},4057,3912,{"$f":"SUM(K3910:L3910)","v":7969},{"$f":"J3910+M3910","v":7969},32,0,{"$f":"SUM(O3910:P3910)","v":32}]
[null,null,"2月",0,118,{"$f":"SUM(D3911:E3911)","v":118},0,0,0,{"$f":"SUM(G3911:I3911)","v":0},3969,3946,{"$f":"SUM(K3911:L3911)","v":7915},{"$f":"J3911+M3911","v":7915},27,0,{"$f":"SUM(O3911:P3911)","v":27}]
[null,null,"3月",0,148,{"$f":"SUM(D3912:E3912)","v":148},0,0,0,{"$f":"SUM(G3912:I3912)","v":0},4540,4411,{"$f":"SUM(K3912:L3912)","v":8951},{"$f":"J3912+M3912","v":8951},41,0,{"$f":"SUM(O3912:P3912)","v":41}]
[]
[null,"沖永良部度１","年度計",{"$f":"SUM(D3898:D3906,D3910:D3912)","v":0},{"$f":"SUM(E3898:E3906,E3910:E3912)","v":1768},{"$f":"SUM(F3898:F3906,F3910:F3912)","v":1768},{"$f":"SUM(G3898:G3906,G3910:G3912)","v":0},0,0,0,50101,48768,98869,98869,476,0,{"$f":"SUM(Q3898:Q3906,Q3910:Q3912)","v":476}]
[]
[]
[]
[null,null,"項目",null,null,null,"貨 物 取 扱 量 （トン）",null,null,null,null,null,null,"郵 便 取 扱 量 （kg）"]
[null,null,null,null,"国 際 線",null,null,"国 内 線",null,"合計",null,"国 際 線",null,null,"国 内 線",null,"合 計"]
[null,null,"月別","積","卸","小 計","積","卸","小 計",null,"積","卸","小 計","積","卸","小 計"]
[]
[null,null,"1月",0,0,{"$f":"SUM(D3922:E3922)","v":0},2,9,{"$f":"SUM(G3922:H3922)","v":11},{"$f":"F3922+I3922","v":11},0,0,{"$f":"SUM(K3922:L3922)","v":0},1430,1995,{"$f":"SUM(N3922:O3922)","v":3425},{"$f":"M3922+P3922","v":3425}]
[null,null,"2月",0,0,0,2,10,12,12,0,0,0,1098,1962,3060,3060]
[null,null,"3月",0,0,0,2,10,12,12,0,0,0,1233,2433,3666,3666]
[null,null,"4月",0,0,0,1,8,{"$f":"SUM(G3925:H3925)","v":9},9,0,0,0,{"$f":"[2]沖永良部!$DC$50","v":1227},1802,3029,3029]
[null,null,"5月",0,0,0,1,8,9,9,0,0,0,{"$f":"[2]沖永良部!$DD$50","v":1084},1914,2998,2998]
[null,null,"6月",0,0,0,1,8,9,9,0,0,0,{"$f":"[2]沖永良部!$DE$50","v":1205},2143,3348,3348]
[null,null,"7月",0,0,0,1,10,11,11,0,0,0,{"$f":"[2]沖永良部!$DF$50","v":1250},2036,3286,3286]
[null,null,"8月",0,0,0,1,11,12,12,0,0,0,{"$f":"[2]沖永良部!$DG$50","v":1237},1757,2994,2994]
[null,null,"9月",0,0,0,2,13,15,15,0,0,0,{"$f":"[2]沖永良部!$DH$50","v":1306},2022,3328,3328]
[null,null,"10月",0,0,0,2,10,12,12,0,0,0,{"$f":"[2]沖永良部!$DI$50","v":1347},1887,3234,3234]
[null,null,"11月",0,0,0,1,8,9,9,0,0,0,{"$f":"[2]沖永良部!$DJ$50","v":1306},1723,3029,3029]
[null,null,"12月",0,0,0,1,10,11,11,0,0,0,{"$f":"[2]沖永良部!$DK$50","v":1564},2012,3576,3576]
[]
[null,"沖永良部暦２","暦年 計",{"$f":"SUM(D3922:D3934)","v":0},0,0,17,115,132,132,0,0,{"$f":"SUM(M3922:M3934)","v":0},{"$f":"SUM(N3922:N3934)","v":15287},{"$f":"SUM(O3922:O3934)","v":23686},{"$f":"SUM(P3922:P3934)","v":38973},{"$f":"SUM(Q3922:Q3934)","v":38973}]
[]
[null,null,"1月",0,0,{"$f":"SUM(D3937:E3937)","v":0},1,9,{"$f":"SUM(G3937:H3937)","v":10},{"$f":"F3937+I3937","v":10},0,0,{"$f":"SUM(K3937:L3937)","v":0},{"$f":"[2]沖永良部!$DM$50","v":1255},1767,3022,{"$f":"M3937+P3937","v":3022}]
[null,null,"2月",0,0,{"$f":"SUM(D3938:E3938)","v":0},1,8,{"$f":"SUM(G3938:H3938)","v":9},{"$f":"F3938+I3938","v":9},0,0,{"$f":"SUM(K3938:L3938)","v":0},{"$f":"[2]沖永良部!$DN$50","v":1117},1653,2770,{"$f":"M3938+P3938","v":2770}]
[null,null,"3月",0,0,{"$f":"SUM(D3939:E3939)","v":0},1,8,{"$f":"SUM(G3939:H3939)","v":9},{"$f":"F3939+I3939","v":9},0,0,{"$f":"SUM(K3939:L3939)","v":0},{"$f":"[2]沖永良部!$DO$50","v":1388},1979,3367,{"$f":"M3939+P3939","v":3367}]
[]
[null,"沖永良部度２","年度計",{"$f":"SUM(D3925:D3933,D3937:D3939)","v":0},{"$f":"SUM(E3925:E3933,E3937:E3939)","v":0},{"$f":"SUM(F3925:F3933,F3937:F3939)","v":0},{"$f":"SUM(G3925:G3933,G3937:G3939)","v":14},111,125,125,0,0,{"$f":"SUM(M3925:M3933,M3937:M3939)","v":0},{"$f":"SUM(N3925:N3933,N3937:N3939)","v":15286},{"$f":"SUM(O3925:O3933,O3937:O3939)","v":22695},{"$f":"SUM(P3925:P3933,P3937:P3939)","v":37981},{"$f":"SUM(Q3925:Q3933,Q3937:Q3939)","v":37981}]
[]
[null,null,{"$f":"C3889","v":"平　成　２　８　年　空　港　管　理　状　況　調　書"}]
[null,null,"空港名 ：","与    論              （地方管理）"]
[null,null,"項目",null,"着 陸 回 数 （回）",null,"乗   降   客   数   （人）",null,null,null,null,null,null,null,"航空燃料供給量　（ＫＬ）"]
[null,null,null,"国際線","国内線","計",null,"国 際 線",null,null,null,"国 内 線",null,"合 計","ジェット燃料","その他燃料","合計"]
[null,null,"月別",null,null,null,"乗 客","降 客","通過客","小 計","乗 客","降 客","小 計"]
[]
[null,null,"1月",0,106,{"$f":"SUM(D3949:E3949)","v":106},0,0,0,{"$f":"SUM(G3949:I3949)","v":0},2730,2580,{"$f":"SUM(K3949:L3949)","v":5310},{"$f":"J3949+M3949","v":5310},21,0,{"$f":"SUM(O3949:P3949)","v":21}]
[null,null,"2月",0,116,{"$f":"SUM(D3950:E3950)","v":116},0,0,0,{"$f":"SUM(G3950:I3950)","v":0},2500,2617,{"$f":"SUM(K3950:L3950)","v":5117},{"$f":"J3950+M3950","v":5117},20,0,{"$f":"SUM(O3950:P3950)","v":20}]
[null,null,"3月",0,131,131,0,0,0,0,3321,3454,6775,6775,29,0,29]
[null,null,"4月",0,114,114,0,0,0,0,2688,2831,5519,5519,22,0,22]
[null,null,"5月",0,106,106,0,0,0,0,3315,3165,6480,6480,23,0,23]
[null,null,"6月",0,114,114,0,0,0,0,3476,3605,7081,7081,37,0,37]
[null,null,"7月",0,149,149,0,0,0,0,4355,4480,8835,8835,41,0,41]
[null,null,"8月",0,145,145,0,0,0,0,5588,5566,11154,11154,44,0,44]
[null,null,"9月",0,132,132,0,0,0,0,4919,4846,9765,9765,31,0,31]
[null,null,"10月",0,109,109,0,0,0,0,3614,3563,7177,7177,26,0,26]
[null,null,"11月",0,114,114,0,0,0,0,3168,2982,6150,6150,25,0,25]
[null,null,"12月",0,130,130,0,0,0,0,2517,2748,5265,5265,31,0,31]
[]
[null,"与論暦１","暦年 計",{"$f":"SUM(D3949:D3960)","v":0},{"$f":"SUM(E3949:E3960)","v":1466},{"$f":"SUM(F3949:F3960)","v":1466},{"$f":"SUM(G3949:G3960)","v":0},{"$f":"SUM(H3949:H3960)","v":0},0,0,42191,42437,84628,84628,350,{"$f":"SUM(P3949:P3960)","v":0},{"$f":"SUM(Q3949:Q3960)","v":350}]
[]
[null,null,"1月",0,114,{"$f":"SUM(D3964:E3964)","v":114},0,0,0,{"$f":"SUM(G3964:I3964)","v":0},2758,2615,{"$f":"SUM(K3964:L3964)","v":5373},{"$f":"J3964+M3964","v":5373},27,0,{"$f":"SUM(O3964:P3964)","v":27}]
[null,null,"2月",0,123,{"$f":"SUM(D3965:E3965)","v":123},0,0,0,{"$f":"SUM(G3965:I3965)","v":0},2660,2948,{"$f":"SUM(K3965:L3965)","v":5608},{"$f":"J3965+M3965","v":5608},30,0,{"$f":"SUM(O3965:P3965)","v":30}]
[null,null,"3月",0,148,{"$f":"SUM(D3966:E3966)","v":148},0,0,0,{"$f":"SUM(G3966:I3966)","v":0},3654,3832,{"$f":"SUM(K3966:L3966)","v":7486},{"$f":"J3966+M3966","v":7486},35,0,{"$f":"SUM(O3966:P3966)","v":35}]
[]
[null,"与論度１","年度計",{"$f":"SUM(D3952:D3960,D3964:D3966)","v":0},{"$f":"SUM(E3952:E3960,E3964:E3966)","v":1498},{"$f":"SUM(F3952:F3960,F3964:F3966)","v":1498},{"$f":"SUM(G3952:G3960,G3964:G3966)","v":0},0,0,0,42712,43181,85893,85893,372,0,{"$f":"SUM(Q3952:Q3960,Q3964:Q3966)","v":372}]
[]
[]
[]
[null,null,"項目",null,null,null,"貨 物 取 扱 量 （トン）",null,null,null,null,null,null,"郵 便 取 扱 量 （kg）"]
[null,null,null,null,"国 際 線",null,null,"国 内 線",null,"合計",null,"国 際 線",null,null,"国 内 線",null,"合 計"]
[null,null,"月別","積","卸","小 計","積","卸","小 計",null,"積","卸","小 計","積","卸","小 計"]
[]
[null,null,"1月",0,0,{"$f":"SUM(D3976:E3976)","v":0},1,4,{"$f":"SUM(G3976:H3976)","v":5},{"$f":"F3976+I3976","v":5},0,0,{"$f":"SUM(K3976:L3976)","v":0},683,765,{"$f":"SUM(N3976:O3976)","v":1448},{"$f":"M3976+P3976","v":1448}]
[null,null,"2月",0,0,0,1,4,5,5,0,0,0,611,694,1305,1305]
[null,null,"3月",0,0,0,1,4,5,5,0,0,0,806,882,1688,1688]
[null,null,"4月",0,0,0,1,3,4,4,0,0,0,607,750,1357,1357]
[null,null,"5月",0,0,0,0,3,3,3,0,0,0,517,753,1270,1270]
[null,null,"6月",0,0,0,1,4,5,5,0,0,0,467,760,1227,1227]
[null,null,"7月",0,0,0,0,4,4,4,0,0,0,510,747,1257,1257]
[null,null,"8月",0,0,0,0,4,4,4,0,0,0,453,620,1073,1073]
[null,null,"9月",0,0,0,1,5,6,6,0,0,0,469,600,1069,1069]
[null,null,"10月",0,0,0,0,4,4,4,0,0,0,524,608,1132,1132]
[null,null,"11月",0,0,0,1,4,5,5,0,0,0,553,606,1159,1159]
[null,null,"12月",0,0,0,0,4,4,4,0,0,0,638,763,1401,1401]
[]
[null,"与論暦２","暦年 計",{"$f":"SUM(D3976:D3988)","v":0},0,0,7,47,54,54,0,0,{"$f":"SUM(M3976:M3988)","v":0},{"$f":"SUM(N3976:N3988)","v":6838},{"$f":"SUM(O3976:O3988)","v":8548},{"$f":"SUM(P3976:P3988)","v":15386},{"$f":"SUM(Q3976:Q3988)","v":15386}]
[]
[null,null,"1月",0,0,{"$f":"SUM(D3991:E3991)","v":0},0,3,{"$f":"SUM(G3991:H3991)","v":3},{"$f":"F3991+I3991","v":3},0,0,{"$f":"SUM(K3991:L3991)","v":0},523,709,{"$f":"SUM(N3991:O3991)","v":1232},{"$f":"M3991+P3991","v":1232}]
[null,null,"2月",0,0,{"$f":"SUM(D3992:E3992)","v":0},0,4,{"$f":"SUM(G3992:H3992)","v":4},{"$f":"F3992+I3992","v":4},0,0,{"$f":"SUM(K3992:L3992)","v":0},533,636,{"$f":"SUM(N3992:O3992)","v":1169},{"$f":"M3992+P3992","v":1169}]
[null,null,"3月",0,0,{"$f":"SUM(D3993:E3993)","v":0},0,3,{"$f":"SUM(G3993:H3993)","v":3},{"$f":"F3993+I3993","v":3},0,0,{"$f":"SUM(K3993:L3993)","v":0},706,718,{"$f":"SUM(N3993:O3993)","v":1424},{"$f":"M3993+P3993","v":1424}]
[]
[null,"与論度２","年度計",{"$f":"SUM(D3979:D3987,D3991:D3993)","v":0},{"$f":"SUM(E3979:E3987,E3991:E3993)","v":0},{"$f":"SUM(F3979:F3987,F3991:F3993)","v":0},{"$f":"SUM(G3979:G3987,G3991:G3993)","v":4},45,49,49,0,0,{"$f":"SUM(M3979:M3987,M3991:M3993)","v":0},{"$f":"SUM(N3979:N3987,N3991:N3993)","v":6500},{"$f":"SUM(O3979:O3987,O3991:O3993)","v":8270},{"$f":"SUM(P3979:P3987,P3991:P3993)","v":14770},{"$f":"SUM(Q3979:Q3987,Q3991:Q3993)","v":14770}]
[]
[null,null,{"$f":"C3943","v":"平　成　２　８　年　空　港　管　理　状　況　調　書"}]
[null,null,"空港名 ：","粟    国              （地方管理）"]
[null,null,"項目",null,"着 陸 回 数 （回）",null,"乗   降   客   数   （人）",null,null,null,null,null,null,null,"航空燃料供給量　（ＫＬ）"]
[null,null,null,"国際線","国内線","計",null,"国 際 線",null,null,null,"国 内 線",null,"合 計","ジェット燃料","その他燃料","合計"]
[null,null,"月別",null,null,null,"乗 客","降 客","通過客","小 計","乗 客","降 客","小 計"]
[]
[null,null,"1月",0,18,{"$f":"SUM(D4003:E4003)","v":18},0,0,0,{"$f":"SUM(G4003:I4003)","v":0},41,26,{"$f":"SUM(K4003:L4003)","v":67},{"$f":"J4003+M4003","v":67},0,0,{"$f":"SUM(O4003:P4003)","v":0}]
[null,null,"2月",0,38,{"$f":"SUM(D4004:E4004)","v":38},0,0,0,{"$f":"SUM(G4004:I4004)","v":0},100,94,{"$f":"SUM(K4004:L4004)","v":194},{"$f":"J4004+M4004","v":194},0,0,{"$f":"SUM(O4004:P4004)","v":0}]
[null,null,"3月",0,18,18,0,0,0,0,45,40,85,85,0,0,0]
[null,null,"4月",0,13,13,0,0,0,0,13,19,32,32,0,0,0]
[null,null,"5月",0,24,24,0,0,0,0,52,60,112,112,0,0,0]
[null,null,"6月",0,18,18,0,0,0,0,34,27,61,61,0,0,0]
[null,null,"7月",0,34,34,0,0,0,0,70,48,118,118,0,0,0]
[null,null,"8月",0,37,37,0,0,0,0,94,43,137,137,0,0,0]
[null,null,"9月",0,31,31,0,0,0,0,73,86,159,159,0,0,0]
[null,null,"10月",0,32,32,0,0,0,0,83,46,129,129,0,0,0]
[null,null,"11月",0,46,46,0,0,0,0,116,109,225,225,0,0,0]
[null,null,"12月",0,42,42,0,0,0,0,110,76,186,186,0,0,0]
[]
[null,"粟国暦１","暦年 計",{"$f":"SUM(D4003:D4014)","v":0},{"$f":"SUM(E4003:E4014)","v":351},{"$f":"SUM(F4003:F4014)","v":351},{"$f":"SUM(G4003:G4014)","v":0},{"$f":"SUM(H4003:H4014)","v":0},0,0,831,674,1505,1505,0,{"$f":"SUM(P4003:P4014)","v":0},{"$f":"SUM(Q4003:Q4014)","v":0}]
[]
[null,null,"1月",0,58,{"$f":"SUM(D4018:E4018)","v":58},0,0,0,{"$f":"SUM(G4018:I4018)","v":0},122,126,{"$f":"SUM(K4018:L4018)","v":248},{"$f":"J4018+M4018","v":248},0,0,{"$f":"SUM(O4018:P4018)","v":0}]
[null,null,"2月",0,32,{"$f":"SUM(D4019:E4019)","v":32},0,0,0,{"$f":"SUM(G4019:I4019)","v":0},72,56,{"$f":"SUM(K4019:L4019)","v":128},{"$f":"J4019+M4019","v":128},0,0,{"$f":"SUM(O4019:P4019)","v":0}]
[null,null,"3月",0,15,{"$f":"SUM(D4020:E4020)","v":15},0,0,0,{"$f":"SUM(G4020:I4020)","v":0},41,41,{"$f":"SUM(K4020:L4020)","v":82},{"$f":"J4020+M4020","v":82},0,0,{"$f":"SUM(O4020:P4020)","v":0}]
[]
[null,"粟国度１","年度計",{"$f":"SUM(D4006:D4014,D4018:D4020)","v":0},{"$f":"SUM(E4006:E4014,E4018:E4020)","v":382},{"$f":"SUM(F4006:F4014,F4018:F4020)","v":382},{"$f":"SUM(G4006:G4014,G4018:G4020)","v":0},0,0,0,880,737,1617,1617,0,0,{"$f":"SUM(Q4006:Q4014,Q4018:Q4020)","v":0}]
[]
[]
[]
[null,null,"項目",null,null,null,"貨 物 取 扱 量 （トン）",null,null,null,null,null,null,"郵 便 取 扱 量 （kg）"]
[null,null,null,null,"国 際 線",null,null,"国 内 線",null,"合計",null,"国 際 線",null,null,"国 内 線",null,"合 計"]
[null,null,"月別","積","卸","小 計","積","卸","小 計",null,"積","卸","小 計","積","卸","小 計"]
[]
[null,null,"1月",0,0,{"$f":"SUM(D4030:E4030)","v":0},0,0,{"$f":"SUM(G4030:H4030)","v":0},{"$f":"F4030+I4030","v":0},0,0,{"$f":"SUM(K4030:L4030)","v":0},0,0,{"$f":"SUM(N4030:O4030)","v":0},{"$f":"M4030+P4030","v":0}]
[null,null,"2月",0,0,0,0,0,0,0,0,0,0,0,0,0,0]
[null,null,"3月",0,0,0,0,0,0,0,0,0,0,0,0,0,0]
[null,null,"4月",0,0,0,0,0,0,0,0,0,0,0,0,0,0]
[null,null,"5月",0,0,0,0,0,0,0,0,0,0,0,0,0,0]
[null,null,"6月",0,0,0,0,0,0,0,0,0,0,0,0,0,0]
[null,null,"7月",0,0,0,0,0,0,0,0,0,0,0,0,0,0]
[null,null,"8月",0,0,0,0,0,0,0,0,0,0,0,0,0,0]
[null,null,"9月",0,0,0,0,0,0,0,0,0,0,0,0,0,0]
[null,null,"10月",0,0,0,0,0,0,0,0,0,0,0,0,0,0]
[null,null,"11月",0,0,0,0,0,0,0,0,0,0,0,0,0,0]
[null,null,"12月",0,0,0,0,0,0,0,0,0,0,0,0,0,0]
[]
[null,"粟国暦２","暦年 計",{"$f":"SUM(D4030:D4042)","v":0},0,0,0,0,0,0,0,0,{"$f":"SUM(M4030:M4042)","v":0},{"$f":"SUM(N4030:N4042)","v":0},{"$f":"SUM(O4030:O4042)","v":0},{"$f":"SUM(P4030:P4042)","v":0},{"$f":"SUM(Q4030:Q4042)","v":0}]
[]
[null,null,"1月",0,0,{"$f":"SUM(D4045:E4045)","v":0},0,0,{"$f":"SUM(G4045:H4045)","v":0},{"$f":"F4045+I4045","v":0},0,0,{"$f":"SUM(K4045:L4045)","v":0},0,0,{"$f":"SUM(N4045:O4045)","v":0},{"$f":"M4045+P4045","v":0}]
[null,null,"2月",0,0,{"$f":"SUM(D4046:E4046)","v":0},0,0,{"$f":"SUM(G4046:H4046)","v":0},{"$f":"F4046+I4046","v":0},0,0,{"$f":"SUM(K4046:L4046)","v":0},0,0,{"$f":"SUM(N4046:O4046)","v":0},{"$f":"M4046+P4046","v":0}]
[null,null,"3月",0,0,{"$f":"SUM(D4047:E4047)","v":0},0,0,{"$f":"SUM(G4047:H4047)","v":0},{"$f":"F4047+I4047","v":0},0,0,{"$f":"SUM(K4047:L4047)","v":0},0,0,{"$f":"SUM(N4047:O4047)","v":0},{"$f":"M4047+P4047","v":0}]
[]
[null,"粟国度２","年度計",{"$f":"SUM(D4033:D4041,D4045:D4047)","v":0},{"$f":"SUM(E4033:E4041,E4045:E4047)","v":0},{"$f":"SUM(F4033:F4041,F4045:F4047)","v":0},{"$f":"SUM(G4033:G4041,G4045:G4047)","v":0},0,0,0,0,0,{"$f":"SUM(M4033:M4041,M4045:M4047)","v":0},{"$f":"SUM(N4033:N4041,N4045:N4047)","v":0},{"$f":"SUM(O4033:O4041,O4045:O4047)","v":0},{"$f":"SUM(P4033:P4041,P4045:P4047)","v":0},{"$f":"SUM(Q4033:Q4041,Q4045:Q4047)","v":0}]
[]
[null,null,{"$f":"C3997","v":"平　成　２　８　年　空　港　管　理　状　況　調　書"}]
[null,null,"空港名 ：","久 米 島              （地方管理）"]
[null,null,"項目",null,"着 陸 回 数 （回）",null,"乗   降   客   数   （人）",null,null,null,null,null,null,null,"航空燃料供給量　（ＫＬ）"]
[null,null,null,"国際線","国内線","計",null,"国 際 線",null,null,null,"国 内 線",null,"合 計","ジェット燃料","その他燃料","合計"]
[null,null,"月別",null,null,null,"乗 客","降 客","通過客","小 計","乗 客","降 客","小 計"]
[]
[null,null,"1月",0,233,{"$f":"SUM(D4057:E4057)","v":233},0,0,0,{"$f":"SUM(G4057:I4057)","v":0},9034,9231,{"$f":"SUM(K4057:L4057)","v":18265},{"$f":"J4057+M4057","v":18265},0,0,{"$f":"SUM(O4057:P4057)","v":0}]
[null,null,"2月",0,258,{"$f":"SUM(D4058:E4058)","v":258},0,0,0,{"$f":"SUM(G4058:I4058)","v":0},9944,9818,{"$f":"SUM(K4058:L4058)","v":19762},{"$f":"J4058+M4058","v":19762},0,0,{"$f":"SUM(O4058:P4058)","v":0}]
[null,null,"3月",0,275,275,0,0,0,0,10287,10120,20407,20407,0,0,0]
[null,null,"4月",0,240,240,0,0,0,0,9119,8978,18097,18097,0,0,0]
[null,null,"5月",0,226,226,0,0,0,0,9611,9285,18896,18896,0,0,0]
[null,null,"6月",0,222,222,0,0,0,0,10230,10537,20767,20767,0,0,0]
[null,null,"7月",0,243,243,0,0,0,0,11714,11656,23370,23370,0,0,0]
[null,null,"8月",0,261,261,0,0,0,0,15376,15367,30743,30743,0,0,0]
[null,null,"9月",0,212,212,0,0,0,0,11363,11308,22671,22671,0,0,0]
[null,null,"10月",0,229,229,0,0,0,0,11364,11364,22728,22728,0,0,0]
[null,null,"11月",0,236,236,0,0,0,0,9919,9904,19823,19823,0,0,0]
[null,null,"12月",0,240,240,0,0,0,0,9736,9684,19420,19420,0,0,0]
[]
[null,"久米島暦１","暦年 計",{"$f":"SUM(D4057:D4068)","v":0},{"$f":"SUM(E4057:E4068)","v":2875},{"$f":"SUM(F4057:F4068)","v":2875},{"$f":"SUM(G4057:G4068)","v":0},{"$f":"SUM(H4057:H4068)","v":0},0,0,127697,127252,254949,254949,0,{"$f":"SUM(P4057:P4068)","v":0},{"$f":"SUM(Q4057:Q4068)","v":0}]
[]
[null,null,"1月",0,229,{"$f":"SUM(D4072:E4072)","v":229},0,0,0,{"$f":"SUM(G4072:I4072)","v":0},9906,10011,{"$f":"SUM(K4072:L4072)","v":19917},{"$f":"J4072+M4072","v":19917},0,0,{"$f":"SUM(O4072:P4072)","v":0}]
[null,null,"2月",0,217,{"$f":"SUM(D4073:E4073)","v":217},0,0,0,{"$f":"SUM(G4073:I4073)","v":0},9819,9849,{"$f":"SUM(K4073:L4073)","v":19668},{"$f":"J4073+M4073","v":19668},0,0,{"$f":"SUM(O4073:P4073)","v":0}]
[null,null,"3月",0,222,{"$f":"SUM(D4074:E4074)","v":222},0,0,0,{"$f":"SUM(G4074:I4074)","v":0},11151,10896,{"$f":"SUM(K4074:L4074)","v":22047},{"$f":"J4074+M4074","v":22047},0,0,{"$f":"SUM(O4074:P4074)","v":0}]
[]
[null,"久米島度１","年度計",{"$f":"SUM(D4060:D4068,D4072:D4074)","v":0},{"$f":"SUM(E4060:E4068,E4072:E4074)","v":2777},{"$f":"SUM(F4060:F4068,F4072:F4074)","v":2777},{"$f":"SUM(G4060:G4068,G4072:G4074)","v":0},0,0,0,129308,128839,258147,258147,0,0,{"$f":"SUM(Q4060:Q4068,Q4072:Q4074)","v":0}]
[]
[]
[]
[null,null,"項目",null,null,null,"貨 物 取 扱 量 （トン）",null,null,null,null,null,null,"郵 便 取 扱 量 （kg）"]
[null,null,null,null,"国 際 線",null,null,"国 内 線",null,"合計",null,"国 際 線",null,null,"国 内 線",null,"合 計"]
[null,null,"月別","積","卸","小 計","積","卸","小 計",null,"積","卸","小 計","積","卸","小 計"]
[]
[null,null,"1月",0,0,{"$f":"SUM(D4084:E4084)","v":0},60,42,{"$f":"SUM(G4084:H4084)","v":102},{"$f":"F4084+I4084","v":102},0,0,{"$f":"SUM(K4084:L4084)","v":0},1313,4508,{"$f":"SUM(N4084:O4084)","v":5821},{"$f":"M4084+P4084","v":5821}]
[null,null,"2月",0,0,0,68,32,100,100,0,0,0,1029,3142,4171,4171]
[null,null,"3月",0,0,0,77,34,111,111,0,0,0,1261,4253,5514,5514]
[null,null,"4月",0,0,0,86,32,118,118,0,0,0,1269,4005,5274,5274]
[null,null,"5月",0,0,0,113,36,149,149,0,0,0,1482,3934,5416,5416]
[null,null,"6月",0,0,0,89,41,130,130,0,0,0,1347,3518,4865,4865]
[null,null,"7月",0,0,0,85,47,132,132,0,0,0,1130,3329,4459,4459]
[null,null,"8月",0,0,0,70,47,117,117,0,0,0,1197,3426,4623,4623]
[null,null,"9月",0,0,0,50,44,94,94,0,0,0,1182,3486,4668,4668]
[null,null,"10月",0,0,0,49,47,96,96,0,0,0,1194,4059,5253,5253]
[null,null,"11月",0,0,0,55,53,108,108,0,0,0,1158,3360,4518,4518]
[null,null,"12月",0,0,0,103,68,171,171,0,0,0,1291,3910,5201,5201]
[]
[null,"久米島暦２","暦年 計",{"$f":"SUM(D4084:D4096)","v":0},0,0,905,523,1428,1428,0,0,{"$f":"SUM(M4084:M4096)","v":0},{"$f":"SUM(N4084:N4096)","v":14853},{"$f":"SUM(O4084:O4096)","v":44930},{"$f":"SUM(P4084:P4096)","v":59783},{"$f":"SUM(Q4084:Q4096)","v":59783}]
[]
[null,null,"1月",0,0,{"$f":"SUM(D4099:E4099)","v":0},68,50,{"$f":"SUM(G4099:H4099)","v":118},{"$f":"F4099+I4099","v":118},0,0,{"$f":"SUM(K4099:L4099)","v":0},1323,3981,{"$f":"SUM(N4099:O4099)","v":5304},{"$f":"M4099+P4099","v":5304}]
[null,null,"2月",0,0,{"$f":"SUM(D4100:E4100)","v":0},78,57,{"$f":"SUM(G4100:H4100)","v":135},{"$f":"F4100+I4100","v":135},0,0,{"$f":"SUM(K4100:L4100)","v":0},1135,3391,{"$f":"SUM(N4100:O4100)","v":4526},{"$f":"M4100+P4100","v":4526}]
[null,null,"3月",0,0,{"$f":"SUM(D4101:E4101)","v":0},91,54,{"$f":"SUM(G4101:H4101)","v":145},{"$f":"F4101+I4101","v":145},0,0,{"$f":"SUM(K4101:L4101)","v":0},1540,3914,{"$f":"SUM(N4101:O4101)","v":5454},{"$f":"M4101+P4101","v":5454}]
[]
[null,"久米島度２","年度計",{"$f":"SUM(D4087:D4095,D4099:D4101)","v":0},{"$f":"SUM(E4087:E4095,E4099:E4101)","v":0},{"$f":"SUM(F4087:F4095,F4099:F4101)","v":0},{"$f":"SUM(G4087:G4095,G4099:G4101)","v":937},576,1513,1513,0,0,{"$f":"SUM(M4087:M4095,M4099:M4101)","v":0},{"$f":"SUM(N4087:N4095,N4099:N4101)","v":15248},{"$f":"SUM(O4087:O4095,O4099:O4101)","v":44313},{"$f":"SUM(P4087:P4095,P4099:P4101)","v":59561},{"$f":"SUM(Q4087:Q4095,Q4099:Q4101)","v":59561}]
[]
[null,null,{"$f":"C4051","v":"平　成　２　８　年　空　港　管　理　状　況　調　書"}]
[null,null,"空港名 ：","慶 良 間              （地方管理）"]
[null,null,"項目",null,"着 陸 回 数 （回）",null,"乗   降   客   数   （人）",null,null,null,null,null,null,null,"航空燃料供給量　（ＫＬ）"]
[null,null,null,"国際線","国内線","計",null,"国 際 線",null,null,null,"国 内 線",null,"合 計","ジェット燃料","その他燃料","合計"]
[null,null,"月別",null,null,null,"乗 客","降 客","通過客","小 計","乗 客","降 客","小 計"]
[]
[null,null,"1月",0,7,{"$f":"SUM(D4111:E4111)","v":7},0,0,0,{"$f":"SUM(G4111:I4111)","v":0},24,15,{"$f":"SUM(K4111:L4111)","v":39},{"$f":"J4111+M4111","v":39},0,0,{"$f":"SUM(O4111:P4111)","v":0}]
[null,null,"2月",0,10,{"$f":"SUM(D4112:E4112)","v":10},0,0,0,{"$f":"SUM(G4112:I4112)","v":0},28,20,{"$f":"SUM(K4112:L4112)","v":48},{"$f":"J4112+M4112","v":48},0,0,{"$f":"SUM(O4112:P4112)","v":0}]
[null,null,"3月",0,12,12,0,0,0,0,27,29,56,56,0,0,0]
[null,null,"4月",0,0,0,0,0,0,0,0,0,0,0,0,0,0]
[null,null,"5月",0,4,4,0,0,0,0,2,8,10,10,0,0,0]
[null,null,"6月",0,2,2,0,0,0,0,4,4,8,8,0,0,0]
[null,null,"7月",0,19,19,0,0,0,0,29,41,70,70,0,0,0]
[null,null,"8月",0,15,15,0,0,0,0,23,37,60,60,0,0,0]
[null,null,"9月",0,14,14,0,0,0,0,32,40,72,72,0,0,0]
[null,null,"10月",0,17,17,0,0,0,0,29,44,73,73,0,0,0]
[null,null,"11月",0,25,25,0,0,0,0,30,14,44,44,0,0,0]
[null,null,"12月",0,16,16,0,0,0,0,0,13,13,13,0,0,0]
[]
[null,"慶良間暦１","暦年 計",{"$f":"SUM(D4111:D4122)","v":0},{"$f":"SUM(E4111:E4122)","v":141},{"$f":"SUM(F4111:F4122)","v":141},{"$f":"SUM(G4111:G4122)","v":0},{"$f":"SUM(H4111:H4122)","v":0},0,0,228,265,493,493,0,{"$f":"SUM(P4111:P4122)","v":0},{"$f":"SUM(Q4111:Q4122)","v":0}]
[]
[null,null,"1月",0,6,{"$f":"SUM(D4126:E4126)","v":6},0,0,0,{"$f":"SUM(G4126:I4126)","v":0},19,0,{"$f":"SUM(K4126:L4126)","v":19},{"$f":"J4126+M4126","v":19},0,0,{"$f":"SUM(O4126:P4126)","v":0}]
[null,null,"2月",0,18,{"$f":"SUM(D4127:E4127)","v":18},0,0,0,{"$f":"SUM(G4127:I4127)","v":0},26,17,{"$f":"SUM(K4127:L4127)","v":43},{"$f":"J4127+M4127","v":43},0,0,{"$f":"SUM(O4127:P4127)","v":0}]
[null,null,"3月",0,15,{"$f":"SUM(D4128:E4128)","v":15},0,0,0,{"$f":"SUM(G4128:I4128)","v":0},26,32,{"$f":"SUM(K4128:L4128)","v":58},{"$f":"J4128+M4128","v":58},0,0,{"$f":"SUM(O4128:P4128)","v":0}]
[]
[null,"慶良間度１","年度計",{"$f":"SUM(D4114:D4122,D4126:D4128)","v":0},{"$f":"SUM(E4114:E4122,E4126:E4128)","v":151},{"$f":"SUM(F4114:F4122,F4126:F4128)","v":151},{"$f":"SUM(G4114:G4122,G4126:G4128)","v":0},0,0,0,220,250,470,470,0,0,{"$f":"SUM(Q4114:Q4122,Q4126:Q4128)","v":0}]
[]
[]
[]
[null,null,"項目",null,null,null,"貨 物 取 扱 量 （トン）",null,null,null,null,null,null,"郵 便 取 扱 量 （kg）"]
[null,null,null,null,"国 際 線",null,null,"国 内 線",null,"合計",null,"国 際 線",null,null,"国 内 線",null,"合 計"]
[null,null,"月別","積","卸","小 計","積","卸","小 計",null,"積","卸","小 計","積","卸","小 計"]
[]
[null,null,"1月",0,0,{"$f":"SUM(D4138:E4138)","v":0},0,0,{"$f":"SUM(G4138:H4138)","v":0},{"$f":"F4138+I4138","v":0},0,0,{"$f":"SUM(K4138:L4138)","v":0},0,0,{"$f":"SUM(N4138:O4138)","v":0},{"$f":"M4138+P4138","v":0}]
[null,null,"2月",0,0,0,0,0,0,0,0,0,0,0,0,0,0]
[null,null,"3月",0,0,0,0,0,0,0,0,0,0,0,0,0,0]
[null,null,"4月",0,0,0,0,0,0,0,0,0,0,0,0,0,0]
[null,null,"5月",0,0,0,0,0,0,0,0,0,0,0,0,0,0]
[null,null,"6月",0,0,0,0,0,0,0,0,0,0,0,0,0,0]
[null,null,"7月",0,0,0,0,0,0,0,0,0,0,0,0,0,0]
[null,null,"8月",0,0,0,0,0,0,0,0,0,0,0,0,0,0]
[null,null,"9月",0,0,0,0,0,0,0,0,0,0,0,0,0,0]
[null,null,"10月",0,0,0,0,0,0,0,0,0,0,0,0,0,0]
[null,null,"11月",0,0,0,0,0,0,0,0,0,0,0,0,0,0]
[null,null,"12月",0,0,0,0,0,0,0,0,0,0,0,0,0,0]
[]
[null,"慶良間暦２","暦年 計",{"$f":"SUM(D4138:D4150)","v":0},0,0,0,0,0,0,0,0,{"$f":"SUM(M4138:M4150)","v":0},{"$f":"SUM(N4138:N4150)","v":0},{"$f":"SUM(O4138:O4150)","v":0},{"$f":"SUM(P4138:P4150)","v":0},{"$f":"SUM(Q4138:Q4150)","v":0}]
[]
[null,null,"1月",0,0,{"$f":"SUM(D4153:E4153)","v":0},0,0,{"$f":"SUM(G4153:H4153)","v":0},{"$f":"F4153+I4153","v":0},0,0,{"$f":"SUM(K4153:L4153)","v":0},0,0,{"$f":"SUM(N4153:O4153)","v":0},{"$f":"M4153+P4153","v":0}]
[null,null,"2月",0,0,{"$f":"SUM(D4154:E4154)","v":0},0,0,{"$f":"SUM(G4154:H4154)","v":0},{"$f":"F4154+I4154","v":0},0,0,{"$f":"SUM(K4154:L4154)","v":0},0,0,{"$f":"SUM(N4154:O4154)","v":0},{"$f":"M4154+P4154","v":0}]
[null,null,"3月",0,0,{"$f":"SUM(D4155:E4155)","v":0},0,0,{"$f":"SUM(G4155:H4155)","v":0},{"$f":"F4155+I4155","v":0},0,0,{"$f":"SUM(K4155:L4155)","v":0},0,0,{"$f":"SUM(N4155:O4155)","v":0},{"$f":"M4155+P4155","v":0}]
[]
[null,"慶良間度２","年度計",{"$f":"SUM(D4141:D4149,D4153:D4155)","v":0},{"$f":"SUM(E4141:E4149,E4153:E4155)","v":0},{"$f":"SUM(F4141:F4149,F4153:F4155)","v":0},{"$f":"SUM(G4141:G4149,G4153:G4155)","v":0},0,0,0,0,0,{"$f":"SUM(M4141:M4149,M4153:M4155)","v":0},{"$f":"SUM(N4141:N4149,N4153:N4155)","v":0},{"$f":"SUM(O4141:O4149,O4153:O4155)","v":0},{"$f":"SUM(P4141:P4149,P4153:P4155)","v":0},{"$f":"SUM(Q4141:Q4149,Q4153:Q4155)","v":0}]
[]
[null,null,{"$f":"C4105","v":"平　成　２　８　年　空　港　管　理　状　況　調　書"}]
[null,null,"空港名 ：","南 大 東              （地方管理）"]
[null,null,"項目",null,"着 陸 回 数 （回）",null,"乗   降   客   数   （人）",null,null,null,null,null,null,null,"航空燃料供給量　（ＫＬ）"]
[null,null,null,"国際線","国内線","計",null,"国 際 線",null,null,null,"国 内 線",null,"合 計","ジェット燃料","その他燃料","合計"]
[null,null,"月別",null,null,null,"乗 客","降 客","通過客","小 計","乗 客","降 客","小 計"]
[]
[null,null,"1月",0,66,{"$f":"SUM(D4165:E4165)","v":66},0,0,0,{"$f":"SUM(G4165:I4165)","v":0},1585,1753,{"$f":"SUM(K4165:L4165)","v":3338},{"$f":"J4165+M4165","v":3338},0,0,{"$f":"SUM(O4165:P4165)","v":0}]
[null,null,"2月",0,65,{"$f":"SUM(D4166:E4166)","v":65},0,0,0,{"$f":"SUM(G4166:I4166)","v":0},1746,1756,{"$f":"SUM(K4166:L4166)","v":3502},{"$f":"J4166+M4166","v":3502},0,0,{"$f":"SUM(O4166:P4166)","v":0}]
[null,null,"3月",0,69,69,0,0,0,0,2057,2023,4080,4080,0,0,0]
[null,null,"4月",0,74,74,0,0,0,0,1838,1679,3517,3517,0,0,0]
[null,null,"5月",0,63,63,0,0,0,0,1789,1927,3716,3716,0,0,0]
[null,null,"6月",0,60,60,0,0,0,0,1734,1713,3447,3447,0,0,0]
[null,null,"7月",0,67,67,0,0,0,0,1903,1885,3788,3788,0,0,0]
[null,null,"8月",0,63,63,0,0,0,0,1966,2050,4016,4016,0,0,0]
[null,null,"9月",0,66,66,0,0,0,0,2000,1956,3956,3956,0,0,0]
[null,null,"10月",0,65,65,0,0,0,0,1946,1915,3861,3861,0,0,0]
[null,null,"11月",0,67,67,0,0,0,0,2042,2043,4085,4085,0,0,0]
[null,null,"12月",0,74,74,0,0,0,0,2242,2172,4414,4414,0,0,0]
[]
[null,"南大東暦１","暦年 計",{"$f":"SUM(D4165:D4176)","v":0},{"$f":"SUM(E4165:E4176)","v":799},{"$f":"SUM(F4165:F4176)","v":799},{"$f":"SUM(G4165:G4176)","v":0},{"$f":"SUM(H4165:H4176)","v":0},0,0,22848,22872,45720,45720,0,{"$f":"SUM(P4165:P4176)","v":0},{"$f":"SUM(Q4165:Q4176)","v":0}]
[]
[null,null,"1月",0,64,{"$f":"SUM(D4180:E4180)","v":64},0,0,0,{"$f":"SUM(G4180:I4180)","v":0},1849,1967,{"$f":"SUM(K4180:L4180)","v":3816},{"$f":"J4180+M4180","v":3816},0,0,{"$f":"SUM(O4180:P4180)","v":0}]
[null,null,"2月",0,65,{"$f":"SUM(D4181:E4181)","v":65},0,0,0,{"$f":"SUM(G4181:I4181)","v":0},1879,1907,{"$f":"SUM(K4181:L4181)","v":3786},{"$f":"J4181+M4181","v":3786},0,0,{"$f":"SUM(O4181:P4181)","v":0}]
[null,null,"3月",0,74,{"$f":"SUM(D4182:E4182)","v":74},0,0,0,{"$f":"SUM(G4182:I4182)","v":0},2315,2221,{"$f":"SUM(K4182:L4182)","v":4536},{"$f":"J4182+M4182","v":4536},0,0,{"$f":"SUM(O4182:P4182)","v":0}]
[]
[null,"南大東度１","年度計",{"$f":"SUM(D4168:D4176,D4180:D4182)","v":0},{"$f":"SUM(E4168:E4176,E4180:E4182)","v":802},{"$f":"SUM(F4168:F4176,F4180:F4182)","v":802},{"$f":"SUM(G4168:G4176,G4180:G4182)","v":0},0,0,0,23503,23435,46938,46938,0,0,{"$f":"SUM(Q4168:Q4176,Q4180:Q4182)","v":0}]
[]
[]
[]
[null,null,"項目",null,null,null,"貨 物 取 扱 量 （トン）",null,null,null,null,null,null,"郵 便 取 扱 量 （kg）"]
[null,null,null,null,"国 際 線",null,null,"国 内 線",null,"合計",null,"国 際 線",null,null,"国 内 線",null,"合 計"]
[null,null,"月別","積","卸","小 計","積","卸","小 計",null,"積","卸","小 計","積","卸","小 計"]
[]
[null,null,"1月",0,0,{"$f":"SUM(D4192:E4192)","v":0},9,7,{"$f":"SUM(G4192:H4192)","v":16},{"$f":"F4192+I4192","v":16},0,0,{"$f":"SUM(K4192:L4192)","v":0},859,1564,{"$f":"SUM(N4192:O4192)","v":2423},{"$f":"M4192+P4192","v":2423}]
[null,null,"2月",0,0,0,12,8,20,20,0,0,0,727,1209,1936,1936]
[null,null,"3月",0,0,0,14,9,23,23,0,0,0,939,1676,2615,2615]
[null,null,"4月",0,0,0,13,8,21,21,0,0,0,831,1701,2532,2532]
[null,null,"5月",0,0,0,12,8,20,20,0,0,0,804,1440,2244,2244]
[null,null,"6月",0,0,0,12,9,21,21,0,0,0,797,1313,2110,2110]
[null,null,"7月",0,0,0,8,9,17,17,0,0,0,830,1240,2070,2070]
[null,null,"8月",0,0,0,12,13,25,25,0,0,0,770,1383,2153,2153]
[null,null,"9月",0,0,0,10,14,24,24,0,0,0,739,1295,2034,2034]
[null,null,"10月",0,0,0,10,11,21,21,0,0,0,818,1536,2354,2354]
[null,null,"11月",0,0,0,9,12,21,21,0,0,0,806,1368,2174,2174]
[null,null,"12月",0,0,0,13,16,29,29,0,0,0,837,1556,2393,2393]
[]
[null,"南大東暦２","暦年 計",{"$f":"SUM(D4192:D4204)","v":0},0,0,134,124,258,258,0,0,{"$f":"SUM(M4192:M4204)","v":0},{"$f":"SUM(N4192:N4204)","v":9757},{"$f":"SUM(O4192:O4204)","v":17281},{"$f":"SUM(P4192:P4204)","v":27038},{"$f":"SUM(Q4192:Q4204)","v":27038}]
[]
[null,null,"1月",0,0,{"$f":"SUM(D4207:E4207)","v":0},10,11,{"$f":"SUM(G4207:H4207)","v":21},{"$f":"F4207+I4207","v":21},0,0,{"$f":"SUM(K4207:L4207)","v":0},825,1479,{"$f":"SUM(N4207:O4207)","v":2304},{"$f":"M4207+P4207","v":2304}]
[null,null,"2月",0,0,{"$f":"SUM(D4208:E4208)","v":0},11,13,{"$f":"SUM(G4208:H4208)","v":24},{"$f":"F4208+I4208","v":24},0,0,{"$f":"SUM(K4208:L4208)","v":0},748,1262,{"$f":"SUM(N4208:O4208)","v":2010},{"$f":"M4208+P4208","v":2010}]
[null,null,"3月",0,0,{"$f":"SUM(D4209:E4209)","v":0},19,16,{"$f":"SUM(G4209:H4209)","v":35},{"$f":"F4209+I4209","v":35},0,0,{"$f":"SUM(K4209:L4209)","v":0},842,1460,{"$f":"SUM(N4209:O4209)","v":2302},{"$f":"M4209+P4209","v":2302}]
[]
[null,"南大東度２","年度計",{"$f":"SUM(D4195:D4203,D4207:D4209)","v":0},{"$f":"SUM(E4195:E4203,E4207:E4209)","v":0},{"$f":"SUM(F4195:F4203,F4207:F4209)","v":0},{"$f":"SUM(G4195:G4203,G4207:G4209)","v":139},140,279,279,0,0,{"$f":"SUM(M4195:M4203,M4207:M4209)","v":0},{"$f":"SUM(N4195:N4203,N4207:N4209)","v":9647},{"$f":"SUM(O4195:O4203,O4207:O4209)","v":17033},{"$f":"SUM(P4195:P4203,P4207:P4209)","v":26680},{"$f":"SUM(Q4195:Q4203,Q4207:Q4209)","v":26680}]
[]
[null,null,{"$f":"C4159","v":"平　成　２　８　年　空　港　管　理　状　況　調　書"}]
[null,null,"空港名 ：","北 大 東              （地方管理）"]
[null,null,"項目",null,"着 陸 回 数 （回）",null,"乗   降   客   数   （人）",null,null,null,null,null,null,null,"航空燃料供給量　（ＫＬ）"]
[null,null,null,"国際線","国内線","計",null,"国 際 線",null,null,null,"国 内 線",null,"合 計","ジェット燃料","その他燃料","合計"]
[null,null,"月別",null,null,null,"乗 客","降 客","通過客","小 計","乗 客","降 客","小 計"]
[]
[null,null,"1月",0,32,{"$f":"SUM(D4219:E4219)","v":32},0,0,0,{"$f":"SUM(G4219:I4219)","v":0},603,834,{"$f":"SUM(K4219:L4219)","v":1437},{"$f":"J4219+M4219","v":1437},0,0,{"$f":"SUM(O4219:P4219)","v":0}]
[null,null,"2月",0,29,{"$f":"SUM(D4220:E4220)","v":29},0,0,0,{"$f":"SUM(G4220:I4220)","v":0},780,801,{"$f":"SUM(K4220:L4220)","v":1581},{"$f":"J4220+M4220","v":1581},0,0,{"$f":"SUM(O4220:P4220)","v":0}]
[null,null,"3月",0,34,34,0,0,0,0,887,840,1727,1727,0,0,0]
[null,null,"4月",0,34,34,0,0,0,0,800,663,1463,1463,0,0,0]
[null,null,"5月",0,34,34,0,0,0,0,794,814,1608,1608,0,0,0]
[null,null,"6月",0,32,32,0,0,0,0,772,759,1531,1531,0,0,0]
[null,null,"7月",0,34,34,0,0,0,0,797,717,1514,1514,0,0,0]
[null,null,"8月",0,31,31,0,0,0,0,805,790,1595,1595,0,0,0]
[null,null,"9月",0,32,32,0,0,0,0,824,807,1631,1631,0,0,0]
[null,null,"10月",0,33,33,0,0,0,0,806,805,1611,1611,0,0,0]
[null,null,"11月",0,34,34,0,0,0,0,855,881,1736,1736,0,0,0]
[null,null,"12月",0,37,37,0,0,0,0,1033,832,1865,1865,0,0,0]
[]
[null,"北大東暦１","暦年 計",{"$f":"SUM(D4219:D4230)","v":0},{"$f":"SUM(E4219:E4230)","v":396},{"$f":"SUM(F4219:F4230)","v":396},{"$f":"SUM(G4219:G4230)","v":0},{"$f":"SUM(H4219:H4230)","v":0},0,0,9756,9543,19299,19299,0,{"$f":"SUM(P4219:P4230)","v":0},{"$f":"SUM(Q4219:Q4230)","v":0}]
[]
[null,null,"1月",0,33,{"$f":"SUM(D4234:E4234)","v":33},0,0,0,{"$f":"SUM(G4234:I4234)","v":0},733,979,{"$f":"SUM(K4234:L4234)","v":1712},{"$f":"J4234+M4234","v":1712},0,0,{"$f":"SUM(O4234:P4234)","v":0}]
[null,null,"2月",0,30,{"$f":"SUM(D4235:E4235)","v":30},0,0,0,{"$f":"SUM(G4235:I4235)","v":0},851,833,{"$f":"SUM(K4235:L4235)","v":1684},{"$f":"J4235+M4235","v":1684},0,0,{"$f":"SUM(O4235:P4235)","v":0}]
[null,null,"3月",0,36,{"$f":"SUM(D4236:E4236)","v":36},0,0,0,{"$f":"SUM(G4236:I4236)","v":0},1016,942,{"$f":"SUM(K4236:L4236)","v":1958},{"$f":"J4236+M4236","v":1958},0,0,{"$f":"SUM(O4236:P4236)","v":0}]
[]
[null,"北大東度１","年度計",{"$f":"SUM(D4222:D4230,D4234:D4236)","v":0},{"$f":"SUM(E4222:E4230,E4234:E4236)","v":400},{"$f":"SUM(F4222:F4230,F4234:F4236)","v":400},{"$f":"SUM(G4222:G4230,G4234:G4236)","v":0},0,0,0,10086,9822,19908,19908,0,0,{"$f":"SUM(Q4222:Q4230,Q4234:Q4236)","v":0}]
[]
[]
[]
[null,null,"項目",null,null,null,"貨 物 取 扱 量 （トン）",null,null,null,null,null,null,"郵 便 取 扱 量 （kg）"]
[null,null,null,null,"国 際 線",null,null,"国 内 線",null,"合計",null,"国 際 線",null,null,"国 内 線",null,"合 計"]
[null,null,"月別","積","卸","小 計","積","卸","小 計",null,"積","卸","小 計","積","卸","小 計"]
[]
[null,null,"1月",0,0,{"$f":"SUM(D4246:E4246)","v":0},1,3,{"$f":"SUM(G4246:H4246)","v":4},{"$f":"F4246+I4246","v":4},0,0,{"$f":"SUM(K4246:L4246)","v":0},226,957,{"$f":"SUM(N4246:O4246)","v":1183},{"$f":"M4246+P4246","v":1183}]
[null,null,"2月",0,0,0,4,3,7,7,0,0,0,334,806,1140,1140]
[null,null,"3月",0,0,0,5,3,8,8,0,0,0,236,941,1177,1177]
[null,null,"4月",0,0,0,3,2,5,5,0,0,0,365,892,1257,1257]
[null,null,"5月",0,0,0,2,2,4,4,0,0,0,299,879,1178,1178]
[null,null,"6月",0,0,0,2,3,5,5,0,0,0,230,857,1087,1087]
[null,null,"7月",0,0,0,2,3,5,5,0,0,0,194,821,1015,1015]
[null,null,"8月",0,0,0,3,5,8,8,0,0,0,197,777,974,974]
[null,null,"9月",0,0,0,2,5,7,7,0,0,0,215,759,974,974]
[null,null,"10月",0,0,0,2,4,6,6,0,0,0,229,832,1061,1061]
[null,null,"11月",0,0,0,2,5,7,7,0,0,0,215,860,1075,1075]
[null,null,"12月",0,0,0,2,6,8,8,0,0,0,211,894,1105,1105]
[]
[null,"北大東暦２","暦年 計",{"$f":"SUM(D4246:D4258)","v":0},0,0,30,44,74,74,0,0,{"$f":"SUM(M4246:M4258)","v":0},{"$f":"SUM(N4246:N4258)","v":2951},{"$f":"SUM(O4246:O4258)","v":10275},{"$f":"SUM(P4246:P4258)","v":13226},{"$f":"SUM(Q4246:Q4258)","v":13226}]
[]
[null,null,"1月",0,0,{"$f":"SUM(D4261:E4261)","v":0},4,4,{"$f":"SUM(G4261:H4261)","v":8},{"$f":"F4261+I4261","v":8},0,0,{"$f":"SUM(K4261:L4261)","v":0},190,876,{"$f":"SUM(N4261:O4261)","v":1066},{"$f":"M4261+P4261","v":1066}]
[null,null,"2月",0,0,{"$f":"SUM(D4262:E4262)","v":0},4,5,{"$f":"SUM(G4262:H4262)","v":9},{"$f":"F4262+I4262","v":9},0,0,{"$f":"SUM(K4262:L4262)","v":0},169,757,{"$f":"SUM(N4262:O4262)","v":926},{"$f":"M4262+P4262","v":926}]
[null,null,"3月",0,0,{"$f":"SUM(D4263:E4263)","v":0},11,4,{"$f":"SUM(G4263:H4263)","v":15},{"$f":"F4263+I4263","v":15},0,0,{"$f":"SUM(K4263:L4263)","v":0},461,928,{"$f":"SUM(N4263:O4263)","v":1389},{"$f":"M4263+P4263","v":1389}]
[]
[null,"北大東度２","年度計",{"$f":"SUM(D4249:D4257,D4261:D4263)","v":0},{"$f":"SUM(E4249:E4257,E4261:E4263)","v":0},{"$f":"SUM(F4249:F4257,F4261:F4263)","v":0},{"$f":"SUM(G4249:G4257,G4261:G4263)","v":39},48,87,87,0,0,{"$f":"SUM(M4249:M4257,M4261:M4263)","v":0},{"$f":"SUM(N4249:N4257,N4261:N4263)","v":2975},{"$f":"SUM(O4249:O4257,O4261:O4263)","v":10132},{"$f":"SUM(P4249:P4257,P4261:P4263)","v":13107},{"$f":"SUM(Q4249:Q4257,Q4261:Q4263)","v":13107}]
[]
[null,null,{"$f":"C4213","v":"平　成　２　８　年　空　港　管　理　状　況　調　書"}]
[null,null,"空港名 ：","伊 江 島              （地方管理）"]
[null,null,"項目",null,"着 陸 回 数 （回）",null,"乗   降   客   数   （人）",null,null,null,null,null,null,null,"航空燃料供給量　（ＫＬ）"]
[null,null,null,"国際線","国内線","計",null,"国 際 線",null,null,null,"国 内 線",null,"合 計","ジェット燃料","その他燃料","合計"]
[null,null,"月別",null,null,null,"乗 客","降 客","通過客","小 計","乗 客","降 客","小 計"]
[]
[null,null,"1月",0,2,{"$f":"SUM(D4273:E4273)","v":2},0,0,0,{"$f":"SUM(G4273:I4273)","v":0},0,0,{"$f":"SUM(K4273:L4273)","v":0},{"$f":"J4273+M4273","v":0},0,0,{"$f":"SUM(O4273:P4273)","v":0}]
[null,null,"2月",0,10,{"$f":"SUM(D4274:E4274)","v":10},0,0,0,{"$f":"SUM(G4274:I4274)","v":0},22,22,{"$f":"SUM(K4274:L4274)","v":44},{"$f":"J4274+M4274","v":44},0,0,{"$f":"SUM(O4274:P4274)","v":0}]
[null,null,"3月",0,0,0,0,0,0,0,0,0,0,0,0,0,0]
[null,null,"4月",0,1,1,0,0,0,0,0,0,0,0,0,0,0]
[null,null,"5月",0,4,4,0,0,0,0,13,13,26,26,0,0,0]
[null,null,"6月",0,0,0,0,0,0,0,0,0,0,0,0,0,0]
[null,null,"7月",0,3,3,0,0,0,0,0,0,0,0,0,0,0]
[null,null,"8月",0,4,4,0,0,0,0,0,0,0,0,0,0,0]
[null,null,"9月",0,8,8,0,0,0,0,0,0,0,0,0,0,0]
[null,null,"10月",0,1,1,0,0,0,0,0,0,0,0,0,0,0]
[null,null,"11月",0,1,1,0,0,0,0,0,0,0,0,0,0,0]
[null,null,"12月",0,7,7,0,0,0,0,0,0,0,0,0,0,0]
[]
[null,"伊江島暦１","暦年 計",{"$f":"SUM(D4273:D4284)","v":0},{"$f":"SUM(E4273:E4284)","v":41},{"$f":"SUM(F4273:F4284)","v":41},{"$f":"SUM(G4273:G4284)","v":0},{"$f":"SUM(H4273:H4284)","v":0},0,0,35,35,70,70,0,{"$f":"SUM(P4273:P4284)","v":0},{"$f":"SUM(Q4273:Q4284)","v":0}]
[]
[null,null,"1月",0,1,{"$f":"SUM(D4288:E4288)","v":1},0,0,0,{"$f":"SUM(G4288:I4288)","v":0},0,0,{"$f":"SUM(K4288:L4288)","v":0},{"$f":"J4288+M4288","v":0},0,0,{"$f":"SUM(O4288:P4288)","v":0}]
[null,null,"2月",0,4,{"$f":"SUM(D4289:E4289)","v":4},0,0,0,{"$f":"SUM(G4289:I4289)","v":0},0,0,{"$f":"SUM(K4289:L4289)","v":0},{"$f":"J4289+M4289","v":0},0,0,{"$f":"SUM(O4289:P4289)","v":0}]
[null,null,"3月",0,4,{"$f":"SUM(D4290:E4290)","v":4},0,0,0,{"$f":"SUM(G4290:I4290)","v":0},0,0,{"$f":"SUM(K4290:L4290)","v":0},{"$f":"J4290+M4290","v":0},0,0,{"$f":"SUM(O4290:P4290)","v":0}]
[]
[null,"伊江島度１","年度計",{"$f":"SUM(D4276:D4284,D4288:D4290)","v":0},{"$f":"SUM(E4276:E4284,E4288:E4290)","v":38},{"$f":"SUM(F4276:F4284,F4288:F4290)","v":38},{"$f":"SUM(G4276:G4284,G4288:G4290)","v":0},0,0,0,13,13,26,26,0,0,{"$f":"SUM(Q4276:Q4284,Q4288:Q4290)","v":0}]
[]
[]
[]
[null,null,"項目",null,null,null,"貨 物 取 扱 量 （トン）",null,null,null,null,null,null,"郵 便 取 扱 量 （kg）"]
[null,null,null,null,"国 際 線",null,null,"国 内 線",null,"合計",null,"国 際 線",null,null,"国 内 線",null,"合 計"]
[null,null,"月別","積","卸","小 計","積","卸","小 計",null,"積","卸","小 計","積","卸","小 計"]
[]
[null,null,"1月",0,0,{"$f":"SUM(D4300:E4300)","v":0},0,0,{"$f":"SUM(G4300:H4300)","v":0},{"$f":"F4300+I4300","v":0},0,0,{"$f":"SUM(K4300:L4300)","v":0},0,0,{"$f":"SUM(N4300:O4300)","v":0},{"$f":"M4300+P4300","v":0}]
[null,null,"2月",0,0,0,0,0,0,0,0,0,0,0,0,0,0]
[null,null,"3月",0,0,0,0,0,0,0,0,0,0,0,0,0,0]
[null,null,"4月",0,0,0,0,0,0,0,0,0,0,0,0,0,0]
[null,null,"5月",0,0,0,0,0,0,0,0,0,0,0,0,0,0]
[null,null,"6月",0,0,0,0,0,0,0,0,0,0,0,0,0,0]
[null,null,"7月",0,0,0,0,0,0,0,0,0,0,0,0,0,0]
[null,null,"8月",0,0,0,0,0,0,0,0,0,0,0,0,0,0]
[null,null,"9月",0,0,0,0,0,0,0,0,0,0,0,0,0,0]
[null,null,"10月",0,0,0,0,0,0,0,0,0,0,0,0,0,0]
[null,null,"11月",0,0,0,0,0,0,0,0,0,0,0,0,0,0]
[null,null,"12月",0,0,0,0,0,0,0,0,0,0,0,0,0,0]
[]
[null,"伊江島暦２","暦年 計",{"$f":"SUM(D4300:D4312)","v":0},0,0,0,0,0,0,0,0,{"$f":"SUM(M4300:M4312)","v":0},{"$f":"SUM(N4300:N4312)","v":0},{"$f":"SUM(O4300:O4312)","v":0},{"$f":"SUM(P4300:P4312)","v":0},{"$f":"SUM(Q4300:Q4312)","v":0}]
[]
[null,null,"1月",0,0,{"$f":"SUM(D4315:E4315)","v":0},0,0,{"$f":"SUM(G4315:H4315)","v":0},{"$f":"F4315+I4315","v":0},0,0,{"$f":"SUM(K4315:L4315)","v":0},0,0,{"$f":"SUM(N4315:O4315)","v":0},{"$f":"M4315+P4315","v":0}]
[null,null,"2月",0,0,{"$f":"SUM(D4316:E4316)","v":0},0,0,{"$f":"SUM(G4316:H4316)","v":0},{"$f":"F4316+I4316","v":0},0,0,{"$f":"SUM(K4316:L4316)","v":0},0,0,{"$f":"SUM(N4316:O4316)","v":0},{"$f":"M4316+P4316","v":0}]
[null,null,"3月",0,0,{"$f":"SUM(D4317:E4317)","v":0},0,0,{"$f":"SUM(G4317:H4317)","v":0},{"$f":"F4317+I4317","v":0},0,0,{"$f":"SUM(K4317:L4317)","v":0},0,0,{"$f":"SUM(N4317:O4317)","v":0},{"$f":"M4317+P4317","v":0}]
[]
[null,"伊江島度２","年度計",{"$f":"SUM(D4303:D4311,D4315:D4317)","v":0},{"$f":"SUM(E4303:E4311,E4315:E4317)","v":0},{"$f":"SUM(F4303:F4311,F4315:F4317)","v":0},{"$f":"SUM(G4303:G4311,G4315:G4317)","v":0},0,0,0,0,0,{"$f":"SUM(M4303:M4311,M4315:M4317)","v":0},{"$f":"SUM(N4303:N4311,N4315:N4317)","v":0},{"$f":"SUM(O4303:O4311,O4315:O4317)","v":0},{"$f":"SUM(P4303:P4311,P4315:P4317)","v":0},{"$f":"SUM(Q4303:Q4311,Q4315:Q4317)","v":0}]
[]
[null,null,{"$f":"C4267","v":"平　成　２　８　年　空　港　管　理　状　況　調　書"}]
[null,null,"空港名 ：","宮    古              （地方管理）"]
[null,null,"項目",null,"着 陸 回 数 （回）",null,"乗   降   客   数   （人）",null,null,null,null,null,null,null,"航空燃料供給量　（ＫＬ）"]
[null,null,null,"国際線","国内線","計",null,"国 際 線",null,null,null,"国 内 線",null,"合 計","ジェット燃料","その他燃料","合計"]
[null,null,"月別",null,null,null,"乗 客","降 客","通過客","小 計","乗 客","降 客","小 計"]
[]
[null,null,"1月",7,667,{"$f":"SUM(D4327:E4327)","v":674},870,1002,0,{"$f":"SUM(G4327:I4327)","v":1872},53527,50726,{"$f":"SUM(K4327:L4327)","v":104253},{"$f":"J4327+M4327","v":106125},426,0,{"$f":"SUM(O4327:P4327)","v":426}]
[null,null,"2月",3,698,{"$f":"SUM(D4328:E4328)","v":701},385,271,0,{"$f":"SUM(G4328:I4328)","v":656},52068,52586,{"$f":"SUM(K4328:L4328)","v":104654},{"$f":"J4328+M4328","v":105310},487,0,{"$f":"SUM(O4328:P4328)","v":487}]
[null,null,"3月",0,761,761,0,0,0,0,60790,60380,121170,121170,667,0,667]
[null,null,"4月",0,761,761,0,0,0,0,59530,61151,120681,120681,864,0,864]
[null,null,"5月",0,781,781,0,0,0,0,60548,57911,118459,118459,839,0,839]
[null,null,"6月",0,734,734,0,0,0,0,64431,66538,130969,130969,912,0,912]
[null,null,"7月",0,775,775,0,0,0,0,71257,71797,143054,143054,1087,0,1087]
[null,null,"8月",0,798,798,0,0,0,0,81535,81290,162825,162825,1305,0,1305]
[null,null,"9月",2,717,719,0,0,0,0,69875,69471,139346,139346,1268,0,1268]
[null,null,"10月",0,711,711,0,0,0,0,70853,69969,140822,140822,1054,0,1054]
[null,null,"11月",0,746,746,0,0,0,0,64556,63639,128195,128195,1015,0,1015]
[null,null,"12月",0,791,791,0,0,0,0,54182,59156,113338,113338,972,0,972]
[]
[null,"宮古暦１","暦年 計",{"$f":"SUM(D4327:D4338)","v":12},{"$f":"SUM(E4327:E4338)","v":8940},{"$f":"SUM(F4327:F4338)","v":8952},{"$f":"SUM(G4327:G4338)","v":1255},{"$f":"SUM(H4327:H4338)","v":1273},0,2528,763152,764614,1527766,1530294,10896,{"$f":"SUM(P4327:P4338)","v":0},{"$f":"SUM(Q4327:Q4338)","v":10896}]
[]
[null,null,"1月",0,750,{"$f":"SUM(D4342:E4342)","v":750},0,0,0,{"$f":"SUM(G4342:I4342)","v":0},58392,54658,{"$f":"SUM(K4342:L4342)","v":113050},{"$f":"J4342+M4342","v":113050},832,0,{"$f":"SUM(O4342:P4342)","v":832}]
[null,null,"2月",0,720,{"$f":"SUM(D4343:E4343)","v":720},0,0,0,{"$f":"SUM(G4343:I4343)","v":0},55720,56008,{"$f":"SUM(K4343:L4343)","v":111728},{"$f":"J4343+M4343","v":111728},935,0,{"$f":"SUM(O4343:P4343)","v":935}]
[null,null,"3月",0,774,{"$f":"SUM(D4344:E4344)","v":774},0,0,0,{"$f":"SUM(G4344:I4344)","v":0},68610,68182,{"$f":"SUM(K4344:L4344)","v":136792},{"$f":"J4344+M4344","v":136792},1091,0,{"$f":"SUM(O4344:P4344)","v":1091}]
[]
[null,"宮古度１","年度計",{"$f":"SUM(D4330:D4338,D4342:D4344)","v":2},{"$f":"SUM(E4330:E4338,E4342:E4344)","v":9058},{"$f":"SUM(F4330:F4338,F4342:F4344)","v":9060},{"$f":"SUM(G4330:G4338,G4342:G4344)","v":0},0,0,0,779489,779770,1559259,1559259,12174,0,{"$f":"SUM(Q4330:Q4338,Q4342:Q4344)","v":12174}]
[]
[]
[]
[null,null,"項目",null,null,null,"貨 物 取 扱 量 （トン）",null,null,null,null,null,null,"郵 便 取 扱 量 （kg）"]
[null,null,null,null,"国 際 線",null,null,"国 内 線",null,"合計",null,"国 際 線",null,null,"国 内 線",null,"合 計"]
[null,null,"月別","積","卸","小 計","積","卸","小 計",null,"積","卸","小 計","積","卸","小 計"]
[]
[null,null,"1月",0,0,{"$f":"SUM(D4354:E4354)","v":0},467,419,{"$f":"SUM(G4354:H4354)","v":886},{"$f":"F4354+I4354","v":886},0,0,{"$f":"SUM(K4354:L4354)","v":0},139005,115525,{"$f":"SUM(N4354:O4354)","v":254530},{"$f":"M4354+P4354","v":254530}]
[null,null,"2月",0,0,0,437,440,877,877,0,0,0,134261,122326,256587,256587]
[null,null,"3月",0,0,0,602,469,1071,1071,0,0,0,144121,150058,294179,294179]
[null,null,"4月",0,0,0,742,493,1235,1235,0,0,0,151702,148177,299879,299879]
[null,null,"5月",0,0,0,691,431,{"$f":"SUM(G4358:H4358)","v":1122},1122,0,0,0,202533,129799,332332,332332]
[null,null,"6月",0,0,0,519,458,977,977,0,0,0,136536,130379,266915,266915]
[null,null,"7月",0,0,0,774,510,1284,1284,0,0,0,172665,167784,340449,340449]
[null,null,"8月",0,0,0,463,487,950,950,0,0,0,126359,166324,292683,292683]
[null,null,"9月",0,0,0,284,461,745,745,0,0,0,91827,150416,242243,242243]
[null,null,"10月",0,0,0,275,480,755,755,0,0,0,91371,159838,251209,251209]
[null,null,"11月",0,0,0,322,488,810,810,0,0,0,96488,146165,242653,242653]
[null,null,"12月",0,0,0,453,569,1022,1022,0,0,0,151804,200532,352336,352336]
[]
[null,"宮古暦２","暦年 計",{"$f":"SUM(D4354:D4366)","v":0},0,0,6029,5705,11734,11734,0,0,{"$f":"SUM(M4354:M4366)","v":0},{"$f":"SUM(N4354:N4366)","v":1638672},{"$f":"SUM(O4354:O4366)","v":1787323},{"$f":"SUM(P4354:P4366)","v":3425995},{"$f":"SUM(Q4354:Q4366)","v":3425995}]
[]
[null,null,"1月",0,0,{"$f":"SUM(D4369:E4369)","v":0},537,431,{"$f":"SUM(G4369:H4369)","v":968},{"$f":"F4369+I4369","v":968},0,0,{"$f":"SUM(K4369:L4369)","v":0},163645,166753,{"$f":"SUM(N4369:O4369)","v":330398},{"$f":"M4369+P4369","v":330398}]
[null,null,"2月",0,0,{"$f":"SUM(D4370:E4370)","v":0},516,447,{"$f":"SUM(G4370:H4370)","v":963},{"$f":"F4370+I4370","v":963},0,0,{"$f":"SUM(K4370:L4370)","v":0},148777,128962,{"$f":"SUM(N4370:O4370)","v":277739},{"$f":"M4370+P4370","v":277739}]
[null,null,"3月",0,0,{"$f":"SUM(D4371:E4371)","v":0},671,515,{"$f":"SUM(G4371:H4371)","v":1186},{"$f":"F4371+I4371","v":1186},0,0,{"$f":"SUM(K4371:L4371)","v":0},153372,151591,{"$f":"SUM(N4371:O4371)","v":304963},{"$f":"M4371+P4371","v":304963}]
[]
[null,"宮古度２","年度計",{"$f":"SUM(D4357:D4365,D4369:D4371)","v":0},{"$f":"SUM(E4357:E4365,E4369:E4371)","v":0},{"$f":"SUM(F4357:F4365,F4369:F4371)","v":0},{"$f":"SUM(G4357:G4365,G4369:G4371)","v":6247},5770,12017,12017,0,0,{"$f":"SUM(M4357:M4365,M4369:M4371)","v":0},{"$f":"SUM(N4357:N4365,N4369:N4371)","v":1687079},{"$f":"SUM(O4357:O4365,O4369:O4371)","v":1846720},{"$f":"SUM(P4357:P4365,P4369:P4371)","v":3533799},{"$f":"SUM(Q4357:Q4365,Q4369:Q4371)","v":3533799}]
[]
[null,null,{"$f":"C4321","v":"平　成　２　８　年　空　港　管　理　状　況　調　書"}]
[null,null,"空港名 ：","下 地 島              （地方管理）"]
[null,null,"項目",null,"着 陸 回 数 （回）",null,"乗   降   客   数   （人）",null,null,null,null,null,null,null,"航空燃料供給量　（ＫＬ）"]
[null,null,null,"国際線","国内線","計",null,"国 際 線",null,null,null,"国 内 線",null,"合 計","ジェット燃料","その他燃料","合計"]
[null,null,"月別",null,null,null,"乗 客","降 客","通過客","小 計","乗 客","降 客","小 計"]
[]
[null,null,"1月",0,28,{"$f":"SUM(D4381:E4381)","v":28},0,0,0,{"$f":"SUM(G4381:I4381)","v":0},3,0,{"$f":"SUM(K4381:L4381)","v":3},{"$f":"J4381+M4381","v":3},0,0,{"$f":"SUM(O4381:P4381)","v":0}]
[null,null,"2月",0,24,{"$f":"SUM(D4382:E4382)","v":24},0,0,0,{"$f":"SUM(G4382:I4382)","v":0},0,12,{"$f":"SUM(K4382:L4382)","v":12},{"$f":"J4382+M4382","v":12},0,0,{"$f":"SUM(O4382:P4382)","v":0}]
[null,null,"3月",0,40,40,0,0,0,0,0,0,0,0,0,0,0]
[null,null,"4月",0,26,26,0,0,0,0,0,0,0,0,0,0,0]
[null,null,"5月",0,18,18,0,0,0,0,0,0,0,0,0,0,0]
[null,null,"6月",0,11,11,0,0,0,0,0,0,0,0,0,0,0]
[null,null,"7月",0,16,16,0,0,0,0,0,0,0,0,0,0,0]
[null,null,"8月",0,13,13,0,0,0,0,0,0,0,0,0,0,0]
[null,null,"9月",0,15,15,0,0,0,0,0,0,0,0,0,0,0]
[null,null,"10月",0,31,31,0,0,0,0,0,0,0,0,0,0,0]
[null,null,"11月",0,13,13,0,0,0,0,0,0,0,0,0,0,0]
[null,null,"12月",1,26,27,0,0,0,0,9,1,10,10,0,0,0]
[]
[null,"下地島暦１","暦年 計",{"$f":"SUM(D4381:D4392)","v":1},{"$f":"SUM(E4381:E4392)","v":261},{"$f":"SUM(F4381:F4392)","v":262},{"$f":"SUM(G4381:G4392)","v":0},{"$f":"SUM(H4381:H4392)","v":0},0,0,12,13,25,25,0,{"$f":"SUM(P4381:P4392)","v":0},{"$f":"SUM(Q4381:Q4392)","v":0}]
[]
[null,null,"1月",0,25,{"$f":"SUM(D4396:E4396)","v":25},0,0,0,{"$f":"SUM(G4396:I4396)","v":0},3,0,{"$f":"SUM(K4396:L4396)","v":3},{"$f":"J4396+M4396","v":3},0,0,{"$f":"SUM(O4396:P4396)","v":0}]
[null,null,"2月",0,62,{"$f":"SUM(D4397:E4397)","v":62},0,0,0,{"$f":"SUM(G4397:I4397)","v":0},0,0,{"$f":"SUM(K4397:L4397)","v":0},{"$f":"J4397+M4397","v":0},0,0,{"$f":"SUM(O4397:P4397)","v":0}]
[null,null,"3月",0,47,{"$f":"SUM(D4398:E4398)","v":47},0,0,0,{"$f":"SUM(G4398:I4398)","v":0},0,0,{"$f":"SUM(K4398:L4398)","v":0},{"$f":"J4398+M4398","v":0},0,0,{"$f":"SUM(O4398:P4398)","v":0}]
[]
[null,"下地島度１","年度計",{"$f":"SUM(D4384:D4392,D4396:D4398)","v":1},{"$f":"SUM(E4384:E4392,E4396:E4398)","v":303},{"$f":"SUM(F4384:F4392,F4396:F4398)","v":304},{"$f":"SUM(G4384:G4392,G4396:G4398)","v":0},0,0,0,12,1,13,13,0,0,{"$f":"SUM(Q4384:Q4392,Q4396:Q4398)","v":0}]
[]
[]
[]
[null,null,"項目",null,null,null,"貨 物 取 扱 量 （トン）",null,null,null,null,null,null,"郵 便 取 扱 量 （kg）"]
[null,null,null,null,"国 際 線",null,null,"国 内 線",null,"合計",null,"国 際 線",null,null,"国 内 線",null,"合 計"]
[null,null,"月別","積","卸","小 計","積","卸","小 計",null,"積","卸","小 計","積","卸","小 計"]
[]
[null,null,"1月",0,0,{"$f":"SUM(D4408:E4408)","v":0},0,0,{"$f":"SUM(G4408:H4408)","v":0},{"$f":"F4408+I4408","v":0},0,0,{"$f":"SUM(K4408:L4408)","v":0},0,0,{"$f":"SUM(N4408:O4408)","v":0},{"$f":"M4408+P4408","v":0}]
[null,null,"2月",0,0,0,0,0,0,0,0,0,0,0,0,0,0]
[null,null,"3月",0,0,0,0,0,0,0,0,0,0,0,0,0,0]
[null,null,"4月",0,0,0,0,0,0,0,0,0,0,0,0,0,0]
[null,null,"5月",0,0,0,0,0,0,0,0,0,0,0,0,0,0]
[null,null,"6月",0,0,0,0,0,0,0,0,0,0,0,0,0,0]
[null,null,"7月",0,0,0,0,0,0,0,0,0,0,0,0,0,0]
[null,null,"8月",0,0,0,0,0,0,0,0,0,0,0,0,0,0]
[null,null,"9月",0,0,0,0,0,0,0,0,0,0,0,0,0,0]
[null,null,"10月",0,0,0,0,0,0,0,0,0,0,0,0,0,0]
[null,null,"11月",0,0,0,0,0,0,0,0,0,0,0,0,0,0]
[null,null,"12月",0,0,0,0,0,0,0,0,0,0,0,0,0,0]
[]
[null,"下地島暦２","暦年 計",{"$f":"SUM(D4408:D4420)","v":0},0,0,0,0,0,0,0,0,{"$f":"SUM(M4408:M4420)","v":0},{"$f":"SUM(N4408:N4420)","v":0},{"$f":"SUM(O4408:O4420)","v":0},{"$f":"SUM(P4408:P4420)","v":0},{"$f":"SUM(Q4408:Q4420)","v":0}]
[]
[null,null,"1月",0,0,{"$f":"SUM(D4423:E4423)","v":0},0,0,{"$f":"SUM(G4423:H4423)","v":0},{"$f":"F4423+I4423","v":0},0,0,{"$f":"SUM(K4423:L4423)","v":0},0,0,{"$f":"SUM(N4423:O4423)","v":0},{"$f":"M4423+P4423","v":0}]
[null,null,"2月",0,0,{"$f":"SUM(D4424:E4424)","v":0},0,0,{"$f":"SUM(G4424:H4424)","v":0},{"$f":"F4424+I4424","v":0},0,0,{"$f":"SUM(K4424:L4424)","v":0},0,0,{"$f":"SUM(N4424:O4424)","v":0},{"$f":"M4424+P4424","v":0}]
[null,null,"3月",0,0,{"$f":"SUM(D4425:E4425)","v":0},0,0,{"$f":"SUM(G4425:H4425)","v":0},{"$f":"F4425+I4425","v":0},0,0,{"$f":"SUM(K4425:L4425)","v":0},0,0,{"$f":"SUM(N4425:O4425)","v":0},{"$f":"M4425+P4425","v":0}]
[]
[null,"下地島度２","年度計",{"$f":"SUM(D4411:D4419,D4423:D4425)","v":0},{"$f":"SUM(E4411:E4419,E4423:E4425)","v":0},{"$f":"SUM(F4411:F4419,F4423:F4425)","v":0},{"$f":"SUM(G4411:G4419,G4423:G4425)","v":0},0,0,0,0,0,{"$f":"SUM(M4411:M4419,M4423:M4425)","v":0},{"$f":"SUM(N4411:N4419,N4423:N4425)","v":0},{"$f":"SUM(O4411:O4419,O4423:O4425)","v":0},{"$f":"SUM(P4411:P4419,P4423:P4425)","v":0},{"$f":"SUM(Q4411:Q4419,Q4423:Q4425)","v":0}]
[]
[null,null,{"$f":"C4375","v":"平　成　２　８　年　空　港　管　理　状　況　調　書"}]
[null,null,"空港名 ：","多 良 間              （地方管理）"]
[null,null,"項目",null,"着 陸 回 数 （回）",null,"乗   降   客   数   （人）",null,null,null,null,null,null,null,"航空燃料供給量　（ＫＬ）"]
[null,null,null,"国際線","国内線","計",null,"国 際 線",null,null,null,"国 内 線",null,"合 計","ジェット燃料","その他燃料","合計"]
[null,null,"月別",null,null,null,"乗 客","降 客","通過客","小 計","乗 客","降 客","小 計"]
[]
[null,null,"1月",0,63,{"$f":"SUM(D4435:E4435)","v":63},0,0,0,{"$f":"SUM(G4435:I4435)","v":0},1402,1476,{"$f":"SUM(K4435:L4435)","v":2878},{"$f":"J4435+M4435","v":2878},0,0,{"$f":"SUM(O4435:P4435)","v":0}]
[null,null,"2月",0,68,{"$f":"SUM(D4436:E4436)","v":68},0,0,0,{"$f":"SUM(G4436:I4436)","v":0},1615,1544,{"$f":"SUM(K4436:L4436)","v":3159},{"$f":"J4436+M4436","v":3159},0,0,{"$f":"SUM(O4436:P4436)","v":0}]
[null,null,"3月",0,63,63,0,0,0,0,1642,1656,3298,3298,0,0,0]
[null,null,"4月",0,62,62,0,0,0,0,1313,1306,2619,2619,0,0,0]
[null,null,"5月",0,62,62,0,0,0,0,1463,1472,2935,2935,0,0,0]
[null,null,"6月",0,61,61,0,0,0,0,1513,1594,3107,3107,0,0,0]
[null,null,"7月",0,63,63,0,0,0,0,1628,1648,3276,3276,0,0,0]
[null,null,"8月",0,63,63,0,0,0,0,1700,1690,3390,3390,0,0,0]
[null,null,"9月",0,55,55,0,0,0,0,1328,1196,2524,2524,0,0,0]
[null,null,"10月",0,61,61,0,0,0,0,1443,1437,2880,2880,0,0,0]
[null,null,"11月",0,61,61,0,0,0,0,1593,1709,3302,3302,0,0,0]
[null,null,"12月",0,62,62,0,0,0,0,1771,1753,3524,3524,0,0,0]
[]
[null,"多良間暦１","暦年 計",{"$f":"SUM(D4435:D4446)","v":0},{"$f":"SUM(E4435:E4446)","v":744},{"$f":"SUM(F4435:F4446)","v":744},{"$f":"SUM(G4435:G4446)","v":0},{"$f":"SUM(H4435:H4446)","v":0},0,0,18411,18481,36892,36892,0,{"$f":"SUM(P4435:P4446)","v":0},{"$f":"SUM(Q4435:Q4446)","v":0}]
[]
[null,null,"1月",0,62,{"$f":"SUM(D4450:E4450)","v":62},0,0,0,{"$f":"SUM(G4450:I4450)","v":0},1525,1609,{"$f":"SUM(K4450:L4450)","v":3134},{"$f":"J4450+M4450","v":3134},0,0,{"$f":"SUM(O4450:P4450)","v":0}]
[null,null,"2月",0,57,{"$f":"SUM(D4451:E4451)","v":57},0,0,0,{"$f":"SUM(G4451:I4451)","v":0},1734,1690,{"$f":"SUM(K4451:L4451)","v":3424},{"$f":"J4451+M4451","v":3424},0,0,{"$f":"SUM(O4451:P4451)","v":0}]
[null,null,"3月",0,61,{"$f":"SUM(D4452:E4452)","v":61},0,0,0,{"$f":"SUM(G4452:I4452)","v":0},1863,1849,{"$f":"SUM(K4452:L4452)","v":3712},{"$f":"J4452+M4452","v":3712},0,0,{"$f":"SUM(O4452:P4452)","v":0}]
[]
[null,"多良間度１","年度計",{"$f":"SUM(D4438:D4446,D4450:D4452)","v":0},{"$f":"SUM(E4438:E4446,E4450:E4452)","v":730},{"$f":"SUM(F4438:F4446,F4450:F4452)","v":730},{"$f":"SUM(G4438:G4446,G4450:G4452)","v":0},0,0,0,18874,18953,37827,37827,0,0,{"$f":"SUM(Q4438:Q4446,Q4450:Q4452)","v":0}]
[]
[]
[]
[null,null,"項目",null,null,null,"貨 物 取 扱 量 （トン）",null,null,null,null,null,null,"郵 便 取 扱 量 （kg）"]
[null,null,null,null,"国 際 線",null,null,"国 内 線",null,"合計",null,"国 際 線",null,null,"国 内 線",null,"合 計"]
[null,null,"月別","積","卸","小 計","積","卸","小 計",null,"積","卸","小 計","積","卸","小 計"]
[]
[null,null,"1月",0,0,{"$f":"SUM(D4462:E4462)","v":0},5,11,{"$f":"SUM(G4462:H4462)","v":16},{"$f":"F4462+I4462","v":16},0,0,{"$f":"SUM(K4462:L4462)","v":0},273,814,{"$f":"SUM(N4462:O4462)","v":1087},{"$f":"M4462+P4462","v":1087}]
[null,null,"2月",0,0,0,10,12,22,22,0,0,0,334,641,975,975]
[null,null,"3月",0,0,0,12,10,22,22,0,0,0,307,805,1112,1112]
[null,null,"4月",0,0,0,9,10,19,19,0,0,0,362,889,1251,1251]
[null,null,"5月",0,0,0,7,9,16,16,0,0,0,282,733,1015,1015]
[null,null,"6月",0,0,0,5,10,15,15,0,0,0,234,712,946,946]
[null,null,"7月",0,0,0,5,14,19,19,0,0,0,262,643,905,905]
[null,null,"8月",0,0,0,6,12,18,18,0,0,0,214,623,837,837]
[null,null,"9月",0,0,0,5,11,16,16,0,0,0,213,675,888,888]
[null,null,"10月",0,0,0,4,11,15,15,0,0,0,340,812,1152,1152]
[null,null,"11月",0,0,0,5,12,17,17,0,0,0,303,647,950,950]
[null,null,"12月",0,0,0,5,16,21,21,0,0,0,355,845,1200,1200]
[]
[null,"多良間暦２","暦年 計",{"$f":"SUM(D4462:D4474)","v":0},0,0,78,138,216,216,0,0,{"$f":"SUM(M4462:M4474)","v":0},{"$f":"SUM(N4462:N4474)","v":3479},{"$f":"SUM(O4462:O4474)","v":8839},{"$f":"SUM(P4462:P4474)","v":12318},{"$f":"SUM(Q4462:Q4474)","v":12318}]
[]
[null,null,"1月",0,0,{"$f":"SUM(D4477:E4477)","v":0},8,12,{"$f":"SUM(G4477:H4477)","v":20},{"$f":"F4477+I4477","v":20},0,0,{"$f":"SUM(K4477:L4477)","v":0},271,703,{"$f":"SUM(N4477:O4477)","v":974},{"$f":"M4477+P4477","v":974}]
[null,null,"2月",0,0,{"$f":"SUM(D4478:E4478)","v":0},10,12,{"$f":"SUM(G4478:H4478)","v":22},{"$f":"F4478+I4478","v":22},0,0,{"$f":"SUM(K4478:L4478)","v":0},233,739,{"$f":"SUM(N4478:O4478)","v":972},{"$f":"M4478+P4478","v":972}]
[null,null,"3月",0,0,{"$f":"SUM(D4479:E4479)","v":0},14,15,{"$f":"SUM(G4479:H4479)","v":29},{"$f":"F4479+I4479","v":29},0,0,{"$f":"SUM(K4479:L4479)","v":0},289,828,{"$f":"SUM(N4479:O4479)","v":1117},{"$f":"M4479+P4479","v":1117}]
[]
[null,"多良間度２","年度計",{"$f":"SUM(D4465:D4473,D4477:D4479)","v":0},{"$f":"SUM(E4465:E4473,E4477:E4479)","v":0},{"$f":"SUM(F4465:F4473,F4477:F4479)","v":0},{"$f":"SUM(G4465:G4473,G4477:G4479)","v":83},144,227,227,0,0,{"$f":"SUM(M4465:M4473,M4477:M4479)","v":0},{"$f":"SUM(N4465:N4473,N4477:N4479)","v":3358},{"$f":"SUM(O4465:O4473,O4477:O4479)","v":8849},{"$f":"SUM(P4465:P4473,P4477:P4479)","v":12207},{"$f":"SUM(Q4465:Q4473,Q4477:Q4479)","v":12207}]
[]
[null,null,{"$f":"C4429","v":"平　成　２　８　年　空　港　管　理　状　況　調　書"}]
[null,null,"空港名 ：","新 石 垣               （地方管理）"]
[null,null,"項目",null,"着 陸 回 数 （回）",null,"乗   降   客   数   （人）",null,null,null,null,null,null,null,"航空燃料供給量　（ＫＬ）"]
[null,null,null,"国際線","国内線","計",null,"国 際 線",null,null,null,"国 内 線",null,"合 計","ジェット燃料","その他燃料","合計"]
[null,null,"月別",null,null,null,"乗 客","降 客","通過客","小 計","乗 客","降 客","小 計"]
[]
[null,null,"1月",0,1012,{"$f":"SUM(D4489:E4489)","v":1012},0,0,0,{"$f":"SUM(G4489:I4489)","v":0},85890,82958,{"$f":"SUM(K4489:L4489)","v":168848},{"$f":"J4489+M4489","v":168848},2026,0,{"$f":"SUM(O4489:P4489)","v":2026}]
[null,null,"2月",9,1083,{"$f":"SUM(D4490:E4490)","v":1092},769,767,0,{"$f":"SUM(G4490:I4490)","v":1536},91196,92551,{"$f":"SUM(K4490:L4490)","v":183747},{"$f":"J4490+M4490","v":185283},2270,0,{"$f":"SUM(O4490:P4490)","v":2270}]
[null,null,"3月",1,1149,1150,11,145,0,156,109845,110851,220696,220852,2614,0,2614]
[null,null,"4月",9,1016,1025,1088,1000,0,2088,96558,98597,195155,197243,2510,0,2510]
[null,null,"5月",8,1032,1040,893,1032,0,1925,93340,87654,180994,182919,2514,0,2514]
[null,null,"6月",14,1001,1015,1841,2040,0,3881,91346,96624,187970,191851,2609,0,2609]
[null,null,"7月",22,1063,1085,3064,3287,0,6351,108112,110260,218372,224723,3268,0,3268]
[null,null,"8月",22,1088,1110,2962,2888,0,5850,129208,126992,256200,262050,3184,0,3184]
[null,null,"9月",20,1001,1021,2746,2848,0,5594,101520,100135,201655,207249,2624,0,2624]
[null,null,"10月",21,1076,1097,2827,2590,0,5417,109585,108091,217676,223093,2732,0,2732]
[null,null,"11月",9,1002,1011,1228,1263,0,2491,95118,92450,187568,190059,2419,0,2419]
[null,null,"12月",9,996,1005,1328,1394,0,2722,79913,84724,164637,167359,2243,0,2243]
[]
[null,"新石垣暦１","暦年 計",{"$f":"SUM(D4489:D4500)","v":144},{"$f":"SUM(E4489:E4500)","v":12519},{"$f":"SUM(F4489:F4500)","v":12663},{"$f":"SUM(G4489:G4500)","v":18757},{"$f":"SUM(H4489:H4500)","v":19254},0,38011,1191631,1191887,2383518,2421529,31013,{"$f":"SUM(P4489:P4500)","v":0},{"$f":"SUM(Q4489:Q4500)","v":31013}]
[]
[null,null,"1月",15,1020,{"$f":"SUM(D4504:E4504)","v":1035},1624,1873,0,{"$f":"SUM(G4504:I4504)","v":3497},90084,87101,{"$f":"SUM(K4504:L4504)","v":177185},{"$f":"J4504+M4504","v":180682},2470,0,{"$f":"SUM(O4504:P4504)","v":2470}]
[null,null,"2月",14,922,{"$f":"SUM(D4505:E4505)","v":936},1588,1331,0,{"$f":"SUM(G4505:I4505)","v":2919},85771,87395,{"$f":"SUM(K4505:L4505)","v":173166},{"$f":"J4505+M4505","v":176085},2231,0,{"$f":"SUM(O4505:P4505)","v":2231}]
[null,null,"3月",14,1055,{"$f":"SUM(D4506:E4506)","v":1069},1466,1938,0,{"$f":"SUM(G4506:I4506)","v":3404},111550,113098,{"$f":"SUM(K4506:L4506)","v":224648},{"$f":"J4506+M4506","v":228052},2704,0,{"$f":"SUM(O4506:P4506)","v":2704}]
[]
[null,"新石垣度１","年度計",{"$f":"SUM(D4492:D4500,D4504:D4506)","v":177},{"$f":"SUM(E4492:E4500,E4504:E4506)","v":12272},{"$f":"SUM(F4492:F4500,F4504:F4506)","v":12449},{"$f":"SUM(G4492:G4500,G4504:G4506)","v":22655},23484,0,46139,1192105,1193121,2385226,2431365,31508,0,{"$f":"SUM(Q4492:Q4500,Q4504:Q4506)","v":31508}]
[]
[]
[]
[null,null,"項目",null,null,null,"貨 物 取 扱 量 （トン）",null,null,null,null,null,null,"郵 便 取 扱 量 （kg）"]
[null,null,null,null,"国 際 線",null,null,"国 内 線",null,"合計",null,"国 際 線",null,null,"国 内 線",null,"合 計"]
[null,null,"月別","積","卸","小 計","積","卸","小 計",null,"積","卸","小 計","積","卸","小 計"]
[]
[null,null,"1月",0,0,{"$f":"SUM(D4516:E4516)","v":0},509,735,{"$f":"SUM(G4516:H4516)","v":1244},{"$f":"F4516+I4516","v":1244},0,0,{"$f":"SUM(K4516:L4516)","v":0},11983,21855,{"$f":"SUM(N4516:O4516)","v":33838},{"$f":"M4516+P4516","v":33838}]
[null,null,"2月",0,0,0,542,755,1297,1297,0,0,0,10528,19521,30049,30049]
[null,null,"3月",0,0,0,728,866,1594,1594,0,0,0,12065,21298,33363,33363]
[null,null,"4月",0,0,0,938,872,1810,1810,0,0,0,12602,22442,35044,35044]
[null,null,"5月",0,0,0,1013,739,1752,1752,0,0,0,11361,19355,30716,30716]
[null,null,"6月",0,0,0,1014,791,1805,1805,0,0,0,11491,20800,32291,32291]
[null,null,"7月",0,0,0,1233,888,2121,2121,0,0,0,11475,21721,33196,33196]
[null,null,"8月",0,0,0,779,887,1666,1666,0,0,0,15912,19408,35320,35320]
[null,null,"9月",0,0,0,490,812,1302,1302,0,0,0,10495,19806,30301,30301]
[null,null,"10月",0,0,0,496,876,1372,1372,0,0,0,10529,22850,33379,33379]
[null,null,"11月",0,0,0,539,829,1368,1368,0,0,0,10722,18839,29561,29561]
[null,null,"12月",0,0,0,626,974,1600,1600,0,0,0,14975,24230,39205,39205]
[]
[null,"新石垣暦２","暦年 計",{"$f":"SUM(D4516:D4528)","v":0},0,0,8907,10024,18931,18931,0,0,{"$f":"SUM(M4516:M4528)","v":0},{"$f":"SUM(N4516:N4528)","v":144138},{"$f":"SUM(O4516:O4528)","v":252125},{"$f":"SUM(P4516:P4528)","v":396263},{"$f":"SUM(Q4516:Q4528)","v":396263}]
[]
[null,null,"1月",0,0,{"$f":"SUM(D4531:E4531)","v":0},529,716,{"$f":"SUM(G4531:H4531)","v":1245},{"$f":"F4531+I4531","v":1245},0,0,{"$f":"SUM(K4531:L4531)","v":0},11382,21638,{"$f":"SUM(N4531:O4531)","v":33020},{"$f":"M4531+P4531","v":33020}]
[null,null,"2月",0,0,{"$f":"SUM(D4532:E4532)","v":0},547,723,{"$f":"SUM(G4532:H4532)","v":1270},{"$f":"F4532+I4532","v":1270},0,0,{"$f":"SUM(K4532:L4532)","v":0},10430,18384,{"$f":"SUM(N4532:O4532)","v":28814},{"$f":"M4532+P4532","v":28814}]
[null,null,"3月",0,0,{"$f":"SUM(D4533:E4533)","v":0},736,883,{"$f":"SUM(G4533:H4533)","v":1619},{"$f":"F4533+I4533","v":1619},0,0,{"$f":"SUM(K4533:L4533)","v":0},10966,21500,{"$f":"SUM(N4533:O4533)","v":32466},{"$f":"M4533+P4533","v":32466}]
[]
[null,"新石垣度２","年度計",{"$f":"SUM(D4519:D4527,D4531:D4533)","v":0},{"$f":"SUM(E4519:E4527,E4531:E4533)","v":0},{"$f":"SUM(F4519:F4527,F4531:F4533)","v":0},{"$f":"SUM(G4519:G4527,G4531:G4533)","v":8940},9990,18930,18930,0,0,{"$f":"SUM(M4519:M4527,M4531:M4533)","v":0},{"$f":"SUM(N4519:N4527,N4531:N4533)","v":142340},{"$f":"SUM(O4519:O4527,O4531:O4533)","v":250973},{"$f":"SUM(P4519:P4527,P4531:P4533)","v":393313},{"$f":"SUM(Q4519:Q4527,Q4531:Q4533)","v":393313}]
[]
[null,null,{"$f":"C4483","v":"平　成　２　８　年　空　港　管　理　状　況　調　書"}]
[null,null,"空港名 ：","波 照 間              （地方管理）"]
[null,null,"項目",null,"着 陸 回 数 （回）",null,"乗   降   客   数   （人）",null,null,null,null,null,null,null,"航空燃料供給量　（ＫＬ）"]
[null,null,null,"国際線","国内線","計",null,"国 際 線",null,null,null,"国 内 線",null,"合 計","ジェット燃料","その他燃料","合計"]
[null,null,"月別",null,null,null,"乗 客","降 客","通過客","小 計","乗 客","降 客","小 計"]
[]
[null,null,"1月",0,3,{"$f":"SUM(D4543:E4543)","v":3},0,0,0,{"$f":"SUM(G4543:I4543)","v":0},0,0,{"$f":"SUM(K4543:L4543)","v":0},{"$f":"J4543+M4543","v":0},0,0,{"$f":"SUM(O4543:P4543)","v":0}]
[null,null,"2月",0,1,{"$f":"SUM(D4544:E4544)","v":1},0,0,0,{"$f":"SUM(G4544:I4544)","v":0},0,0,{"$f":"SUM(K4544:L4544)","v":0},{"$f":"J4544+M4544","v":0},0,0,{"$f":"SUM(O4544:P4544)","v":0}]
[null,null,"3月",0,8,8,0,0,0,0,0,0,0,0,0,0,0]
[null,null,"4月",0,2,2,0,0,0,0,0,0,0,0,0,0,0]
[null,null,"5月",0,1,1,0,0,0,0,0,0,0,0,0,0,0]
[null,null,"6月",0,4,4,0,0,0,0,0,0,0,0,0,0,0]
[null,null,"7月",0,1,1,0,0,0,0,0,0,0,0,0,0,0]
[null,null,"8月",0,2,2,0,0,0,0,0,0,0,0,0,0,0]
[null,null,"9月",0,3,3,0,0,0,0,0,0,0,0,0,0,0]
[null,null,"10月",0,1,1,0,0,0,0,0,0,0,0,0,0,0]
[null,null,"11月",0,0,0,0,0,0,0,0,0,0,0,0,0,0]
[null,null,"12月",0,0,0,0,0,0,0,0,0,0,0,0,0,0]
[]
[null,"波照間暦１","暦年 計",{"$f":"SUM(D4543:D4554)","v":0},{"$f":"SUM(E4543:E4554)","v":26},{"$f":"SUM(F4543:F4554)","v":26},{"$f":"SUM(G4543:G4554)","v":0},{"$f":"SUM(H4543:H4554)","v":0},0,0,0,0,0,0,0,{"$f":"SUM(P4543:P4554)","v":0},{"$f":"SUM(Q4543:Q4554)","v":0}]
[]
[null,null,"1月",0,0,{"$f":"SUM(D4558:E4558)","v":0},0,0,0,{"$f":"SUM(G4558:I4558)","v":0},0,0,{"$f":"SUM(K4558:L4558)","v":0},{"$f":"J4558+M4558","v":0},0,0,{"$f":"SUM(O4558:P4558)","v":0}]
[null,null,"2月",0,1,{"$f":"SUM(D4559:E4559)","v":1},0,0,0,{"$f":"SUM(G4559:I4559)","v":0},0,0,{"$f":"SUM(K4559:L4559)","v":0},{"$f":"J4559+M4559","v":0},0,0,{"$f":"SUM(O4559:P4559)","v":0}]
[null,null,"3月",0,0,{"$f":"SUM(D4560:E4560)","v":0},0,0,0,{"$f":"SUM(G4560:I4560)","v":0},0,0,{"$f":"SUM(K4560:L4560)","v":0},{"$f":"J4560+M4560","v":0},0,0,{"$f":"SUM(O4560:P4560)","v":0}]
[]
[null,"波照間度１","年度計",{"$f":"SUM(D4546:D4554,D4558:D4560)","v":0},{"$f":"SUM(E4546:E4554,E4558:E4560)","v":15},{"$f":"SUM(F4546:F4554,F4558:F4560)","v":15},{"$f":"SUM(G4546:G4554,G4558:G4560)","v":0},0,0,0,0,0,0,0,0,0,{"$f":"SUM(Q4546:Q4554,Q4558:Q4560)","v":0}]
[]
[]
[]
[null,null,"項目",null,null,null,"貨 物 取 扱 量 （トン）",null,null,null,null,null,null,"郵 便 取 扱 量 （kg）"]
[null,null,null,null,"国 際 線",null,null,"国 内 線",null,"合計",null,"国 際 線",null,null,"国 内 線",null,"合 計"]
[null,null,"月別","積","卸","小 計","積","卸","小 計",null,"積","卸","小 計","積","卸","小 計"]
[]
[null,null,"1月",0,0,{"$f":"SUM(D4570:E4570)","v":0},0,0,{"$f":"SUM(G4570:H4570)","v":0},{"$f":"F4570+I4570","v":0},0,0,{"$f":"SUM(K4570:L4570)","v":0},0,0,{"$f":"SUM(N4570:O4570)","v":0},{"$f":"M4570+P4570","v":0}]
[null,null,"2月",0,0,0,0,0,0,0,0,0,0,0,0,0,0]
[null,null,"3月",0,0,0,0,0,0,0,0,0,0,0,0,0,0]
[null,null,"4月",0,0,0,0,0,0,0,0,0,0,0,0,0,0]
[null,null,"5月",0,0,0,0,0,0,0,0,0,0,0,0,0,0]
[null,null,"6月",0,0,0,0,0,0,0,0,0,0,0,0,0,0]
[null,null,"7月",0,0,0,0,0,0,0,0,0,0,0,0,0,0]
[null,null,"8月",0,0,0,0,0,0,0,0,0,0,0,0,0,0]
[null,null,"9月",0,0,0,0,0,0,0,0,0,0,0,0,0,0]
[null,null,"10月",0,0,0,0,0,0,0,0,0,0,0,0,0,0]
[null,null,"11月",0,0,0,0,0,0,0,0,0,0,0,0,0,0]
[null,null,"12月",0,0,0,0,0,0,0,0,0,0,0,0,0,0]
[]
[null,"波照間暦２","暦年 計",{"$f":"SUM(D4570:D4582)","v":0},0,0,0,0,0,0,0,0,{"$f":"SUM(M4570:M4582)","v":0},{"$f":"SUM(N4570:N4582)","v":0},{"$f":"SUM(O4570:O4582)","v":0},{"$f":"SUM(P4570:P4582)","v":0},{"$f":"SUM(Q4570:Q4582)","v":0}]
[]
[null,null,"1月",0,0,{"$f":"SUM(D4585:E4585)","v":0},0,0,{"$f":"SUM(G4585:H4585)","v":0},{"$f":"F4585+I4585","v":0},0,0,{"$f":"SUM(K4585:L4585)","v":0},0,0,{"$f":"SUM(N4585:O4585)","v":0},{"$f":"M4585+P4585","v":0}]
[null,null,"2月",0,0,{"$f":"SUM(D4586:E4586)","v":0},0,0,{"$f":"SUM(G4586:H4586)","v":0},{"$f":"F4586+I4586","v":0},0,0,{"$f":"SUM(K4586:L4586)","v":0},0,0,{"$f":"SUM(N4586:O4586)","v":0},{"$f":"M4586+P4586","v":0}]
[null,null,"3月",0,0,{"$f":"SUM(D4587:E4587)","v":0},0,0,{"$f":"SUM(G4587:H4587)","v":0},{"$f":"F4587+I4587","v":0},0,0,{"$f":"SUM(K4587:L4587)","v":0},0,0,{"$f":"SUM(N4587:O4587)","v":0},{"$f":"M4587+P4587","v":0}]
[]
[null,"波照間度２","年度計",{"$f":"SUM(D4573:D4581,D4585:D4587)","v":0},{"$f":"SUM(E4573:E4581,E4585:E4587)","v":0},{"$f":"SUM(F4573:F4581,F4585:F4587)","v":0},{"$f":"SUM(G4573:G4581,G4585:G4587)","v":0},0,0,0,0,0,{"$f":"SUM(M4573:M4581,M4585:M4587)","v":0},{"$f":"SUM(N4573:N4581,N4585:N4587)","v":0},{"$f":"SUM(O4573:O4581,O4585:O4587)","v":0},{"$f":"SUM(P4573:P4581,P4585:P4587)","v":0},{"$f":"SUM(Q4573:Q4581,Q4585:Q4587)","v":0}]
[]
[null,null,{"$f":"C4537","v":"平　成　２　８　年　空　港　管　理　状　況　調　書"}]
[null,null,"空港名 ：","与 那 国              （地方管理）"]
[null,null,"項目",null,"着 陸 回 数 （回）",null,"乗   降   客   数   （人）",null,null,null,null,null,null,null,"航空燃料供給量　（ＫＬ）"]
[null,null,null,"国際線","国内線","計",null,"国 際 線",null,null,null,"国 内 線",null,"合 計","ジェット燃料","その他燃料","合計"]
[null,null,"月別",null,null,null,"乗 客","降 客","通過客","小 計","乗 客","降 客","小 計"]
[]
[null,null,"1月",0,128,{"$f":"SUM(D4597:E4597)","v":128},0,0,0,{"$f":"SUM(G4597:I4597)","v":0},3903,4601,{"$f":"SUM(K4597:L4597)","v":8504},{"$f":"J4597+M4597","v":8504},0,0,{"$f":"SUM(O4597:P4597)","v":0}]
[null,null,"2月",0,155,{"$f":"SUM(D4598:E4598)","v":155},0,0,0,{"$f":"SUM(G4598:I4598)","v":0},4279,4234,{"$f":"SUM(K4598:L4598)","v":8513},{"$f":"J4598+M4598","v":8513},0,0,{"$f":"SUM(O4598:P4598)","v":0}]
[null,null,"3月",0,158,158,0,0,0,0,4902,4834,9736,9736,0,0,0]
[null,null,"4月",0,130,130,0,0,0,0,4222,4114,8336,8336,0,0,0]
[null,null,"5月",0,133,133,0,0,0,0,4303,4233,8536,8536,0,0,0]
[null,null,"6月",0,124,124,0,0,0,0,3977,3974,7951,7951,0,0,0]
[null,null,"7月",0,131,131,0,0,0,0,4099,3826,7925,7925,0,0,0]
[null,null,"8月",0,132,132,0,0,0,0,4193,4235,8428,8428,0,0,0]
[null,null,"9月",0,111,111,0,0,0,0,3313,3348,6661,6661,0,0,0]
[null,null,"10月",0,126,126,0,0,0,0,3920,3771,7691,7691,0,0,0]
[null,null,"11月",0,127,127,0,0,0,0,4327,4380,8707,8707,0,0,0]
[null,null,"12月",0,128,128,0,0,0,0,4316,4091,8407,8407,0,0,0]
[]
[null,"与那国暦１","暦年 計",{"$f":"SUM(D4597:D4608)","v":0},{"$f":"SUM(E4597:E4608)","v":1583},{"$f":"SUM(F4597:F4608)","v":1583},{"$f":"SUM(G4597:G4608)","v":0},{"$f":"SUM(H4597:H4608)","v":0},0,0,49754,49641,99395,99395,0,{"$f":"SUM(P4597:P4608)","v":0},{"$f":"SUM(Q4597:Q4608)","v":0}]
[]
[null,null,"1月",0,127,{"$f":"SUM(D4612:E4612)","v":127},0,0,0,{"$f":"SUM(G4612:I4612)","v":0},4222,4536,{"$f":"SUM(K4612:L4612)","v":8758},{"$f":"J4612+M4612","v":8758},0,0,{"$f":"SUM(O4612:P4612)","v":0}]
[null,null,"2月",0,118,{"$f":"SUM(D4613:E4613)","v":118},0,0,0,{"$f":"SUM(G4613:I4613)","v":0},4640,4693,{"$f":"SUM(K4613:L4613)","v":9333},{"$f":"J4613+M4613","v":9333},0,0,{"$f":"SUM(O4613:P4613)","v":0}]
[null,null,"3月",0,149,{"$f":"SUM(D4614:E4614)","v":149},0,0,0,{"$f":"SUM(G4614:I4614)","v":0},6034,5925,{"$f":"SUM(K4614:L4614)","v":11959},{"$f":"J4614+M4614","v":11959},0,0,{"$f":"SUM(O4614:P4614)","v":0}]
[]
[null,"与那国度１","年度計",{"$f":"SUM(D4600:D4608,D4612:D4614)","v":0},{"$f":"SUM(E4600:E4608,E4612:E4614)","v":1536},{"$f":"SUM(F4600:F4608,F4612:F4614)","v":1536},{"$f":"SUM(G4600:G4608,G4612:G4614)","v":0},0,0,0,51566,51126,102692,102692,0,0,{"$f":"SUM(Q4600:Q4608,Q4612:Q4614)","v":0}]
[]
[]
[]
[null,null,"項目",null,null,null,"貨 物 取 扱 量 （トン）",null,null,null,null,null,null,"郵 便 取 扱 量 （kg）"]
[null,null,null,null,"国 際 線",null,null,"国 内 線",null,"合計",null,"国 際 線",null,null,"国 内 線",null,"合 計"]
[null,null,"月別","積","卸","小 計","積","卸","小 計",null,"積","卸","小 計","積","卸","小 計"]
[]
[null,null,"1月",0,0,{"$f":"SUM(D4624:E4624)","v":0},14,13,{"$f":"SUM(G4624:H4624)","v":27},{"$f":"F4624+I4624","v":27},0,0,{"$f":"SUM(K4624:L4624)","v":0},15957,9610,{"$f":"SUM(N4624:O4624)","v":25567},{"$f":"M4624+P4624","v":25567}]
[null,null,"2月",0,0,0,15,16,31,31,0,0,0,17254,7559,24813,24813]
[null,null,"3月",0,0,0,21,18,39,39,0,0,0,17955,8764,26719,26719]
[null,null,"4月",0,0,0,23,18,41,41,0,0,0,18802,12146,30948,30948]
[null,null,"5月",0,0,0,14,20,34,34,0,0,0,16987,16492,33479,33479]
[null,null,"6月",0,0,0,10,19,29,29,0,0,0,15252,14499,29751,29751]
[null,null,"7月",0,0,0,7,20,27,27,0,0,0,14927,15317,30244,30244]
[null,null,"8月",0,0,0,13,26,39,39,0,0,0,14497,17626,32123,32123]
[null,null,"9月",0,0,0,9,23,32,32,0,0,0,9437,14136,23573,23573]
[null,null,"10月",0,0,0,11,23,34,34,0,0,0,10642,15681,26323,26323]
[null,null,"11月",0,0,0,11,25,36,36,0,0,0,14585,17056,31641,31641]
[null,null,"12月",0,0,0,13,25,38,38,0,0,0,19373,23301,42674,42674]
[]
[null,"与那国暦２","暦年 計",{"$f":"SUM(D4624:D4636)","v":0},0,0,161,246,407,407,0,0,{"$f":"SUM(M4624:M4636)","v":0},{"$f":"SUM(N4624:N4636)","v":185668},{"$f":"SUM(O4624:O4636)","v":172187},{"$f":"SUM(P4624:P4636)","v":357855},{"$f":"SUM(Q4624:Q4636)","v":357855}]
[]
[null,null,"1月",0,0,{"$f":"SUM(D4639:E4639)","v":0},20,26,{"$f":"SUM(G4639:H4639)","v":46},{"$f":"F4639+I4639","v":46},0,0,{"$f":"SUM(K4639:L4639)","v":0},17168,17011,{"$f":"SUM(N4639:O4639)","v":34179},{"$f":"M4639+P4639","v":34179}]
[null,null,"2月",0,0,{"$f":"SUM(D4640:E4640)","v":0},23,25,{"$f":"SUM(G4640:H4640)","v":48},{"$f":"F4640+I4640","v":48},0,0,{"$f":"SUM(K4640:L4640)","v":0},18083,17552,{"$f":"SUM(N4640:O4640)","v":35635},{"$f":"M4640+P4640","v":35635}]
[null,null,"3月",0,0,{"$f":"SUM(D4641:E4641)","v":0},23,29,{"$f":"SUM(G4641:H4641)","v":52},{"$f":"F4641+I4641","v":52},0,0,{"$f":"SUM(K4641:L4641)","v":0},18974,18758,{"$f":"SUM(N4641:O4641)","v":37732},{"$f":"M4641+P4641","v":37732}]
[]
[null,"与那国度２","年度計",{"$f":"SUM(D4627:D4635,D4639:D4641)","v":0},{"$f":"SUM(E4627:E4635,E4639:E4641)","v":0},{"$f":"SUM(F4627:F4635,F4639:F4641)","v":0},{"$f":"SUM(G4627:G4635,G4639:G4641)","v":177},279,456,456,0,0,{"$f":"SUM(M4627:M4635,M4639:M4641)","v":0},{"$f":"SUM(N4627:N4635,N4639:N4641)","v":188727},{"$f":"SUM(O4627:O4635,O4639:O4641)","v":199575},{"$f":"SUM(P4627:P4635,P4639:P4641)","v":388302},{"$f":"SUM(Q4627:Q4635,Q4639:Q4641)","v":388302}]
[]
[null,null,{"$f":"C4591","v":"平　成　２　８　年　空　港　管　理　状　況　調　書"}]
[null,null,"空港名 ：","地方管理空港計"]
[null,null,"項目",null,"着 陸 回 数 （回）",null,"乗   降   客   数   （人）",null,null,null,null,null,null,null,"航空燃料供給量　（KＬ）"]
[null,null,null,"国際線","国内線","計",null,"国 際 線",null,null,null,"国 内 線",null,"合 計","ジェット燃料","その他燃料","合計"]
[null,null,"月別",null,null,null,"乗 客","降 客","通過客","小 計","乗 客","降 客","小 計"]
[]
[null,null,"1月",{"$f":"D1735+D1789+D1843+D1897+D1951+D2005+D2059+D2113+D2167+D2221+D2275+D2329+D2383+D2437+D2491+D2545+D2599+D2761+D2815+D2869+D2653+D2707+D2923+D2977+D3031+D3085+D3139+D3193+D3247+D3301+D3355+D3409+D3463+D3517+D3571+D3625+D3679+D3733+D3787+D3841+D3895+D3949+D4003+D4057+D4111+D4165+D4219+D4273+D4327+D4381+D4435+D4489+D4543+D4597","v":277},10760,11037,27505,30806,0,58311,617773,579985,1197758,1256069,19233,13,19246]
[null,null,"2月",{"$f":"D1736+D1790+D1844+D1898+D1952+D2006+D2060+D2114+D2168+D2222+D2276+D2330+D2384+D2438+D2492+D2546+D2600+D2762+D2816+D2870+D2654+D2708+D2924+D2978+D3032+D3086+D3140+D3194+D3248+D3302+D3356+D3410+D3464+D3518+D3572+D3626+D3680+D3734+D3788+D3842+D3896+D3950+D4004+D4058+D4112+D4166+D4220+D4274+D4328+D4382+D4436+D4490+D4544+D4598","v":292},11011,11303,33380,30927,0,64307,608630,616293,1224923,1289230,19522,19,19541]
[null,null,"3月",{"$f":"D1737+D1791+D1845+D1899+D1953+D2007+D2061+D2115+D2169+D2223+D2277+D2331+D2385+D2439+D2493+D2547+D2601+D2763+D2817+D2871+D2655+D2709+D2925+D2979+D3033+D3087+D3141+D3195+D3249+D3303+D3357+D3411+D3465+D3519+D3573+D3627+D3681+D3735+D3789+D3843+D3897+D3951+D4005+D4059+D4113+D4167+D4221+D4275+D4329+D4383+D4437+D4491+D4545+D4599","v":287},11840,12127,30030,32623,0,62653,718873,721647,1440520,1503173,22339,25,22364]
[null,null,"4月",{"$f":"D1738+D1792+D1846+D1900+D1954+D2008+D2062+D2116+D2170+D2224+D2278+D2332+D2386+D2440+D2494+D2548+D2602+D2764+D2818+D2872+D2656+D2710+D2926+D2980+D3034+D3088+D3142+D3196+D3250+D3304+D3358+D3412+D3466+D3520+D3574+D3628+D3682+D3736+D3790+D3844+D3898+D3952+D4006+D4060+D4114+D4168+D4222+D4276+D4330+D4384+D4438+D4492+D4546+D4600","v":322},11300,{"$f":"F1738+F1792+F1846+F1900+F1954+F2008+F2062+F2116+F2170+F2224+F2278+F2332+F2386+F2440+F2494+F2548+F2602+F2764+F2818+F2872+F2656+F2710+F2926+F2980+F3034+F3088+F3142+F3196+F3250+F3304+F3358+F3412+F3466+F3520+F3574+F3628+F3682+F3736+F3790+F3844+F3898+F3952+F4006+F4060+F4114+F4168+F4222+F4276+F4330+F4384+F4438+F4492+F4546+F4600","v":11622},{"$f":"G1738+G1792+G1846+G1900+G1954+G2008+G2062+G2116+G2170+G2224+G2278+G2332+G2386+G2440+G2494+G2548+G2602+G2764+G2818+G2872+G2656+G2710+G2926+G2980+G3034+G3088+G3142+G3196+G3250+G3304+G3358+G3412+G3466+G3520+G3574+G3628+G3682+G3736+G3790+G3844+G3898+G3952+G4006+G4060+G4114+G4168+G4222+G4276+G4330+G4384+G4438+G4492+G4546+G4600","v":34469},33903,0,68372,619381,638879,1258260,1326632,21238,20,21258]
[null,null,"5月",306,12061,{"$f":"F1739+F1793+F1847+F1901+F1955+F2009+F2063+F2117+F2171+F2225+F2279+F2333+F2387+F2441+F2495+F2549+F2603+F2765+F2819+F2873+F2657+F2711+F2927+F2981+F3035+F3089+F3143+F3197+F3251+F3305+F3359+F3413+F3467+F3521+F3575+F3629+F3683+F3737+F3791+F3845+F3899+F3953+F4007+F4061+F4115+F4169+F4223+F4277+F4331+F4385+F4439+F4493+F4547+F4601","v":12367},28689,29483,0,58172,680858,667903,1348761,1406933,21847,27,21874]
[null,null,"6月",306,11293,{"$f":"F1740+F1794+F1848+F1902+F1956+F2010+F2064+F2118+F2172+F2226+F2280+F2334+F2388+F2442+F2496+F2550+F2604+F2766+F2820+F2874+F2658+F2712+F2928+F2982+F3036+F3090+F3144+F3198+F3252+F3306+F3360+F3414+F3468+F3522+F3576+F3630+F3684+F3738+F3792+F3846+F3900+F3954+F4008+F4062+F4116+F4170+F4224+F4278+F4332+F4386+F4440+F4494+F4548+F4602","v":11599},32136,33706,0,65842,659088,674666,1333754,1399596,21998,23,22021]
[null,null,"7月",314,12160,{"$f":"F1741+F1795+F1849+F1903+F1957+F2011+F2065+F2119+F2173+F2227+F2281+F2335+F2389+F2443+F2497+F2551+F2605+F2767+F2821+F2875+F2659+F2713+F2929+F2983+F3037+F3091+F3145+F3199+F3253+F3307+F3361+F3415+F3469+F3523+F3577+F3631+F3685+F3739+F3793+F3847+F3901+F3955+F4009+F4063+F4117+F4171+F4225+F4279+F4333+F4387+F4441+F4495+F4549+F4603","v":12474},36930,37938,0,74868,742511,760146,1502657,1577525,24363,20,24383]
[null,null,"8月",317,13117,{"$f":"F1742+F1796+F1850+F1904+F1958+F2012+F2066+F2120+F2174+F2228+F2282+F2336+F2390+F2444+F2498+F2552+F2606+F2768+F2822+F2876+F2660+F2714+F2930+F2984+F3038+F3092+F3146+F3200+F3254+F3308+F3362+F3416+F3470+F3524+F3578+F3632+F3686+F3740+F3794+F3848+F3902+F3956+F4010+F4064+F4118+F4172+F4226+F4280+F4334+F4388+F4442+F4496+F4550+F4604","v":13434},40519,38317,0,78836,898878,893711,1792589,1871425,27258,24,27282]
[null,null,"9月",277,12133,{"$f":"F1743+F1797+F1851+F1905+F1959+F2013+F2067+F2121+F2175+F2229+F2283+F2337+F2391+F2445+F2499+F2553+F2607+F2769+F2823+F2877+F2661+F2715+F2931+F2985+F3039+F3093+F3147+F3201+F3255+F3309+F3363+F3417+F3471+F3525+F3579+F3633+F3687+F3741+F3795+F3849+F3903+F3957+F4011+F4065+F4119+F4173+F4227+F4281+F4335+F4389+F4443+F4497+F4551+F4605","v":12410},28923,30687,0,59610,761403,764589,1525992,1585602,23553,17,23570]
[null,null,"10月",306,12601,{"$f":"F1744+F1798+F1852+F1906+F1960+F2014+F2068+F2122+F2176+F2230+F2284+F2338+F2392+F2446+F2500+F2554+F2608+F2770+F2824+F2878+F2662+F2716+F2932+F2986+F3040+F3094+F3148+F3202+F3256+F3310+F3364+F3418+F3472+F3526+F3580+F3634+F3688+F3742+F3796+F3850+F3904+F3958+F4012+F4066+F4120+F4174+F4228+F4282+F4336+F4390+F4444+F4498+F4552+F4606","v":12907},34118,33998,0,68116,773295,779200,1552495,1620611,22996,37,23033]
[null,null,"11月",277,11635,{"$f":"F1745+F1799+F1853+F1907+F1961+F2015+F2069+F2123+F2177+F2231+F2285+F2339+F2393+F2447+F2501+F2555+F2609+F2771+F2825+F2879+F2663+F2717+F2933+F2987+F3041+F3095+F3149+F3203+F3257+F3311+F3365+F3419+F3473+F3527+F3581+F3635+F3689+F3743+F3797+F3851+F3905+F3959+F4013+F4067+F4121+F4175+F4229+F4283+F4337+F4391+F4445+F4499+F4553+F4607","v":11912},30016,29033,0,59049,717866,715694,1433560,1492609,20914,21,20935]
[null,null,"12月",271,11423,{"$f":"F1746+F1800+F1854+F1908+F1962+F2016+F2070+F2124+F2178+F2232+F2286+F2340+F2394+F2448+F2502+F2556+F2610+F2772+F2826+F2880+F2664+F2718+F2934+F2988+F3042+F3096+F3150+F3204+F3258+F3312+F3366+F3420+F3474+F3528+F3582+F3636+F3690+F3744+F3798+F3852+F3906+F3960+F4014+F4068+F4122+F4176+F4230+F4284+F4338+F4392+F4446+F4500+F4554+F4608","v":11694},28553,26949,0,55502,618952,664851,1283803,1339305,19345,15,19360]
[]
[null,null,"暦年 計",{"$f":"D1748+D1802+D1856+D1910+D1964+D2018+D2072+D2126+D2180+D2234+D2288+D2342+D2396+D2450+D2504+D2558+D2612+D2774+D2828+D2882+D2666+D2720+D2936+D2990+D3044+D3098+D3152+D3206+D3260+D3314+D3368+D3422+D3476+D3530+D3584+D3638+D3692+D3746+D3800+D3854+D3908+D3962+D4016+D4070+D4124+D4178+D4232+D4286+D4340+D4394+D4448+D4502+D4556+D4610","v":3552},141334,144886,385268,388370,0,773638,8417508,8477564,16895072,17668710,264606,261,264867]
[]
[null,null,"1月",{"$f":"D1750+D1804+D1858+D1912+D1966+D2020+D2074+D2128+D2182+D2236+D2290+D2344+D2398+D2452+D2506+D2560+D2614+D2776+D2830+D2884+D2668+D2722+D2938+D2992+D3046+D3100+D3154+D3208+D3262+D3316+D3370+D3424+D3478+D3532+D3586+D3640+D3694+D3748+D3802+D3856+D3910+D3964+D4018+D4072+D4126+D4180+D4234+D4288+D4342+D4396+D4450+D4504+D4558+D4612","v":307},{"$f":"E1750+E1804+E1858+E1912+E1966+E2020+E2074+E2128+E2182+E2236+E2290+E2344+E2398+E2452+E2506+E2560+E2614+E2776+E2830+E2884+E2668+E2722+E2938+E2992+E3046+E3100+E3154+E3208+E3262+E3316+E3370+E3424+E3478+E3532+E3586+E3640+E3694+E3748+E3802+E3856+E3910+E3964+E4018+E4072+E4126+E4180+E4234+E4288+E4342+E4396+E4450+E4504+E4558+E4612","v":10909},11216,31324,36614,0,67938,652888,615901,1268789,1336727,19293,10,19303]
[null,null,"2月",{"$f":"D1751+D1805+D1859+D1913+D1967+D2021+D2075+D2129+D2183+D2237+D2291+D2345+D2399+D2453+D2507+D2561+D2615+D2777+D2831+D2885+D2669+D2723+D2939+D2993+D3047+D3101+D3155+D3209+D3263+D3317+D3371+D3425+D3479+D3533+D3587+D3641+D3695+D3749+D3803+D3857+D3911+D3965+D4019+D4073+D4127+D4181+D4235+D4289+D4343+D4397+D4451+D4505+D4559+D4613","v":302},10403,10705,41128,37129,0,78257,616521,621901,1238422,1316679,19143,12,19155]
[null,null,"3月",{"$f":"D1752+D1806+D1860+D1914+D1968+D2022+D2076+D2130+D2184+D2238+D2292+D2346+D2400+D2454+D2508+D2562+D2616+D2778+D2832+D2886+D2670+D2724+D2940+D2994+D3048+D3102+D3156+D3210+D3264+D3318+D3372+D3426+D3480+D3534+D3588+D3642+D3696+D3750+D3804+D3858+D3912+D3966+D4020+D4074+D4128+D4182+D4236+D4290+D4344+D4398+D4452+D4506+D4560+D4614","v":310},12141,12451,35721,37167,0,72888,775728,775375,1551103,1623991,21763,14,21777]
[]
[null,null,"年度計",{"$f":"D1754+D1808+D1862+D1916+D1970+D2024+D2078+D2132+D2186+D2240+D2294+D2348+D2402+D2456+D2510+D2564+D2618+D2780+D2834+D2888+D2672+D2726+D2942+D2996+D3050+D3104+D3158+D3212+D3266+D3320+D3374+D3428+D3482+D3536+D3590+D3644+D3698+D3752+D3806+D3860+D3914+D3968+D4022+D4076+D4130+D4184+D4238+D4292+D4346+D4400+D4454+D4508+D4562+D4616","v":3615},141176,144791,402526,404924,0,807450,8517369,8572816,17090185,17897635,263711,240,263951]
[]
[]
[]
[null,null,"項目",null,null,null,"貨 物 取 扱 量 （トン）",null,null,null,null,null,null,"郵 便 取 扱 量 （kg）"]
[null,null,null,null,"国 際 線",null,null,"国 内 線",null,"合計",null,"国 際 線",null,null,"国 内 線",null,"合 計"]
[null,null,"月別","積","卸","小 計","積","卸","小 計",null,"積","卸","小 計","積","卸","小 計"]
[]
[null,null,"1月",{"$f":"D1762+D1816+D1870+D1924+D1978+D2032+D2086+D2140+D2194+D2248+D2302+D2356+D2410+D2464+D2518+D2572+D2626+D2788+D2842+D2896+D2680+D2734+D2950+D3004+D3058+D3112+D3166+D3220+D3274+D3328+D3382+D3436+D3490+D3544+D3598+D3652+D3706+D3760+D3814+D3868+D3922+D3976+D4030+D4084+D4138+D4192+D4246+D4300+D4354+D4408+D4462+D4516+D4570+D4624","v":125},26,151,{"$f":"G1762+G1816+G1870+G1924+G1978+G2032+G2086+G2140+G2194+G2248+G2302+G2356+G2410+G2464+G2518+G2572+G2626+G2788+G2842+G2896+G2680+G2734+G2950+G3004+G3058+G3112+G3166+G3220+G3274+G3328+G3382+G3436+G3490+G3544+G3598+G3652+G3706+G3760+G3814+G3868+G3922+G3976+G4030+G4084+G4138+G4192+G4246+G4300+G4354+G4408+G4462+G4516+G4570+G4624","v":1731},1896,3627,3778,0,0,0,{"$f":"N1762+N1816+N1870+N1924+N1978+N2032+N2086+N2140+N2194+N2248+N2302+N2356+N2410+N2464+N2518+N2572+N2626+N2788+N2842+N2896+N2680+N2734+N2950+N3004+N3058+N3112+N3166+N3220+N3274+N3328+N3382+N3436+N3490+N3544+N3598+N3652+N3706+N3760+N3814+N3868+N3922+N3976+N4030+N4084+N4138+N4192+N4246+N4300+N4354+N4408+N4462+N4516+N4570+N4624","v":233161},295860,{"$f":"SUM(N4678:O4678)","v":529021},529021]
[null,null,"2月",{"$f":"D1763+D1817+D1871+D1925+D1979+D2033+D2087+D2141+D2195+D2249+D2303+D2357+D2411+D2465+D2519+D2573+D2627+D2789+D2843+D2897+D2681+D2735+D2951+D3005+D3059+D3113+D3167+D3221+D3275+D3329+D3383+D3437+D3491+D3545+D3599+D3653+D3707+D3761+D3815+D3869+D3923+D3977+D4031+D4085+D4139+D4193+D4247+D4301+D4355+D4409+D4463+D4517+D4571+D4625","v":130},23,153,1717,1941,3658,3811,0,0,0,225882,280336,{"$f":"SUM(N4679:O4679)","v":506218},506218]
[null,null,"3月",{"$f":"D1764+D1818+D1872+D1926+D1980+D2034+D2088+D2142+D2196+D2250+D2304+D2358+D2412+D2466+D2520+D2574+D2628+D2790+D2844+D2898+D2682+D2736+D2952+D3006+D3060+D3114+D3168+D3222+D3276+D3330+D3384+D3438+D3492+D3546+D3600+D3654+D3708+D3762+D3816+D3870+D3924+D3978+D4032+D4086+D4140+D4194+D4248+D4302+D4356+D4410+D4464+D4518+D4572+D4626","v":159},40,199,2255,2219,4474,4673,0,0,0,242550,328412,570962,570962]
[null,null,"4月",{"$f":"D1765+D1819+D1873+D1927+D1981+D2035+D2089+D2143+D2197+D2251+D2305+D2359+D2413+D2467+D2521+D2575+D2629+D2791+D2845+D2899+D2683+D2737+D2953+D3007+D3061+D3115+D3169+D3223+D3277+D3331+D3385+D3439+D3493+D3547+D3601+D3655+D3709+D3763+D3817+D3871+D3925+D3979+D4033+D4087+D4141+D4195+D4249+D4303+D4357+D4411+D4465+D4519+D4573+D4627","v":142},19,161,2462,2187,4649,4810,0,0,0,248586,323697,572283,572283]
[null,null,"5月",{"$f":"D1766+D1820+D1874+D1928+D1982+D2036+D2090+D2144+D2198+D2252+D2306+D2360+D2414+D2468+D2522+D2576+D2630+D2792+D2846+D2900+D2684+D2738+D2954+D3008+D3062+D3116+D3170+D3224+D3278+D3332+D3386+D3440+D3494+D3548+D3602+D3656+D3710+D3764+D3818+D3872+D3926+D3980+D4034+D4088+D4142+D4196+D4250+D4304+D4358+D4412+D4466+D4520+D4574+D4628","v":93},12,105,2457,1864,4321,4426,0,0,0,294215,302861,597076,597076]
[null,null,"6月",{"$f":"D1767+D1821+D1875+D1929+D1983+D2037+D2091+D2145+D2199+D2253+D2307+D2361+D2415+D2469+D2523+D2577+D2631+D2793+D2847+D2901+D2685+D2739+D2955+D3009+D3063+D3117+D3171+D3225+D3279+D3333+D3387+D3441+D3495+D3549+D3603+D3657+D3711+D3765+D3819+D3873+D3927+D3981+D4035+D4089+D4143+D4197+D4251+D4305+D4359+D4413+D4467+D4521+D4575+D4629","v":195},17,212,2392,2106,4498,4710,0,0,0,226589,317999,544588,544588]
[null,null,"7月",{"$f":"D1768+D1822+D1876+D1930+D1984+D2038+D2092+D2146+D2200+D2254+D2308+D2362+D2416+D2470+D2524+D2578+D2632+D2794+D2848+D2902+D2686+D2740+D2956+D3010+D3064+D3118+D3172+D3226+D3280+D3334+D3388+D3442+D3496+D3550+D3604+D3658+D3712+D3766+D3820+D3874+D3928+D3982+D4036+D4090+D4144+D4198+D4252+D4306+D4360+D4414+D4468+D4522+D4576+D4630","v":141},20,161,2899,2322,5221,5382,0,0,0,262396,357721,620117,620117]
[null,null,"8月",{"$f":"D1769+D1823+D1877+D1931+D1985+D2039+D2093+D2147+D2201+D2255+D2309+D2363+D2417+D2471+D2525+D2579+D2633+D2795+D2849+D2903+D2687+D2741+D2957+D3011+D3065+D3119+D3173+D3227+D3281+D3335+D3389+D3443+D3497+D3551+D3605+D3659+D3713+D3767+D3821+D3875+D3929+D3983+D4037+D4091+D4145+D4199+D4253+D4307+D4361+D4415+D4469+D4523+D4577+D4631","v":115},15,130,2209,2283,4492,4622,0,0,0,221069,340095,561164,561164]
[null,null,"9月",{"$f":"D1770+D1824+D1878+D1932+D1986+D2040+D2094+D2148+D2202+D2256+D2310+D2364+D2418+D2472+D2526+D2580+D2634+D2796+D2850+D2904+D2688+D2742+D2958+D3012+D3066+D3120+D3174+D3228+D3282+D3336+D3390+D3444+D3498+D3552+D3606+D3660+D3714+D3768+D3822+D3876+D3930+D3984+D4038+D4092+D4146+D4200+D4254+D4308+D4362+D4416+D4470+D4524+D4578+D4632","v":136},28,164,1701,2178,3879,4043,0,0,0,175380,309395,484775,484775]
[null,null,"10月",{"$f":"D1771+D1825+D1879+D1933+D1987+D2041+D2095+D2149+D2203+D2257+D2311+D2365+D2419+D2473+D2527+D2581+D2635+D2797+D2851+D2905+D2689+D2743+D2959+D3013+D3067+D3121+D3175+D3229+D3283+D3337+D3391+D3445+D3499+D3553+D3607+D3661+D3715+D3769+D3823+D3877+D3931+D3985+D4039+D4093+D4147+D4201+D4255+D4309+D4363+D4417+D4471+D4525+D4579+D4633","v":128},20,148,1600,2214,3814,3962,0,0,0,181594,334103,515697,515697]
[null,null,"11月",{"$f":"D1772+D1826+D1880+D1934+D1988+D2042+D2096+D2150+D2204+D2258+D2312+D2366+D2420+D2474+D2528+D2582+D2636+D2798+D2852+D2906+D2690+D2744+D2960+D3014+D3068+D3122+D3176+D3230+D3284+D3338+D3392+D3446+D3500+D3554+D3608+D3662+D3716+D3770+D3824+D3878+D3932+D3986+D4040+D4094+D4148+D4202+D4256+D4310+D4364+D4418+D4472+D4526+D4580+D4634","v":145},18,163,1654,2200,3854,4017,0,0,0,190014,315239,505253,505253]
[null,null,"12月",{"$f":"D1773+D1827+D1881+D1935+D1989+D2043+D2097+D2151+D2205+D2259+D2313+D2367+D2421+D2475+D2529+D2583+D2637+D2799+D2853+D2907+D2691+D2745+D2961+D3015+D3069+D3123+D3177+D3231+D3285+D3339+D3393+D3447+D3501+D3555+D3609+D3663+D3717+D3771+D3825+D3879+D3933+D3987+D4041+D4095+D4149+D4203+D4257+D4311+D4365+D4419+D4473+D4527+D4581+D4635","v":137},16,153,2118,2545,4663,4816,0,0,0,277544,435607,713151,713151]
[]
[null,null,"暦年 計",{"$f":"D1775+D1829+D1883+D1937+D1991+D2045+D2099+D2153+D2207+D2261+D2315+D2369+D2423+D2477+D2531+D2585+D2639+D2801+D2855+D2909+D2693+D2747+D2963+D3017+D3071+D3125+D3179+D3233+D3287+D3341+D3395+D3449+D3503+D3557+D3611+D3665+D3719+D3773+D3827+D3881+D3935+D3989+D4043+D4097+D4151+D4205+D4259+D4313+D4367+D4421+D4475+D4529+D4583+D4637","v":1646},254,1900,25195,25955,51150,53050,0,0,0,{"$f":"SUM(N4678:N4689)","v":2778980},{"$f":"SUM(O4678:O4689)","v":3941325},{"$f":"SUM(P4678:P4689)","v":6720305},6720305]
[]
[null,null,"1月",{"$f":"D1777+D1831+D1885+D1939+D1993+D2047+D2101+D2155+D2209+D2263+D2317+D2371+D2425+D2479+D2533+D2587+D2641+D2803+D2857+D2911+D2695+D2749+D2965+D3019+D3073+D3127+D3181+D3235+D3289+D3343+D3397+D3451+D3505+D3559+D3613+D3667+D3721+D3775+D3829+D3883+D3937+D3991+D4045+D4099+D4153+D4207+D4261+D4315+D4369+D4423+D4477+D4531+D4585+D4639","v":140},25,165,{"$f":"G1777+G1831+G1885+G1939+G1993+G2047+G2101+G2155+G2209+G2263+G2317+G2371+G2425+G2479+G2533+G2587+G2641+G2803+G2857+G2911+G2695+G2749+G2965+G3019+G3073+G3127+G3181+G3235+G3289+G3343+G3397+G3451+G3505+G3559+G3613+G3667+G3721+G3775+G3829+G3883+G3937+G3991+G4045+G4099+G4153+G4207+G4261+G4315+G4369+G4423+G4477+G4531+G4585+G4639","v":1856},1884,3740,3905,0,0,0,257491,352637,610128,610128]
[null,null,"2月",{"$f":"D1778+D1832+D1886+D1940+D1994+D2048+D2102+D2156+D2210+D2264+D2318+D2372+D2426+D2480+D2534+D2588+D2642+D2804+D2858+D2912+D2696+D2750+D2966+D3020+D3074+D3128+D3182+D3236+D3290+D3344+D3398+D3452+D3506+D3560+D3614+D3668+D3722+D3776+D3830+D3884+D3938+D3992+D4046+D4100+D4154+D4208+D4262+D4316+D4370+D4424+D4478+D4532+D4586+D4640","v":174},17,191,1880,1955,3835,4026,0,0,0,234955,302653,537608,537608]
[null,null,"3月",{"$f":"D1779+D1833+D1887+D1941+D1995+D2049+D2103+D2157+D2211+D2265+D2319+D2373+D2427+D2481+D2535+D2589+D2643+D2805+D2859+D2913+D2697+D2751+D2967+D3021+D3075+D3129+D3183+D3237+D3291+D3345+D3399+D3453+D3507+D3561+D3615+D3669+D3723+D3777+D3831+D3885+D3939+D3993+D4047+D4101+D4155+D4209+D4263+D4317+D4371+D4425+D4479+D4533+D4587+D4641","v":158},32,190,2421,2332,4753,4943,0,0,0,247475,356852,604327,604327]
[]
[null,null,"年度計",{"$f":"D1781+D1835+D1889+D1943+D1997+D2051+D2105+D2159+D2213+D2267+D2321+D2375+D2429+D2483+D2537+D2591+D2645+D2807+D2861+D2915+D2699+D2753+D2969+D3023+D3077+D3131+D3185+D3239+D3293+D3347+D3401+D3455+D3509+D3563+D3617+D3671+D3725+D3779+D3833+D3887+D3941+D3995+D4049+D4103+D4157+D4211+D4265+D4319+D4373+D4427+D4481+D4535+D4589+D4643","v":1704},239,1943,25649,26070,51719,53662,0,0,0,2817308,4048859,6866167,6866167]
[]
[null,null,{"$f":"C4645","v":"平　成　２　８　年　空　港　管　理　状　況　調　書"}]
[null,null,"空港名 ：","札    幌                （共  用）"]
[null,null,"項目",null,"着 陸 回 数 （回）",null,"乗   降   客   数   （人）",null,null,null,null,null,null,null,"航空燃料供給量　（KＬ）"]
[null,null,null,"国際線","国内線","計",null,"国 際 線",null,null,null,"国 内 線",null,"合 計","ジェット燃料","その他燃料","合計"]
[null,null,"月別",null,null,null,"乗 客","降 客","通過客","小 計","乗 客","降 客","小 計"]
[]
[null,null,"1月",0,445,{"$f":"SUM(D4705:E4705)","v":445},0,0,0,{"$f":"SUM(G4705:I4705)","v":0},6554,6754,{"$f":"SUM(K4705:L4705)","v":13308},{"$f":"J4705+M4705","v":13308},59,0,{"$f":"SUM(O4705:P4705)","v":59}]
[null,null,"2月",0,450,{"$f":"SUM(D4706:E4706)","v":450},0,0,0,{"$f":"SUM(G4706:I4706)","v":0},6356,6401,{"$f":"SUM(K4706:L4706)","v":12757},{"$f":"J4706+M4706","v":12757},54,1,{"$f":"SUM(O4706:P4706)","v":55}]
[null,null,"3月",0,579,{"$f":"SUM(D4707:E4707)","v":579},0,0,0,{"$f":"SUM(G4707:I4707)","v":0},8019,8097,{"$f":"SUM(K4707:L4707)","v":16116},{"$f":"J4707+M4707","v":16116},94,2,{"$f":"SUM(O4707:P4707)","v":96}]
[null,null,"4月",0,598,{"$f":"SUM(D4708:E4708)","v":598},0,0,0,{"$f":"SUM(G4708:I4708)","v":0},7629,7614,{"$f":"SUM(K4708:L4708)","v":15243},{"$f":"J4708+M4708","v":15243},88,3,{"$f":"SUM(O4708:P4708)","v":91}]
[null,null,"5月",0,733,733,0,0,0,0,7930,7904,15834,15834,124,6,130]
[null,null,"6月",0,658,658,0,0,0,0,8816,8909,17725,17725,137,6,143]
[null,null,"7月",0,758,758,0,0,0,0,9334,9508,18842,18842,159,7,166]
[null,null,"8月",0,823,823,0,0,0,0,9203,9432,18635,18635,220,14,234]
[null,null,"9月",0,840,840,0,0,0,0,9706,9778,19484,19484,183,15,198]
[null,null,"10月",0,688,{"$f":"SUM(D4714:E4714)","v":688},0,0,0,{"$f":"SUM(G4714:I4714)","v":0},10060,9985,{"$f":"SUM(K4714:L4714)","v":20045},{"$f":"J4714+M4714","v":20045},128,11,{"$f":"SUM(O4714:P4714)","v":139}]
[null,null,"11月",0,564,564,0,0,0,0,9909,9659,19568,19568,86,3,89]
[null,null,"12月",0,538,538,0,0,0,0,9099,8641,17740,17740,85,1,86]
[]
[null,"札幌暦１","暦年 計",{"$f":"SUM(D4705:D4716)","v":0},{"$f":"SUM(E4705:E4716)","v":7674},{"$f":"SUM(F4705:F4716)","v":7674},{"$f":"SUM(G4705:G4716)","v":0},{"$f":"SUM(H4705:H4716)","v":0},{"$f":"SUM(I4705:I4716)","v":0},0,102615,102682,205297,205297,1417,{"$f":"SUM(P4705:P4716)","v":69},{"$f":"SUM(Q4705:Q4716)","v":1486}]
[]
[null,null,"1月",0,488,{"$f":"SUM(D4720:E4720)","v":488},0,0,0,{"$f":"SUM(G4720:I4720)","v":0},8041,8330,{"$f":"SUM(K4720:L4720)","v":16371},{"$f":"J4720+M4720","v":16371},77,0,{"$f":"SUM(O4720:P4720)","v":77}]
[null,null,"2月",0,502,{"$f":"SUM(D4721:E4721)","v":502},0,0,0,{"$f":"SUM(G4721:I4721)","v":0},7919,7818,{"$f":"SUM(K4721:L4721)","v":15737},{"$f":"J4721+M4721","v":15737},85,1,{"$f":"SUM(O4721:P4721)","v":86}]
[null,null,"3月",0,600,{"$f":"SUM(D4722:E4722)","v":600},0,0,0,{"$f":"SUM(G4722:I4722)","v":0},9452,9644,{"$f":"SUM(K4722:L4722)","v":19096},{"$f":"J4722+M4722","v":19096},105,3,{"$f":"SUM(O4722:P4722)","v":108}]
[]
[null,"札幌度１","年度計",{"$f":"SUM(D4708:D4716,D4720:D4722)","v":0},{"$f":"SUM(E4708:E4716,E4720:E4722)","v":7790},{"$f":"SUM(F4708:F4716,F4720:F4722)","v":7790},{"$f":"SUM(G4708:G4716,G4720:G4722)","v":0},0,0,0,107098,107222,214320,214320,1477,70,{"$f":"SUM(Q4708:Q4716,Q4720:Q4722)","v":1547}]
[]
[]
[]
[null,null,"項目",null,null,null,"貨 物 取 扱 量 （トン）",null,null,null,null,null,null,"郵 便 取 扱 量 （kg）"]
[null,null,null,null,"国 際 線",null,null,"国 内 線",null,"合計",null,"国 際 線",null,null,"国 内 線",null,"合 計"]
[null,null,"月別","積","卸","小 計","積","卸","小 計",null,"積","卸","小 計","積","卸","小 計"]
[]
[null,null,"1月",0,0,{"$f":"SUM(D4732:E4732)","v":0},0,0,{"$f":"SUM(G4732:H4732)","v":0},{"$f":"F4732+I4732","v":0},0,0,{"$f":"SUM(K4732:L4732)","v":0},0,0,{"$f":"SUM(N4732:O4732)","v":0},{"$f":"M4732+P4732","v":0}]
[null,null,"2月",0,0,{"$f":"SUM(D4733:E4733)","v":0},0,0,{"$f":"SUM(G4733:H4733)","v":0},{"$f":"F4733+I4733","v":0},0,0,{"$f":"SUM(K4733:L4733)","v":0},0,0,{"$f":"SUM(N4733:O4733)","v":0},{"$f":"M4733+P4733","v":0}]
[null,null,"3月",0,0,{"$f":"SUM(D4734:E4734)","v":0},0,0,{"$f":"SUM(G4734:H4734)","v":0},{"$f":"F4734+I4734","v":0},0,0,{"$f":"SUM(K4734:L4734)","v":0},0,0,{"$f":"SUM(N4734:O4734)","v":0},{"$f":"M4734+P4734","v":0}]
[null,null,"4月",0,0,{"$f":"SUM(D4735:E4735)","v":0},0,0,{"$f":"SUM(G4735:H4735)","v":0},{"$f":"F4735+I4735","v":0},0,0,{"$f":"SUM(K4735:L4735)","v":0},0,0,{"$f":"SUM(N4735:O4735)","v":0},{"$f":"M4735+P4735","v":0}]
[null,null,"5月",0,0,0,0,0,0,0,0,0,0,0,0,0,0]
[null,null,"6月",0,0,0,1,0,1,1,0,0,0,0,0,0,0]
[null,null,"7月",0,0,0,0,0,0,0,0,0,0,0,0,0,0]
[null,null,"8月",0,0,0,0,0,0,0,0,0,0,0,0,0,0]
[null,null,"9月",0,0,0,1,0,1,1,0,0,0,0,0,0,0]
[null,null,"10月",0,0,0,0,0,0,0,0,0,0,0,0,0,0]
[null,null,"11月",0,0,0,0,0,0,0,0,0,0,0,0,0,0]
[null,null,"12月",0,0,0,0,0,0,0,0,0,0,0,0,0,0]
[]
[null,"札幌暦２","暦年 計",{"$f":"SUM(D4732:D4744)","v":0},0,0,2,0,2,2,0,0,{"$f":"SUM(M4732:M4744)","v":0},{"$f":"SUM(N4732:N4744)","v":0},{"$f":"SUM(O4732:O4744)","v":0},{"$f":"SUM(P4732:P4744)","v":0},{"$f":"SUM(Q4732:Q4744)","v":0}]
[]
[null,null,"1月",0,0,{"$f":"SUM(D4747:E4747)","v":0},0,0,{"$f":"SUM(G4747:H4747)","v":0},{"$f":"F4747+I4747","v":0},0,0,{"$f":"SUM(K4747:L4747)","v":0},0,0,{"$f":"SUM(N4747:O4747)","v":0},{"$f":"M4747+P4747","v":0}]
[null,null,"2月",0,0,{"$f":"SUM(D4748:E4748)","v":0},0,0,{"$f":"SUM(G4748:H4748)","v":0},{"$f":"F4748+I4748","v":0},0,0,{"$f":"SUM(K4748:L4748)","v":0},0,0,{"$f":"SUM(N4748:O4748)","v":0},{"$f":"M4748+P4748","v":0}]
[null,null,"3月",0,0,{"$f":"SUM(D4749:E4749)","v":0},0,0,{"$f":"SUM(G4749:H4749)","v":0},{"$f":"F4749+I4749","v":0},0,0,{"$f":"SUM(K4749:L4749)","v":0},0,0,{"$f":"SUM(N4749:O4749)","v":0},{"$f":"M4749+P4749","v":0}]
[]
[null,"札幌度２","年度計",{"$f":"SUM(D4735:D4743,D4747:D4749)","v":0},{"$f":"SUM(E4735:E4743,E4747:E4749)","v":0},{"$f":"SUM(F4735:F4743,F4747:F4749)","v":0},{"$f":"SUM(G4735:G4743,G4747:G4749)","v":2},0,2,2,0,0,{"$f":"SUM(M4735:M4743,M4747:M4749)","v":0},{"$f":"SUM(N4735:N4743,N4747:N4749)","v":0},{"$f":"SUM(O4735:O4743,O4747:O4749)","v":0},{"$f":"SUM(P4735:P4743,P4747:P4749)","v":0},{"$f":"SUM(Q4735:Q4743,Q4747:Q4749)","v":0}]
[]
[null,null,{"$f":"C4699","v":"平　成　２　８　年　空　港　管　理　状　況　調　書"}]
[null,null,"空港名 ：","三    沢                （共  用）"]
[null,null,"項目",null,"着 陸 回 数 （回）",null,"乗   降   客   数   （人）",null,null,null,null,null,null,null,"航空燃料供給量　（KＬ）"]
[null,null,null,"国際線","国内線","計",null,"国 際 線",null,null,null,"国 内 線",null,"合 計","ジェット燃料","その他燃料","合計"]
[null,null,"月別",null,null,null,"乗 客","降 客","通過客","小 計","乗 客","降 客","小 計"]
[]
[null,null,"1月",0,150,{"$f":"SUM(D4759:E4759)","v":150},0,0,0,{"$f":"SUM(G4759:I4759)","v":0},10448,9772,{"$f":"SUM(K4759:L4759)","v":20220},{"$f":"J4759+M4759","v":20220},260,0,{"$f":"SUM(O4759:P4759)","v":260}]
[null,null,"2月",0,142,{"$f":"SUM(D4760:E4760)","v":142},0,0,0,{"$f":"SUM(G4760:I4760)","v":0},9501,9525,{"$f":"SUM(K4760:L4760)","v":19026},{"$f":"J4760+M4760","v":19026},236,0,{"$f":"SUM(O4760:P4760)","v":236}]
[null,null,"3月",0,149,{"$f":"SUM(D4761:E4761)","v":149},0,0,0,{"$f":"SUM(G4761:I4761)","v":0},10936,10945,{"$f":"SUM(K4761:L4761)","v":21881},{"$f":"J4761+M4761","v":21881},338,0,{"$f":"SUM(O4761:P4761)","v":338}]
[null,null,"4月",0,149,{"$f":"SUM(D4762:E4762)","v":149},0,0,0,{"$f":"SUM(G4762:I4762)","v":0},9599,9587,{"$f":"SUM(K4762:L4762)","v":19186},{"$f":"J4762+M4762","v":19186},336,0,{"$f":"SUM(O4762:P4762)","v":336}]
[null,null,"5月",0,157,157,0,0,0,0,10852,10481,21333,21333,356,0,356]
[null,null,"6月",0,149,149,0,0,0,0,10796,11029,21825,21825,277,0,277]
[null,null,"7月",0,95,95,0,0,0,0,6918,7153,14071,14071,200,0,200]
[null,null,"8月",0,90,90,0,0,0,0,7877,7481,15358,15358,224,0,224]
[null,null,"9月",0,155,155,0,0,0,0,12181,12601,24782,24782,404,0,404]
[null,null,"10月",0,155,155,0,0,0,0,11713,12859,24572,24572,380,0,380]
[null,null,"11月",1,150,151,70,0,0,70,11323,11337,22660,22730,329,0,329]
[null,null,"12月",0,158,158,0,0,0,0,10569,11082,21651,21651,290,0,290]
[]
[null,"三沢暦１","暦年 計",{"$f":"SUM(D4759:D4770)","v":1},{"$f":"SUM(E4759:E4770)","v":1699},{"$f":"SUM(F4759:F4770)","v":1700},{"$f":"SUM(G4759:G4770)","v":70},{"$f":"SUM(H4759:H4770)","v":0},0,70,122713,123852,246565,246635,3630,{"$f":"SUM(P4759:P4770)","v":0},{"$f":"SUM(Q4759:Q4770)","v":3630}]
[]
[null,null,"1月",0,154,{"$f":"SUM(D4774:E4774)","v":154},0,0,0,{"$f":"SUM(G4774:I4774)","v":0},11100,10175,{"$f":"SUM(K4774:L4774)","v":21275},{"$f":"J4774+M4774","v":21275},227,0,{"$f":"SUM(O4774:P4774)","v":227}]
[null,null,"2月",0,137,{"$f":"SUM(D4775:E4775)","v":137},0,0,0,{"$f":"SUM(G4775:I4775)","v":0},9804,9933,{"$f":"SUM(K4775:L4775)","v":19737},{"$f":"J4775+M4775","v":19737},227,0,{"$f":"SUM(O4775:P4775)","v":227}]
[null,null,"3月",0,155,{"$f":"SUM(D4776:E4776)","v":155},0,0,0,{"$f":"SUM(G4776:I4776)","v":0},11756,11723,{"$f":"SUM(K4776:L4776)","v":23479},{"$f":"J4776+M4776","v":23479},317,0,{"$f":"SUM(O4776:P4776)","v":317}]
[]
[null,"三沢度１","年度計",{"$f":"SUM(D4762:D4770,D4774:D4776)","v":1},{"$f":"SUM(E4762:E4770,E4774:E4776)","v":1704},{"$f":"SUM(F4762:F4770,F4774:F4776)","v":1705},{"$f":"SUM(G4762:G4770,G4774:G4776)","v":70},0,0,70,124488,125441,249929,249999,3567,0,{"$f":"SUM(Q4762:Q4770,Q4774:Q4776)","v":3567}]
[]
[]
[]
[null,null,"項目",null,null,null,"貨 物 取 扱 量 （トン）",null,null,null,null,null,null,"郵 便 取 扱 量 （kg）"]
[null,null,null,null,"国 際 線",null,null,"国 内 線",null,"合計",null,"国 際 線",null,null,"国 内 線",null,"合 計"]
[null,null,"月別","積","卸","小 計","積","卸","小 計",null,"積","卸","小 計","積","卸","小 計"]
[]
[null,null,"1月",0,0,{"$f":"SUM(D4786:E4786)","v":0},23,13,{"$f":"SUM(G4786:H4786)","v":36},{"$f":"F4786+I4786","v":36},0,0,{"$f":"SUM(K4786:L4786)","v":0},8918,34334,{"$f":"SUM(N4786:O4786)","v":43252},{"$f":"M4786+P4786","v":43252}]
[null,null,"2月",0,0,{"$f":"SUM(D4787:E4787)","v":0},21,15,{"$f":"SUM(G4787:H4787)","v":36},{"$f":"F4787+I4787","v":36},0,0,{"$f":"SUM(K4787:L4787)","v":0},8184,32052,{"$f":"SUM(N4787:O4787)","v":40236},{"$f":"M4787+P4787","v":40236}]
[null,null,"3月",0,0,{"$f":"SUM(D4788:E4788)","v":0},23,12,{"$f":"SUM(G4788:H4788)","v":35},{"$f":"F4788+I4788","v":35},0,0,{"$f":"SUM(K4788:L4788)","v":0},10894,47022,{"$f":"SUM(N4788:O4788)","v":57916},{"$f":"M4788+P4788","v":57916}]
[null,null,"4月",0,0,{"$f":"SUM(D4789:E4789)","v":0},17,13,{"$f":"SUM(G4789:H4789)","v":30},{"$f":"F4789+I4789","v":30},0,0,{"$f":"SUM(K4789:L4789)","v":0},9753,34613,{"$f":"SUM(N4789:O4789)","v":44366},{"$f":"M4789+P4789","v":44366}]
[null,null,"5月",0,0,0,15,14,29,29,0,0,0,14994,39420,54414,54414]
[null,null,"6月",0,0,0,13,12,25,25,0,0,0,13161,36892,50053,50053]
[null,null,"7月",0,0,{"$f":"SUM(D4792:E4792)","v":0},10,8,{"$f":"SUM(G4792:H4792)","v":18},{"$f":"F4792+I4792","v":18},0,0,{"$f":"SUM(K4792:L4792)","v":0},7836,22313,{"$f":"SUM(N4792:O4792)","v":30149},{"$f":"M4792+P4792","v":30149}]
[null,null,"8月",0,0,0,9,8,17,17,0,0,0,7992,24576,32568,32568]
[null,null,"9月",0,0,0,19,14,33,33,0,0,0,11361,37677,49038,49038]
[null,null,"10月",0,0,0,26,16,42,42,0,0,0,10447,40160,50607,50607]
[null,null,"11月",0,0,0,22,15,37,37,0,0,0,11319,48067,59386,59386]
[null,null,"12月",0,0,0,22,16,38,38,0,0,0,15075,56312,71387,71387]
[]
[null,"三沢暦２","暦年 計",{"$f":"SUM(D4786:D4798)","v":0},0,0,220,156,376,376,0,0,{"$f":"SUM(M4786:M4798)","v":0},{"$f":"SUM(N4786:N4798)","v":129934},{"$f":"SUM(O4786:O4798)","v":453438},{"$f":"SUM(P4786:P4798)","v":583372},{"$f":"SUM(Q4786:Q4798)","v":583372}]
[]
[null,null,"1月",0,0,{"$f":"SUM(D4801:E4801)","v":0},24,14,{"$f":"SUM(G4801:H4801)","v":38},{"$f":"F4801+I4801","v":38},0,0,{"$f":"SUM(K4801:L4801)","v":0},10300,37566,{"$f":"SUM(N4801:O4801)","v":47866},{"$f":"M4801+P4801","v":47866}]
[null,null,"2月",0,0,{"$f":"SUM(D4802:E4802)","v":0},20,13,{"$f":"SUM(G4802:H4802)","v":33},{"$f":"F4802+I4802","v":33},0,0,{"$f":"SUM(K4802:L4802)","v":0},8116,32598,{"$f":"SUM(N4802:O4802)","v":40714},{"$f":"M4802+P4802","v":40714}]
[null,null,"3月",0,0,{"$f":"SUM(D4803:E4803)","v":0},29,16,{"$f":"SUM(G4803:H4803)","v":45},{"$f":"F4803+I4803","v":45},0,0,{"$f":"SUM(K4803:L4803)","v":0},12149,34639,{"$f":"SUM(N4803:O4803)","v":46788},{"$f":"M4803+P4803","v":46788}]
[]
[null,"三沢度２","年度計",{"$f":"SUM(D4789:D4797,D4801:D4803)","v":0},{"$f":"SUM(E4789:E4797,E4801:E4803)","v":0},{"$f":"SUM(F4789:F4797,F4801:F4803)","v":0},{"$f":"SUM(G4789:G4797,G4801:G4803)","v":226},159,385,385,0,0,{"$f":"SUM(M4789:M4797,M4801:M4803)","v":0},{"$f":"SUM(N4789:N4797,N4801:N4803)","v":132503},{"$f":"SUM(O4789:O4797,O4801:O4803)","v":444833},{"$f":"SUM(P4789:P4797,P4801:P4803)","v":577336},{"$f":"SUM(Q4789:Q4797,Q4801:Q4803)","v":577336}]
[]
[null,null,{"$f":"C4753","v":"平　成　２　８　年　空　港　管　理　状　況　調　書"}]
[null,null,"空港名 ：","百    里                （共  用）"]
[null,null,"項目",null,"着 陸 回 数 （回）",null,"乗   降   客   数   （人）",null,null,null,null,null,null,null,"航空燃料供給量　（KＬ）"]
[null,null,null,"国際線","国内線","計",null,"国 際 線",null,null,null,"国 内 線",null,"合 計","ジェット燃料","その他燃料","合計"]
[null,null,"月別",null,null,null,"乗 客","降 客","通過客","小 計","乗 客","降 客","小 計"]
[]
[null,null,"1月",49,136,{"$f":"SUM(D4813:E4813)","v":185},6042,7387,0,{"$f":"SUM(G4813:I4813)","v":13429},12594,13372,{"$f":"SUM(K4813:L4813)","v":25966},{"$f":"J4813+M4813","v":39395},819,0,{"$f":"SUM(O4813:P4813)","v":819}]
[null,null,"2月",45,129,{"$f":"SUM(D4814:E4814)","v":174},6689,6136,0,{"$f":"SUM(G4814:I4814)","v":12825},13634,14105,{"$f":"SUM(K4814:L4814)","v":27739},{"$f":"J4814+M4814","v":40564},776,0,{"$f":"SUM(O4814:P4814)","v":776}]
[null,null,"3月",58,162,{"$f":"SUM(D4815:E4815)","v":220},7662,8470,0,{"$f":"SUM(G4815:I4815)","v":16132},18411,18352,{"$f":"SUM(K4815:L4815)","v":36763},{"$f":"J4815+M4815","v":52895},935,0,{"$f":"SUM(O4815:P4815)","v":935}]
[null,null,"4月",67,148,{"$f":"SUM(D4816:E4816)","v":215},9138,8278,0,{"$f":"SUM(G4816:I4816)","v":17416},15099,14051,{"$f":"SUM(K4816:L4816)","v":29150},{"$f":"J4816+M4816","v":46566},995,0,{"$f":"SUM(O4816:P4816)","v":995}]
[null,null,"5月",56,178,234,7006,7185,0,14191,18862,19865,38727,52918,1076,0,1076]
[null,null,"6月",50,172,222,6661,6676,0,13337,18487,17932,36419,49756,951,0,951]
[null,null,"7月",68,183,251,9843,10455,0,20298,20384,19971,40355,60653,1103,0,1103]
[null,null,"8月",58,174,232,9012,8308,0,17320,23157,23654,46811,64131,1085,0,1085]
[null,null,"9月",38,162,200,6104,5637,0,11741,20855,20926,41781,53522,770,0,770]
[null,null,"10月",37,182,219,6032,5561,0,11593,22164,22551,44715,56308,744,0,744]
[null,null,"11月",25,147,172,4111,4088,0,8199,18213,18285,36498,44697,582,0,582]
[null,null,"12月",27,155,182,4516,3898,0,8414,18660,17465,36125,44539,652,0,652]
[]
[null,"百里暦１","暦年 計",{"$f":"SUM(D4813:D4824)","v":578},{"$f":"SUM(E4813:E4824)","v":1928},{"$f":"SUM(F4813:F4824)","v":2506},{"$f":"SUM(G4813:G4824)","v":82816},{"$f":"SUM(H4813:H4824)","v":82079},0,164895,220520,220529,441049,605944,10488,{"$f":"SUM(P4813:P4824)","v":0},{"$f":"SUM(Q4813:Q4824)","v":10488}]
[]
[null,null,"1月",27,174,{"$f":"SUM(D4828:E4828)","v":201},4414,4634,0,{"$f":"SUM(G4828:I4828)","v":9048},16344,17464,{"$f":"SUM(K4828:L4828)","v":33808},{"$f":"J4828+M4828","v":42856},627,0,{"$f":"SUM(O4828:P4828)","v":627}]
[null,null,"2月",24,150,{"$f":"SUM(D4829:E4829)","v":174},4211,3913,0,{"$f":"SUM(G4829:I4829)","v":8124},16579,16568,{"$f":"SUM(K4829:L4829)","v":33147},{"$f":"J4829+M4829","v":41271},589,0,{"$f":"SUM(O4829:P4829)","v":589}]
[null,null,"3月",28,180,{"$f":"SUM(D4830:E4830)","v":208},4877,4887,0,{"$f":"SUM(G4830:I4830)","v":9764},22840,22495,{"$f":"SUM(K4830:L4830)","v":45335},{"$f":"J4830+M4830","v":55099},691,0,{"$f":"SUM(O4830:P4830)","v":691}]
[]
[null,"百里度１","年度計",{"$f":"SUM(D4816:D4824,D4828:D4830)","v":505},{"$f":"SUM(E4816:E4824,E4828:E4830)","v":2005},{"$f":"SUM(F4816:F4824,F4828:F4830)","v":2510},{"$f":"SUM(G4816:G4824,G4828:G4830)","v":75925},73520,0,149445,231644,231227,462871,612316,9865,0,{"$f":"SUM(Q4816:Q4824,Q4828:Q4830)","v":9865}]
[]
[]
[]
[null,null,"項目",null,null,null,"貨 物 取 扱 量 （トン）",null,null,null,null,null,null,"郵 便 取 扱 量 （kg）"]
[null,null,null,null,"国 際 線",null,null,"国 内 線",null,"合計",null,"国 際 線",null,null,"国 内 線",null,"合 計"]
[null,null,"月別","積","卸","小 計","積","卸","小 計",null,"積","卸","小 計","積","卸","小 計"]
[]
[null,null,"1月",0,18,{"$f":"SUM(D4840:E4840)","v":18},0,0,{"$f":"SUM(G4840:H4840)","v":0},{"$f":"F4840+I4840","v":18},0,0,{"$f":"SUM(K4840:L4840)","v":0},0,0,{"$f":"SUM(N4840:O4840)","v":0},{"$f":"M4840+P4840","v":0}]
[null,null,"2月",0,12,{"$f":"SUM(D4841:E4841)","v":12},0,0,{"$f":"SUM(G4841:H4841)","v":0},{"$f":"F4841+I4841","v":12},0,0,{"$f":"SUM(K4841:L4841)","v":0},0,0,{"$f":"SUM(N4841:O4841)","v":0},{"$f":"M4841+P4841","v":0}]
[null,null,"3月",0,30,{"$f":"SUM(D4842:E4842)","v":30},0,0,{"$f":"SUM(G4842:H4842)","v":0},{"$f":"F4842+I4842","v":30},0,0,{"$f":"SUM(K4842:L4842)","v":0},0,0,{"$f":"SUM(N4842:O4842)","v":0},{"$f":"M4842+P4842","v":0}]
[null,null,"4月",0,31,{"$f":"SUM(D4843:E4843)","v":31},0,0,{"$f":"SUM(G4843:H4843)","v":0},{"$f":"F4843+I4843","v":31},0,0,{"$f":"SUM(K4843:L4843)","v":0},0,0,{"$f":"SUM(N4843:O4843)","v":0},{"$f":"M4843+P4843","v":0}]
[null,null,"5月",0,20,20,0,0,0,20,0,0,0,0,0,0,0]
[null,null,"6月",0,19,19,0,0,0,19,0,0,0,0,0,0,0]
[null,null,"7月",0,25,25,0,0,0,25,0,0,0,0,0,0,0]
[null,null,"8月",0,29,29,0,0,0,29,0,0,0,0,0,0,0]
[null,null,"9月",0,34,34,0,0,0,34,0,0,0,0,0,0,0]
[null,null,"10月",0,33,33,0,0,0,33,0,0,0,0,0,0,0]
[null,null,"11月",0,26,26,0,0,0,26,0,0,0,0,0,0,0]
[null,null,"12月",0,27,27,0,0,0,27,0,0,0,0,0,0,0]
[]
[null,"百里暦２","暦年 計",{"$f":"SUM(D4840:D4852)","v":0},304,304,0,0,0,304,0,0,{"$f":"SUM(M4840:M4852)","v":0},{"$f":"SUM(N4840:N4852)","v":0},{"$f":"SUM(O4840:O4852)","v":0},{"$f":"SUM(P4840:P4852)","v":0},{"$f":"SUM(Q4840:Q4852)","v":0}]
[]
[null,null,"1月",0,17,{"$f":"SUM(D4855:E4855)","v":17},0,0,{"$f":"SUM(G4855:H4855)","v":0},{"$f":"F4855+I4855","v":17},0,0,{"$f":"SUM(K4855:L4855)","v":0},0,0,{"$f":"SUM(N4855:O4855)","v":0},{"$f":"M4855+P4855","v":0}]
[null,null,"2月",0,17,{"$f":"SUM(D4856:E4856)","v":17},0,0,{"$f":"SUM(G4856:H4856)","v":0},{"$f":"F4856+I4856","v":17},0,0,{"$f":"SUM(K4856:L4856)","v":0},0,0,{"$f":"SUM(N4856:O4856)","v":0},{"$f":"M4856+P4856","v":0}]
[null,null,"3月",0,31,{"$f":"SUM(D4857:E4857)","v":31},0,0,{"$f":"SUM(G4857:H4857)","v":0},{"$f":"F4857+I4857","v":31},0,0,{"$f":"SUM(K4857:L4857)","v":0},0,0,{"$f":"SUM(N4857:O4857)","v":0},{"$f":"M4857+P4857","v":0}]
[]
[null,"百里度２","年度計",{"$f":"SUM(D4843:D4851,D4855:D4857)","v":0},{"$f":"SUM(E4843:E4851,E4855:E4857)","v":309},{"$f":"SUM(F4843:F4851,F4855:F4857)","v":309},{"$f":"SUM(G4843:G4851,G4855:G4857)","v":0},0,0,309,0,0,{"$f":"SUM(M4843:M4851,M4855:M4857)","v":0},{"$f":"SUM(N4843:N4851,N4855:N4857)","v":0},{"$f":"SUM(O4843:O4851,O4855:O4857)","v":0},{"$f":"SUM(P4843:P4851,P4855:P4857)","v":0},{"$f":"SUM(Q4843:Q4851,Q4855:Q4857)","v":0}]
[]
[null,null,{"$f":"C4807","v":"平　成　２　８　年　空　港　管　理　状　況　調　書"}]
[null,null,"空港名 ：","小    松                （共  用）"]
[null,null,"項目",null,"着 陸 回 数 （回）",null,"乗   降   客   数   （人）",null,null,null,null,null,null,null,"航空燃料供給量　（ＫＬ）"]
[null,null,null,"国際線","国内線","計",null,"国 際 線",null,null,null,"国 内 線",null,"合 計","ジェット燃料","その他燃料","合計"]
[null,null,"月別",null,null,null,"乗 客","降 客","通過客","小 計","乗 客","降 客","小 計"]
[]
[null,null,"1月",69,639,{"$f":"SUM(D4867:E4867)","v":708},6079,6749,0,{"$f":"SUM(G4867:I4867)","v":12828},53399,49536,{"$f":"SUM(K4867:L4867)","v":102935},{"$f":"J4867+M4867","v":115763},2438,0,{"$f":"SUM(O4867:P4867)","v":2438}]
[null,null,"2月",69,615,{"$f":"SUM(D4868:E4868)","v":684},7152,6713,0,{"$f":"SUM(G4868:I4868)","v":13865},58692,58051,{"$f":"SUM(K4868:L4868)","v":116743},{"$f":"J4868+M4868","v":130608},2356,0,{"$f":"SUM(O4868:P4868)","v":2356}]
[null,null,"3月",75,670,745,6254,6997,0,13251,66115,66181,132296,145547,3011,0,3011]
[null,null,"4月",94,598,692,10398,10981,0,21379,55664,57262,112926,134305,3055,0,3055]
[null,null,"5月",112,593,705,11349,11069,0,22418,62683,62416,125099,147517,2965,0,2965]
[null,null,"6月",73,581,654,5855,6305,0,12160,62345,64359,126704,138864,3062,0,3062]
[null,null,"7月",77,643,720,6565,6672,0,13237,61926,62993,124919,138156,3037,0,3037]
[null,null,"8月",72,632,704,6662,6291,0,12953,67742,68272,136014,148967,3181,0,3181]
[null,null,"9月",75,599,674,6087,6241,0,12328,69377,69746,139123,151451,3127,0,3127]
[null,null,"10月",84,616,700,9348,9990,0,19338,71215,71761,142976,162314,2824,0,2824]
[null,null,"11月",82,596,678,9562,9311,0,18873,69498,69987,139485,158358,2831,0,2831]
[null,null,"12月",82,590,672,7378,7209,0,14587,56688,62195,118883,133470,2567,0,2567]
[]
[null,"小松暦１","暦年 計",{"$f":"SUM(D4867:D4878)","v":964},{"$f":"SUM(E4867:E4878)","v":7372},{"$f":"SUM(F4867:F4878)","v":8336},{"$f":"SUM(G4867:G4878)","v":92689},{"$f":"SUM(H4867:H4878)","v":94528},0,187217,755344,762759,1518103,1705320,34454,{"$f":"SUM(P4867:P4878)","v":0},{"$f":"SUM(Q4867:Q4878)","v":34454}]
[]
[null,null,"1月",75,584,{"$f":"SUM(D4882:E4882)","v":659},7241,8375,0,{"$f":"SUM(G4882:I4882)","v":15616},53464,49459,{"$f":"SUM(K4882:L4882)","v":102923},{"$f":"J4882+M4882","v":118539},2148,0,{"$f":"SUM(O4882:P4882)","v":2148}]
[null,null,"2月",76,546,{"$f":"SUM(D4883:E4883)","v":622},8030,7217,0,{"$f":"SUM(G4883:I4883)","v":15247},52322,52781,{"$f":"SUM(K4883:L4883)","v":105103},{"$f":"J4883+M4883","v":120350},2238,0,{"$f":"SUM(O4883:P4883)","v":2238}]
[null,null,"3月",82,646,{"$f":"SUM(D4884:E4884)","v":728},8105,8524,0,{"$f":"SUM(G4884:I4884)","v":16629},69248,71246,{"$f":"SUM(K4884:L4884)","v":140494},{"$f":"J4884+M4884","v":157123},3035,0,{"$f":"SUM(O4884:P4884)","v":3035}]
[]
[null,"小松度１","年度計",{"$f":"SUM(D4870:D4878,D4882:D4884)","v":984},{"$f":"SUM(E4870:E4878,E4882:E4884)","v":7224},{"$f":"SUM(F4870:F4878,F4882:F4884)","v":8208},{"$f":"SUM(G4870:G4878,G4882:G4884)","v":96580},98185,0,194765,752172,762477,1514649,1709414,34070,0,{"$f":"SUM(Q4870:Q4878,Q4882:Q4884)","v":34070}]
[]
[]
[]
[null,null,"項目",null,null,null,"貨 物 取 扱 量 （トン）",null,null,null,null,null,null,"郵 便 取 扱 量 （kg）"]
[null,null,null,null,"国 際 線",null,null,"国 内 線",null,"合計",null,"国 際 線",null,null,"国 内 線",null,"合 計"]
[null,null,"月別","積","卸","小 計","積","卸","小 計",null,"積","卸","小 計","積","卸","小 計"]
[]
[null,null,"1月",423,475,{"$f":"SUM(D4894:E4894)","v":898},100,65,{"$f":"SUM(G4894:H4894)","v":165},{"$f":"F4894+I4894","v":1063},0,0,{"$f":"SUM(K4894:L4894)","v":0},25041,42275,{"$f":"SUM(N4894:O4894)","v":67316},{"$f":"M4894+P4894","v":67316}]
[null,null,"2月",399,588,987,97,93,190,1177,0,0,0,21939,34884,56823,56823]
[null,null,"3月",414,734,1148,133,108,241,1389,0,0,0,24465,41253,65718,65718]
[null,null,"4月",641,621,1262,106,81,187,1449,0,0,0,23683,38037,61720,61720]
[null,null,"5月",477,428,905,92,71,163,1068,0,0,0,21087,37327,58414,58414]
[null,null,"6月",627,488,1115,111,76,187,1302,0,0,0,22893,43227,66120,66120]
[null,null,"7月",491,547,1038,107,93,200,1238,0,0,0,21434,37271,58705,58705]
[null,null,"8月",662,475,1137,100,90,190,1327,0,0,0,20061,33358,53419,53419]
[null,null,"9月",746,542,1288,130,93,223,1511,0,0,0,20986,36992,57978,57978]
[null,null,"10月",637,596,1233,138,104,242,1475,0,0,0,21902,41611,63513,63513]
[null,null,"11月",737,864,1601,143,99,242,1843,0,0,0,24685,39839,64524,64524]
[null,null,"12月",766,707,1473,160,106,266,1739,0,0,0,28617,46502,75119,75119]
[]
[null,"小松暦２","暦年 計",{"$f":"SUM(D4894:D4906)","v":7020},7065,14085,1417,1079,2496,16581,0,0,{"$f":"SUM(M4894:M4906)","v":0},{"$f":"SUM(N4894:N4906)","v":276793},{"$f":"SUM(O4894:O4906)","v":472576},{"$f":"SUM(P4894:P4906)","v":749369},{"$f":"SUM(Q4894:Q4906)","v":749369}]
[]
[null,null,"1月",421,534,{"$f":"SUM(D4909:E4909)","v":955},129,72,{"$f":"SUM(G4909:H4909)","v":201},{"$f":"F4909+I4909","v":1156},0,0,{"$f":"SUM(K4909:L4909)","v":0},23264,40048,{"$f":"SUM(N4909:O4909)","v":63312},{"$f":"M4909+P4909","v":63312}]
[null,null,"2月",690,604,{"$f":"SUM(D4910:E4910)","v":1294},136,74,{"$f":"SUM(G4910:H4910)","v":210},{"$f":"F4910+I4910","v":1504},0,0,{"$f":"SUM(K4910:L4910)","v":0},20378,32374,{"$f":"SUM(N4910:O4910)","v":52752},{"$f":"M4910+P4910","v":52752}]
[null,null,"3月",687,768,{"$f":"SUM(D4911:E4911)","v":1455},146,117,{"$f":"SUM(G4911:H4911)","v":263},{"$f":"F4911+I4911","v":1718},0,0,{"$f":"SUM(K4911:L4911)","v":0},23096,42918,{"$f":"SUM(N4911:O4911)","v":66014},{"$f":"M4911+P4911","v":66014}]
[]
[null,"小松度２","年度計",{"$f":"SUM(D4897:D4905,D4909:D4911)","v":7582},{"$f":"SUM(E4897:E4905,E4909:E4911)","v":7174},{"$f":"SUM(F4897:F4905,F4909:F4911)","v":14756},{"$f":"SUM(G4897:G4905,G4909:G4911)","v":1498},1076,2574,17330,0,0,{"$f":"SUM(M4897:M4905,M4909:M4911)","v":0},{"$f":"SUM(N4897:N4905,N4909:N4911)","v":272086},{"$f":"SUM(O4897:O4905,O4909:O4911)","v":469504},{"$f":"SUM(P4897:P4905,P4909:P4911)","v":741590},{"$f":"SUM(Q4897:Q4905,Q4909:Q4911)","v":741590}]
[]
[null,null,{"$f":"C4861","v":"平　成　２　８　年　空　港　管　理　状　況　調　書"}]
[null,null,"空港名 ：","美    保                （共  用）"]
[null,null,"項目",null,"着 陸 回 数 （回）",null,"乗   降   客   数   （人）",null,null,null,null,null,null,null,"航空燃料供給量　（ＫＬ）"]
[null,null,null,"国際線","国内線","計",null,"国 際 線",null,null,null,"国 内 線",null,"合 計","ジェット燃料","その他燃料","合計"]
[null,null,"月別",null,null,null,"乗 客","降 客","通過客","小 計","乗 客","降 客","小 計"]
[]
[null,null,"1月",13,241,{"$f":"SUM(D4921:E4921)","v":254},1539,1682,0,{"$f":"SUM(G4921:I4921)","v":3221},21637,17731,{"$f":"SUM(K4921:L4921)","v":39368},{"$f":"J4921+M4921","v":42589},766,0,{"$f":"SUM(O4921:P4921)","v":766}]
[null,null,"2月",16,212,{"$f":"SUM(D4922:E4922)","v":228},1789,1801,0,{"$f":"SUM(G4922:I4922)","v":3590},19357,19216,{"$f":"SUM(K4922:L4922)","v":38573},{"$f":"J4922+M4922","v":42163},706,0,{"$f":"SUM(O4922:P4922)","v":706}]
[null,null,"3月",13,242,255,1522,1542,0,3064,25203,24475,49678,52742,936,0,936]
[null,null,"4月",13,266,279,1725,1593,0,3318,21548,22325,43873,47191,1049,0,1049]
[null,null,"5月",13,269,282,1072,1132,0,2204,25452,23373,48825,51029,1137,0,1137]
[null,null,"6月",12,236,248,1141,1197,0,2338,22188,21825,44013,46351,946,0,946]
[null,null,"7月",19,263,282,1835,2073,0,3908,23994,24533,48527,52435,1138,0,1138]
[null,null,"8月",16,230,246,1772,1755,0,3527,26762,26516,53278,56805,1173,0,1173]
[null,null,"9月",18,228,246,1888,1989,0,3877,24700,24513,49213,53090,1010,0,1010]
[null,null,"10月",22,286,308,2494,2598,0,5092,28448,27499,55947,61039,1103,0,1103]
[null,null,"11月",22,246,268,2312,2131,0,4443,28797,28811,57608,62051,1196,0,1196]
[null,null,"12月",22,277,299,2762,2778,0,5540,20885,23000,43885,49425,1026,0,1026]
[]
[null,"美保暦１","暦年 計",{"$f":"SUM(D4921:D4932)","v":199},{"$f":"SUM(E4921:E4932)","v":2996},{"$f":"SUM(F4921:F4932)","v":3195},{"$f":"SUM(G4921:G4932)","v":21851},{"$f":"SUM(H4921:H4932)","v":22271},0,44122,288971,283817,572788,616910,12186,{"$f":"SUM(P4921:P4932)","v":0},{"$f":"SUM(Q4921:Q4932)","v":12186}]
[]
[null,null,"1月",22,219,{"$f":"SUM(D4936:E4936)","v":241},2664,3038,0,{"$f":"SUM(G4936:I4936)","v":5702},20142,17000,{"$f":"SUM(K4936:L4936)","v":37142},{"$f":"J4936+M4936","v":42844},802,0,{"$f":"SUM(O4936:P4936)","v":802}]
[null,null,"2月",21,215,{"$f":"SUM(D4937:E4937)","v":236},3055,2938,0,{"$f":"SUM(G4937:I4937)","v":5993},18176,18513,{"$f":"SUM(K4937:L4937)","v":36689},{"$f":"J4937+M4937","v":42682},882,0,{"$f":"SUM(O4937:P4937)","v":882}]
[null,null,"3月",22,255,{"$f":"SUM(D4938:E4938)","v":277},3047,3153,0,{"$f":"SUM(G4938:I4938)","v":6200},26803,26319,{"$f":"SUM(K4938:L4938)","v":53122},{"$f":"J4938+M4938","v":59322},1027,0,{"$f":"SUM(O4938:P4938)","v":1027}]
[]
[null,"美保度１","年度計",{"$f":"SUM(D4924:D4932,D4936:D4938)","v":222},{"$f":"SUM(E4924:E4932,E4936:E4938)","v":2990},{"$f":"SUM(F4924:F4932,F4936:F4938)","v":3212},{"$f":"SUM(G4924:G4932,G4936:G4938)","v":25767},26375,0,52142,287895,284227,572122,624264,12489,0,{"$f":"SUM(Q4924:Q4932,Q4936:Q4938)","v":12489}]
[]
[]
[]
[null,null,"項目",null,null,null,"貨 物 取 扱 量 （トン）",null,null,null,null,null,null,"郵 便 取 扱 量 （kg）"]
[null,null,null,null,"国 際 線",null,null,"国 内 線",null,"合計",null,"国 際 線",null,null,"国 内 線",null,"合 計"]
[null,null,"月別","積","卸","小 計","積","卸","小 計",null,"積","卸","小 計","積","卸","小 計"]
[]
[null,null,"1月",0,0,{"$f":"SUM(D4948:E4948)","v":0},105,25,{"$f":"SUM(G4948:H4948)","v":130},{"$f":"F4948+I4948","v":130},0,0,{"$f":"SUM(K4948:L4948)","v":0},6762,30904,{"$f":"SUM(N4948:O4948)","v":37666},{"$f":"M4948+P4948","v":37666}]
[null,null,"2月",0,0,0,98,26,124,124,0,0,0,6516,25566,32082,32082]
[null,null,"3月",0,0,0,111,29,140,140,0,0,0,7125,30176,37301,37301]
[null,null,"4月",0,0,0,120,27,147,147,0,0,0,6946,30864,37810,37810]
[null,null,"5月",0,0,0,118,23,141,141,0,0,0,6496,26298,32794,32794]
[null,null,"6月",0,0,0,126,25,151,151,0,0,0,6760,30005,36765,36765]
[null,null,"7月",0,0,0,110,34,144,144,0,0,0,6869,27550,34419,34419]
[null,null,"8月",0,0,0,75,28,103,103,0,0,0,6724,24944,31668,31668]
[null,null,"9月",0,0,0,72,30,102,102,0,0,0,6597,25532,32129,32129]
[null,null,"10月",0,0,0,74,32,106,106,0,0,0,6583,30372,36955,36955]
[null,null,"11月",0,0,0,80,29,109,109,0,0,0,7221,27679,34900,34900]
[null,null,"12月",0,0,0,72,36,108,108,0,0,0,8432,32990,41422,41422]
[]
[null,"美保暦２","暦年 計",{"$f":"SUM(D4948:D4960)","v":0},0,0,1161,344,1505,1505,0,0,{"$f":"SUM(M4948:M4960)","v":0},{"$f":"SUM(N4948:N4960)","v":83031},{"$f":"SUM(O4948:O4960)","v":342880},{"$f":"SUM(P4948:P4960)","v":425911},{"$f":"SUM(Q4948:Q4960)","v":425911}]
[]
[null,null,"1月",0,0,{"$f":"SUM(D4963:E4963)","v":0},69,24,{"$f":"SUM(G4963:H4963)","v":93},{"$f":"F4963+I4963","v":93},0,0,{"$f":"SUM(K4963:L4963)","v":0},6909,26477,{"$f":"SUM(N4963:O4963)","v":33386},{"$f":"M4963+P4963","v":33386}]
[null,null,"2月",0,0,{"$f":"SUM(D4964:E4964)","v":0},81,26,{"$f":"SUM(G4964:H4964)","v":107},{"$f":"F4964+I4964","v":107},0,0,{"$f":"SUM(K4964:L4964)","v":0},6356,23693,{"$f":"SUM(N4964:O4964)","v":30049},{"$f":"M4964+P4964","v":30049}]
[null,null,"3月",0,0,{"$f":"SUM(D4965:E4965)","v":0},96,29,{"$f":"SUM(G4965:H4965)","v":125},{"$f":"F4965+I4965","v":125},0,0,{"$f":"SUM(K4965:L4965)","v":0},7084,29944,{"$f":"SUM(N4965:O4965)","v":37028},{"$f":"M4965+P4965","v":37028}]
[]
[null,"美保度２","年度計",{"$f":"SUM(D4951:D4959,D4963:D4965)","v":0},{"$f":"SUM(E4951:E4959,E4963:E4965)","v":0},{"$f":"SUM(F4951:F4959,F4963:F4965)","v":0},{"$f":"SUM(G4951:G4959,G4963:G4965)","v":1093},343,1436,1436,0,0,{"$f":"SUM(M4951:M4959,M4963:M4965)","v":0},{"$f":"SUM(N4951:N4959,N4963:N4965)","v":82977},{"$f":"SUM(O4951:O4959,O4963:O4965)","v":336348},{"$f":"SUM(P4951:P4959,P4963:P4965)","v":419325},{"$f":"SUM(Q4951:Q4959,Q4963:Q4965)","v":419325}]
[]
[null,null,{"$f":"C4915","v":"平　成　２　８　年　空　港　管　理　状　況　調　書"}]
[null,null,"空港名 ：","岩　　国                （共  用）"]
[null,null,"項目",null,"着 陸 回 数 （回）",null,"乗   降   客   数   （人）",null,null,null,null,null,null,null,"航空燃料供給量　（ＫＬ）"]
[null,null,null,"国際線","国内線","計",null,"国 際 線",null,null,null,"国 内 線",null,"合 計","ジェット燃料","その他燃料","合計"]
[null,null,"月別",null,null,null,"乗 客","降 客","通過客","小 計","乗 客","降 客","小 計"]
[]
[null,null,"1月",0,124,{"$f":"SUM(D4975:E4975)","v":124},0,0,0,{"$f":"SUM(G4975:I4975)","v":0},14492,12978,{"$f":"SUM(K4975:L4975)","v":27470},{"$f":"J4975+M4975","v":27470},461,0,{"$f":"SUM(O4975:P4975)","v":461}]
[null,null,"2月",0,116,{"$f":"SUM(D4976:E4976)","v":116},0,0,0,{"$f":"SUM(G4976:I4976)","v":0},12593,12813,{"$f":"SUM(K4976:L4976)","v":25406},{"$f":"J4976+M4976","v":25406},461,0,{"$f":"SUM(O4976:P4976)","v":461}]
[null,null,"3月",0,133,133,0,0,0,0,16144,16045,32189,32189,561,0,561]
[null,null,"4月",0,180,180,0,0,0,0,18504,18851,37355,37355,831,0,831]
[null,null,"5月",0,185,185,0,0,0,0,20001,19208,39209,39209,850,0,850]
[null,null,"6月",0,179,179,0,0,0,0,16867,16720,33587,33587,756,0,756]
[null,null,"7月",0,186,186,0,0,0,0,18801,20232,39033,39033,833,0,833]
[null,null,"8月",0,184,184,0,0,0,0,23897,23592,47489,47489,1002,0,1002]
[null,null,"9月",0,180,180,0,0,0,0,19461,19515,38976,38976,824,0,824]
[null,null,"10月",2,180,182,176,176,0,352,21201,21405,42606,42958,780,0,780]
[null,null,"11月",0,151,151,0,0,0,0,17655,18041,35696,35696,640,0,640]
[null,null,"12月",0,155,155,0,0,0,0,16780,19275,36055,36055,600,0,600]
[]
[null,"岩国暦１","暦年 計",{"$f":"SUM(D4975:D4986)","v":2},{"$f":"SUM(E4975:E4986)","v":1953},{"$f":"SUM(F4975:F4986)","v":1955},{"$f":"SUM(G4975:G4986)","v":176},{"$f":"SUM(H4975:H4986)","v":176},0,352,216396,218675,435071,435423,8599,{"$f":"SUM(P4975:P4986)","v":0},{"$f":"SUM(Q4975:Q4986)","v":8599}]
[]
[null,null,"1月",0,155,{"$f":"SUM(D4990:E4990)","v":155},0,0,0,{"$f":"SUM(G4990:I4990)","v":0},17945,15587,{"$f":"SUM(K4990:L4990)","v":33532},{"$f":"J4990+M4990","v":33532},536,0,{"$f":"SUM(O4990:P4990)","v":536}]
[null,null,"2月",0,139,{"$f":"SUM(D4991:E4991)","v":139},0,0,0,{"$f":"SUM(G4991:I4991)","v":0},14430,14516,{"$f":"SUM(K4991:L4991)","v":28946},{"$f":"J4991+M4991","v":28946},571,0,{"$f":"SUM(O4991:P4991)","v":571}]
[null,null,"3月",0,161,{"$f":"SUM(D4992:E4992)","v":161},0,0,0,{"$f":"SUM(G4992:I4992)","v":0},19760,18951,{"$f":"SUM(K4992:L4992)","v":38711},{"$f":"J4992+M4992","v":38711},689,0,{"$f":"SUM(O4992:P4992)","v":689}]
[]
[null,"岩国度１","年度計",{"$f":"SUM(D4978:D4986,D4990:D4992)","v":2},{"$f":"SUM(E4978:E4986,E4990:E4992)","v":2035},{"$f":"SUM(F4978:F4986,F4990:F4992)","v":2037},{"$f":"SUM(G4978:G4986,G4990:G4992)","v":176},176,0,352,225302,225893,451195,451547,8912,0,{"$f":"SUM(Q4978:Q4986,Q4990:Q4992)","v":8912}]
[]
[]
[]
[null,null,"項目",null,null,null,"貨 物 取 扱 量 （トン）",null,null,null,null,null,null,"郵 便 取 扱 量 （kg）"]
[null,null,null,null,"国 際 線",null,null,"国 内 線",null,"合計",null,"国 際 線",null,null,"国 内 線",null,"合 計"]
[null,null,"月別","積","卸","小 計","積","卸","小 計",null,"積","卸","小 計","積","卸","小 計"]
[]
[null,null,"1月",0,0,{"$f":"SUM(D5002:E5002)","v":0},11,4,{"$f":"SUM(G5002:H5002)","v":15},{"$f":"F5002+I5002","v":15},0,0,{"$f":"SUM(K5002:L5002)","v":0},0,0,{"$f":"SUM(N5002:O5002)","v":0},{"$f":"M5002+P5002","v":0}]
[null,null,"2月",0,0,0,14,2,16,16,0,0,0,0,0,0,0]
[null,null,"3月",0,0,0,18,3,21,21,0,0,0,0,0,0,0]
[null,null,"4月",0,0,0,11,4,15,15,0,0,0,0,0,0,0]
[null,null,"5月",0,0,0,11,3,14,14,0,0,0,0,0,0,0]
[null,null,"6月",0,0,0,16,2,18,18,0,0,0,0,0,0,0]
[null,null,"7月",0,0,0,14,3,17,17,0,0,0,0,0,0,0]
[null,null,"8月",0,0,0,15,4,19,19,0,0,0,0,0,0,0]
[null,null,"9月",0,0,0,12,4,16,16,0,0,0,0,0,0,0]
[null,null,"10月",0,0,0,12,3,15,15,0,0,0,2961,18937,21898,21898]
[null,null,"11月",0,0,0,10,3,13,13,0,0,0,2487,6006,8493,8493]
[null,null,"12月",0,0,0,16,3,19,19,0,0,0,4243,6786,11029,11029]
[]
[null,"岩国暦２","暦年 計",{"$f":"SUM(D5002:D5014)","v":0},0,0,160,38,198,198,0,0,{"$f":"SUM(M5002:M5014)","v":0},{"$f":"SUM(N5002:N5014)","v":9691},{"$f":"SUM(O5002:O5014)","v":31729},{"$f":"SUM(P5002:P5014)","v":41420},{"$f":"SUM(Q5002:Q5014)","v":41420}]
[]
[null,null,"1月",0,0,{"$f":"SUM(D5017:E5017)","v":0},16,2,{"$f":"SUM(G5017:H5017)","v":18},{"$f":"F5017+I5017","v":18},0,0,{"$f":"SUM(K5017:L5017)","v":0},2912,9118,{"$f":"SUM(N5017:O5017)","v":12030},{"$f":"M5017+P5017","v":12030}]
[null,null,"2月",0,0,{"$f":"SUM(D5018:E5018)","v":0},14,2,{"$f":"SUM(G5018:H5018)","v":16},{"$f":"F5018+I5018","v":16},0,0,{"$f":"SUM(K5018:L5018)","v":0},2388,16822,{"$f":"SUM(N5018:O5018)","v":19210},{"$f":"M5018+P5018","v":19210}]
[null,null,"3月",0,0,{"$f":"SUM(D5019:E5019)","v":0},17,4,{"$f":"SUM(G5019:H5019)","v":21},{"$f":"F5019+I5019","v":21},0,0,{"$f":"SUM(K5019:L5019)","v":0},2304,19018,{"$f":"SUM(N5019:O5019)","v":21322},{"$f":"M5019+P5019","v":21322}]
[]
[null,"岩国度２","年度計",{"$f":"SUM(D5005:D5013,D5017:D5019)","v":0},{"$f":"SUM(E5005:E5013,E5017:E5019)","v":0},{"$f":"SUM(F5005:F5013,F5017:F5019)","v":0},{"$f":"SUM(G5005:G5013,G5017:G5019)","v":164},37,201,201,0,0,{"$f":"SUM(M5005:M5013,M5017:M5019)","v":0},{"$f":"SUM(N5005:N5013,N5017:N5019)","v":17295},{"$f":"SUM(O5005:O5013,O5017:O5019)","v":76687},{"$f":"SUM(P5005:P5013,P5017:P5019)","v":93982},{"$f":"SUM(Q5005:Q5013,Q5017:Q5019)","v":93982}]
[]
[null,null,{"$f":"C4969","v":"平　成　２　８　年　空　港　管　理　状　況　調　書"}]
[null,null,"空港名 ：","徳    島                （共  用）"]
[null,null,"項目",null,"着 陸 回 数 （回）",null,"乗   降   客   数   （人）",null,null,null,null,null,null,null,"航空燃料供給量　（ＫＬ）"]
[null,null,null,"国際線","国内線","計",null,"国 際 線",null,null,null,"国 内 線",null,"合 計","ジェット燃料","その他燃料","合計"]
[null,null,"月別",null,null,null,"乗 客","降 客","通過客","小 計","乗 客","降 客","小 計"]
[]
[null,null,"1月",1,424,{"$f":"SUM(D5029:E5029)","v":425},0,136,0,{"$f":"SUM(G5029:I5029)","v":136},40946,35396,{"$f":"SUM(K5029:L5029)","v":76342},{"$f":"J5029+M5029","v":76478},1500,0,{"$f":"SUM(O5029:P5029)","v":1500}]
[null,null,"2月",0,386,{"$f":"SUM(D5030:E5030)","v":386},0,0,0,{"$f":"SUM(G5030:I5030)","v":0},36601,37543,{"$f":"SUM(K5030:L5030)","v":74144},{"$f":"J5030+M5030","v":74144},1445,0,{"$f":"SUM(O5030:P5030)","v":1445}]
[null,null,"3月",0,411,411,0,0,0,0,44437,44901,89338,89338,1625,0,1625]
[null,null,"4月",0,408,{"$f":"SUM(D5032:E5032)","v":408},0,0,0,0,37113,39530,76643,76643,1482,0,1482]
[null,null,"5月",0,399,399,0,0,0,0,44910,44085,88995,88995,1574,0,1574]
[null,null,"6月",0,388,388,0,0,0,0,42226,43888,86114,86114,1611,0,1611]
[null,null,"7月",0,392,392,0,0,0,0,43542,45697,89239,89239,1832,0,1832]
[null,null,"8月",0,405,405,0,0,0,0,51528,51216,102744,102744,2189,0,2189]
[null,null,"9月",0,399,399,0,0,0,0,44839,45437,90276,90276,1643,0,1643]
[null,null,"10月",0,421,421,0,0,0,0,48157,48479,96636,96636,1664,0,1664]
[null,null,"11月",0,408,408,0,0,0,0,50715,51322,102037,102037,1663,0,1663]
[null,null,"12月",0,423,423,0,0,0,0,40425,46359,86784,86784,1598,0,1598]
[]
[null,"徳島暦１","暦年 計",{"$f":"SUM(D5029:D5040)","v":1},{"$f":"SUM(E5029:E5040)","v":4864},{"$f":"SUM(F5029:F5040)","v":4865},{"$f":"SUM(G5029:G5040)","v":0},{"$f":"SUM(H5029:H5040)","v":136},0,136,525439,533853,1059292,1059428,19826,{"$f":"SUM(P5029:P5040)","v":0},{"$f":"SUM(Q5029:Q5040)","v":19826}]
[]
[null,null,"1月",0,418,{"$f":"SUM(D5044:E5044)","v":418},0,0,0,{"$f":"SUM(G5044:I5044)","v":0},42931,35727,{"$f":"SUM(K5044:L5044)","v":78658},{"$f":"J5044+M5044","v":78658},1570,0,{"$f":"SUM(O5044:P5044)","v":1570}]
[null,null,"2月",0,388,{"$f":"SUM(D5045:E5045)","v":388},0,0,0,{"$f":"SUM(G5045:I5045)","v":0},38400,38192,{"$f":"SUM(K5045:L5045)","v":76592},{"$f":"J5045+M5045","v":76592},1549,0,{"$f":"SUM(O5045:P5045)","v":1549}]
[null,null,"3月",0,421,{"$f":"SUM(D5046:E5046)","v":421},0,0,0,{"$f":"SUM(G5046:I5046)","v":0},48092,48016,{"$f":"SUM(K5046:L5046)","v":96108},{"$f":"J5046+M5046","v":96108},1761,0,{"$f":"SUM(O5046:P5046)","v":1761}]
[]
[null,"徳島度１","年度計",{"$f":"SUM(D5032:D5040,D5044:D5046)","v":0},{"$f":"SUM(E5032:E5040,E5044:E5046)","v":4870},{"$f":"SUM(F5032:F5040,F5044:F5046)","v":4870},{"$f":"SUM(G5032:G5040,G5044:G5046)","v":0},0,0,0,532878,537948,1070826,1070826,20136,0,{"$f":"SUM(Q5032:Q5040,Q5044:Q5046)","v":20136}]
[]
[]
[]
[null,null,"項目",null,null,null,"貨 物 取 扱 量 （トン）",null,null,null,null,null,null,"郵 便 取 扱 量 （kg）"]
[null,null,null,null,"国 際 線",null,null,"国 内 線",null,"合計",null,"国 際 線",null,null,"国 内 線",null,"合 計"]
[null,null,"月別","積","卸","小 計","積","卸","小 計",null,"積","卸","小 計","積","卸","小 計"]
[]
[null,null,"1月",0,0,{"$f":"SUM(D5056:E5056)","v":0},105,70,{"$f":"SUM(G5056:H5056)","v":175},{"$f":"F5056+I5056","v":175},0,0,{"$f":"SUM(K5056:L5056)","v":0},4136,17074,{"$f":"SUM(N5056:O5056)","v":21210},{"$f":"M5056+P5056","v":21210}]
[null,null,"2月",0,0,0,108,72,180,180,0,0,0,4326,14526,18852,18852]
[null,null,"3月",0,0,0,126,82,208,208,0,0,0,4656,17371,22027,22027]
[null,null,"4月",0,0,0,121,66,187,187,0,0,0,4174,15993,20167,20167]
[null,null,"5月",0,0,0,90,61,151,151,0,0,0,4181,15671,19852,19852]
[null,null,"6月",0,0,0,101,71,172,172,0,0,0,4362,18185,22547,22547]
[null,null,"7月",0,0,0,111,81,192,192,0,0,0,4243,16136,20379,20379]
[null,null,"8月",0,0,0,104,71,175,175,0,0,0,4049,13946,17995,17995]
[null,null,"9月",0,0,0,99,80,179,179,0,0,0,4940,14656,19596,19596]
[null,null,"10月",0,0,0,97,85,182,182,0,0,0,4195,16258,20453,20453]
[null,null,"11月",0,0,0,94,75,169,169,0,0,0,4252,16381,20633,20633]
[null,null,"12月",0,0,0,125,82,207,207,0,0,0,5080,19441,24521,24521]
[]
[null,"徳島暦２","暦年 計",{"$f":"SUM(D5056:D5068)","v":0},0,0,1281,896,2177,2177,0,0,{"$f":"SUM(M5056:M5068)","v":0},{"$f":"SUM(N5056:N5068)","v":52594},{"$f":"SUM(O5056:O5068)","v":195638},{"$f":"SUM(P5056:P5068)","v":248232},{"$f":"SUM(Q5056:Q5068)","v":248232}]
[]
[null,null,"1月",0,0,{"$f":"SUM(D5071:E5071)","v":0},92,60,{"$f":"SUM(G5071:H5071)","v":152},{"$f":"F5071+I5071","v":152},0,0,{"$f":"SUM(K5071:L5071)","v":0},4466,15839,{"$f":"SUM(N5071:O5071)","v":20305},{"$f":"M5071+P5071","v":20305}]
[null,null,"2月",0,0,{"$f":"SUM(D5072:E5072)","v":0},88,61,{"$f":"SUM(G5072:H5072)","v":149},{"$f":"F5072+I5072","v":149},0,0,{"$f":"SUM(K5072:L5072)","v":0},3958,13928,{"$f":"SUM(N5072:O5072)","v":17886},{"$f":"M5072+P5072","v":17886}]
[null,null,"3月",0,0,{"$f":"SUM(D5073:E5073)","v":0},121,78,{"$f":"SUM(G5073:H5073)","v":199},{"$f":"F5073+I5073","v":199},0,0,{"$f":"SUM(K5073:L5073)","v":0},4608,18452,{"$f":"SUM(N5073:O5073)","v":23060},{"$f":"M5073+P5073","v":23060}]
[]
[null,"徳島度２","年度計",{"$f":"SUM(D5059:D5067,D5071:D5073)","v":0},{"$f":"SUM(E5059:E5067,E5071:E5073)","v":0},{"$f":"SUM(F5059:F5067,F5071:F5073)","v":0},{"$f":"SUM(G5059:G5067,G5071:G5073)","v":1243},871,2114,2114,0,0,{"$f":"SUM(M5059:M5067,M5071:M5073)","v":0},{"$f":"SUM(N5059:N5067,N5071:N5073)","v":52508},{"$f":"SUM(O5059:O5067,O5071:O5073)","v":194886},{"$f":"SUM(P5059:P5067,P5071:P5073)","v":247394},{"$f":"SUM(Q5059:Q5067,Q5071:Q5073)","v":247394}]
[]
[null,null,{"$f":"C5023","v":"平　成　２　８　年　空　港　管　理　状　況　調　書"}]
[null,null,"空港名 ：","共用空港計"]
[null,null,"項目",null,"着 陸 回 数 （回）",null,"乗   降   客   数   （人）",null,null,null,null,null,null,null,"航空燃料供給量　（KＬ）"]
[null,null,null,"国際線","国内線","計",null,"国 際 線",null,null,null,"国 内 線",null,"合 計","ジェット燃料","その他燃料","合計"]
[null,null,"月別",null,null,null,"乗 客","降 客","通過客","小 計","乗 客","降 客","小 計"]
[]
[null,null,"1月",{"$f":"D4705+D4759+D4813+D4867+D4921+D5029+D4975","v":132},2159,{"$f":"SUM(D5083:E5083)","v":2291},{"$f":"G4705+G4759+G4813+G4867+G4921+G5029+G4975","v":13660},15954,0,{"$f":"SUM(G5083:I5083)","v":29614},{"$f":"K4705+K4759+K4813+K4867+K4921+K5029+K4975","v":160070},145539,{"$f":"SUM(K5083:L5083)","v":305609},{"$f":"J5083+M5083","v":335223},{"$f":"O4705+O4759+O4813+O4867+O4921+O5029+O4975","v":6303},0,{"$f":"SUM(O5083:P5083)","v":6303}]
[null,null,"2月",130,2050,{"$f":"SUM(D5084:E5084)","v":2180},15630,14650,0,{"$f":"SUM(G5084:I5084)","v":30280},156734,157654,{"$f":"SUM(K5084:L5084)","v":314388},{"$f":"J5084+M5084","v":344668},6034,1,{"$f":"SUM(O5084:P5084)","v":6035}]
[null,null,"3月",146,2346,2492,15438,17009,0,32447,189265,188996,378261,410708,7500,2,7502]
[null,null,"4月",174,2347,2521,21261,20852,0,42113,165156,169220,334376,376489,7836,3,7839]
[null,null,"5月",181,2514,2695,19427,19386,0,38813,190690,187332,378022,416835,8082,6,8088]
[null,null,"6月",135,2363,2498,13657,14178,0,27835,181725,184662,366387,394222,7740,6,7746]
[null,null,"7月",164,2520,2684,18243,19200,0,37443,184899,190087,374986,412429,8302,7,8309]
[null,null,"8月",146,2538,2684,17446,16354,0,33800,210166,210163,420329,454129,9074,14,9088]
[null,null,"9月",131,2563,2694,14079,13867,0,27946,201119,202516,403635,431581,7961,15,7976]
[null,null,"10月",145,2528,2673,18050,18325,0,36375,212958,214539,427497,463872,7623,11,7634]
[null,null,"11月",130,2262,2392,16055,15530,0,31585,206110,207442,413552,445137,7327,3,7330]
[null,null,"12月",131,2296,{"$f":"SUM(D5094:E5094)","v":2427},14656,13885,0,28541,173106,188017,361123,389664,6818,1,6819]
[]
[null,null,"暦年 計",{"$f":"SUM(D5083:D5095)","v":1745},28486,30231,197602,199190,0,396792,2231998,2246167,4478165,4874957,90600,69,90669]
[]
[null,null,"1月",{"$f":"D4720+D4774+D4828+D4882+D4936+D5044+D4990","v":124},2192,{"$f":"SUM(D5098:E5098)","v":2316},{"$f":"G4720+G4774+G4828+G4882+G4936+G5044+G4990","v":14319},16047,0,{"$f":"SUM(G5098:I5098)","v":30366},{"$f":"K4720+K4774+K4828+K4882+K4936+K5044+K4990","v":169967},153742,{"$f":"SUM(K5098:L5098)","v":323709},{"$f":"J5098+M5098","v":354075},{"$f":"O4720+O4774+O4828+O4882+O4936+O5044+O4990","v":5987},0,{"$f":"SUM(O5098:P5098)","v":5987}]
[null,null,"2月",121,2077,{"$f":"SUM(D5099:E5099)","v":2198},15296,14068,0,{"$f":"SUM(G5099:I5099)","v":29364},157630,158321,{"$f":"SUM(K5099:L5099)","v":315951},{"$f":"J5099+M5099","v":345315},6141,1,{"$f":"SUM(O5099:P5099)","v":6142}]
[null,null,"3月",132,2418,{"$f":"SUM(D5100:E5100)","v":2550},16029,16564,0,{"$f":"SUM(G5100:I5100)","v":32593},207951,208394,{"$f":"SUM(K5100:L5100)","v":416345},{"$f":"J5100+M5100","v":448938},7625,3,{"$f":"SUM(O5100:P5100)","v":7628}]
[]
[null,null,"年度計",{"$f":"SUM(D5086:D5094,D5098:D5100)","v":1714},28618,30332,198518,198256,0,396774,2261477,2274435,4535912,4932686,90516,70,90586]
[]
[]
[]
[null,null,"項目",null,null,null,"貨 物 取 扱 量 （トン）",null,null,null,null,null,null,"郵 便 取 扱 量 （kg）"]
[null,null,null,null,"国 際 線",null,null,"国 内 線",null,"合計",null,"国 際 線",null,null,"国 内 線",null,"合 計"]
[null,null,"月別","積","卸","小 計","積","卸","小 計",null,"積","卸","小 計","積","卸","小 計"]
[]
[null,null,"1月",{"$f":"D4732+D4786+D4840+D4894+D4948+D5056+D5002","v":423},493,{"$f":"SUM(D5110:E5110)","v":916},{"$f":"G4732+G4786+G4840+G4894+G4948+G5056+G5002","v":344},177,{"$f":"SUM(G5110:H5110)","v":521},{"$f":"F5110+I5110","v":1437},{"$f":"K4732+K4786+K4840+K4894+K4948+K5056+K5002","v":0},0,{"$f":"SUM(K5110:L5110)","v":0},{"$f":"N4732+N4786+N4840+N4894+N4948+N5056+N5002","v":44857},124587,{"$f":"SUM(N5110:O5110)","v":169444},{"$f":"P5110+M5110","v":169444}]
[null,null,"2月",399,600,{"$f":"SUM(D5111:E5111)","v":999},338,208,{"$f":"SUM(G5111:H5111)","v":546},{"$f":"F5111+I5111","v":1545},0,0,{"$f":"SUM(K5111:L5111)","v":0},40965,107028,{"$f":"SUM(N5111:O5111)","v":147993},{"$f":"P5111+M5111","v":147993}]
[null,null,"3月",414,764,1178,411,234,645,1823,0,0,0,47140,135822,182962,182962]
[null,null,"4月",641,652,1293,375,191,566,1859,0,0,0,44556,119507,164063,164063]
[null,null,"5月",477,448,925,326,172,498,1423,0,0,0,46758,118716,165474,165474]
[null,null,"6月",627,507,1134,368,186,554,1688,0,0,0,47176,128309,175485,175485]
[null,null,"7月",491,572,1063,352,219,571,1634,0,0,0,40382,103270,143652,143652]
[null,null,"8月",662,504,1166,303,201,504,1670,0,0,0,38826,96824,135650,135650]
[null,null,"9月",746,576,1322,333,221,554,1876,0,0,0,43884,114857,158741,158741]
[null,null,"10月",637,629,1266,347,240,587,1853,0,0,0,46088,147338,193426,193426]
[null,null,"11月",737,890,1627,349,221,570,2197,0,0,0,49964,137972,187936,187936]
[null,null,"12月",766,734,1500,395,243,638,2138,0,0,0,61447,162031,223478,223478]
[]
[null,null,"暦年 計",{"$f":"SUM(D5110:D5122)","v":7020},{"$f":"SUM(E5110:E5122)","v":7369},{"$f":"SUM(F5110:F5122)","v":14389},{"$f":"SUM(G5110:G5122)","v":4241},2513,{"$f":"SUM(I5110:I5122)","v":6754},21143,0,0,{"$f":"SUM(M5110:M5122)","v":0},552043,1496261,{"$f":"SUM(P5110:P5122)","v":2048304},{"$f":"SUM(Q5110:Q5122)","v":2048304}]
[]
[null,null,"1月",{"$f":"D4747+D4801+D4855+D4909+D4963+D5071+D5017","v":421},551,{"$f":"SUM(D5125:E5125)","v":972},{"$f":"G4747+G4801+G4855+G4909+G4963+G5071+G5017","v":330},172,{"$f":"SUM(G5125:H5125)","v":502},{"$f":"F5125+I5125","v":1474},{"$f":"K4747+K4801+K4855+K4909+K4963+K5071+K5017","v":0},0,{"$f":"SUM(K5125:L5125)","v":0},{"$f":"N4747+N4801+N4855+N4909+N4963+N5071+N5017","v":47851},129048,{"$f":"SUM(N5125:O5125)","v":176899},{"$f":"P5125+M5125","v":176899}]
[null,null,"2月",690,621,{"$f":"SUM(D5126:E5126)","v":1311},339,176,{"$f":"SUM(G5126:H5126)","v":515},{"$f":"F5126+I5126","v":1826},0,0,{"$f":"SUM(K5126:L5126)","v":0},41196,119415,{"$f":"SUM(N5126:O5126)","v":160611},{"$f":"P5126+M5126","v":160611}]
[null,null,"3月",687,799,{"$f":"SUM(D5127:E5127)","v":1486},409,244,{"$f":"SUM(G5127:H5127)","v":653},{"$f":"F5127+I5127","v":2139},0,0,{"$f":"SUM(K5127:L5127)","v":0},49241,144971,{"$f":"SUM(N5127:O5127)","v":194212},{"$f":"P5127+M5127","v":194212}]
[]
[null,null,"年度計",{"$f":"SUM(D5113:D5121,D5125:D5127)","v":7582},{"$f":"SUM(E5113:E5121,E5125:E5127)","v":7483},{"$f":"SUM(F5113:F5121,F5125:F5127)","v":15065},{"$f":"SUM(G5113:G5121,G5125:G5127)","v":4226},2486,{"$f":"SUM(I5113:I5121,I5125:I5127)","v":6712},{"$f":"SUM(J5113:J5121,J5125:J5127)","v":21777},0,0,0,557369,1522258,2079627,{"$f":"SUM(Q5113:Q5121,Q5125:Q5127)","v":2079627}]
[]
[null,null,{"$f":"C5077","v":"平　成　２　８　年　空　港　管　理　状　況　調　書"}]
[null,null,"空港名 ：","調    布                （その他）"]
[null,null,"項目",null,"着 陸 回 数 （回）",null,"乗   降   客   数   （人）",null,null,null,null,null,null,null,"航空燃料供給量　（KＬ）"]
[null,null,null,"国際線","国内線","計",null,"国 際 線",null,null,null,"国 内 線",null,"合 計","ジェット燃料","その他燃料","合計"]
[null,null,"月別",null,null,null,"乗 客","降 客","通過客","小 計","乗 客","降 客","小 計"]
[]
[null,null,"1月",0,582,{"$f":"SUM(D5137:E5137)","v":582},0,0,0,{"$f":"SUM(G5137:I5137)","v":0},3297,4444,{"$f":"SUM(K5137:L5137)","v":7741},{"$f":"J5137+M5137","v":7741},106,11,{"$f":"SUM(O5137:P5137)","v":117}]
[null,null,"2月",0,594,{"$f":"SUM(D5138:E5138)","v":594},0,0,0,{"$f":"SUM(G5138:I5138)","v":0},3226,4242,{"$f":"SUM(K5138:L5138)","v":7468},{"$f":"J5138+M5138","v":7468},110,11,{"$f":"SUM(O5138:P5138)","v":121}]
[null,null,"3月",0,606,{"$f":"SUM(D5139:E5139)","v":606},0,0,0,{"$f":"SUM(G5139:I5139)","v":0},3541,4951,{"$f":"SUM(K5139:L5139)","v":8492},{"$f":"J5139+M5139","v":8492},110,14,{"$f":"SUM(O5139:P5139)","v":124}]
[null,null,"4月",0,580,{"$f":"SUM(D5140:E5140)","v":580},0,0,0,{"$f":"SUM(G5140:I5140)","v":0},3248,3903,{"$f":"SUM(K5140:L5140)","v":7151},{"$f":"J5140+M5140","v":7151},114,13,{"$f":"SUM(O5140:P5140)","v":127}]
[null,null,"5月",0,660,660,0,0,0,0,3382,4425,7807,7807,130,17,147]
[null,null,"6月",0,540,540,0,0,0,0,2787,3686,6473,6473,93,12,105]
[null,null,"7月",0,575,575,0,0,0,0,3632,4441,8073,8073,107,12,119]
[null,null,"8月",0,608,608,0,0,0,0,4830,5855,10685,10685,118,10,128]
[null,null,"9月",0,529,529,0,0,0,0,3404,4582,7986,7986,103,9,112]
[null,null,"10月",0,695,695,0,0,0,0,3566,4881,8447,8447,128,20,148]
[null,null,"11月",0,602,602,0,0,0,0,3397,4571,7968,7968,117,13,130]
[null,null,"12月",0,692,692,0,0,0,0,3676,4805,8481,8481,150,15,165]
[]
[null,"調布暦１","暦年 計",{"$f":"SUM(D5137:D5148)","v":0},{"$f":"SUM(E5137:E5148)","v":7263},{"$f":"SUM(F5137:F5148)","v":7263},{"$f":"SUM(G5137:G5148)","v":0},{"$f":"SUM(H5137:H5148)","v":0},0,0,41986,54786,96772,96772,1386,{"$f":"SUM(P5137:P5148)","v":157},{"$f":"SUM(Q5137:Q5148)","v":1543}]
[]
[null,null,"1月",0,583,{"$f":"SUM(D5152:E5152)","v":583},0,0,0,{"$f":"SUM(G5152:I5152)","v":0},3613,4668,{"$f":"SUM(K5152:L5152)","v":8281},{"$f":"J5152+M5152","v":8281},127,9,{"$f":"SUM(O5152:P5152)","v":136}]
[null,null,"2月",0,506,{"$f":"SUM(D5153:E5153)","v":506},0,0,0,{"$f":"SUM(G5153:I5153)","v":0},3294,4264,{"$f":"SUM(K5153:L5153)","v":7558},{"$f":"J5153+M5153","v":7558},104,8,{"$f":"SUM(O5153:P5153)","v":112}]
[null,null,"3月",0,635,{"$f":"SUM(D5154:E5154)","v":635},0,0,0,{"$f":"SUM(G5154:I5154)","v":0},3801,5301,{"$f":"SUM(K5154:L5154)","v":9102},{"$f":"J5154+M5154","v":9102},122,13,{"$f":"SUM(O5154:P5154)","v":135}]
[]
[null,"調布度１","年度計",{"$f":"SUM(D5140:D5148,D5152:D5154)","v":0},{"$f":"SUM(E5140:E5148,E5152:E5154)","v":7205},{"$f":"SUM(F5140:F5148,F5152:F5154)","v":7205},{"$f":"SUM(G5140:G5148,G5152:G5154)","v":0},0,0,0,42630,55382,98012,98012,1413,151,{"$f":"SUM(Q5140:Q5148,Q5152:Q5154)","v":1564}]
[]
[]
[]
[null,null,"項目",null,null,null,"貨 物 取 扱 量 （トン）",null,null,null,null,null,null,"郵 便 取 扱 量 （kg）"]
[null,null,null,null,"国 際 線",null,null,"国 内 線",null,"合計",null,"国 際 線",null,null,"国 内 線",null,"合 計"]
[null,null,"月別","積","卸","小 計","積","卸","小 計",null,"積","卸","小 計","積","卸","小 計"]
[]
[null,null,"1月",0,0,{"$f":"SUM(D5164:E5164)","v":0},3,1,{"$f":"SUM(G5164:H5164)","v":4},{"$f":"F5164+I5164","v":4},0,0,{"$f":"SUM(K5164:L5164)","v":0},0,0,{"$f":"SUM(N5164:O5164)","v":0},{"$f":"M5164+P5164","v":0}]
[null,null,"2月",0,0,{"$f":"SUM(D5165:E5165)","v":0},3,1,{"$f":"SUM(G5165:H5165)","v":4},{"$f":"F5165+I5165","v":4},0,0,{"$f":"SUM(K5165:L5165)","v":0},0,0,{"$f":"SUM(N5165:O5165)","v":0},{"$f":"M5165+P5165","v":0}]
[null,null,"3月",0,0,{"$f":"SUM(D5166:E5166)","v":0},3,1,{"$f":"SUM(G5166:H5166)","v":4},{"$f":"F5166+I5166","v":4},0,0,{"$f":"SUM(K5166:L5166)","v":0},0,0,{"$f":"SUM(N5166:O5166)","v":0},{"$f":"M5166+P5166","v":0}]
[null,null,"4月",0,0,{"$f":"SUM(D5167:E5167)","v":0},3,1,{"$f":"SUM(G5167:H5167)","v":4},{"$f":"F5167+I5167","v":4},0,0,{"$f":"SUM(K5167:L5167)","v":0},0,0,{"$f":"SUM(N5167:O5167)","v":0},{"$f":"M5167+P5167","v":0}]
[null,null,"5月",0,0,0,4,2,6,6,0,0,0,0,0,0,0]
[null,null,"6月",0,0,0,3,1,4,4,0,0,0,0,0,0,0]
[null,null,"7月",0,0,0,3,1,4,4,0,0,0,0,0,0,0]
[null,null,"8月",0,0,0,3,1,4,4,0,0,0,0,0,0,0]
[null,null,"9月",0,0,0,3,1,4,4,0,0,0,0,0,0,0]
[null,null,"10月",0,0,0,3,1,4,4,0,0,0,0,0,0,0]
[null,null,"11月",0,0,0,3,1,4,4,0,0,0,0,0,0,0]
[null,null,"12月",0,0,0,3,1,4,4,0,0,0,0,0,0,0]
[]
[null,"調布暦２","暦年 計",{"$f":"SUM(D5164:D5176)","v":0},0,0,37,13,50,50,0,0,{"$f":"SUM(M5164:M5176)","v":0},{"$f":"SUM(N5164:N5176)","v":0},{"$f":"SUM(O5164:O5176)","v":0},{"$f":"SUM(P5164:P5176)","v":0},{"$f":"SUM(Q5164:Q5176)","v":0}]
[]
[null,null,"1月",0,0,{"$f":"SUM(D5179:E5179)","v":0},3,1,{"$f":"SUM(G5179:H5179)","v":4},{"$f":"F5179+I5179","v":4},0,0,{"$f":"SUM(K5179:L5179)","v":0},0,0,{"$f":"SUM(N5179:O5179)","v":0},{"$f":"M5179+P5179","v":0}]
[null,null,"2月",0,0,{"$f":"SUM(D5180:E5180)","v":0},3,1,{"$f":"SUM(G5180:H5180)","v":4},{"$f":"F5180+I5180","v":4},0,0,{"$f":"SUM(K5180:L5180)","v":0},0,0,{"$f":"SUM(N5180:O5180)","v":0},{"$f":"M5180+P5180","v":0}]
[null,null,"3月",0,0,{"$f":"SUM(D5181:E5181)","v":0},3,1,{"$f":"SUM(G5181:H5181)","v":4},{"$f":"F5181+I5181","v":4},0,0,{"$f":"SUM(K5181:L5181)","v":0},0,0,{"$f":"SUM(N5181:O5181)","v":0},{"$f":"M5181+P5181","v":0}]
[]
[null,"調布度２","年度計",{"$f":"SUM(D5167:D5175,D5179:D5181)","v":0},{"$f":"SUM(E5167:E5175,E5179:E5181)","v":0},{"$f":"SUM(F5167:F5175,F5179:F5181)","v":0},{"$f":"SUM(G5167:G5175,G5179:G5181)","v":37},13,50,50,0,0,{"$f":"SUM(M5167:M5175,M5179:M5181)","v":0},{"$f":"SUM(N5167:N5175,N5179:N5181)","v":0},{"$f":"SUM(O5167:O5175,O5179:O5181)","v":0},{"$f":"SUM(P5167:P5175,P5179:P5181)","v":0},{"$f":"SUM(Q5167:Q5175,Q5179:Q5181)","v":0}]
[]
[null,null,{"$f":"C5131","v":"平　成　２　８　年　空　港　管　理　状　況　調　書"}]
[null,null,"空港名 ：","名 古 屋                （その他）"]
[null,null,"項目",null,"着 陸 回 数 （回）",null,"乗   降   客   数   （人）",null,null,null,null,null,null,null,"航空燃料供給量　（ＫＬ）"]
[null,null,null,"国際線","国内線","計",null,"国 際 線",null,null,null,"国 内 線",null,"合 計","ジェット燃料","その他燃料","合計"]
[null,null,"月別",null,null,null,"乗 客","降 客","通過客","小 計","乗 客","降 客","小 計"]
[]
[null,null,"1月",5,1634,{"$f":"SUM(D5191:E5191)","v":1639},15,23,0,{"$f":"SUM(G5191:I5191)","v":38},22902,25786,{"$f":"SUM(K5191:L5191)","v":48688},{"$f":"J5191+M5191","v":48726},2164,9,{"$f":"SUM(O5191:P5191)","v":2173}]
[null,null,"2月",5,1749,{"$f":"SUM(D5192:E5192)","v":1754},33,41,0,{"$f":"SUM(G5192:I5192)","v":74},26392,26261,{"$f":"SUM(K5192:L5192)","v":52653},{"$f":"J5192+M5192","v":52727},2306,9,{"$f":"SUM(O5192:P5192)","v":2315}]
[null,null,"3月",11,1909,1920,45,51,0,96,34056,34596,68652,68748,2342,8,2350]
[null,null,"4月",3,1701,1704,29,19,0,48,31003,29728,60731,60779,2672,9,2681]
[null,null,"5月",1,1895,1896,3,4,0,7,34556,36472,71028,71035,3084,12,3096]
[null,null,"6月",6,1726,1732,17,319,0,336,35235,35378,70613,70949,2743,7,2750]
[null,null,"7月",7,1836,1843,23,13,0,36,42132,41238,83370,83406,2770,8,2778]
[null,null,"8月",1,1824,1825,6,6,0,12,47813,48272,96085,96097,2777,7,2784]
[null,null,"9月",5,1819,1824,34,26,0,60,41938,41632,83570,83630,2755,8,2763]
[null,null,"10月",8,2012,2020,29,34,0,63,44787,44737,89524,89587,2896,9,2905]
[null,null,"11月",9,1887,1896,40,46,0,86,38605,39315,77920,78006,2735,10,2745]
[null,null,"12月",5,1876,1881,19,23,0,42,35049,31301,66350,66392,2736,11,2747]
[]
[null,"名古屋暦１","暦年 計",{"$f":"SUM(D5191:D5202)","v":66},{"$f":"SUM(E5191:E5202)","v":21868},{"$f":"SUM(F5191:F5202)","v":21934},{"$f":"SUM(G5191:G5202)","v":293},{"$f":"SUM(H5191:H5202)","v":605},0,898,434468,434716,869184,870082,31980,{"$f":"SUM(P5191:P5202)","v":107},{"$f":"SUM(Q5191:Q5202)","v":32087}]
[]
[null,null,"1月",4,1780,{"$f":"SUM(D5206:E5206)","v":1784},29,18,0,{"$f":"SUM(G5206:I5206)","v":47},27718,31277,{"$f":"SUM(K5206:L5206)","v":58995},{"$f":"J5206+M5206","v":59042},2655,11,{"$f":"SUM(O5206:P5206)","v":2666}]
[null,null,"2月",4,1791,{"$f":"SUM(D5207:E5207)","v":1795},16,18,0,{"$f":"SUM(G5207:I5207)","v":34},29748,30374,{"$f":"SUM(K5207:L5207)","v":60122},{"$f":"J5207+M5207","v":60156},2432,6,{"$f":"SUM(O5207:P5207)","v":2438}]
[null,null,"3月",9,2143,{"$f":"SUM(D5208:E5208)","v":2152},44,45,0,{"$f":"SUM(G5208:I5208)","v":89},41102,41494,{"$f":"SUM(K5208:L5208)","v":82596},{"$f":"J5208+M5208","v":82685},3108,12,{"$f":"SUM(O5208:P5208)","v":3120}]
[]
[null,"名古屋度１","年度計",{"$f":"SUM(D5194:D5202,D5206:D5208)","v":62},{"$f":"SUM(E5194:E5202,E5206:E5208)","v":22290},{"$f":"SUM(F5194:F5202,F5206:F5208)","v":22352},{"$f":"SUM(G5194:G5202,G5206:G5208)","v":289},571,0,860,449686,451218,900904,901764,33363,110,{"$f":"SUM(Q5194:Q5202,Q5206:Q5208)","v":33473}]
[]
[]
[]
[null,null,"項目",null,null,null,"貨 物 取 扱 量 （トン）",null,null,null,null,null,null,"郵 便 取 扱 量 （kg）"]
[null,null,null,null,"国 際 線",null,null,"国 内 線",null,"合計",null,"国 際 線",null,null,"国 内 線",null,"合 計"]
[null,null,"月別","積","卸","小 計","積","卸","小 計",null,"積","卸","小 計","積","卸","小 計"]
[]
[null,null,"1月",0,0,{"$f":"SUM(D5218:E5218)","v":0},0,0,{"$f":"SUM(G5218:H5218)","v":0},{"$f":"F5218+I5218","v":0},0,0,{"$f":"SUM(K5218:L5218)","v":0},0,0,{"$f":"SUM(N5218:O5218)","v":0},{"$f":"M5218+P5218","v":0}]
[null,null,"2月",0,0,0,0,0,0,0,0,0,0,0,0,{"$f":"SUM(N5219:O5219)","v":0},0]
[null,null,"3月",0,0,0,0,0,0,0,0,0,0,0,0,{"$f":"SUM(N5220:O5220)","v":0},0]
[null,null,"4月",0,0,0,0,0,0,0,0,0,0,0,0,null,0]
[null,null,"5月",0,0,0,0,0,0,0,0,0,0,0,0,null,0]
[null,null,"6月",0,0,0,0,0,0,0,0,0,0,0,0,null,0]
[null,null,"7月",0,0,0,0,0,0,0,0,0,0,0,0,null,0]
[null,null,"8月",0,0,0,0,0,0,0,0,0,0,0,0,null,0]
[null,null,"9月",0,0,0,0,0,0,0,0,0,0,0,0,null,0]
[null,null,"10月",0,0,0,0,0,0,0,0,0,0,0,0,null,0]
[null,null,"11月",0,0,0,0,0,0,0,0,0,0,0,0,null,0]
[null,null,"12月",0,0,0,0,0,0,0,0,0,0,0,0,null,0]
[]
[null,"名古屋暦２","暦年 計",{"$f":"SUM(D5218:D5230)","v":0},0,0,0,0,0,0,0,0,{"$f":"SUM(M5218:M5230)","v":0},{"$f":"SUM(N5218:N5230)","v":0},{"$f":"SUM(O5218:O5230)","v":0},{"$f":"SUM(P5218:P5230)","v":0},{"$f":"SUM(Q5218:Q5230)","v":0}]
[]
[null,null,"1月",0,0,{"$f":"SUM(D5233:E5233)","v":0},0,0,{"$f":"SUM(G5233:H5233)","v":0},{"$f":"F5233+I5233","v":0},0,0,{"$f":"SUM(K5233:L5233)","v":0},0,0,{"$f":"SUM(N5233:O5233)","v":0},{"$f":"M5233+P5233","v":0}]
[null,null,"2月",0,0,{"$f":"SUM(D5234:E5234)","v":0},0,0,{"$f":"SUM(G5234:H5234)","v":0},{"$f":"F5234+I5234","v":0},0,0,{"$f":"SUM(K5234:L5234)","v":0},0,0,{"$f":"SUM(N5234:O5234)","v":0},{"$f":"M5234+P5234","v":0}]
[null,null,"3月",0,0,{"$f":"SUM(D5235:E5235)","v":0},0,0,{"$f":"SUM(G5235:H5235)","v":0},{"$f":"F5235+I5235","v":0},0,0,{"$f":"SUM(K5235:L5235)","v":0},0,0,{"$f":"SUM(N5235:O5235)","v":0},{"$f":"M5235+P5235","v":0}]
[]
[null,"名古屋度２","年度計",{"$f":"SUM(D5221:D5229,D5233:D5235)","v":0},{"$f":"SUM(E5221:E5229,E5233:E5235)","v":0},{"$f":"SUM(F5221:F5229,F5233:F5235)","v":0},{"$f":"SUM(G5221:G5229,G5233:G5235)","v":0},0,0,0,0,0,{"$f":"SUM(M5221:M5229,M5233:M5235)","v":0},{"$f":"SUM(N5221:N5229,N5233:N5235)","v":0},{"$f":"SUM(O5221:O5229,O5233:O5235)","v":0},{"$f":"SUM(P5221:P5229,P5233:P5235)","v":0},{"$f":"SUM(Q5221:Q5229,Q5233:Q5235)","v":0}]
[]
[null,null,{"$f":"C5185","v":"平　成　２　８　年　空　港　管　理　状　況　調　書"}]
[null,null,"空港名 ：","但    馬                （その他）"]
[null,null,"項目",null,"着 陸 回 数 （回）",null,"乗   降   客   数   （人）",null,null,null,null,null,null,null,"航空燃料供給量　（ＫＬ）"]
[null,null,null,"国際線","国内線","計",null,"国 際 線",null,null,null,"国 内 線",null,"合 計","ジェット燃料","その他燃料","合計"]
[null,null,"月別",null,null,null,"乗 客","降 客","通過客","小 計","乗 客","降 客","小 計"]
[]
[null,null,"1月",0,97,{"$f":"SUM(D5245:E5245)","v":97},0,0,0,{"$f":"SUM(G5245:I5245)","v":0},907,790,{"$f":"SUM(K5245:L5245)","v":1697},{"$f":"J5245+M5245","v":1697},14,1,{"$f":"SUM(O5245:P5245)","v":15}]
[null,null,"2月",0,73,{"$f":"SUM(D5246:E5246)","v":73},0,0,0,{"$f":"SUM(G5246:I5246)","v":0},1011,965,{"$f":"SUM(K5246:L5246)","v":1976},{"$f":"J5246+M5246","v":1976},14,0,{"$f":"SUM(O5246:P5246)","v":14}]
[null,null,"3月",0,174,174,0,0,0,0,1469,1382,2851,2851,18,4,22]
[null,null,"4月",0,193,193,{"$f":"[3]但馬!$DC$26","v":0},{"$f":"[3]但馬!$DC$27","v":0},{"$f":"[3]但馬!$DC$28","v":0},0,1068,1036,2104,2104,18,4,22]
[null,null,"5月",0,220,220,0,0,0,0,1359,1267,2626,2626,17,5,22]
[null,null,"6月",0,141,141,0,0,0,0,1596,1604,3200,3200,14,2,16]
[null,null,"7月",0,233,233,0,0,0,0,1372,1399,2771,2771,18,5,23]
[null,null,"8月",0,279,279,0,0,0,0,1354,1441,2795,2795,14,7,21]
[null,null,"9月",0,169,169,0,0,0,0,1366,1348,2714,2714,11,4,15]
[null,null,"10月",0,214,214,0,0,0,0,1548,1509,3057,3057,19,5,24]
[null,null,"11月",0,152,152,0,0,0,0,1294,1292,2586,2586,16,3,19]
[null,null,"12月",0,102,102,0,0,0,0,1214,1338,2552,2552,10,2,12]
[]
[null,"但馬暦１","暦年 計",{"$f":"SUM(D5245:D5256)","v":0},{"$f":"SUM(E5245:E5256)","v":2047},{"$f":"SUM(F5245:F5256)","v":2047},{"$f":"SUM(G5245:G5256)","v":0},{"$f":"SUM(H5245:H5256)","v":0},0,0,15558,15371,30929,30929,183,{"$f":"SUM(P5245:P5256)","v":42},{"$f":"SUM(Q5245:Q5256)","v":225}]
[]
[null,null,"1月",0,63,{"$f":"SUM(D5260:E5260)","v":63},0,0,0,{"$f":"SUM(G5260:I5260)","v":0},944,845,{"$f":"SUM(K5260:L5260)","v":1789},{"$f":"J5260+M5260","v":1789},11,0,{"$f":"SUM(O5260:P5260)","v":11}]
[null,null,"2月",0,89,{"$f":"SUM(D5261:E5261)","v":89},0,0,0,{"$f":"SUM(G5261:I5261)","v":0},788,773,{"$f":"SUM(K5261:L5261)","v":1561},{"$f":"J5261+M5261","v":1561},10,1,{"$f":"SUM(O5261:P5261)","v":11}]
[null,null,"3月",0,224,{"$f":"SUM(D5262:E5262)","v":224},0,0,0,{"$f":"SUM(G5262:I5262)","v":0},1481,1424,{"$f":"SUM(K5262:L5262)","v":2905},{"$f":"J5262+M5262","v":2905},13,5,{"$f":"SUM(O5262:P5262)","v":18}]
[]
[null,"但馬度１","年度計",{"$f":"SUM(D5248:D5256,D5260:D5262)","v":0},{"$f":"SUM(E5248:E5256,E5260:E5262)","v":2079},{"$f":"SUM(F5248:F5256,F5260:F5262)","v":2079},{"$f":"SUM(G5248:G5256,G5260:G5262)","v":0},0,0,0,15384,15276,30660,30660,171,43,{"$f":"SUM(Q5248:Q5256,Q5260:Q5262)","v":214}]
[]
[]
[]
[null,null,"項目",null,null,null,"貨 物 取 扱 量 （トン）",null,null,null,null,null,null,"郵 便 取 扱 量 （kg）"]
[null,null,null,null,"国 際 線",null,null,"国 内 線",null,"合計",null,"国 際 線",null,null,"国 内 線",null,"合 計"]
[null,null,"月別","積","卸","小 計","積","卸","小 計",null,"積","卸","小 計","積","卸","小 計"]
[]
[null,null,"1月",0,0,{"$f":"SUM(D5272:E5272)","v":0},0,0,{"$f":"SUM(G5272:H5272)","v":0},{"$f":"F5272+I5272","v":0},0,0,{"$f":"SUM(K5272:L5272)","v":0},0,0,{"$f":"SUM(N5272:O5272)","v":0},{"$f":"M5272+P5272","v":0}]
[null,null,"2月",0,0,0,0,0,0,0,0,0,0,0,0,0,0]
[null,null,"3月",0,0,0,0,0,0,0,0,0,0,0,0,0,0]
[null,null,"4月",0,0,0,0,0,0,0,{"$f":"[3]但馬!$DC$47","v":0},{"$f":"[3]但馬!$DC$48","v":0},0,0,0,0,0]
[null,null,"5月",0,0,0,0,0,0,0,0,0,0,0,0,0,0]
[null,null,"6月",0,0,0,0,0,0,0,0,0,0,0,0,0,0]
[null,null,"7月",0,0,0,0,0,0,0,0,0,0,0,0,0,0]
[null,null,"8月",0,0,0,0,0,0,0,0,0,0,0,0,0,0]
[null,null,"9月",0,0,0,0,0,0,0,0,0,0,0,0,0,0]
[null,null,"10月",0,0,0,0,0,0,0,0,0,0,0,0,0,0]
[null,null,"11月",0,0,0,0,0,0,0,0,0,0,0,0,0,0]
[null,null,"12月",0,0,0,0,0,0,0,0,0,0,0,0,0,0]
[]
[null,"但馬暦２","暦年 計",{"$f":"SUM(D5272:D5284)","v":0},0,0,0,0,0,0,0,0,{"$f":"SUM(M5272:M5284)","v":0},{"$f":"SUM(N5272:N5284)","v":0},{"$f":"SUM(O5272:O5284)","v":0},{"$f":"SUM(P5272:P5284)","v":0},{"$f":"SUM(Q5272:Q5284)","v":0}]
[]
[null,null,"1月",0,0,{"$f":"SUM(D5287:E5287)","v":0},0,0,{"$f":"SUM(G5287:H5287)","v":0},{"$f":"F5287+I5287","v":0},0,0,{"$f":"SUM(K5287:L5287)","v":0},0,0,{"$f":"SUM(N5287:O5287)","v":0},{"$f":"M5287+P5287","v":0}]
[null,null,"2月",0,0,{"$f":"SUM(D5288:E5288)","v":0},0,0,{"$f":"SUM(G5288:H5288)","v":0},{"$f":"F5288+I5288","v":0},0,0,{"$f":"SUM(K5288:L5288)","v":0},0,0,{"$f":"SUM(N5288:O5288)","v":0},{"$f":"M5288+P5288","v":0}]
[null,null,"3月",0,0,{"$f":"SUM(D5289:E5289)","v":0},0,0,{"$f":"SUM(G5289:H5289)","v":0},{"$f":"F5289+I5289","v":0},0,0,{"$f":"SUM(K5289:L5289)","v":0},0,0,{"$f":"SUM(N5289:O5289)","v":0},{"$f":"M5289+P5289","v":0}]
[]
[null,"但馬度２","年度計",{"$f":"SUM(D5275:D5283,D5287:D5289)","v":0},{"$f":"SUM(E5275:E5283,E5287:E5289)","v":0},{"$f":"SUM(F5275:F5283,F5287:F5289)","v":0},{"$f":"SUM(G5275:G5283,G5287:G5289)","v":0},0,0,0,0,0,{"$f":"SUM(M5275:M5283,M5287:M5289)","v":0},{"$f":"SUM(N5275:N5283,N5287:N5289)","v":0},{"$f":"SUM(O5275:O5283,O5287:O5289)","v":0},{"$f":"SUM(P5275:P5283,P5287:P5289)","v":0},{"$f":"SUM(Q5275:Q5283,Q5287:Q5289)","v":0}]
[]
[null,null,{"$f":"C5239","v":"平　成　２　８　年　空　港　管　理　状　況　調　書"}]
[null,null,"空港名 ：","岡    南                （その他）"]
[null,null,"項目",null,"着 陸 回 数 （回）",null,"乗   降   客   数   （人）",null,null,null,null,null,null,null,"航空燃料供給量　（ＫＬ）"]
[null,null,null,"国際線","国内線","計",null,"国 際 線",null,null,null,"国 内 線",null,"合 計","ジェット燃料","その他燃料","合計"]
[null,null,"月別",null,null,null,"乗 客","降 客","通過客","小 計","乗 客","降 客","小 計"]
[]
[null,null,"1月",0,237,{"$f":"SUM(D5299:E5299)","v":237},0,0,0,{"$f":"SUM(G5299:I5299)","v":0},0,0,{"$f":"SUM(K5299:L5299)","v":0},{"$f":"J5299+M5299","v":0},32,7,{"$f":"SUM(O5299:P5299)","v":39}]
[null,null,"2月",0,283,{"$f":"SUM(D5300:E5300)","v":283},0,0,0,{"$f":"SUM(G5300:I5300)","v":0},0,0,{"$f":"SUM(K5300:L5300)","v":0},{"$f":"J5300+M5300","v":0},38,9,{"$f":"SUM(O5300:P5300)","v":47}]
[null,null,"3月",0,339,339,0,0,0,0,0,0,0,0,44,10,54]
[null,null,"4月",0,260,260,0,0,0,0,0,0,0,0,35,10,45]
[null,null,"5月",0,366,366,0,0,0,0,0,0,0,0,67,11,78]
[null,null,"6月",0,261,261,0,0,0,0,0,0,0,0,51,7,58]
[null,null,"7月",0,309,309,0,0,0,0,0,0,0,0,43,13,56]
[null,null,"8月",0,288,288,0,0,0,0,0,0,0,0,34,11,45]
[null,null,"9月",0,211,211,0,0,0,0,0,0,0,0,22,6,28]
[null,null,"10月",0,320,320,0,0,0,0,0,0,0,0,32,11,43]
[null,null,"11月",0,360,360,0,0,0,0,0,0,0,0,40,13,53]
[null,null,"12月",0,304,304,0,0,0,0,0,0,0,0,30,13,43]
[]
[null,"岡南暦１","暦年 計",{"$f":"SUM(D5299:D5310)","v":0},{"$f":"SUM(E5299:E5310)","v":3538},{"$f":"SUM(F5299:F5310)","v":3538},{"$f":"SUM(G5299:G5310)","v":0},{"$f":"SUM(H5299:H5310)","v":0},0,0,0,0,0,0,468,{"$f":"SUM(P5299:P5310)","v":121},{"$f":"SUM(Q5299:Q5310)","v":589}]
[]
[null,null,"1月",0,262,{"$f":"SUM(D5314:E5314)","v":262},0,0,0,{"$f":"SUM(G5314:I5314)","v":0},0,0,{"$f":"SUM(K5314:L5314)","v":0},{"$f":"J5314+M5314","v":0},33,9,{"$f":"SUM(O5314:P5314)","v":42}]
[null,null,"2月",0,271,{"$f":"SUM(D5315:E5315)","v":271},0,0,0,{"$f":"SUM(G5315:I5315)","v":0},0,0,{"$f":"SUM(K5315:L5315)","v":0},{"$f":"J5315+M5315","v":0},35,8,{"$f":"SUM(O5315:P5315)","v":43}]
[null,null,"3月",0,311,{"$f":"SUM(D5316:E5316)","v":311},0,0,0,{"$f":"SUM(G5316:I5316)","v":0},0,0,{"$f":"SUM(K5316:L5316)","v":0},{"$f":"J5316+M5316","v":0},31,10,{"$f":"SUM(O5316:P5316)","v":41}]
[]
[null,"岡南度１","年度計",{"$f":"SUM(D5302:D5310,D5314:D5316)","v":0},{"$f":"SUM(E5302:E5310,E5314:E5316)","v":3523},{"$f":"SUM(F5302:F5310,F5314:F5316)","v":3523},{"$f":"SUM(G5302:G5310,G5314:G5316)","v":0},0,0,0,0,0,0,0,453,122,{"$f":"SUM(Q5302:Q5310,Q5314:Q5316)","v":575}]
[]
[]
[]
[null,null,"項目",null,null,null,"貨 物 取 扱 量 （トン）",null,null,null,null,null,null,"郵 便 取 扱 量 （kg）"]
[null,null,null,null,"国 際 線",null,null,"国 内 線",null,"合計",null,"国 際 線",null,null,"国 内 線",null,"合 計"]
[null,null,"月別","積","卸","小 計","積","卸","小 計",null,"積","卸","小 計","積","卸","小 計"]
[]
[null,null,"1月",0,0,{"$f":"SUM(D5326:E5326)","v":0},0,0,{"$f":"SUM(G5326:H5326)","v":0},{"$f":"F5326+I5326","v":0},0,0,{"$f":"SUM(K5326:L5326)","v":0},0,0,{"$f":"SUM(N5326:O5326)","v":0},{"$f":"M5326+P5326","v":0}]
[null,null,"2月",0,0,0,0,0,0,0,0,0,0,0,0,0,0]
[null,null,"3月",0,0,0,0,0,0,0,0,0,0,0,0,0,0]
[null,null,"4月",0,0,0,0,0,0,0,0,0,0,0,0,0,0]
[null,null,"5月",0,0,0,0,0,0,0,0,0,0,0,0,0,0]
[null,null,"6月",0,0,0,0,0,0,0,0,0,0,0,0,0,0]
[null,null,"7月",0,0,0,0,0,0,0,0,0,0,0,0,0,0]
[null,null,"8月",0,0,0,0,0,0,0,0,0,0,0,0,0,0]
[null,null,"9月",0,0,0,0,0,0,0,0,0,0,0,0,0,0]
[null,null,"10月",0,0,0,0,0,0,0,0,0,0,0,0,0,0]
[null,null,"11月",0,0,0,0,0,0,0,0,0,0,0,0,0,0]
[null,null,"12月",0,0,0,0,0,0,0,0,0,0,0,0,0,0]
[]
[null,"岡南暦２","暦年 計",{"$f":"SUM(D5326:D5338)","v":0},0,0,0,0,0,0,0,0,{"$f":"SUM(M5326:M5338)","v":0},{"$f":"SUM(N5326:N5338)","v":0},{"$f":"SUM(O5326:O5338)","v":0},{"$f":"SUM(P5326:P5338)","v":0},{"$f":"SUM(Q5326:Q5338)","v":0}]
[]
[null,null,"1月",0,0,{"$f":"SUM(D5341:E5341)","v":0},0,0,{"$f":"SUM(G5341:H5341)","v":0},{"$f":"F5341+I5341","v":0},0,0,{"$f":"SUM(K5341:L5341)","v":0},0,0,{"$f":"SUM(N5341:O5341)","v":0},{"$f":"M5341+P5341","v":0}]
[null,null,"2月",0,0,{"$f":"SUM(D5342:E5342)","v":0},0,0,{"$f":"SUM(G5342:H5342)","v":0},{"$f":"F5342+I5342","v":0},0,0,{"$f":"SUM(K5342:L5342)","v":0},0,0,{"$f":"SUM(N5342:O5342)","v":0},{"$f":"M5342+P5342","v":0}]
[null,null,"3月",0,0,{"$f":"SUM(D5343:E5343)","v":0},0,0,{"$f":"SUM(G5343:H5343)","v":0},{"$f":"F5343+I5343","v":0},0,0,{"$f":"SUM(K5343:L5343)","v":0},0,0,{"$f":"SUM(N5343:O5343)","v":0},{"$f":"M5343+P5343","v":0}]
[]
[null,"岡南度２","年度計",{"$f":"SUM(D5329:D5337,D5341:D5343)","v":0},{"$f":"SUM(E5329:E5337,E5341:E5343)","v":0},{"$f":"SUM(F5329:F5337,F5341:F5343)","v":0},{"$f":"SUM(G5329:G5337,G5341:G5343)","v":0},0,0,0,0,0,{"$f":"SUM(M5329:M5337,M5341:M5343)","v":0},{"$f":"SUM(N5329:N5337,N5341:N5343)","v":0},{"$f":"SUM(O5329:O5337,O5341:O5343)","v":0},{"$f":"SUM(P5329:P5337,P5341:P5343)","v":0},{"$f":"SUM(Q5329:Q5337,Q5341:Q5343)","v":0}]
[]
[null,null,{"$f":"C5293","v":"平　成　２　８　年　空　港　管　理　状　況　調　書"}]
[null,null,"空港名 ：","天　　草　　            （その他）"]
[null,null,"項目",null,"着 陸 回 数 （回）",null,"乗   降   客   数   （人）",null,null,null,null,null,null,null,"航空燃料供給量　（ＫＬ）"]
[null,null,null,"国際線","国内線","計",null,"国 際 線",null,null,null,"国 内 線",null,"合 計","ジェット燃料","その他燃料","合計"]
[null,null,"月別",null,null,null,"乗 客","降 客","通過客","小 計","乗 客","降 客","小 計"]
[]
[null,null,"1月",0,115,{"$f":"SUM(D5353:E5353)","v":115},0,0,0,{"$f":"SUM(G5353:I5353)","v":0},1450,1312,{"$f":"SUM(K5353:L5353)","v":2762},{"$f":"J5353+M5353","v":2762},0,0,{"$f":"SUM(O5353:P5353)","v":0}]
[null,null,"2月",0,123,{"$f":"SUM(D5354:E5354)","v":123},0,0,0,{"$f":"SUM(G5354:I5354)","v":0},1794,1732,{"$f":"SUM(K5354:L5354)","v":3526},{"$f":"J5354+M5354","v":3526},0,0,{"$f":"SUM(O5354:P5354)","v":0}]
[null,null,"3月",0,163,163,0,0,0,0,3210,3148,6358,6358,1,0,1]
[null,null,"4月",0,115,115,0,0,0,0,2429,2470,4899,4899,0,0,0]
[null,null,"5月",0,115,115,0,0,0,0,2739,2358,5097,5097,0,0,0]
[null,null,"6月",0,105,105,0,0,0,0,1978,1919,3897,3897,0,0,0]
[null,null,"7月",0,132,132,0,0,0,0,2566,2662,5228,5228,0,0,0]
[null,null,"8月",0,134,134,0,0,0,0,3380,3257,6637,6637,0,0,0]
[null,null,"9月",0,121,121,0,0,0,0,2542,2402,4944,4944,1,0,1]
[null,null,"10月",0,128,128,0,0,0,0,2719,2565,5284,5284,0,0,0]
[null,null,"11月",0,144,144,0,0,0,0,3150,3113,6263,6263,0,0,0]
[null,null,"12月",0,144,144,0,0,0,0,2665,3160,5825,5825,0,0,0]
[]
[null,"天草暦１","暦年 計",{"$f":"SUM(D5353:D5364)","v":0},{"$f":"SUM(E5353:E5364)","v":1539},{"$f":"SUM(F5353:F5364)","v":1539},{"$f":"SUM(G5353:G5364)","v":0},{"$f":"SUM(H5353:H5364)","v":0},0,0,30622,30098,60720,60720,2,{"$f":"SUM(P5353:P5364)","v":0},{"$f":"SUM(Q5353:Q5364)","v":2}]
[]
[null,null,"1月",0,147,{"$f":"SUM(D5368:E5368)","v":147},0,0,0,{"$f":"SUM(G5368:I5368)","v":0},2952,2417,{"$f":"SUM(K5368:L5368)","v":5369},{"$f":"J5368+M5368","v":5369},0,0,{"$f":"SUM(O5368:P5368)","v":0}]
[null,null,"2月",0,140,{"$f":"SUM(D5369:E5369)","v":140},0,0,0,{"$f":"SUM(G5369:I5369)","v":0},2382,2443,{"$f":"SUM(K5369:L5369)","v":4825},{"$f":"J5369+M5369","v":4825},0,0,{"$f":"SUM(O5369:P5369)","v":0}]
[null,null,"3月",0,170,{"$f":"SUM(D5370:E5370)","v":170},0,0,0,{"$f":"SUM(G5370:I5370)","v":0},3142,3150,{"$f":"SUM(K5370:L5370)","v":6292},{"$f":"J5370+M5370","v":6292},0,0,{"$f":"SUM(O5370:P5370)","v":0}]
[]
[null,"天草度１","年度計",{"$f":"SUM(D5356:D5364,D5368:D5370)","v":0},{"$f":"SUM(E5356:E5364,E5368:E5370)","v":1595},{"$f":"SUM(F5356:F5364,F5368:F5370)","v":1595},{"$f":"SUM(G5356:G5364,G5368:G5370)","v":0},0,0,0,32644,31916,64560,64560,1,0,{"$f":"SUM(Q5356:Q5364,Q5368:Q5370)","v":1}]
[]
[]
[]
[null,null,"項目",null,null,null,"貨 物 取 扱 量 （トン）",null,null,null,null,null,null,"郵 便 取 扱 量 （kg）"]
[null,null,null,null,"国 際 線",null,null,"国 内 線",null,"合計",null,"国 際 線",null,null,"国 内 線",null,"合 計"]
[null,null,"月別","積","卸","小 計","積","卸","小 計",null,"積","卸","小 計","積","卸","小 計"]
[]
[null,null,"1月",0,0,{"$f":"SUM(D5380:E5380)","v":0},0,0,{"$f":"SUM(G5380:H5380)","v":0},{"$f":"F5380+I5380","v":0},0,0,{"$f":"SUM(K5380:L5380)","v":0},0,0,{"$f":"SUM(N5380:O5380)","v":0},{"$f":"M5380+P5380","v":0}]
[null,null,"2月",0,0,0,0,0,0,0,0,0,0,0,0,0,0]
[null,null,"3月",0,0,0,0,0,0,0,0,0,0,0,0,0,0]
[null,null,"4月",0,0,0,0,0,0,0,0,0,0,0,0,0,0]
[null,null,"5月",0,0,0,0,0,0,0,0,0,0,0,0,0,0]
[null,null,"6月",0,0,0,0,0,0,0,0,0,0,0,0,0,0]
[null,null,"7月",0,0,0,0,0,0,0,0,0,0,0,0,0,0]
[null,null,"8月",0,0,0,0,0,0,0,0,0,0,0,0,0,0]
[null,null,"9月",0,0,0,0,0,0,0,0,0,0,0,0,0,0]
[null,null,"10月",0,0,0,0,0,0,0,0,0,0,0,0,0,0]
[null,null,"11月",0,0,0,0,0,0,0,0,0,0,0,0,0,0]
[null,null,"12月",0,0,0,0,0,0,0,0,0,0,0,0,0,0]
[]
[null,"天草暦２","暦年 計",{"$f":"SUM(D5380:D5392)","v":0},0,0,0,0,0,0,0,0,{"$f":"SUM(M5380:M5392)","v":0},{"$f":"SUM(N5380:N5392)","v":0},{"$f":"SUM(O5380:O5392)","v":0},{"$f":"SUM(P5380:P5392)","v":0},{"$f":"SUM(Q5380:Q5392)","v":0}]
[]
[null,null,"1月",0,0,{"$f":"SUM(D5395:E5395)","v":0},0,0,{"$f":"SUM(G5395:H5395)","v":0},{"$f":"F5395+I5395","v":0},0,0,{"$f":"SUM(K5395:L5395)","v":0},0,0,{"$f":"SUM(N5395:O5395)","v":0},{"$f":"M5395+P5395","v":0}]
[null,null,"2月",0,0,{"$f":"SUM(D5396:E5396)","v":0},0,0,{"$f":"SUM(G5396:H5396)","v":0},{"$f":"F5396+I5396","v":0},0,0,{"$f":"SUM(K5396:L5396)","v":0},0,0,{"$f":"SUM(N5396:O5396)","v":0},{"$f":"M5396+P5396","v":0}]
[null,null,"3月",0,0,{"$f":"SUM(D5397:E5397)","v":0},0,0,{"$f":"SUM(G5397:H5397)","v":0},{"$f":"F5397+I5397","v":0},0,0,{"$f":"SUM(K5397:L5397)","v":0},0,0,{"$f":"SUM(N5397:O5397)","v":0},{"$f":"M5397+P5397","v":0}]
[]
[null,"天草度２","年度計",{"$f":"SUM(D5383:D5391,D5395:D5397)","v":0},{"$f":"SUM(E5383:E5391,E5395:E5397)","v":0},{"$f":"SUM(F5383:F5391,F5395:F5397)","v":0},{"$f":"SUM(G5383:G5391,G5395:G5397)","v":0},0,0,0,0,0,{"$f":"SUM(M5383:M5391,M5395:M5397)","v":0},{"$f":"SUM(N5383:N5391,N5395:N5397)","v":0},{"$f":"SUM(O5383:O5391,O5395:O5397)","v":0},{"$f":"SUM(P5383:P5391,P5395:P5397)","v":0},{"$f":"SUM(Q5383:Q5391,Q5395:Q5397)","v":0}]
[]
[null,null,{"$f":"C5347","v":"平　成　２　８　年　空　港　管　理　状　況　調　書"}]
[null,null,"空港名 ：","大分県央                （その他）"]
[null,null,"項目",null,"着 陸 回 数 （回）",null,"乗   降   客   数   （人）",null,null,null,null,null,null,null,"航空燃料供給量　（ＫＬ）"]
[null,null,null,"国際線","国内線","計",null,"国 際 線",null,null,null,"国 内 線",null,"合 計","ジェット燃料","その他燃料","合計"]
[null,null,"月別",null,null,null,"乗 客","降 客","通過客","小 計","乗 客","降 客","小 計"]
[]
[null,null,"1月",0,43,{"$f":"SUM(D5407:E5407)","v":43},0,0,0,{"$f":"SUM(G5407:I5407)","v":0},0,0,{"$f":"SUM(K5407:L5407)","v":0},{"$f":"J5407+M5407","v":0},6,1,{"$f":"SUM(O5407:P5407)","v":7}]
[null,null,"2月",0,58,{"$f":"SUM(D5408:E5408)","v":58},0,0,0,{"$f":"SUM(G5408:I5408)","v":0},0,0,{"$f":"SUM(K5408:L5408)","v":0},{"$f":"J5408+M5408","v":0},11,1,{"$f":"SUM(O5408:P5408)","v":12}]
[null,null,"3月",0,118,118,0,0,0,0,0,0,0,0,14,2,16]
[null,null,"4月",0,144,144,0,0,0,0,0,0,0,0,10,2,12]
[null,null,"5月",0,150,150,0,0,0,0,0,0,0,0,14,2,16]
[null,null,"6月",0,77,77,0,0,0,0,0,0,0,0,10,1,11]
[null,null,"7月",0,77,77,0,0,0,0,0,0,0,0,10,2,12]
[null,null,"8月",0,92,92,0,0,0,0,0,0,0,0,7,3,10]
[null,null,"9月",0,65,65,0,0,0,0,0,0,0,0,9,1,10]
[null,null,"10月",0,84,84,0,0,0,0,0,0,0,0,13,2,15]
[null,null,"11月",0,80,80,0,0,0,0,0,0,0,0,8,2,10]
[null,null,"12月",0,40,40,0,0,0,0,0,0,0,0,2,1,3]
[]
[null,"大分県央暦１","暦年 計",{"$f":"SUM(D5407:D5418)","v":0},{"$f":"SUM(E5407:E5418)","v":1028},{"$f":"SUM(F5407:F5418)","v":1028},{"$f":"SUM(G5407:G5418)","v":0},{"$f":"SUM(H5407:H5418)","v":0},0,0,0,0,0,0,114,{"$f":"SUM(P5407:P5418)","v":20},{"$f":"SUM(Q5407:Q5418)","v":134}]
[]
[null,null,"1月",0,27,{"$f":"SUM(D5422:E5422)","v":27},0,0,0,{"$f":"SUM(G5422:I5422)","v":0},0,0,{"$f":"SUM(K5422:L5422)","v":0},{"$f":"J5422+M5422","v":0},2,1,{"$f":"SUM(O5422:P5422)","v":3}]
[null,null,"2月",0,75,{"$f":"SUM(D5423:E5423)","v":75},0,0,0,{"$f":"SUM(G5423:I5423)","v":0},0,0,{"$f":"SUM(K5423:L5423)","v":0},{"$f":"J5423+M5423","v":0},9,1,{"$f":"SUM(O5423:P5423)","v":10}]
[null,null,"3月",0,93,{"$f":"SUM(D5424:E5424)","v":93},0,0,0,{"$f":"SUM(G5424:I5424)","v":0},0,0,{"$f":"SUM(K5424:L5424)","v":0},{"$f":"J5424+M5424","v":0},11,3,{"$f":"SUM(O5424:P5424)","v":14}]
[]
[null,"大分県央度１","年度計",{"$f":"SUM(D5410:D5418,D5422:D5424)","v":0},{"$f":"SUM(E5410:E5418,E5422:E5424)","v":1004},{"$f":"SUM(F5410:F5418,F5422:F5424)","v":1004},{"$f":"SUM(G5410:G5418,G5422:G5424)","v":0},0,0,0,0,0,0,0,105,21,{"$f":"SUM(Q5410:Q5418,Q5422:Q5424)","v":126}]
[]
[]
[]
[null,null,"項目",null,null,null,"貨 物 取 扱 量 （トン）",null,null,null,null,null,null,"郵 便 取 扱 量 （kg）"]
[null,null,null,null,"国 際 線",null,null,"国 内 線",null,"合計",null,"国 際 線",null,null,"国 内 線",null,"合 計"]
[null,null,"月別","積","卸","小 計","積","卸","小 計",null,"積","卸","小 計","積","卸","小 計"]
[]
[null,null,"1月",0,0,{"$f":"SUM(D5434:E5434)","v":0},0,0,{"$f":"SUM(G5434:H5434)","v":0},{"$f":"F5434+I5434","v":0},0,0,{"$f":"SUM(K5434:L5434)","v":0},0,0,{"$f":"SUM(N5434:O5434)","v":0},{"$f":"M5434+P5434","v":0}]
[null,null,"2月",0,0,0,0,0,{"$f":"SUM(G5435:H5435)","v":0},0,0,0,0,0,0,0,0]
[null,null,"3月",0,0,0,0,0,{"$f":"SUM(G5436:H5436)","v":0},0,0,0,0,0,0,0,0]
[null,null,"4月",0,0,0,0,0,{"$f":"SUM(G5437:H5437)","v":0},0,0,0,0,0,0,0,0]
[null,null,"5月",0,0,0,0,0,0,0,0,0,0,0,0,0,0]
[null,null,"6月",0,0,0,0,0,0,0,0,0,0,0,0,0,0]
[null,null,"7月",0,0,0,0,0,0,0,0,0,0,0,0,0,0]
[null,null,"8月",0,0,0,0,0,0,0,0,0,0,0,0,0,0]
[null,null,"9月",0,0,0,0,0,0,0,0,0,0,0,0,0,0]
[null,null,"10月",0,0,0,0,0,0,0,0,0,0,0,0,0,0]
[null,null,"11月",0,0,0,0,0,0,0,0,0,0,0,0,0,0]
[null,null,"12月",0,0,0,0,0,0,0,0,0,0,0,0,0,0]
[]
[null,"大分県央暦２","暦年 計",{"$f":"SUM(D5434:D5446)","v":0},0,0,0,0,0,0,0,0,{"$f":"SUM(M5434:M5446)","v":0},{"$f":"SUM(N5434:N5446)","v":0},{"$f":"SUM(O5434:O5446)","v":0},{"$f":"SUM(P5434:P5446)","v":0},{"$f":"SUM(Q5434:Q5446)","v":0}]
[]
[null,null,"1月",0,0,{"$f":"SUM(D5449:E5449)","v":0},0,0,{"$f":"SUM(G5449:H5449)","v":0},{"$f":"F5449+I5449","v":0},0,0,{"$f":"SUM(K5449:L5449)","v":0},0,0,{"$f":"SUM(N5449:O5449)","v":0},{"$f":"M5449+P5449","v":0}]
[null,null,"2月",0,0,{"$f":"SUM(D5450:E5450)","v":0},0,0,{"$f":"SUM(G5450:H5450)","v":0},{"$f":"F5450+I5450","v":0},0,0,{"$f":"SUM(K5450:L5450)","v":0},0,0,{"$f":"SUM(N5450:O5450)","v":0},{"$f":"M5450+P5450","v":0}]
[null,null,"3月",0,0,{"$f":"SUM(D5451:E5451)","v":0},0,0,{"$f":"SUM(G5451:H5451)","v":0},{"$f":"F5451+I5451","v":0},0,0,{"$f":"SUM(K5451:L5451)","v":0},0,0,{"$f":"SUM(N5451:O5451)","v":0},{"$f":"M5451+P5451","v":0}]
[]
[null,"大分県央度２","年度計",{"$f":"SUM(D5437:D5445,D5449:D5451)","v":0},{"$f":"SUM(E5437:E5445,E5449:E5451)","v":0},{"$f":"SUM(F5437:F5445,F5449:F5451)","v":0},{"$f":"SUM(G5437:G5445,G5449:G5451)","v":0},0,0,0,0,0,{"$f":"SUM(M5437:M5445,M5449:M5451)","v":0},{"$f":"SUM(N5437:N5445,N5449:N5451)","v":0},{"$f":"SUM(O5437:O5445,O5449:O5451)","v":0},{"$f":"SUM(P5437:P5445,P5449:P5451)","v":0},{"$f":"SUM(Q5437:Q5445,Q5449:Q5451)","v":0}]
[]
[null,null,{"$f":"C5401","v":"平　成　２　８　年　空　港　管　理　状　況　調　書"}]
[null,null,"空港名 ：","八    尾                （その他）"]
[null,null,"項目",null,"着 陸 回 数 （回）",null,"乗   降   客   数   （人）",null,null,null,null,null,null,null,"航空燃料供給量　（ＫＬ）"]
[null,null,null,"国際線","国内線","計",null,"国 際 線",null,null,null,"国 内 線",null,"合 計","ジェット燃料","その他燃料","合計"]
[null,null,"月別",null,null,null,"乗 客","降 客","通過客","小 計","乗 客","降 客","小 計"]
[]
[null,null,"1月",0,1029,{"$f":"SUM(D5461:E5461)","v":1029},0,0,0,{"$f":"SUM(G5461:I5461)","v":0},0,0,{"$f":"SUM(K5461:L5461)","v":0},{"$f":"J5461+M5461","v":0},125,32,{"$f":"SUM(O5461:P5461)","v":157}]
[null,null,"2月",0,1219,{"$f":"SUM(D5462:E5462)","v":1219},0,0,0,{"$f":"SUM(G5462:I5462)","v":0},0,0,{"$f":"SUM(K5462:L5462)","v":0},{"$f":"J5462+M5462","v":0},126,35,{"$f":"SUM(O5462:P5462)","v":161}]
[null,null,"3月",0,1195,1195,0,0,0,0,0,0,0,0,104,37,141]
[null,null,"4月",0,1081,1081,0,0,0,0,0,0,0,0,127,35,162]
[null,null,"5月",0,1073,1073,0,0,0,0,0,0,0,0,119,36,155]
[null,null,"6月",0,977,977,0,0,0,0,0,0,0,0,71,30,101]
[null,null,"7月",0,1148,1148,0,0,0,0,0,0,0,0,110,28,138]
[null,null,"8月",0,1076,1076,0,0,0,0,0,0,0,0,131,29,160]
[null,null,"9月",0,986,986,0,0,0,0,0,0,0,0,92,22,114]
[null,null,"10月",0,1260,1260,0,0,0,0,0,0,0,0,123,35,158]
[null,null,"11月",0,1190,1190,0,0,0,0,0,0,0,0,139,37,176]
[null,null,"12月",0,1148,1148,0,0,0,0,0,0,0,0,130,36,166]
[]
[null,"八尾暦１","暦年 計",{"$f":"SUM(D5461:D5472)","v":0},{"$f":"SUM(E5461:E5472)","v":13382},{"$f":"SUM(F5461:F5472)","v":13382},{"$f":"SUM(G5461:G5472)","v":0},{"$f":"SUM(H5461:H5472)","v":0},0,0,0,0,0,0,1397,{"$f":"SUM(P5461:P5472)","v":392},{"$f":"SUM(Q5461:Q5472)","v":1789}]
[]
[null,null,"1月",0,1067,{"$f":"SUM(D5476:E5476)","v":1067},0,0,0,{"$f":"SUM(G5476:I5476)","v":0},0,0,{"$f":"SUM(K5476:L5476)","v":0},{"$f":"J5476+M5476","v":0},124,29,{"$f":"SUM(O5476:P5476)","v":153}]
[null,null,"2月",0,999,{"$f":"SUM(D5477:E5477)","v":999},0,0,0,{"$f":"SUM(G5477:I5477)","v":0},0,0,{"$f":"SUM(K5477:L5477)","v":0},{"$f":"J5477+M5477","v":0},90,28,{"$f":"SUM(O5477:P5477)","v":118}]
[null,null,"3月",0,1099,{"$f":"SUM(D5478:E5478)","v":1099},0,0,0,{"$f":"SUM(G5478:I5478)","v":0},0,0,{"$f":"SUM(K5478:L5478)","v":0},{"$f":"J5478+M5478","v":0},105,39,{"$f":"SUM(O5478:P5478)","v":144}]
[]
[null,"八尾度１","年度計",{"$f":"SUM(D5464:D5472,D5476:D5478)","v":0},{"$f":"SUM(E5464:E5472,E5476:E5478)","v":13104},{"$f":"SUM(F5464:F5472,F5476:F5478)","v":13104},{"$f":"SUM(G5464:G5472,G5476:G5478)","v":0},0,0,0,0,0,0,0,1361,384,{"$f":"SUM(Q5464:Q5472,Q5476:Q5478)","v":1745}]
[]
[]
[]
[null,null,"項目",null,null,null,"貨 物 取 扱 量 （トン）",null,null,null,null,null,null,"郵 便 取 扱 量 （kg）"]
[null,null,null,null,"国 際 線",null,null,"国 内 線",null,"合計",null,"国 際 線",null,null,"国 内 線",null,"合 計"]
[null,null,"月別","積","卸","小 計","積","卸","小 計",null,"積","卸","小 計","積","卸","小 計"]
[]
[null,null,"1月",0,0,{"$f":"SUM(D5488:E5488)","v":0},0,0,{"$f":"SUM(G5488:H5488)","v":0},{"$f":"F5488+I5488","v":0},0,0,{"$f":"SUM(K5488:L5488)","v":0},0,0,{"$f":"SUM(N5488:O5488)","v":0},{"$f":"M5488+P5488","v":0}]
[null,null,"2月",0,0,0,0,0,0,0,0,0,0,0,0,0,0]
[null,null,"3月",0,0,0,0,0,0,0,0,0,0,0,0,0,0]
[null,null,"4月",0,0,0,0,0,0,0,0,0,0,0,0,0,0]
[null,null,"5月",0,0,0,0,0,0,0,0,0,0,0,0,0,0]
[null,null,"6月",0,0,0,0,0,0,0,0,0,0,0,0,0,0]
[null,null,"7月",0,0,0,0,0,0,0,0,0,0,0,0,0,0]
[null,null,"8月",0,0,0,0,0,0,0,0,0,0,0,0,0,0]
[null,null,"9月",0,0,0,0,0,0,0,0,0,0,0,0,0,0]
[null,null,"10月",0,0,0,0,0,0,0,0,0,0,0,0,0,0]
[null,null,"11月",0,0,0,0,0,0,0,0,0,0,0,0,0,0]
[null,null,"12月",0,0,0,0,0,0,0,0,0,0,0,0,0,0]
[]
[null,"八尾暦２","暦年 計",{"$f":"SUM(D5488:D5500)","v":0},0,0,0,0,0,0,0,0,{"$f":"SUM(M5488:M5500)","v":0},{"$f":"SUM(N5488:N5500)","v":0},{"$f":"SUM(O5488:O5500)","v":0},{"$f":"SUM(P5488:P5500)","v":0},{"$f":"SUM(Q5488:Q5500)","v":0}]
[]
[null,null,"1月",0,0,{"$f":"SUM(D5503:E5503)","v":0},0,0,{"$f":"SUM(G5503:H5503)","v":0},{"$f":"F5503+I5503","v":0},0,0,{"$f":"SUM(K5503:L5503)","v":0},0,0,{"$f":"SUM(N5503:O5503)","v":0},{"$f":"M5503+P5503","v":0}]
[null,null,"2月",0,0,{"$f":"SUM(D5504:E5504)","v":0},0,0,{"$f":"SUM(G5504:H5504)","v":0},{"$f":"F5504+I5504","v":0},0,0,{"$f":"SUM(K5504:L5504)","v":0},0,0,{"$f":"SUM(N5504:O5504)","v":0},{"$f":"M5504+P5504","v":0}]
[null,null,"3月",0,0,{"$f":"SUM(D5505:E5505)","v":0},0,0,{"$f":"SUM(G5505:H5505)","v":0},{"$f":"F5505+I5505","v":0},0,0,{"$f":"SUM(K5505:L5505)","v":0},0,0,{"$f":"SUM(N5505:O5505)","v":0},{"$f":"M5505+P5505","v":0}]
[]
[null,"八尾度２","年度計",{"$f":"SUM(D5491:D5499,D5503:D5505)","v":0},{"$f":"SUM(E5491:E5499,E5503:E5505)","v":0},{"$f":"SUM(F5491:F5499,F5503:F5505)","v":0},{"$f":"SUM(G5491:G5499,G5503:G5505)","v":0},0,0,0,0,0,{"$f":"SUM(M5491:M5499,M5503:M5505)","v":0},{"$f":"SUM(N5491:N5499,N5503:N5505)","v":0},{"$f":"SUM(O5491:O5499,O5503:O5505)","v":0},{"$f":"SUM(P5491:P5499,P5503:P5505)","v":0},{"$f":"SUM(Q5491:Q5499,Q5503:Q5505)","v":0}]
[]
[null,null,{"$f":"C5455","v":"平　成　２　８　年　空　港　管　理　状　況　調　書"}]
[null,null,"空港名 ：","その他空港計"]
[null,null,"項目",null,"着 陸 回 数 （回）",null,"乗   降   客   数   （人）",null,null,null,null,null,null,null,"航空燃料供給量　（KＬ）"]
[null,null,null,"国際線","国内線","計",null,"国 際 線",null,null,null,"国 内 線",null,"合 計","ジェット燃料","その他燃料","合計"]
[null,null,"月別",null,null,null,"乗 客","降 客","通過客","小 計","乗 客","降 客","小 計"]
[]
[null,null,"1月",{"$f":"D5137+D5191+D5245+D5299+D5353+D5407+D5461","v":5},3737,3742,15,23,0,38,28556,32332,60888,60926,2447,61,2508]
[null,null,"2月",{"$f":"D5138+D5192+D5246+D5300+D5354+D5408+D5462","v":5},4099,4104,33,41,0,74,32423,33200,65623,65697,2605,65,2670]
[null,null,"3月",{"$f":"D5139+D5193+D5247+D5301+D5355+D5409+D5463","v":11},4504,4515,45,51,0,96,42276,44077,86353,86449,2633,75,2708]
[null,null,"4月",{"$f":"D5140+D5194+D5248+D5302+D5356+D5410+D5464","v":3},4074,4077,29,19,0,48,37748,37137,74885,74933,2976,73,3049]
[null,null,"5月",{"$f":"D5141+D5195+D5249+D5303+D5357+D5411+D5465","v":1},4479,4480,3,4,0,7,42036,44522,86558,86565,3431,83,3514]
[null,null,"6月",{"$f":"D5142+D5196+D5250+D5304+D5358+D5412+D5466","v":6},3827,3833,17,319,0,336,41596,42587,84183,84519,2982,59,3041]
[null,null,"7月",{"$f":"D5143+D5197+D5251+D5305+D5359+D5413+D5467","v":7},4310,4317,23,13,0,36,49702,49740,99442,99478,3058,68,3126]
[null,null,"8月",{"$f":"D5144+D5198+D5252+D5306+D5360+D5414+D5468","v":1},4301,4302,6,6,0,12,57377,58825,116202,116214,3081,67,3148]
[null,null,"9月",{"$f":"D5145+D5199+D5253+D5307+D5361+D5415+D5469","v":5},3900,3905,34,26,0,60,49250,49964,99214,99274,2993,50,3043]
[null,null,"10月",{"$f":"D5146+D5200+D5254+D5308+D5362+D5416+D5470","v":8},4713,4721,29,34,0,63,52620,53692,106312,106375,3211,82,3293]
[null,null,"11月",{"$f":"D5147+D5201+D5255+D5309+D5363+D5417+D5471","v":9},4415,4424,40,46,0,86,46446,48291,94737,94823,3055,78,3133]
[null,null,"12月",{"$f":"D5148+D5202+D5256+D5310+D5364+D5418+D5472","v":5},4306,4311,19,23,0,42,42604,40604,83208,83250,3058,78,3136]
[]
[null,null,"暦年 計",{"$f":"SUM(D5515:D5526)","v":66},{"$f":"SUM(E5515:E5526)","v":50665},50731,293,605,0,898,522634,534971,1057605,1058503,35530,839,36369]
[]
[null,null,"1月",{"$f":"D5152+D5206+D5260+D5314+D5368+D5422+D5476","v":4},3929,3933,29,18,0,47,35227,39207,74434,74481,2952,59,3011]
[null,null,"2月",{"$f":"D5153+D5207+D5261+D5315+D5369+D5423+D5477","v":4},3871,3875,16,18,0,34,36212,37854,74066,74100,2680,52,2732]
[null,null,"3月",{"$f":"D5154+D5208+D5262+D5316+D5370+D5424+D5478","v":9},4675,4684,44,45,0,89,49526,51369,100895,100984,3390,82,3472]
[]
[null,null,"年度計",{"$f":"D5156+D5210+D5264+D5318+D5372+D5426+D5480","v":62},50800,50862,289,571,0,860,540344,553792,1094136,1094996,36867,831,37698]
[]
[]
[]
[null,null,"項目",null,null,null,"貨 物 取 扱 量 （トン）",null,null,null,null,null,null,"郵 便 取 扱 量 （kg）"]
[null,null,null,null,"国 際 線",null,null,"国 内 線",null,"合計",null,"国 際 線",null,null,"国 内 線",null,"合 計"]
[null,null,"月別","積","卸","小 計","積","卸","小 計",null,"積","卸","小 計","積","卸","小 計"]
[]
[null,null,"1月",{"$f":"D5164+D5218+D5272+D5326+D5380+D5434+D5488","v":0},0,0,3,1,4,4,0,0,0,0,0,0,0]
[null,null,"2月",{"$f":"D5165+D5219+D5273+D5327+D5381+D5435+D5489","v":0},0,0,3,1,4,4,0,0,0,0,0,0,0]
[null,null,"3月",{"$f":"D5166+D5220+D5274+D5328+D5382+D5436+D5490","v":0},0,0,3,1,4,4,0,0,0,0,0,0,0]
[null,null,"4月",{"$f":"D5167+D5221+D5275+D5329+D5383+D5437+D5491","v":0},0,0,3,1,4,4,0,0,0,0,0,0,0]
[null,null,"5月",{"$f":"D5168+D5222+D5276+D5330+D5384+D5438+D5492","v":0},0,0,4,2,6,6,0,0,0,0,0,0,0]
[null,null,"6月",{"$f":"D5169+D5223+D5277+D5331+D5385+D5439+D5493","v":0},0,0,3,1,4,4,0,0,0,0,0,0,0]
[null,null,"7月",{"$f":"D5170+D5224+D5278+D5332+D5386+D5440+D5494","v":0},0,0,3,1,4,4,0,0,0,0,0,0,0]
[null,null,"8月",{"$f":"D5171+D5225+D5279+D5333+D5387+D5441+D5495","v":0},0,0,3,1,4,4,0,0,0,0,0,0,0]
[null,null,"9月",{"$f":"D5172+D5226+D5280+D5334+D5388+D5442+D5496","v":0},0,0,3,1,4,4,0,0,0,0,0,0,0]
[null,null,"10月",{"$f":"D5173+D5227+D5281+D5335+D5389+D5443+D5497","v":0},0,0,3,1,4,4,0,0,0,0,0,0,0]
[null,null,"11月",{"$f":"D5174+D5228+D5282+D5336+D5390+D5444+D5498","v":0},0,0,3,1,4,4,0,0,0,0,0,0,0]
[null,null,"12月",{"$f":"D5175+D5229+D5283+D5337+D5391+D5445+D5499","v":0},0,0,3,1,4,4,0,0,0,0,0,0,0]
[]
[null,null,"暦年 計",{"$f":"SUM(D5542:D5553)","v":0},0,0,37,13,50,50,0,0,0,0,0,0,0]
[]
[null,null,"1月",{"$f":"D5179+D5233+D5287+D5341+D5395+D5449+D5503","v":0},0,0,3,1,4,4,0,0,0,0,0,0,0]
[null,null,"2月",{"$f":"D5180+D5234+D5288+D5342+D5396+D5450+D5504","v":0},0,0,3,1,4,4,0,0,0,0,0,0,0]
[null,null,"3月",{"$f":"D5181+D5235+D5289+D5343+D5397+D5451+D5505","v":0},0,0,3,1,4,4,0,0,0,0,0,0,0]
[]
[null,null,"年度計",{"$f":"D5183+D5237+D5291+D5345+D5399+D5453+D5507","v":0},0,0,37,13,50,50,0,0,0,0,0,0,0]
[]
[null,null,{"$f":"C5509","v":"平　成　２　８　年　空　港　管　理　状　況　調　書"}]
[null,null,"空港名 ：","豊　　富                （へ　リ）"]
[null,null,"項目",null,"着 陸 回 数 （回）",null,"乗   降   客   数   （人）",null,null,null,null,null,null,null,"航空燃料供給量　（KＬ）"]
[null,null,null,"国際線","国内線","計",null,"国 際 線",null,null,null,"国 内 線",null,"合 計","ジェット燃料","その他燃料","合計"]
[null,null,"月別",null,null,null,"乗 客","降 客","通過客","小 計","乗 客","降 客","小 計"]
[]
[null,null,"1月",0,5,{"$f":"SUM(D5569:E5569)","v":5},0,0,0,{"$f":"SUM(G5569:I5569)","v":0},0,0,{"$f":"SUM(K5569:L5569)","v":0},{"$f":"J5569+M5569","v":0},1,0,{"$f":"SUM(O5569:P5569)","v":1}]
[null,null,"2月",0,5,{"$f":"SUM(D5570:E5570)","v":5},0,0,0,{"$f":"SUM(G5570:I5570)","v":0},0,0,{"$f":"SUM(K5570:L5570)","v":0},{"$f":"J5570+M5570","v":0},1,0,{"$f":"SUM(O5570:P5570)","v":1}]
[null,null,"3月",0,3,{"$f":"SUM(D5571:E5571)","v":3},0,0,0,{"$f":"SUM(G5571:I5571)","v":0},0,0,{"$f":"SUM(K5571:L5571)","v":0},{"$f":"J5571+M5571","v":0},1,0,{"$f":"SUM(O5571:P5571)","v":1}]
[null,null,"4月",0,5,{"$f":"SUM(D5572:E5572)","v":5},0,0,0,{"$f":"SUM(G5572:I5572)","v":0},0,0,{"$f":"SUM(K5572:L5572)","v":0},{"$f":"J5572+M5572","v":0},1,0,{"$f":"SUM(O5572:P5572)","v":1}]
[null,null,"5月",0,16,16,0,0,0,0,0,0,0,0,3,0,3]
[null,null,"6月",0,10,10,0,0,0,0,0,0,0,0,3,0,3]
[null,null,"7月",0,15,15,0,0,0,0,0,0,0,0,3,0,3]
[null,null,"8月",0,5,5,0,0,0,0,0,0,0,0,1,0,1]
[null,null,"9月",0,5,5,0,0,0,0,0,0,0,0,1,0,1]
[null,null,"10月",0,8,8,0,0,0,0,0,0,0,0,2,0,2]
[null,null,"11月",0,4,4,0,0,0,0,0,0,0,0,1,0,1]
[null,null,"12月",0,2,2,0,0,0,0,0,0,0,0,1,0,1]
[]
[null,"豊富暦１","暦年 計",{"$f":"SUM(D5569:D5580)","v":0},{"$f":"SUM(E5569:E5580)","v":83},{"$f":"SUM(F5569:F5580)","v":83},{"$f":"SUM(G5569:G5580)","v":0},{"$f":"SUM(H5569:H5580)","v":0},0,0,0,0,0,0,19,{"$f":"SUM(P5569:P5580)","v":0},{"$f":"SUM(Q5569:Q5580)","v":19}]
[]
[null,null,"1月",0,8,{"$f":"SUM(D5584:E5584)","v":8},0,0,0,{"$f":"SUM(G5584:I5584)","v":0},0,0,{"$f":"SUM(K5584:L5584)","v":0},{"$f":"J5584+M5584","v":0},1,0,{"$f":"SUM(O5584:P5584)","v":1}]
[null,null,"2月",0,3,{"$f":"SUM(D5585:E5585)","v":3},0,0,0,{"$f":"SUM(G5585:I5585)","v":0},0,0,{"$f":"SUM(K5585:L5585)","v":0},{"$f":"J5585+M5585","v":0},0,0,{"$f":"SUM(O5585:P5585)","v":0}]
[null,null,"3月",0,1,{"$f":"SUM(D5586:E5586)","v":1},0,0,0,{"$f":"SUM(G5586:I5586)","v":0},0,0,{"$f":"SUM(K5586:L5586)","v":0},{"$f":"J5586+M5586","v":0},0,0,{"$f":"SUM(O5586:P5586)","v":0}]
[]
[null,"豊富度１","年度計",{"$f":"SUM(D5572:D5580,D5584:D5586)","v":0},{"$f":"SUM(E5572:E5580,E5584:E5586)","v":82},{"$f":"SUM(F5572:F5580,F5584:F5586)","v":82},{"$f":"SUM(G5572:G5580,G5584:G5586)","v":0},0,0,0,0,0,0,0,17,0,{"$f":"SUM(Q5572:Q5580,Q5584:Q5586)","v":17}]
[]
[]
[]
[null,null,"項目",null,null,null,"貨 物 取 扱 量 （トン）",null,null,null,null,null,null,"郵 便 取 扱 量 （kg）"]
[null,null,null,null,"国 際 線",null,null,"国 内 線",null,"合計",null,"国 際 線",null,null,"国 内 線",null,"合 計"]
[null,null,"月別","積","卸","小 計","積","卸","小 計",null,"積","卸","小 計","積","卸","小 計"]
[]
[null,null,"1月",0,0,{"$f":"SUM(D5596:E5596)","v":0},0,0,{"$f":"SUM(G5596:H5596)","v":0},{"$f":"F5596+I5596","v":0},0,0,{"$f":"SUM(K5596:L5596)","v":0},0,0,{"$f":"SUM(N5596:O5596)","v":0},{"$f":"M5596+P5596","v":0}]
[null,null,"2月",0,0,0,0,0,0,0,0,0,0,0,0,0,0]
[null,null,"3月",0,0,0,0,0,0,0,0,0,0,0,0,0,0]
[null,null,"4月",0,0,0,0,0,0,0,0,0,0,0,0,0,0]
[null,null,"5月",0,0,0,0,0,0,0,0,0,0,0,0,0,0]
[null,null,"6月",0,0,0,0,0,0,0,0,0,0,0,0,0,0]
[null,null,"7月",0,0,0,0,0,0,0,0,0,0,0,0,0,0]
[null,null,"8月",0,0,0,0,0,0,0,0,0,0,0,0,0,0]
[null,null,"9月",0,0,0,0,0,0,0,0,0,0,0,0,0,0]
[null,null,"10月",0,0,0,0,0,0,0,0,0,0,0,0,0,0]
[null,null,"11月",0,0,0,0,0,0,0,0,0,0,0,0,0,0]
[null,null,"12月",0,0,0,0,0,0,0,0,0,0,0,0,0,0]
[]
[null,"豊富暦２","暦年 計",{"$f":"SUM(D5596:D5608)","v":0},0,0,0,0,0,0,0,0,{"$f":"SUM(M5596:M5608)","v":0},{"$f":"SUM(N5596:N5608)","v":0},{"$f":"SUM(O5596:O5608)","v":0},{"$f":"SUM(P5596:P5608)","v":0},{"$f":"SUM(Q5596:Q5608)","v":0}]
[]
[null,null,"1月",0,0,{"$f":"SUM(D5611:E5611)","v":0},0,0,0,{"$f":"F5611+I5611","v":0},0,0,{"$f":"SUM(K5611:L5611)","v":0},0,0,{"$f":"SUM(N5611:O5611)","v":0},{"$f":"M5611+P5611","v":0}]
[null,null,"2月",0,0,{"$f":"SUM(D5612:E5612)","v":0},0,0,{"$f":"SUM(G5612:H5612)","v":0},{"$f":"F5612+I5612","v":0},0,0,{"$f":"SUM(K5612:L5612)","v":0},0,0,{"$f":"SUM(N5612:O5612)","v":0},{"$f":"M5612+P5612","v":0}]
[null,null,"3月",0,0,{"$f":"SUM(D5613:E5613)","v":0},0,0,{"$f":"SUM(G5613:H5613)","v":0},{"$f":"F5613+I5613","v":0},0,0,{"$f":"SUM(K5613:L5613)","v":0},0,0,{"$f":"SUM(N5613:O5613)","v":0},{"$f":"M5613+P5613","v":0}]
[]
[null,"豊富度２","年度計",{"$f":"SUM(D5599:D5607,D5611:D5613)","v":0},{"$f":"SUM(E5599:E5607,E5611:E5613)","v":0},{"$f":"SUM(F5599:F5607,F5611:F5613)","v":0},{"$f":"SUM(G5599:G5607,G5611:G5613)","v":0},0,0,0,0,0,{"$f":"SUM(M5599:M5607,M5611:M5613)","v":0},{"$f":"SUM(N5599:N5607,N5611:N5613)","v":0},{"$f":"SUM(O5599:O5607,O5611:O5613)","v":0},{"$f":"SUM(P5599:P5607,P5611:P5613)","v":0},{"$f":"SUM(Q5599:Q5607,Q5611:Q5613)","v":0}]
[]
[null,null,{"$f":"C5563","v":"平　成　２　８　年　空　港　管　理　状　況　調　書"}]
[null,null,"空港名 ：","砂　　川                （へ　リ）"]
[null,null,"項目",null,"着 陸 回 数 （回）",null,"乗   降   客   数   （人）",null,null,null,null,null,null,null,"航空燃料供給量　（KＬ）"]
[null,null,null,"国際線","国内線","計",null,"国 際 線",null,null,null,"国 内 線",null,"合 計","ジェット燃料","その他燃料","合計"]
[null,null,"月別",null,null,null,"乗 客","降 客","通過客","小 計","乗 客","降 客","小 計"]
[]
[null,null,"1月",0,2,{"$f":"SUM(D5623:E5623)","v":2},0,0,0,{"$f":"SUM(G5623:I5623)","v":0},0,0,{"$f":"SUM(K5623:L5623)","v":0},{"$f":"J5623+M5623","v":0},0,0,{"$f":"SUM(O5623:P5623)","v":0}]
[null,null,"2月",0,8,{"$f":"SUM(D5624:E5624)","v":8},0,0,0,{"$f":"SUM(G5624:I5624)","v":0},0,0,{"$f":"SUM(K5624:L5624)","v":0},{"$f":"J5624+M5624","v":0},1,0,{"$f":"SUM(O5624:P5624)","v":1}]
[null,null,"3月",0,0,{"$f":"SUM(D5625:E5625)","v":0},0,0,0,{"$f":"SUM(G5625:I5625)","v":0},0,0,{"$f":"SUM(K5625:L5625)","v":0},{"$f":"J5625+M5625","v":0},0,0,{"$f":"SUM(O5625:P5625)","v":0}]
[null,null,"4月",0,0,{"$f":"SUM(D5626:E5626)","v":0},0,0,0,{"$f":"SUM(G5626:I5626)","v":0},0,0,{"$f":"SUM(K5626:L5626)","v":0},{"$f":"J5626+M5626","v":0},0,0,{"$f":"SUM(O5626:P5626)","v":0}]
[null,null,"5月",0,2,2,0,0,0,0,0,0,0,0,0,0,0]
[null,null,"6月",0,0,0,0,0,0,0,0,0,0,0,0,0,0]
[null,null,"7月",0,6,6,0,0,0,0,0,0,0,0,0,0,0]
[null,null,"8月",0,12,12,0,0,0,0,0,0,0,0,1,0,1]
[null,null,"9月",0,0,0,0,0,0,0,0,0,0,0,0,0,0]
[null,null,"10月",0,7,7,0,0,0,0,0,0,0,0,0,0,0]
[null,null,"11月",0,0,0,0,0,0,0,0,0,0,0,0,0,0]
[null,null,"12月",0,0,0,0,0,0,0,0,0,0,0,0,0,0]
[]
[null,"砂川暦１","暦年 計",{"$f":"SUM(D5623:D5634)","v":0},{"$f":"SUM(E5623:E5634)","v":37},{"$f":"SUM(F5623:F5634)","v":37},{"$f":"SUM(G5623:G5634)","v":0},{"$f":"SUM(H5623:H5634)","v":0},0,0,0,0,0,0,2,{"$f":"SUM(P5623:P5634)","v":0},{"$f":"SUM(Q5623:Q5634)","v":2}]
[]
[null,null,"1月",0,6,{"$f":"SUM(D5638:E5638)","v":6},0,0,0,{"$f":"SUM(G5638:I5638)","v":0},0,0,{"$f":"SUM(K5638:L5638)","v":0},{"$f":"J5638+M5638","v":0},1,0,{"$f":"SUM(O5638:P5638)","v":1}]
[null,null,"2月",0,0,{"$f":"SUM(D5639:E5639)","v":0},0,0,0,{"$f":"SUM(G5639:I5639)","v":0},0,0,{"$f":"SUM(K5639:L5639)","v":0},{"$f":"J5639+M5639","v":0},0,0,{"$f":"SUM(O5639:P5639)","v":0}]
[null,null,"3月",0,0,{"$f":"SUM(D5640:E5640)","v":0},0,0,0,{"$f":"SUM(G5640:I5640)","v":0},0,0,{"$f":"SUM(K5640:L5640)","v":0},{"$f":"J5640+M5640","v":0},0,0,{"$f":"SUM(O5640:P5640)","v":0}]
[]
[null,"砂川度１","年度計",{"$f":"SUM(D5626:D5634,D5638:D5640)","v":0},{"$f":"SUM(E5626:E5634,E5638:E5640)","v":33},{"$f":"SUM(F5626:F5634,F5638:F5640)","v":33},{"$f":"SUM(G5626:G5634,G5638:G5640)","v":0},0,0,0,0,0,0,0,2,0,{"$f":"SUM(Q5626:Q5634,Q5638:Q5640)","v":2}]
[]
[]
[]
[null,null,"項目",null,null,null,"貨 物 取 扱 量 （トン）",null,null,null,null,null,null,"郵 便 取 扱 量 （kg）"]
[null,null,null,null,"国 際 線",null,null,"国 内 線",null,"合計",null,"国 際 線",null,null,"国 内 線",null,"合 計"]
[null,null,"月別","積","卸","小 計","積","卸","小 計",null,"積","卸","小 計","積","卸","小 計"]
[]
[null,null,"1月",0,0,{"$f":"SUM(D5650:E5650)","v":0},0,0,{"$f":"SUM(G5650:H5650)","v":0},{"$f":"F5650+I5650","v":0},0,0,{"$f":"SUM(K5650:L5650)","v":0},0,0,{"$f":"SUM(N5650:O5650)","v":0},{"$f":"M5650+P5650","v":0}]
[null,null,"2月",0,0,0,0,0,0,0,0,0,0,0,0,0,0]
[null,null,"3月",0,0,0,0,0,0,0,0,0,0,0,0,0,0]
[null,null,"4月",0,0,0,0,0,0,0,0,0,0,0,0,0,0]
[null,null,"5月",0,0,0,0,0,0,0,0,0,0,0,0,0,0]
[null,null,"6月",0,0,0,0,0,0,0,0,0,0,0,0,0,0]
[null,null,"7月",0,0,0,0,0,0,0,0,0,0,0,0,0,0]
[null,null,"8月",0,0,0,0,0,0,0,0,0,0,0,0,0,0]
[null,null,"9月",0,0,0,0,0,0,0,0,0,0,0,0,0,0]
[null,null,"10月",0,0,0,0,0,0,0,0,0,0,0,0,0,0]
[null,null,"11月",0,0,0,0,0,0,0,0,0,0,0,0,0,0]
[null,null,"12月",0,0,0,0,0,0,0,0,0,0,0,0,0,0]
[]
[null,"砂川暦２","暦年 計",{"$f":"SUM(D5650:D5662)","v":0},0,0,0,0,0,0,0,0,{"$f":"SUM(M5650:M5662)","v":0},{"$f":"SUM(N5650:N5662)","v":0},{"$f":"SUM(O5650:O5662)","v":0},{"$f":"SUM(P5650:P5662)","v":0},{"$f":"SUM(Q5650:Q5662)","v":0}]
[]
[null,null,"1月",0,0,{"$f":"SUM(D5665:E5665)","v":0},0,0,{"$f":"SUM(G5665:H5665)","v":0},{"$f":"F5665+I5665","v":0},0,0,{"$f":"SUM(K5665:L5665)","v":0},0,0,{"$f":"SUM(N5665:O5665)","v":0},{"$f":"M5665+P5665","v":0}]
[null,null,"2月",0,0,{"$f":"SUM(D5666:E5666)","v":0},0,0,{"$f":"SUM(G5666:H5666)","v":0},{"$f":"F5666+I5666","v":0},0,0,{"$f":"SUM(K5666:L5666)","v":0},0,0,{"$f":"SUM(N5666:O5666)","v":0},{"$f":"M5666+P5666","v":0}]
[null,null,"3月",0,0,{"$f":"SUM(D5667:E5667)","v":0},0,0,{"$f":"SUM(G5667:H5667)","v":0},{"$f":"F5667+I5667","v":0},0,0,{"$f":"SUM(K5667:L5667)","v":0},0,0,{"$f":"SUM(N5667:O5667)","v":0},{"$f":"M5667+P5667","v":0}]
[]
[null,"砂川度２","年度計",{"$f":"SUM(D5653:D5661,D5665:D5667)","v":0},{"$f":"SUM(E5653:E5661,E5665:E5667)","v":0},{"$f":"SUM(F5653:F5661,F5665:F5667)","v":0},{"$f":"SUM(G5653:G5661,G5665:G5667)","v":0},0,0,0,0,0,{"$f":"SUM(M5653:M5661,M5665:M5667)","v":0},{"$f":"SUM(N5653:N5661,N5665:N5667)","v":0},{"$f":"SUM(O5653:O5661,O5665:O5667)","v":0},{"$f":"SUM(P5653:P5661,P5665:P5667)","v":0},{"$f":"SUM(Q5653:Q5661,Q5665:Q5667)","v":0}]
[]
[null,null,{"$f":"C5617","v":"平　成　２　８　年　空　港　管　理　状　況　調　書"}]
[null,null,"空港名 ：","占　　冠                （へ　リ）"]
[null,null,"項目",null,"着 陸 回 数 （回）",null,"乗   降   客   数   （人）",null,null,null,null,null,null,null,"航空燃料供給量　（KＬ）"]
[null,null,null,"国際線","国内線","計",null,"国 際 線",null,null,null,"国 内 線",null,"合 計","ジェット燃料","その他燃料","合計"]
[null,null,"月別",null,null,null,"乗 客","降 客","通過客","小 計","乗 客","降 客","小 計"]
[]
[null,null,"1月",0,1,{"$f":"SUM(D5677:E5677)","v":1},0,0,0,{"$f":"SUM(G5677:I5677)","v":0},0,0,{"$f":"SUM(K5677:L5677)","v":0},{"$f":"J5677+M5677","v":0},0,0,{"$f":"SUM(O5677:P5677)","v":0}]
[null,null,"2月",0,0,{"$f":"SUM(D5678:E5678)","v":0},0,0,0,{"$f":"SUM(G5678:I5678)","v":0},0,0,{"$f":"SUM(K5678:L5678)","v":0},{"$f":"J5678+M5678","v":0},0,0,{"$f":"SUM(O5678:P5678)","v":0}]
[null,null,"3月",0,3,{"$f":"SUM(D5679:E5679)","v":3},0,0,0,{"$f":"SUM(G5679:I5679)","v":0},0,0,{"$f":"SUM(K5679:L5679)","v":0},{"$f":"J5679+M5679","v":0},0,0,{"$f":"SUM(O5679:P5679)","v":0}]
[null,null,"4月",0,13,{"$f":"SUM(D5680:E5680)","v":13},0,0,0,{"$f":"SUM(G5680:I5680)","v":0},0,0,{"$f":"SUM(K5680:L5680)","v":0},{"$f":"J5680+M5680","v":0},0,0,{"$f":"SUM(O5680:P5680)","v":0}]
[null,null,"5月",0,6,6,0,0,0,0,0,0,0,0,0,0,0]
[null,null,"6月",0,3,3,0,0,0,0,0,0,0,0,0,0,0]
[null,null,"7月",0,1,1,0,0,0,0,0,0,0,0,0,0,0]
[null,null,"8月",0,7,7,0,0,0,0,0,0,0,0,0,0,0]
[null,null,"9月",0,97,97,0,0,0,0,0,0,0,0,0,0,0]
[null,null,"10月",0,27,27,0,0,0,0,0,0,0,0,0,0,0]
[null,null,"11月",0,2,2,0,0,0,0,0,0,0,0,0,0,0]
[null,null,"12月",0,1,1,0,0,0,0,0,0,0,0,0,0,0]
[]
[null,"占冠暦１","暦年 計",{"$f":"SUM(D5677:D5688)","v":0},{"$f":"SUM(E5677:E5688)","v":161},{"$f":"SUM(F5677:F5688)","v":161},{"$f":"SUM(G5677:G5688)","v":0},{"$f":"SUM(H5677:H5688)","v":0},0,0,0,0,0,0,0,{"$f":"SUM(P5677:P5688)","v":0},{"$f":"SUM(Q5677:Q5688)","v":0}]
[]
[null,null,"1月",0,4,{"$f":"SUM(D5692:E5692)","v":4},0,0,0,{"$f":"SUM(G5692:I5692)","v":0},0,0,{"$f":"SUM(K5692:L5692)","v":0},{"$f":"J5692+M5692","v":0},0,0,{"$f":"SUM(O5692:P5692)","v":0}]
[null,null,"2月",0,1,{"$f":"SUM(D5693:E5693)","v":1},0,0,0,{"$f":"SUM(G5693:I5693)","v":0},0,0,{"$f":"SUM(K5693:L5693)","v":0},{"$f":"J5693+M5693","v":0},0,0,{"$f":"SUM(O5693:P5693)","v":0}]
[null,null,"3月",0,9,{"$f":"SUM(D5694:E5694)","v":9},0,0,0,{"$f":"SUM(G5694:I5694)","v":0},0,0,{"$f":"SUM(K5694:L5694)","v":0},{"$f":"J5694+M5694","v":0},0,0,{"$f":"SUM(O5694:P5694)","v":0}]
[]
[null,"占冠度１","年度計",{"$f":"SUM(D5680:D5688,D5692:D5694)","v":0},{"$f":"SUM(E5680:E5688,E5692:E5694)","v":171},{"$f":"SUM(F5680:F5688,F5692:F5694)","v":171},{"$f":"SUM(G5680:G5688,G5692:G5694)","v":0},0,0,0,0,0,0,0,0,0,{"$f":"SUM(Q5680:Q5688,Q5692:Q5694)","v":0}]
[]
[]
[]
[null,null,"項目",null,null,null,"貨 物 取 扱 量 （トン）",null,null,null,null,null,null,"郵 便 取 扱 量 （kg）"]
[null,null,null,null,"国 際 線",null,null,"国 内 線",null,"合計",null,"国 際 線",null,null,"国 内 線",null,"合 計"]
[null,null,"月別","積","卸","小 計","積","卸","小 計",null,"積","卸","小 計","積","卸","小 計"]
[]
[null,null,"1月",0,0,{"$f":"SUM(D5704:E5704)","v":0},0,0,{"$f":"SUM(G5704:H5704)","v":0},{"$f":"F5704+I5704","v":0},0,0,{"$f":"SUM(K5704:L5704)","v":0},0,0,{"$f":"SUM(N5704:O5704)","v":0},{"$f":"M5704+P5704","v":0}]
[null,null,"2月",0,0,0,0,0,0,0,0,0,0,0,0,0,0]
[null,null,"3月",0,0,0,0,0,0,0,0,0,0,0,0,0,0]
[null,null,"4月",0,0,0,0,0,0,0,0,0,0,0,0,0,0]
[null,null,"5月",0,0,0,0,0,0,0,0,0,0,0,0,0,0]
[null,null,"6月",0,0,0,0,0,0,0,0,0,0,0,0,0,0]
[null,null,"7月",0,0,0,0,0,0,0,0,0,0,0,0,0,0]
[null,null,"8月",0,0,0,0,0,0,0,0,0,0,0,0,0,0]
[null,null,"9月",0,0,0,0,0,0,0,0,0,0,0,0,0,0]
[null,null,"10月",0,0,0,0,0,0,0,0,0,0,0,0,0,0]
[null,null,"11月",0,0,0,0,0,0,0,0,0,0,0,0,0,0]
[null,null,"12月",0,0,0,0,0,0,0,0,0,0,0,0,0,0]
[]
[null,"占冠暦２","暦年 計",{"$f":"SUM(D5704:D5716)","v":0},0,0,0,0,0,0,0,0,{"$f":"SUM(M5704:M5716)","v":0},{"$f":"SUM(N5704:N5716)","v":0},{"$f":"SUM(O5704:O5716)","v":0},{"$f":"SUM(P5704:P5716)","v":0},{"$f":"SUM(Q5704:Q5716)","v":0}]
[]
[null,null,"1月",0,0,{"$f":"SUM(D5719:E5719)","v":0},0,0,{"$f":"SUM(G5719:H5719)","v":0},{"$f":"F5719+I5719","v":0},0,0,{"$f":"SUM(K5719:L5719)","v":0},0,0,{"$f":"SUM(N5719:O5719)","v":0},{"$f":"M5719+P5719","v":0}]
[null,null,"2月",0,0,{"$f":"SUM(D5720:E5720)","v":0},0,0,{"$f":"SUM(G5720:H5720)","v":0},{"$f":"F5720+I5720","v":0},0,0,{"$f":"SUM(K5720:L5720)","v":0},0,0,{"$f":"SUM(N5720:O5720)","v":0},{"$f":"M5720+P5720","v":0}]
[null,null,"3月",0,0,{"$f":"SUM(D5721:E5721)","v":0},0,0,{"$f":"SUM(G5721:H5721)","v":0},{"$f":"F5721+I5721","v":0},0,0,{"$f":"SUM(K5721:L5721)","v":0},0,0,{"$f":"SUM(N5721:O5721)","v":0},{"$f":"M5721+P5721","v":0}]
[]
[null,"占冠度２","年度計",{"$f":"SUM(D5707:D5715,D5719:D5721)","v":0},{"$f":"SUM(E5707:E5715,E5719:E5721)","v":0},{"$f":"SUM(F5707:F5715,F5719:F5721)","v":0},{"$f":"SUM(G5707:G5715,G5719:G5721)","v":0},0,0,0,0,0,{"$f":"SUM(M5707:M5715,M5719:M5721)","v":0},{"$f":"SUM(N5707:N5715,N5719:N5721)","v":0},{"$f":"SUM(O5707:O5715,O5719:O5721)","v":0},{"$f":"SUM(P5707:P5715,P5719:P5721)","v":0},{"$f":"SUM(Q5707:Q5715,Q5719:Q5721)","v":0}]
[]
[null,null,{"$f":"C5671","v":"平　成　２　８　年　空　港　管　理　状　況　調　書"}]
[null,null,"空港名 ：","ニ セ コ                （へ　リ）"]
[null,null,"項目",null,"着 陸 回 数 （回）",null,"乗   降   客   数   （人）",null,null,null,null,null,null,null,"航空燃料供給量　（KＬ）"]
[null,null,null,"国際線","国内線","計",null,"国 際 線",null,null,null,"国 内 線",null,"合 計","ジェット燃料","その他燃料","合計"]
[null,null,"月別",null,null,null,"乗 客","降 客","通過客","小 計","乗 客","降 客","小 計"]
[]
[null,null,"1月",0,1,{"$f":"SUM(D5731:E5731)","v":1},0,0,0,{"$f":"SUM(G5731:I5731)","v":0},0,0,{"$f":"SUM(K5731:L5731)","v":0},{"$f":"J5731+M5731","v":0},1,0,{"$f":"SUM(O5731:P5731)","v":1}]
[null,null,"2月",0,2,{"$f":"SUM(D5732:E5732)","v":2},0,0,0,{"$f":"SUM(G5732:I5732)","v":0},0,0,{"$f":"SUM(K5732:L5732)","v":0},{"$f":"J5732+M5732","v":0},0,0,{"$f":"SUM(O5732:P5732)","v":0}]
[null,null,"3月",0,8,{"$f":"SUM(D5733:E5733)","v":8},0,0,0,{"$f":"SUM(G5733:I5733)","v":0},0,0,{"$f":"SUM(K5733:L5733)","v":0},{"$f":"J5733+M5733","v":0},0,0,{"$f":"SUM(O5733:P5733)","v":0}]
[null,null,"4月",0,0,{"$f":"SUM(D5734:E5734)","v":0},0,0,0,{"$f":"SUM(G5734:I5734)","v":0},0,0,{"$f":"SUM(K5734:L5734)","v":0},{"$f":"J5734+M5734","v":0},0,0,{"$f":"SUM(O5734:P5734)","v":0}]
[null,null,"5月",0,0,0,0,0,0,0,0,0,0,0,0,0,0]
[null,null,"6月",0,13,13,0,0,0,0,0,0,0,0,1,0,1]
[null,null,"7月",0,8,8,0,0,0,0,0,0,0,0,0,0,0]
[null,null,"8月",0,1,1,0,0,0,0,0,0,0,0,0,0,0]
[null,null,"9月",0,7,7,0,0,0,0,0,0,0,0,1,0,1]
[null,null,"10月",0,0,0,0,0,0,0,0,0,0,0,0,0,0]
[null,null,"11月",0,0,0,0,0,0,0,0,0,0,0,0,0,0]
[null,null,"12月",0,0,0,0,0,0,0,0,0,0,0,0,0,0]
[]
[null,"ニセコ暦１","暦年 計",{"$f":"SUM(D5731:D5742)","v":0},{"$f":"SUM(E5731:E5742)","v":40},{"$f":"SUM(F5731:F5742)","v":40},{"$f":"SUM(G5731:G5742)","v":0},{"$f":"SUM(H5731:H5742)","v":0},0,0,0,0,0,0,3,{"$f":"SUM(P5731:P5742)","v":0},{"$f":"SUM(Q5731:Q5742)","v":3}]
[]
[null,null,"1月",0,0,{"$f":"SUM(D5746:E5746)","v":0},0,0,0,{"$f":"SUM(G5746:I5746)","v":0},0,0,{"$f":"SUM(K5746:L5746)","v":0},{"$f":"J5746+M5746","v":0},0,0,{"$f":"SUM(O5746:P5746)","v":0}]
[null,null,"2月",0,0,{"$f":"SUM(D5747:E5747)","v":0},0,0,0,{"$f":"SUM(G5747:I5747)","v":0},0,0,{"$f":"SUM(K5747:L5747)","v":0},{"$f":"J5747+M5747","v":0},0,0,{"$f":"SUM(O5747:P5747)","v":0}]
[null,null,"3月",0,0,{"$f":"SUM(D5748:E5748)","v":0},0,0,0,{"$f":"SUM(G5748:I5748)","v":0},0,0,{"$f":"SUM(K5748:L5748)","v":0},{"$f":"J5748+M5748","v":0},0,0,{"$f":"SUM(O5748:P5748)","v":0}]
[]
[null,"ニセコ度１","年度計",{"$f":"SUM(D5734:D5742,D5746:D5748)","v":0},{"$f":"SUM(E5734:E5742,E5746:E5748)","v":29},{"$f":"SUM(F5734:F5742,F5746:F5748)","v":29},{"$f":"SUM(G5734:G5742,G5746:G5748)","v":0},0,0,0,0,0,0,0,2,0,{"$f":"SUM(Q5734:Q5742,Q5746:Q5748)","v":2}]
[]
[]
[]
[null,null,"項目",null,null,null,"貨 物 取 扱 量 （トン）",null,null,null,null,null,null,"郵 便 取 扱 量 （kg）"]
[null,null,null,null,"国 際 線",null,null,"国 内 線",null,"合計",null,"国 際 線",null,null,"国 内 線",null,"合 計"]
[null,null,"月別","積","卸","小 計","積","卸","小 計",null,"積","卸","小 計","積","卸","小 計"]
[]
[null,null,"1月",0,0,{"$f":"SUM(D5758:E5758)","v":0},0,0,{"$f":"SUM(G5758:H5758)","v":0},{"$f":"F5758+I5758","v":0},0,0,{"$f":"SUM(K5758:L5758)","v":0},0,{"$f":"SUM(M5758:N5758)","v":0},{"$f":"SUM(N5758:O5758)","v":0},{"$f":"M5758+P5758","v":0}]
[null,null,"2月",0,0,0,0,0,0,0,0,0,0,0,0,0,0]
[null,null,"3月",0,0,0,0,0,0,0,0,0,0,0,0,0,0]
[null,null,"4月",0,0,0,0,0,0,0,0,0,0,0,0,0,0]
[null,null,"5月",0,0,0,0,0,0,0,0,0,0,0,0,0,0]
[null,null,"6月",0,0,0,0,0,0,0,0,0,0,0,0,0,0]
[null,null,"7月",0,0,0,0,0,0,0,0,0,0,0,0,0,0]
[null,null,"8月",0,0,0,0,0,0,0,0,0,0,0,0,0,0]
[null,null,"9月",0,0,0,0,0,0,0,0,0,0,0,0,0,0]
[null,null,"10月",0,0,0,0,0,0,0,0,0,0,0,0,0,0]
[null,null,"11月",0,0,0,0,0,0,0,0,0,0,0,0,0,0]
[null,null,"12月",0,0,0,0,0,0,0,0,0,0,0,0,0,0]
[]
[null,"ニセコ暦２","暦年 計",{"$f":"SUM(D5758:D5770)","v":0},0,0,0,0,0,0,0,0,{"$f":"SUM(M5758:M5770)","v":0},{"$f":"SUM(N5758:N5770)","v":0},{"$f":"SUM(O5758:O5770)","v":0},{"$f":"SUM(P5758:P5770)","v":0},{"$f":"SUM(Q5758:Q5770)","v":0}]
[]
[null,null,"1月",0,0,{"$f":"SUM(D5773:E5773)","v":0},0,0,{"$f":"SUM(G5773:H5773)","v":0},{"$f":"F5773+I5773","v":0},0,0,{"$f":"SUM(K5773:L5773)","v":0},0,0,{"$f":"SUM(N5773:O5773)","v":0},{"$f":"M5773+P5773","v":0}]
[null,null,"2月",0,0,{"$f":"SUM(D5774:E5774)","v":0},0,0,{"$f":"SUM(G5774:H5774)","v":0},{"$f":"F5774+I5774","v":0},0,0,{"$f":"SUM(K5774:L5774)","v":0},0,0,{"$f":"SUM(N5774:O5774)","v":0},{"$f":"M5774+P5774","v":0}]
[null,null,"3月",0,0,{"$f":"SUM(D5775:E5775)","v":0},0,0,{"$f":"SUM(G5775:H5775)","v":0},{"$f":"F5775+I5775","v":0},0,0,{"$f":"SUM(K5775:L5775)","v":0},0,0,{"$f":"SUM(N5775:O5775)","v":0},{"$f":"M5775+P5775","v":0}]
[]
[null,"ニセコ度２","年度計",{"$f":"SUM(D5761:D5769,D5773:D5775)","v":0},{"$f":"SUM(E5761:E5769,E5773:E5775)","v":0},{"$f":"SUM(F5761:F5769,F5773:F5775)","v":0},{"$f":"SUM(G5761:G5769,G5773:G5775)","v":0},0,0,0,0,0,{"$f":"SUM(M5761:M5769,M5773:M5775)","v":0},{"$f":"SUM(N5761:N5769,N5773:N5775)","v":0},{"$f":"SUM(O5761:O5769,O5773:O5775)","v":0},{"$f":"SUM(P5761:P5769,P5773:P5775)","v":0},{"$f":"SUM(Q5761:Q5769,Q5773:Q5775)","v":0}]
[]
[null,null,{"$f":"C5725","v":"平　成　２　８　年　空　港　管　理　状　況　調　書"}]
[null,null,"空港名 ：","増　　毛                （へ　リ）"]
[null,null,"項目",null,"着 陸 回 数 （回）",null,"乗   降   客   数   （人）",null,null,null,null,null,null,null,"航空燃料供給量　（KＬ）"]
[null,null,null,"国際線","国内線","計",null,"国 際 線",null,null,null,"国 内 線",null,"合 計","ジェット燃料","その他燃料","合計"]
[null,null,"月別",null,null,null,"乗 客","降 客","通過客","小 計","乗 客","降 客","小 計"]
[]
[null,null,"1月",0,0,{"$f":"SUM(D5785:E5785)","v":0},0,0,0,{"$f":"SUM(G5785:I5785)","v":0},0,0,{"$f":"SUM(K5785:L5785)","v":0},{"$f":"J5785+M5785","v":0},0,0,{"$f":"SUM(O5785:P5785)","v":0}]
[null,null,"2月",0,0,{"$f":"SUM(D5786:E5786)","v":0},0,0,0,{"$f":"SUM(G5786:I5786)","v":0},0,0,{"$f":"SUM(K5786:L5786)","v":0},{"$f":"J5786+M5786","v":0},0,0,{"$f":"SUM(O5786:P5786)","v":0}]
[null,null,"3月",0,0,{"$f":"SUM(D5787:E5787)","v":0},0,0,0,{"$f":"SUM(G5787:I5787)","v":0},0,0,{"$f":"SUM(K5787:L5787)","v":0},{"$f":"J5787+M5787","v":0},0,0,{"$f":"SUM(O5787:P5787)","v":0}]
[null,null,"4月",0,1,{"$f":"SUM(D5788:E5788)","v":1},0,0,0,{"$f":"SUM(G5788:I5788)","v":0},0,0,{"$f":"SUM(K5788:L5788)","v":0},{"$f":"J5788+M5788","v":0},0,0,{"$f":"SUM(O5788:P5788)","v":0}]
[null,null,"5月",0,0,0,0,0,0,0,0,0,0,0,0,0,0]
[null,null,"6月",0,1,1,0,0,0,0,0,0,0,0,0,0,0]
[null,null,"7月",0,0,0,0,0,0,0,0,0,0,0,0,0,0]
[null,null,"8月",0,0,0,0,0,0,0,0,0,0,0,0,0,0]
[null,null,"9月",0,1,1,0,0,0,0,0,0,0,0,0,0,0]
[null,null,"10月",0,3,3,0,0,0,0,0,0,0,0,0,0,0]
[null,null,"11月",0,0,0,0,0,0,0,0,0,0,0,0,0,0]
[null,null,"12月",0,0,0,0,0,0,0,0,0,0,0,0,0,0]
[]
[null,"増毛暦１","暦年 計",{"$f":"SUM(D5785:D5796)","v":0},{"$f":"SUM(E5785:E5796)","v":6},{"$f":"SUM(F5785:F5796)","v":6},{"$f":"SUM(G5785:G5796)","v":0},{"$f":"SUM(H5785:H5796)","v":0},0,0,0,0,0,0,0,{"$f":"SUM(P5785:P5796)","v":0},{"$f":"SUM(Q5785:Q5796)","v":0}]
[]
[null,null,"1月",0,0,{"$f":"SUM(D5800:E5800)","v":0},0,0,0,{"$f":"SUM(G5800:I5800)","v":0},0,0,{"$f":"SUM(K5800:L5800)","v":0},{"$f":"J5800+M5800","v":0},0,0,{"$f":"SUM(O5800:P5800)","v":0}]
[null,null,"2月",0,0,{"$f":"SUM(D5801:E5801)","v":0},0,0,0,{"$f":"SUM(G5801:I5801)","v":0},0,0,{"$f":"SUM(K5801:L5801)","v":0},{"$f":"J5801+M5801","v":0},0,0,{"$f":"SUM(O5801:P5801)","v":0}]
[null,null,"3月",0,0,{"$f":"SUM(D5802:E5802)","v":0},0,0,0,{"$f":"SUM(G5802:I5802)","v":0},0,0,{"$f":"SUM(K5802:L5802)","v":0},{"$f":"J5802+M5802","v":0},0,0,{"$f":"SUM(O5802:P5802)","v":0}]
[]
[null,"増毛度１","年度計",{"$f":"SUM(D5788:D5796,D5800:D5802)","v":0},{"$f":"SUM(E5788:E5796,E5800:E5802)","v":6},{"$f":"SUM(F5788:F5796,F5800:F5802)","v":6},{"$f":"SUM(G5788:G5796,G5800:G5802)","v":0},0,0,0,0,0,0,0,0,0,{"$f":"SUM(Q5788:Q5796,Q5800:Q5802)","v":0}]
[]
[]
[]
[null,null,"項目",null,null,null,"貨 物 取 扱 量 （トン）",null,null,null,null,null,null,"郵 便 取 扱 量 （kg）"]
[null,null,null,null,"国 際 線",null,null,"国 内 線",null,"合計",null,"国 際 線",null,null,"国 内 線",null,"合 計"]
[null,null,"月別","積","卸","小 計","積","卸","小 計",null,"積","卸","小 計","積","卸","小 計"]
[]
[null,null,"1月",0,0,{"$f":"SUM(D5812:E5812)","v":0},0,0,{"$f":"SUM(G5812:H5812)","v":0},{"$f":"F5812+I5812","v":0},0,0,{"$f":"SUM(K5812:L5812)","v":0},0,0,{"$f":"SUM(N5812:O5812)","v":0},{"$f":"M5812+P5812","v":0}]
[null,null,"2月",0,0,0,0,0,0,0,0,0,0,0,0,0,0]
[null,null,"3月",0,0,0,0,0,0,0,0,0,0,0,0,0,0]
[null,null,"4月",0,0,0,0,0,0,0,0,0,0,0,0,0,0]
[null,null,"5月",0,0,0,0,0,0,0,0,0,0,0,0,0,0]
[null,null,"6月",0,0,0,0,0,0,0,0,0,0,0,0,0,0]
[null,null,"7月",0,0,0,0,0,0,0,0,0,0,0,0,0,0]
[null,null,"8月",0,0,0,0,0,0,0,0,0,0,0,0,0,0]
[null,null,"9月",0,0,0,0,0,0,0,0,0,0,0,0,0,0]
[null,null,"10月",0,0,0,0,0,0,0,0,0,0,0,0,0,0]
[null,null,"11月",0,0,0,0,0,0,0,0,0,0,0,0,0,0]
[null,null,"12月",0,0,0,0,0,0,0,0,0,0,0,0,0,0]
[]
[null,"増毛暦２","暦年 計",{"$f":"SUM(D5812:D5824)","v":0},0,0,0,0,0,0,0,0,{"$f":"SUM(M5812:M5824)","v":0},{"$f":"SUM(N5812:N5824)","v":0},{"$f":"SUM(O5812:O5824)","v":0},{"$f":"SUM(P5812:P5824)","v":0},{"$f":"SUM(Q5812:Q5824)","v":0}]
[]
[null,null,"1月",0,0,{"$f":"SUM(D5827:E5827)","v":0},0,0,0,{"$f":"SUM(G5827:I5827)","v":0},0,0,{"$f":"SUM(K5827:L5827)","v":0},{"$f":"J5827+M5827","v":0},0,0,{"$f":"SUM(O5827:P5827)","v":0}]
[null,null,"2月",0,0,{"$f":"SUM(D5828:E5828)","v":0},0,0,0,{"$f":"SUM(G5828:I5828)","v":0},0,0,{"$f":"SUM(K5828:L5828)","v":0},{"$f":"J5828+M5828","v":0},0,0,{"$f":"SUM(O5828:P5828)","v":0}]
[null,null,"3月",0,0,{"$f":"SUM(D5829:E5829)","v":0},0,0,0,{"$f":"SUM(G5829:I5829)","v":0},0,0,{"$f":"SUM(K5829:L5829)","v":0},{"$f":"J5829+M5829","v":0},0,0,{"$f":"SUM(O5829:P5829)","v":0}]
[]
[null,"増毛度２","年度計",{"$f":"SUM(D5815:D5823,D5827:D5829)","v":0},{"$f":"SUM(E5815:E5823,E5827:E5829)","v":0},{"$f":"SUM(F5815:F5823,F5827:F5829)","v":0},{"$f":"SUM(G5815:G5823,G5827:G5829)","v":0},0,0,0,0,0,{"$f":"SUM(M5815:M5823,M5827:M5829)","v":0},{"$f":"SUM(N5815:N5823,N5827:N5829)","v":0},{"$f":"SUM(O5815:O5823,O5827:O5829)","v":0},{"$f":"SUM(P5815:P5823,P5827:P5829)","v":0},{"$f":"SUM(Q5815:Q5823,Q5827:Q5829)","v":0}]
[]
[null,null,{"$f":"C5779","v":"平　成　２　８　年　空　港　管　理　状　況　調　書"}]
[null,null,"空港名 ：","乙　　部                （へ　リ）",null,null,null,null,null,null,null,null,null,null,null,null,"※　平成27年2月5日供用廃止"]
[null,null,"項目",null,"着 陸 回 数 （回）",null,"乗   降   客   数   （人）",null,null,null,null,null,null,null,"航空燃料供給量　（KＬ）"]
[null,null,null,"国際線","国内線","計",null,"国 際 線",null,null,null,"国 内 線",null,"合 計","ジェット燃料","その他燃料","合計"]
[null,null,"月別",null,null,null,"乗 客","降 客","通過客","小 計","乗 客","降 客","小 計"]
[]
[null,null,"1月",0,0,{"$f":"SUM(D5839:E5839)","v":0},0,0,0,{"$f":"SUM(G5839:I5839)","v":0},0,0,{"$f":"SUM(K5839:L5839)","v":0},{"$f":"J5839+M5839","v":0},0,0,{"$f":"SUM(O5839:P5839)","v":0}]
[null,null,"2月",0,0,{"$f":"SUM(D5840:E5840)","v":0},0,0,0,{"$f":"SUM(G5840:I5840)","v":0},0,0,{"$f":"SUM(K5840:L5840)","v":0},{"$f":"J5840+M5840","v":0},0,0,{"$f":"SUM(O5840:P5840)","v":0}]
[null,null,"3月",0,0,0,0,0,0,0,0,0,0,0,0,0,0]
[null,null,"4月",0,0,0,0,0,0,0,0,0,0,0,0,0,0]
[null,null,"5月",0,0,0,0,0,0,0,0,0,0,0,0,0,0]
[null,null,"6月",0,0,0,0,0,0,0,0,0,0,0,0,0,0]
[null,null,"7月",0,0,0,0,0,0,0,0,0,0,0,0,0,0]
[null,null,"8月",0,0,0,0,0,0,0,0,0,0,0,0,0,0]
[null,null,"9月",0,0,0,0,0,0,0,0,0,0,0,0,0,0]
[null,null,"10月",0,0,0,0,0,0,0,0,0,0,0,0,0,0]
[null,null,"11月",0,0,0,0,0,0,0,0,0,0,0,0,0,0]
[null,null,"12月",0,0,0,0,0,0,0,0,0,0,0,0,0,0]
[null,null,null,null,null,null,null,null,null,0]
[null,"乙部暦１","暦年 計",{"$f":"SUM(D5839:D5850)","v":0},{"$f":"SUM(E5839:E5851)","v":0},{"$f":"SUM(F5839:F5850)","v":0},{"$f":"SUM(G5839:G5851)","v":0},{"$f":"SUM(H5839:H5850)","v":0},0,{"$f":"SUM(J5839:J5851)","v":0},0,{"$f":"SUM(L5839:L5851)","v":0},0,0,0,{"$f":"SUM(P5839:P5850)","v":0},{"$f":"SUM(Q5839:Q5850)","v":0}]
[]
[null,null,"1月",0,0,{"$f":"SUM(D5854:E5854)","v":0},0,0,0,{"$f":"SUM(G5854:I5854)","v":0},0,0,{"$f":"SUM(K5854:L5854)","v":0},{"$f":"J5854+M5854","v":0},0,0,{"$f":"SUM(O5854:P5854)","v":0}]
[null,null,"2月",0,0,{"$f":"SUM(D5855:E5855)","v":0},0,0,0,{"$f":"SUM(G5855:I5855)","v":0},0,0,{"$f":"SUM(K5855:L5855)","v":0},{"$f":"J5855+M5855","v":0},0,0,{"$f":"SUM(O5855:P5855)","v":0}]
[null,null,"3月",0,0,{"$f":"SUM(D5856:E5856)","v":0},0,0,0,{"$f":"SUM(G5856:I5856)","v":0},0,0,{"$f":"SUM(K5856:L5856)","v":0},{"$f":"J5856+M5856","v":0},0,0,{"$f":"SUM(O5856:P5856)","v":0}]
[]
[null,"乙部度１","年度計",{"$f":"SUM(D5842:D5850,D5854:D5856)","v":0},{"$f":"SUM(E5842:E5850,E5854:E5856)","v":0},{"$f":"SUM(F5842:F5850,F5854:F5856)","v":0},{"$f":"SUM(G5842:G5850,G5854:G5856)","v":0},0,0,0,0,0,0,0,0,0,{"$f":"SUM(Q5842:Q5850,Q5854:Q5856)","v":0}]
[]
[]
[]
[null,null,"項目",null,null,null,"貨 物 取 扱 量 （トン）",null,null,null,null,null,null,"郵 便 取 扱 量 （kg）"]
[null,null,null,null,"国 際 線",null,null,"国 内 線",null,"合計",null,"国 際 線",null,null,"国 内 線",null,"合 計"]
[null,null,"月別","積","卸","小 計","積","卸","小 計",null,"積","卸","小 計","積","卸","小 計"]
[]
[null,null,"1月",0,0,{"$f":"SUM(D5866:E5866)","v":0},0,0,{"$f":"SUM(G5866:H5866)","v":0},{"$f":"F5866+I5866","v":0},0,0,{"$f":"SUM(K5866:L5866)","v":0},0,0,{"$f":"SUM(N5866:O5866)","v":0},{"$f":"M5866+P5866","v":0}]
[null,null,"2月",0,0,0,0,0,0,0,0,0,0,0,0,0,0]
[null,null,"3月",0,0,0,0,0,0,0,0,0,0,0,0,0,0]
[null,null,"4月",0,0,0,0,0,0,0,0,0,0,0,0,0,0]
[null,null,"5月",0,0,0,0,0,0,0,0,0,0,0,0,0,0]
[null,null,"6月",0,0,0,0,0,0,0,0,0,0,0,0,0,0]
[null,null,"7月",0,0,0,0,0,0,0,0,0,0,0,0,0,0]
[null,null,"8月",0,0,0,0,0,0,0,0,0,0,0,0,0,0]
[null,null,"9月",0,0,0,0,0,0,0,0,0,0,0,0,0,0]
[null,null,"10月",0,0,0,0,0,0,0,0,0,0,0,0,0,0]
[null,null,"11月",0,0,0,0,0,0,0,0,0,0,0,0,0,0]
[null,null,"12月",0,0,0,0,0,0,0,0,0,0,0,0,0,0]
[]
[null,"乙部暦２","暦年 計",{"$f":"SUM(D5866:D5878)","v":0},0,0,0,0,0,0,0,0,{"$f":"SUM(M5866:M5878)","v":0},{"$f":"SUM(N5866:N5878)","v":0},{"$f":"SUM(O5866:O5878)","v":0},{"$f":"SUM(P5866:P5878)","v":0},{"$f":"SUM(Q5866:Q5878)","v":0}]
[]
[null,null,"1月",0,0,{"$f":"SUM(D5881:E5881)","v":0},0,0,{"$f":"SUM(G5881:H5881)","v":0},{"$f":"F5881+I5881","v":0},0,0,{"$f":"SUM(K5881:L5881)","v":0},0,0,{"$f":"SUM(N5881:O5881)","v":0},{"$f":"M5881+P5881","v":0}]
[null,null,"2月",0,0,{"$f":"SUM(D5882:E5882)","v":0},0,0,{"$f":"SUM(G5882:H5882)","v":0},{"$f":"F5882+I5882","v":0},0,0,{"$f":"SUM(K5882:L5882)","v":0},0,0,{"$f":"SUM(N5882:O5882)","v":0},{"$f":"M5882+P5882","v":0}]
[null,null,"3月",0,0,{"$f":"SUM(D5883:E5883)","v":0},0,0,{"$f":"SUM(G5883:H5883)","v":0},{"$f":"F5883+I5883","v":0},0,0,{"$f":"SUM(K5883:L5883)","v":0},0,0,{"$f":"SUM(N5883:O5883)","v":0},{"$f":"M5883+P5883","v":0}]
[]
[null,"乙部度２","年度計",{"$f":"SUM(D5869:D5877,D5881:D5883)","v":0},{"$f":"SUM(E5869:E5877,E5881:E5883)","v":0},{"$f":"SUM(F5869:F5877,F5881:F5883)","v":0},{"$f":"SUM(G5869:G5877,G5881:G5883)","v":0},0,0,0,0,0,{"$f":"SUM(M5869:M5877,M5881:M5883)","v":0},{"$f":"SUM(N5869:N5877,N5881:N5883)","v":0},{"$f":"SUM(O5869:O5877,O5881:O5883)","v":0},{"$f":"SUM(P5869:P5877,P5881:P5883)","v":0},{"$f":"SUM(Q5869:Q5877,Q5881:Q5883)","v":0}]
[]
[null,null,{"$f":"C5833","v":"平　成　２　８　年　空　港　管　理　状　況　調　書"}]
[null,null,"空港名 ：","米　　沢                （へ　リ）"]
[null,null,"項目",null,"着 陸 回 数 （回）",null,"乗   降   客   数   （人）",null,null,null,null,null,null,null,"航空燃料供給量　（KＬ）"]
[null,null,null,"国際線","国内線","計",null,"国 際 線",null,null,null,"国 内 線",null,"合 計","ジェット燃料","その他燃料","合計"]
[null,null,"月別",null,null,null,"乗 客","降 客","通過客","小 計","乗 客","降 客","小 計"]
[]
[null,null,"1月",0,0,{"$f":"SUM(D5893:E5893)","v":0},0,0,0,{"$f":"SUM(G5893:I5893)","v":0},0,0,{"$f":"SUM(K5893:L5893)","v":0},{"$f":"J5893+M5893","v":0},0,0,{"$f":"SUM(O5893:P5893)","v":0}]
[null,null,"2月",0,1,{"$f":"SUM(D5894:E5894)","v":1},0,0,0,{"$f":"SUM(G5894:I5894)","v":0},0,0,{"$f":"SUM(K5894:L5894)","v":0},{"$f":"J5894+M5894","v":0},0,0,{"$f":"SUM(O5894:P5894)","v":0}]
[null,null,"3月",0,2,{"$f":"SUM(D5895:E5895)","v":2},0,0,0,{"$f":"SUM(G5895:I5895)","v":0},0,0,{"$f":"SUM(K5895:L5895)","v":0},{"$f":"J5895+M5895","v":0},0,0,{"$f":"SUM(O5895:P5895)","v":0}]
[null,null,"4月",0,2,{"$f":"SUM(D5896:E5896)","v":2},0,0,0,{"$f":"SUM(G5896:I5896)","v":0},0,0,{"$f":"SUM(K5896:L5896)","v":0},{"$f":"J5896+M5896","v":0},0,0,{"$f":"SUM(O5896:P5896)","v":0}]
[null,null,"5月",0,7,7,0,0,0,0,0,0,0,0,0,0,0]
[null,null,"6月",0,6,6,0,0,0,0,0,0,0,0,0,0,0]
[null,null,"7月",0,4,4,0,0,0,0,0,0,0,0,0,0,0]
[null,null,"8月",0,9,9,0,0,0,0,0,0,0,0,0,0,0]
[null,null,"9月",0,11,11,0,0,0,0,0,0,0,0,0,0,0]
[null,null,"10月",0,2,2,0,0,0,0,0,0,0,0,0,0,0]
[null,null,"11月",0,4,4,0,0,0,0,0,0,0,0,0,0,0]
[null,null,"12月",0,1,1,0,0,0,0,0,0,0,0,0,0,0]
[]
[null,"米沢暦１","暦年 計",{"$f":"SUM(D5893:D5904)","v":0},{"$f":"SUM(E5893:E5904)","v":49},{"$f":"SUM(F5893:F5904)","v":49},{"$f":"SUM(G5893:G5904)","v":0},{"$f":"SUM(H5893:H5904)","v":0},0,0,0,0,0,0,0,{"$f":"SUM(P5893:P5904)","v":0},{"$f":"SUM(Q5893:Q5904)","v":0}]
[]
[null,null,"1月",0,2,{"$f":"SUM(D5908:E5908)","v":2},0,0,0,{"$f":"SUM(G5908:I5908)","v":0},0,0,{"$f":"SUM(K5908:L5908)","v":0},{"$f":"J5908+M5908","v":0},0,0,{"$f":"SUM(O5908:P5908)","v":0}]
[null,null,"2月",0,1,{"$f":"SUM(D5909:E5909)","v":1},0,0,0,{"$f":"SUM(G5909:I5909)","v":0},0,0,{"$f":"SUM(K5909:L5909)","v":0},{"$f":"J5909+M5909","v":0},0,0,{"$f":"SUM(O5909:P5909)","v":0}]
[null,null,"3月",0,0,{"$f":"SUM(D5910:E5910)","v":0},0,0,0,{"$f":"SUM(G5910:I5910)","v":0},0,0,{"$f":"SUM(K5910:L5910)","v":0},{"$f":"J5910+M5910","v":0},0,0,{"$f":"SUM(O5910:P5910)","v":0}]
[]
[null,"米沢度１","年度計",{"$f":"SUM(D5896:D5904,D5908:D5910)","v":0},{"$f":"SUM(E5896:E5904,E5908:E5910)","v":49},{"$f":"SUM(F5896:F5904,F5908:F5910)","v":49},{"$f":"SUM(G5896:G5904,G5908:G5910)","v":0},0,0,0,0,0,0,0,0,0,{"$f":"SUM(Q5896:Q5904,Q5908:Q5910)","v":0}]
[]
[]
[]
[null,null,"項目",null,null,null,"貨 物 取 扱 量 （トン）",null,null,null,null,null,null,"郵 便 取 扱 量 （kg）"]
[null,null,null,null,"国 際 線",null,null,"国 内 線",null,"合計",null,"国 際 線",null,null,"国 内 線",null,"合 計"]
[null,null,"月別","積","卸","小 計","積","卸","小 計",null,"積","卸","小 計","積","卸","小 計"]
[]
[null,null,"1月",0,0,{"$f":"SUM(D5920:E5920)","v":0},0,0,{"$f":"SUM(G5920:H5920)","v":0},{"$f":"F5920+I5920","v":0},0,0,{"$f":"SUM(K5920:L5920)","v":0},0,0,{"$f":"SUM(N5920:O5920)","v":0},{"$f":"M5920+P5920","v":0}]
[null,null,"2月",0,0,0,0,0,0,0,0,0,0,0,0,0,0]
[null,null,"3月",0,0,0,0,0,0,0,0,0,0,0,0,0,0]
[null,null,"4月",0,0,0,0,0,0,0,0,0,0,0,0,0,0]
[null,null,"5月",0,0,0,0,0,0,0,0,0,0,0,0,0,0]
[null,null,"6月",0,0,0,0,0,0,0,0,0,0,0,0,0,0]
[null,null,"7月",0,0,0,0,0,0,0,0,0,0,0,0,0,0]
[null,null,"8月",0,0,0,0,0,0,0,0,0,0,0,0,0,0]
[null,null,"9月",0,0,0,0,0,0,0,0,0,0,0,0,0,0]
[null,null,"10月",0,0,0,0,0,0,0,0,0,0,0,0,0,0]
[null,null,"11月",0,0,0,0,0,0,0,0,0,0,0,0,0,0]
[null,null,"12月",0,0,0,0,0,0,0,0,0,0,0,0,0,0]
[]
[null,"米沢暦２","暦年 計",{"$f":"SUM(D5920:D5932)","v":0},0,0,0,0,0,0,0,0,{"$f":"SUM(M5920:M5932)","v":0},{"$f":"SUM(N5920:N5932)","v":0},{"$f":"SUM(O5920:O5932)","v":0},{"$f":"SUM(P5920:P5932)","v":0},{"$f":"SUM(Q5920:Q5932)","v":0}]
[]
[null,null,"1月",0,0,{"$f":"SUM(D5935:E5935)","v":0},0,0,{"$f":"SUM(G5935:H5935)","v":0},{"$f":"F5935+I5935","v":0},0,0,{"$f":"SUM(K5935:L5935)","v":0},0,0,{"$f":"SUM(N5935:O5935)","v":0},{"$f":"M5935+P5935","v":0}]
[null,null,"2月",0,0,{"$f":"SUM(D5936:E5936)","v":0},0,0,{"$f":"SUM(G5936:H5936)","v":0},{"$f":"F5936+I5936","v":0},0,0,{"$f":"SUM(K5936:L5936)","v":0},0,0,{"$f":"SUM(N5936:O5936)","v":0},{"$f":"M5936+P5936","v":0}]
[null,null,"3月",0,0,{"$f":"SUM(D5937:E5937)","v":0},0,0,{"$f":"SUM(G5937:H5937)","v":0},{"$f":"F5937+I5937","v":0},0,0,{"$f":"SUM(K5937:L5937)","v":0},0,0,{"$f":"SUM(N5937:O5937)","v":0},{"$f":"M5937+P5937","v":0}]
[]
[null,"米沢度２","年度計",{"$f":"SUM(D5923:D5931,D5935:D5937)","v":0},{"$f":"SUM(E5923:E5931,E5935:E5937)","v":0},{"$f":"SUM(F5923:F5931,F5935:F5937)","v":0},{"$f":"SUM(G5923:G5931,G5935:G5937)","v":0},0,0,0,0,0,{"$f":"SUM(M5923:M5931,M5935:M5937)","v":0},{"$f":"SUM(N5923:N5931,N5935:N5937)","v":0},{"$f":"SUM(O5923:O5931,O5935:O5937)","v":0},{"$f":"SUM(P5923:P5931,P5935:P5937)","v":0},{"$f":"SUM(Q5923:Q5931,Q5935:Q5937)","v":0}]
[]
[null,null,{"$f":"C5887","v":"平　成　２　８　年　空　港　管　理　状　況　調　書"}]
[null,null,"空港名 ：","つ く ば                （へ　リ）"]
[null,null,"項目",null,"着 陸 回 数 （回）",null,"乗   降   客   数   （人）",null,null,null,null,null,null,null,"航空燃料供給量　（KＬ）"]
[null,null,null,"国際線","国内線","計",null,"国 際 線",null,null,null,"国 内 線",null,"合 計","ジェット燃料","その他燃料","合計"]
[null,null,"月別",null,null,null,"乗 客","降 客","通過客","小 計","乗 客","降 客","小 計"]
[]
[null,null,"1月",0,97,{"$f":"SUM(D5947:E5947)","v":97},0,0,0,{"$f":"SUM(G5947:I5947)","v":0},0,0,{"$f":"SUM(K5947:L5947)","v":0},{"$f":"J5947+M5947","v":0},12,2,{"$f":"SUM(O5947:P5947)","v":14}]
[null,null,"2月",0,97,{"$f":"SUM(D5948:E5948)","v":97},0,0,0,{"$f":"SUM(G5948:I5948)","v":0},0,0,{"$f":"SUM(K5948:L5948)","v":0},{"$f":"J5948+M5948","v":0},11,1,{"$f":"SUM(O5948:P5948)","v":12}]
[null,null,"3月",0,103,{"$f":"SUM(D5949:E5949)","v":103},0,0,0,{"$f":"SUM(G5949:I5949)","v":0},0,0,{"$f":"SUM(K5949:L5949)","v":0},{"$f":"J5949+M5949","v":0},11,3,{"$f":"SUM(O5949:P5949)","v":14}]
[null,null,"4月",0,79,{"$f":"SUM(D5950:E5950)","v":79},0,0,0,{"$f":"SUM(G5950:I5950)","v":0},0,0,{"$f":"SUM(K5950:L5950)","v":0},{"$f":"J5950+M5950","v":0},7,2,{"$f":"SUM(O5950:P5950)","v":9}]
[null,null,"5月",0,84,84,0,0,0,0,0,0,0,0,5,2,7]
[null,null,"6月",0,48,48,0,0,0,0,0,0,0,0,4,2,6]
[null,null,"7月",0,96,96,0,0,0,0,0,0,0,0,6,2,8]
[null,null,"8月",0,117,117,0,0,0,0,0,0,0,0,22,2,24]
[null,null,"9月",0,79,79,0,0,0,0,0,0,0,0,8,2,10]
[null,null,"10月",0,111,111,0,0,0,0,0,0,0,0,12,3,15]
[null,null,"11月",0,110,110,0,0,0,0,0,0,0,0,16,2,18]
[null,null,"12月",0,98,98,0,0,0,0,0,0,0,0,11,2,13]
[]
[null,"つくば暦１","暦年 計",{"$f":"SUM(D5947:D5958)","v":0},{"$f":"SUM(E5947:E5959)","v":1119},{"$f":"SUM(F5947:F5958)","v":1119},{"$f":"SUM(G5947:G5958)","v":0},{"$f":"SUM(H5947:H5958)","v":0},0,0,0,0,0,0,125,{"$f":"SUM(P5947:P5958)","v":25},{"$f":"SUM(Q5947:Q5958)","v":150}]
[]
[null,null,"1月",0,92,{"$f":"SUM(D5962:E5962)","v":92},0,0,0,{"$f":"SUM(G5962:I5962)","v":0},0,0,{"$f":"SUM(K5962:L5962)","v":0},{"$f":"J5962+M5962","v":0},10,1,{"$f":"SUM(O5962:P5962)","v":11}]
[null,null,"2月",0,110,{"$f":"SUM(D5963:E5963)","v":110},0,0,0,{"$f":"SUM(G5963:I5963)","v":0},0,0,{"$f":"SUM(K5963:L5963)","v":0},{"$f":"J5963+M5963","v":0},15,2,{"$f":"SUM(O5963:P5963)","v":17}]
[null,null,"3月",0,109,{"$f":"SUM(D5964:E5964)","v":109},0,0,0,{"$f":"SUM(G5964:I5964)","v":0},0,0,{"$f":"SUM(K5964:L5964)","v":0},{"$f":"J5964+M5964","v":0},12,2,{"$f":"SUM(O5964:P5964)","v":14}]
[]
[null,"つくば度１","年度計",{"$f":"SUM(D5950:D5958,D5962:D5964)","v":0},{"$f":"SUM(E5950:E5958,E5962:E5964)","v":1133},{"$f":"SUM(F5950:F5958,F5962:F5964)","v":1133},{"$f":"SUM(G5950:G5958,G5962:G5964)","v":0},0,0,0,0,0,0,0,128,24,{"$f":"SUM(Q5950:Q5958,Q5962:Q5964)","v":152}]
[]
[]
[]
[null,null,"項目",null,null,null,"貨 物 取 扱 量 （トン）",null,null,null,null,null,null,"郵 便 取 扱 量 （kg）"]
[null,null,null,null,"国 際 線",null,null,"国 内 線",null,"合計",null,"国 際 線",null,null,"国 内 線",null,"合 計"]
[null,null,"月別","積","卸","小 計","積","卸","小 計",null,"積","卸","小 計","積","卸","小 計"]
[]
[null,null,"1月",0,0,{"$f":"SUM(D5974:E5974)","v":0},0,0,{"$f":"SUM(G5974:H5974)","v":0},{"$f":"F5974+I5974","v":0},0,0,{"$f":"SUM(K5974:L5974)","v":0},0,0,{"$f":"SUM(N5974:O5974)","v":0},{"$f":"M5974+P5974","v":0}]
[null,null,"2月",0,0,0,0,0,0,0,0,0,0,0,0,0,0]
[null,null,"3月",0,0,0,0,0,0,0,0,0,0,0,0,0,0]
[null,null,"4月",0,0,0,0,0,0,0,0,0,0,0,0,0,0]
[null,null,"5月",0,0,0,0,0,0,0,0,0,0,0,0,0,0]
[null,null,"6月",0,0,0,0,0,0,0,0,0,0,0,0,0,0]
[null,null,"7月",0,0,0,0,0,0,0,0,0,0,0,0,0,0]
[null,null,"8月",0,0,0,0,0,0,0,0,0,0,0,0,0,0]
[null,null,"9月",0,0,0,0,0,0,0,0,0,0,0,0,0,0]
[null,null,"10月",0,0,0,0,0,0,0,0,0,0,0,0,0,0]
[null,null,"11月",0,0,0,0,0,0,0,0,0,0,0,0,0,0]
[null,null,"12月",0,0,0,0,0,0,0,0,0,0,0,0,0,0]
[]
[null,"つくば暦２","暦年 計",{"$f":"SUM(D5974:D5986)","v":0},0,0,0,0,0,0,0,0,{"$f":"SUM(M5974:M5986)","v":0},{"$f":"SUM(N5974:N5986)","v":0},{"$f":"SUM(O5974:O5986)","v":0},{"$f":"SUM(P5974:P5986)","v":0},{"$f":"SUM(Q5974:Q5986)","v":0}]
[]
[null,null,"1月",0,0,{"$f":"SUM(D5989:E5989)","v":0},0,0,{"$f":"SUM(G5989:H5989)","v":0},{"$f":"F5989+I5989","v":0},0,0,{"$f":"SUM(K5989:L5989)","v":0},0,0,{"$f":"SUM(N5989:O5989)","v":0},{"$f":"M5989+P5989","v":0}]
[null,null,"2月",0,0,{"$f":"SUM(D5990:E5990)","v":0},0,0,{"$f":"SUM(G5990:H5990)","v":0},{"$f":"F5990+I5990","v":0},0,0,{"$f":"SUM(K5990:L5990)","v":0},0,0,{"$f":"SUM(N5990:O5990)","v":0},{"$f":"M5990+P5990","v":0}]
[null,null,"3月",0,0,{"$f":"SUM(D5991:E5991)","v":0},0,0,{"$f":"SUM(G5991:H5991)","v":0},{"$f":"F5991+I5991","v":0},0,0,{"$f":"SUM(K5991:L5991)","v":0},0,0,{"$f":"SUM(N5991:O5991)","v":0},{"$f":"M5991+P5991","v":0}]
[]
[null,"つくば度２","年度計",{"$f":"SUM(D5977:D5985,D5989:D5991)","v":0},{"$f":"SUM(E5977:E5985,E5989:E5991)","v":0},{"$f":"SUM(F5977:F5985,F5989:F5991)","v":0},{"$f":"SUM(G5977:G5985,G5989:G5991)","v":0},0,0,0,0,0,{"$f":"SUM(M5977:M5985,M5989:M5991)","v":0},{"$f":"SUM(N5977:N5985,N5989:N5991)","v":0},{"$f":"SUM(O5977:O5985,O5989:O5991)","v":0},{"$f":"SUM(P5977:P5985,P5989:P5991)","v":0},{"$f":"SUM(Q5977:Q5985,Q5989:Q5991)","v":0}]
[]
[null,null,{"$f":"C5941","v":"平　成　２　８　年　空　港　管　理　状　況　調　書"}]
[null,null,"空港名 ：","栃　　木                （へ　リ）"]
[null,null,"項目",null,"着 陸 回 数 （回）",null,"乗   降   客   数   （人）",null,null,null,null,null,null,null,"航空燃料供給量　（KＬ）"]
[null,null,null,"国際線","国内線","計",null,"国 際 線",null,null,null,"国 内 線",null,"合 計","ジェット燃料","その他燃料","合計"]
[null,null,"月別",null,null,null,"乗 客","降 客","通過客","小 計","乗 客","降 客","小 計"]
[]
[null,null,"1月",0,39,{"$f":"SUM(D6001:E6001)","v":39},0,0,0,{"$f":"SUM(G6001:I6001)","v":0},0,0,{"$f":"SUM(K6001:L6001)","v":0},{"$f":"J6001+M6001","v":0},4,0,{"$f":"SUM(O6001:P6001)","v":4}]
[null,null,"2月",0,37,{"$f":"SUM(D6002:E6002)","v":37},0,0,0,{"$f":"SUM(G6002:I6002)","v":0},0,0,{"$f":"SUM(K6002:L6002)","v":0},{"$f":"J6002+M6002","v":0},3,0,{"$f":"SUM(O6002:P6002)","v":3}]
[null,null,"3月",0,114,{"$f":"SUM(D6003:E6003)","v":114},0,0,0,{"$f":"SUM(G6003:I6003)","v":0},0,0,{"$f":"SUM(K6003:L6003)","v":0},{"$f":"J6003+M6003","v":0},25,0,{"$f":"SUM(O6003:P6003)","v":25}]
[null,null,"4月",0,65,{"$f":"SUM(D6004:E6004)","v":65},0,0,0,{"$f":"SUM(G6004:I6004)","v":0},0,0,{"$f":"SUM(K6004:L6004)","v":0},{"$f":"J6004+M6004","v":0},13,0,{"$f":"SUM(O6004:P6004)","v":13}]
[null,null,"5月",0,60,60,0,0,0,0,0,0,0,0,20,0,20]
[null,null,"6月",0,47,47,0,0,0,0,0,0,0,0,11,0,11]
[null,null,"7月",0,68,68,0,0,0,0,0,0,0,0,12,0,12]
[null,null,"8月",0,56,56,0,0,0,0,0,0,0,0,15,0,15]
[null,null,"9月",0,52,52,0,0,0,0,0,0,0,0,13,0,13]
[null,null,"10月",0,97,97,0,0,0,0,0,0,0,0,20,0,20]
[null,null,"11月",0,89,89,0,0,0,0,0,0,0,0,26,0,26]
[null,null,"12月",0,78,78,0,0,0,0,0,0,0,0,4,0,4]
[]
[null,"栃木暦１","暦年 計",{"$f":"SUM(D6001:D6012)","v":0},{"$f":"SUM(E6001:E6012)","v":802},{"$f":"SUM(F6001:F6012)","v":802},{"$f":"SUM(G6001:G6012)","v":0},{"$f":"SUM(H6001:H6012)","v":0},0,0,0,0,0,0,166,{"$f":"SUM(P6001:P6012)","v":0},{"$f":"SUM(Q6001:Q6012)","v":166}]
[]
[null,null,"1月",0,71,{"$f":"SUM(D6016:E6016)","v":71},0,0,0,{"$f":"SUM(G6016:I6016)","v":0},0,0,{"$f":"SUM(K6016:L6016)","v":0},{"$f":"J6016+M6016","v":0},10,0,{"$f":"SUM(O6016:P6016)","v":10}]
[null,null,"2月",0,115,{"$f":"SUM(D6017:E6017)","v":115},0,0,0,{"$f":"SUM(G6017:I6017)","v":0},0,0,{"$f":"SUM(K6017:L6017)","v":0},{"$f":"J6017+M6017","v":0},23,0,{"$f":"SUM(O6017:P6017)","v":23}]
[null,null,"3月",0,73,{"$f":"SUM(D6018:E6018)","v":73},0,0,0,{"$f":"SUM(G6018:I6018)","v":0},0,0,{"$f":"SUM(K6018:L6018)","v":0},{"$f":"J6018+M6018","v":0},22,0,{"$f":"SUM(O6018:P6018)","v":22}]
[]
[null,"栃木度１","年度計",{"$f":"SUM(D6004:D6012,D6016:D6018)","v":0},{"$f":"SUM(E6004:E6012,E6016:E6018)","v":871},{"$f":"SUM(F6004:F6012,F6016:F6018)","v":871},{"$f":"SUM(G6004:G6012,G6016:G6018)","v":0},0,0,0,0,0,0,0,189,0,{"$f":"SUM(Q6004:Q6012,Q6016:Q6018)","v":189}]
[]
[]
[]
[null,null,"項目",null,null,null,"貨 物 取 扱 量 （トン）",null,null,null,null,null,null,"郵 便 取 扱 量 （kg）"]
[null,null,null,null,"国 際 線",null,null,"国 内 線",null,"合計",null,"国 際 線",null,null,"国 内 線",null,"合 計"]
[null,null,"月別","積","卸","小 計","積","卸","小 計",null,"積","卸","小 計","積","卸","小 計"]
[]
[null,null,"1月",0,0,{"$f":"SUM(D6028:E6028)","v":0},0,0,{"$f":"SUM(G6028:H6028)","v":0},{"$f":"F6028+I6028","v":0},0,0,{"$f":"SUM(K6028:L6028)","v":0},0,0,{"$f":"SUM(N6028:O6028)","v":0},{"$f":"M6028+P6028","v":0}]
[null,null,"2月",0,0,0,0,0,0,0,0,0,0,0,0,0,0]
[null,null,"3月",0,0,0,0,0,0,0,0,0,0,0,0,0,0]
[null,null,"4月",0,0,0,0,0,0,0,0,0,0,0,0,0,0]
[null,null,"5月",0,0,0,0,0,0,0,0,0,0,0,0,0,0]
[null,null,"6月",0,0,0,0,0,0,0,0,0,0,0,0,0,0]
[null,null,"7月",0,0,0,0,0,0,0,0,0,0,0,0,0,0]
[null,null,"8月",0,0,0,0,0,0,0,0,0,0,0,0,0,0]
[null,null,"9月",0,0,0,0,0,0,0,0,0,0,0,0,0,0]
[null,null,"10月",0,0,0,0,0,0,0,0,0,0,0,0,0,0]
[null,null,"11月",0,0,0,0,0,0,0,0,0,0,0,0,0,0]
[null,null,"12月",0,0,0,0,0,0,0,0,0,0,0,0,0,0]
[]
[null,"栃木暦２","暦年 計",{"$f":"SUM(D6028:D6040)","v":0},0,0,0,0,0,0,0,0,{"$f":"SUM(M6028:M6040)","v":0},{"$f":"SUM(N6028:N6040)","v":0},{"$f":"SUM(O6028:O6040)","v":0},{"$f":"SUM(P6028:P6040)","v":0},{"$f":"SUM(Q6028:Q6040)","v":0}]
[]
[null,null,"1月",0,0,{"$f":"SUM(D6043:E6043)","v":0},0,0,{"$f":"SUM(G6043:H6043)","v":0},{"$f":"F6043+I6043","v":0},0,0,{"$f":"SUM(K6043:L6043)","v":0},0,0,{"$f":"SUM(N6043:O6043)","v":0},{"$f":"M6043+P6043","v":0}]
[null,null,"2月",0,0,{"$f":"SUM(D6044:E6044)","v":0},0,0,{"$f":"SUM(G6044:H6044)","v":0},{"$f":"F6044+I6044","v":0},0,0,{"$f":"SUM(K6044:L6044)","v":0},0,0,{"$f":"SUM(N6044:O6044)","v":0},{"$f":"M6044+P6044","v":0}]
[null,null,"3月",0,0,{"$f":"SUM(D6045:E6045)","v":0},0,0,{"$f":"SUM(G6045:H6045)","v":0},{"$f":"F6045+I6045","v":0},0,0,{"$f":"SUM(K6045:L6045)","v":0},0,0,{"$f":"SUM(N6045:O6045)","v":0},{"$f":"M6045+P6045","v":0}]
[]
[null,"栃木度２","年度計",{"$f":"SUM(D6031:D6039,D6043:D6045)","v":0},{"$f":"SUM(E6031:E6039,E6043:E6045)","v":0},{"$f":"SUM(F6031:F6039,F6043:F6045)","v":0},{"$f":"SUM(G6031:G6039,G6043:G6045)","v":0},0,0,0,0,0,{"$f":"SUM(M6031:M6039,M6043:M6045)","v":0},{"$f":"SUM(N6031:N6039,N6043:N6045)","v":0},{"$f":"SUM(O6031:O6039,O6043:O6045)","v":0},{"$f":"SUM(P6031:P6039,P6043:P6045)","v":0},{"$f":"SUM(Q6031:Q6039,Q6043:Q6045)","v":0}]
[]
[null,null,{"$f":"C5995","v":"平　成　２　８　年　空　港　管　理　状　況　調　書"}]
[null,null,"空港名 ：","高　　崎                （へ　リ）"]
[null,null,"項目",null,"着 陸 回 数 （回）",null,"乗   降   客   数   （人）",null,null,null,null,null,null,null,"航空燃料供給量　（KＬ）"]
[null,null,null,"国際線","国内線","計",null,"国 際 線",null,null,null,"国 内 線",null,"合 計","ジェット燃料","その他燃料","合計"]
[null,null,"月別",null,null,null,"乗 客","降 客","通過客","小 計","乗 客","降 客","小 計"]
[]
[null,null,"1月",0,4,{"$f":"SUM(D6055:E6055)","v":4},0,0,0,{"$f":"SUM(G6055:I6055)","v":0},0,0,{"$f":"SUM(K6055:L6055)","v":0},{"$f":"J6055+M6055","v":0},0,0,{"$f":"SUM(O6055:P6055)","v":0}]
[null,null,"2月",0,7,{"$f":"SUM(D6056:E6056)","v":7},0,0,0,{"$f":"SUM(G6056:I6056)","v":0},0,0,{"$f":"SUM(K6056:L6056)","v":0},{"$f":"J6056+M6056","v":0},0,0,{"$f":"SUM(O6056:P6056)","v":0}]
[null,null,"3月",0,10,{"$f":"SUM(D6057:E6057)","v":10},0,0,0,{"$f":"SUM(G6057:I6057)","v":0},0,0,{"$f":"SUM(K6057:L6057)","v":0},{"$f":"J6057+M6057","v":0},0,0,{"$f":"SUM(O6057:P6057)","v":0}]
[null,null,"4月",0,5,{"$f":"SUM(D6058:E6058)","v":5},0,0,0,{"$f":"SUM(G6058:I6058)","v":0},0,0,{"$f":"SUM(K6058:L6058)","v":0},{"$f":"J6058+M6058","v":0},0,0,{"$f":"SUM(O6058:P6058)","v":0}]
[null,null,"5月",0,7,7,0,0,0,0,0,0,0,0,0,0,0]
[null,null,"6月",0,9,9,0,0,0,0,0,0,0,0,0,0,0]
[null,null,"7月",0,5,5,0,0,0,0,0,0,0,0,0,0,0]
[null,null,"8月",0,3,3,0,0,0,0,0,0,0,0,0,0,0]
[null,null,"9月",0,2,2,0,0,0,0,0,0,0,0,0,0,0]
[null,null,"10月",0,11,11,0,0,0,0,0,0,0,0,0,0,0]
[null,null,"11月",0,12,12,0,0,0,0,0,0,0,0,0,0,0]
[null,null,"12月",0,16,16,0,0,0,0,0,0,0,0,0,0,0]
[]
[null,"高崎暦１","暦年 計",{"$f":"SUM(D6055:D6066)","v":0},{"$f":"SUM(E6055:E6066)","v":91},{"$f":"SUM(F6055:F6066)","v":91},{"$f":"SUM(G6055:G6066)","v":0},{"$f":"SUM(H6055:H6066)","v":0},0,0,0,0,0,0,0,{"$f":"SUM(P6055:P6066)","v":0},{"$f":"SUM(Q6055:Q6066)","v":0}]
[]
[null,null,"1月",0,15,{"$f":"SUM(D6070:E6070)","v":15},0,0,0,{"$f":"SUM(G6070:I6070)","v":0},0,0,{"$f":"SUM(K6070:L6070)","v":0},{"$f":"J6070+M6070","v":0},0,0,{"$f":"SUM(O6070:P6070)","v":0}]
[null,null,"2月",0,11,{"$f":"SUM(D6071:E6071)","v":11},0,0,0,{"$f":"SUM(G6071:I6071)","v":0},0,0,{"$f":"SUM(K6071:L6071)","v":0},{"$f":"J6071+M6071","v":0},0,0,{"$f":"SUM(O6071:P6071)","v":0}]
[null,null,"3月",0,8,{"$f":"SUM(D6072:E6072)","v":8},0,0,0,{"$f":"SUM(G6072:I6072)","v":0},0,0,{"$f":"SUM(K6072:L6072)","v":0},{"$f":"J6072+M6072","v":0},0,0,{"$f":"SUM(O6072:P6072)","v":0}]
[]
[null,"高崎度１","年度計",{"$f":"SUM(D6058:D6066,D6070:D6072)","v":0},{"$f":"SUM(E6058:E6066,E6070:E6072)","v":104},{"$f":"SUM(F6058:F6066,F6070:F6072)","v":104},{"$f":"SUM(G6058:G6066,G6070:G6072)","v":0},0,0,0,0,0,0,0,0,0,{"$f":"SUM(Q6058:Q6066,Q6070:Q6072)","v":0}]
[]
[]
[]
[null,null,"項目",null,null,null,"貨 物 取 扱 量 （トン）",null,null,null,null,null,null,"郵 便 取 扱 量 （kg）"]
[null,null,null,null,"国 際 線",null,null,"国 内 線",null,"合計",null,"国 際 線",null,null,"国 内 線",null,"合 計"]
[null,null,"月別","積","卸","小 計","積","卸","小 計",null,"積","卸","小 計","積","卸","小 計"]
[]
[null,null,"1月",0,0,{"$f":"SUM(D6082:E6082)","v":0},0,0,{"$f":"SUM(G6082:H6082)","v":0},{"$f":"F6082+I6082","v":0},0,0,{"$f":"SUM(K6082:L6082)","v":0},0,0,{"$f":"SUM(N6082:O6082)","v":0},{"$f":"M6082+P6082","v":0}]
[null,null,"2月",0,0,0,0,0,0,0,0,0,0,0,0,0,0]
[null,null,"3月",0,0,0,0,0,0,0,0,0,0,0,0,0,0]
[null,null,"4月",0,0,0,0,0,0,0,0,0,0,0,0,0,0]
[null,null,"5月",0,0,0,0,0,0,0,0,0,0,0,0,0,0]
[null,null,"6月",0,0,0,0,0,0,0,0,0,0,0,0,0,0]
[null,null,"7月",0,0,0,0,0,0,0,0,0,0,0,0,0,0]
[null,null,"8月",0,0,0,0,0,0,0,0,0,0,0,0,0,0]
[null,null,"9月",0,0,0,0,0,0,0,0,0,0,0,0,0,0]
[null,null,"10月",0,0,0,0,0,0,0,0,0,0,0,0,0,0]
[null,null,"11月",0,0,0,0,0,0,0,0,0,0,0,0,0,0]
[null,null,"12月",0,0,0,0,0,0,0,0,0,0,0,0,0,0]
[]
[null,"高崎暦２","暦年 計",{"$f":"SUM(D6082:D6094)","v":0},0,0,0,0,0,0,0,0,{"$f":"SUM(M6082:M6094)","v":0},{"$f":"SUM(N6082:N6094)","v":0},{"$f":"SUM(O6082:O6094)","v":0},{"$f":"SUM(P6082:P6094)","v":0},{"$f":"SUM(Q6082:Q6094)","v":0}]
[]
[null,null,"1月",0,0,{"$f":"SUM(D6097:E6097)","v":0},0,0,{"$f":"SUM(G6097:H6097)","v":0},{"$f":"F6097+I6097","v":0},0,0,{"$f":"SUM(K6097:L6097)","v":0},0,0,{"$f":"SUM(N6097:O6097)","v":0},{"$f":"M6097+P6097","v":0}]
[null,null,"2月",0,0,{"$f":"SUM(D6098:E6098)","v":0},0,0,{"$f":"SUM(G6098:H6098)","v":0},{"$f":"F6098+I6098","v":0},0,0,{"$f":"SUM(K6098:L6098)","v":0},0,0,{"$f":"SUM(N6098:O6098)","v":0},{"$f":"M6098+P6098","v":0}]
[null,null,"3月",0,0,{"$f":"SUM(D6099:E6099)","v":0},0,0,{"$f":"SUM(G6099:H6099)","v":0},{"$f":"F6099+I6099","v":0},0,0,{"$f":"SUM(K6099:L6099)","v":0},0,0,{"$f":"SUM(N6099:O6099)","v":0},{"$f":"M6099+P6099","v":0}]
[]
[null,"高崎度２","年度計",{"$f":"SUM(D6085:D6093,D6097:D6099)","v":0},{"$f":"SUM(E6085:E6093,E6097:E6099)","v":0},{"$f":"SUM(F6085:F6093,F6097:F6099)","v":0},{"$f":"SUM(G6085:G6093,G6097:G6099)","v":0},0,0,0,0,0,{"$f":"SUM(M6085:M6093,M6097:M6099)","v":0},{"$f":"SUM(N6085:N6093,N6097:N6099)","v":0},{"$f":"SUM(O6085:O6093,O6097:O6099)","v":0},{"$f":"SUM(P6085:P6093,P6097:P6099)","v":0},{"$f":"SUM(Q6085:Q6093,Q6097:Q6099)","v":0}]
[]
[null,null,{"$f":"C6049","v":"平　成　２　８　年　空　港　管　理　状　況　調　書"}]
[null,null,"空港名 ：","群　　馬                （へ　リ）"]
[null,null,"項目",null,"着 陸 回 数 （回）",null,"乗   降   客   数   （人）",null,null,null,null,null,null,null,"航空燃料供給量　（KＬ）"]
[null,null,null,"国際線","国内線","計",null,"国 際 線",null,null,null,"国 内 線",null,"合 計","ジェット燃料","その他燃料","合計"]
[null,null,"月別",null,null,null,"乗 客","降 客","通過客","小 計","乗 客","降 客","小 計"]
[]
[null,null,"1月",0,156,{"$f":"SUM(D6109:E6109)","v":156},0,0,0,{"$f":"SUM(G6109:I6109)","v":0},0,0,{"$f":"SUM(K6109:L6109)","v":0},{"$f":"J6109+M6109","v":0},34,0,{"$f":"SUM(O6109:P6109)","v":34}]
[null,null,"2月",0,141,{"$f":"SUM(D6110:E6110)","v":141},0,0,0,{"$f":"SUM(G6110:I6110)","v":0},0,0,{"$f":"SUM(K6110:L6110)","v":0},{"$f":"J6110+M6110","v":0},24,0,{"$f":"SUM(O6110:P6110)","v":24}]
[null,null,"3月",0,173,{"$f":"SUM(D6111:E6111)","v":173},0,0,0,{"$f":"SUM(G6111:I6111)","v":0},0,0,{"$f":"SUM(K6111:L6111)","v":0},{"$f":"J6111+M6111","v":0},39,0,{"$f":"SUM(O6111:P6111)","v":39}]
[null,null,"4月",0,146,{"$f":"SUM(D6112:E6112)","v":146},0,0,0,{"$f":"SUM(G6112:I6112)","v":0},0,0,{"$f":"SUM(K6112:L6112)","v":0},{"$f":"J6112+M6112","v":0},32,0,{"$f":"SUM(O6112:P6112)","v":32}]
[null,null,"5月",0,152,152,0,0,0,0,0,0,0,0,37,0,37]
[null,null,"6月",0,133,133,0,0,0,0,0,0,0,0,30,0,30]
[null,null,"7月",0,162,162,0,0,0,0,0,0,0,0,39,0,39]
[null,null,"8月",0,149,149,0,0,0,0,0,0,0,0,39,0,39]
[null,null,"9月",0,163,163,0,0,0,0,0,0,0,0,32,0,32]
[null,null,"10月",0,206,206,0,0,0,0,0,0,0,0,55,0,55]
[null,null,"11月",0,165,165,0,0,0,0,0,0,0,0,43,0,43]
[null,null,"12月",0,147,147,0,0,0,0,0,0,0,0,28,0,28]
[]
[null,"群馬暦１","暦年 計",{"$f":"SUM(D6109:D6120)","v":0},{"$f":"SUM(E6109:E6120)","v":1893},{"$f":"SUM(F6109:F6120)","v":1893},{"$f":"SUM(G6109:G6120)","v":0},{"$f":"SUM(H6109:H6120)","v":0},0,0,0,0,0,0,432,{"$f":"SUM(P6109:P6120)","v":0},{"$f":"SUM(Q6109:Q6120)","v":432}]
[]
[null,null,"1月",0,120,{"$f":"SUM(D6124:E6124)","v":120},0,0,0,{"$f":"SUM(G6124:I6124)","v":0},0,0,{"$f":"SUM(K6124:L6124)","v":0},{"$f":"J6124+M6124","v":0},17,0,{"$f":"SUM(O6124:P6124)","v":17}]
[null,null,"2月",0,148,{"$f":"SUM(D6125:E6125)","v":148},0,0,0,{"$f":"SUM(G6125:I6125)","v":0},0,0,{"$f":"SUM(K6125:L6125)","v":0},{"$f":"J6125+M6125","v":0},28,0,{"$f":"SUM(O6125:P6125)","v":28}]
[null,null,"3月",0,152,{"$f":"SUM(D6126:E6126)","v":152},0,0,0,{"$f":"SUM(G6126:I6126)","v":0},0,0,{"$f":"SUM(K6126:L6126)","v":0},{"$f":"J6126+M6126","v":0},39,0,{"$f":"SUM(O6126:P6126)","v":39}]
[]
[null,"群馬度１","年度計",{"$f":"SUM(D6112:D6120,D6124:D6126)","v":0},{"$f":"SUM(E6112:E6120,E6124:E6126)","v":1843},{"$f":"SUM(F6112:F6120,F6124:F6126)","v":1843},{"$f":"SUM(G6112:G6120,G6124:G6126)","v":0},0,0,0,0,0,0,0,419,0,{"$f":"SUM(Q6112:Q6120,Q6124:Q6126)","v":419}]
[]
[]
[]
[null,null,"項目",null,null,null,"貨 物 取 扱 量 （トン）",null,null,null,null,null,null,"郵 便 取 扱 量 （kg）"]
[null,null,null,null,"国 際 線",null,null,"国 内 線",null,"合計",null,"国 際 線",null,null,"国 内 線",null,"合 計"]
[null,null,"月別","積","卸","小 計","積","卸","小 計",null,"積","卸","小 計","積","卸","小 計"]
[]
[null,null,"1月",0,0,{"$f":"SUM(D6136:E6136)","v":0},0,0,{"$f":"SUM(G6136:H6136)","v":0},{"$f":"F6136+I6136","v":0},0,0,{"$f":"SUM(K6136:L6136)","v":0},0,0,{"$f":"SUM(N6136:O6136)","v":0},{"$f":"M6136+P6136","v":0}]
[null,null,"2月",0,0,0,0,0,0,0,0,0,0,0,0,0,0]
[null,null,"3月",0,0,0,0,0,0,0,0,0,0,0,0,0,0]
[null,null,"4月",0,0,0,0,0,0,0,0,0,0,0,0,0,0]
[null,null,"5月",0,0,0,0,0,0,0,0,0,0,0,0,0,0]
[null,null,"6月",0,0,0,0,0,0,0,0,0,0,0,0,0,0]
[null,null,"7月",0,0,0,0,0,0,0,0,0,0,0,0,0,0]
[null,null,"8月",0,0,0,0,0,0,0,0,0,0,0,0,0,0]
[null,null,"9月",0,0,0,0,0,0,0,0,0,0,0,0,0,0]
[null,null,"10月",0,0,0,0,0,0,0,0,0,0,0,0,0,0]
[null,null,"11月",0,0,0,0,0,0,0,0,0,0,0,0,0,0]
[null,null,"12月",0,0,0,0,0,0,0,0,0,0,0,0,0,0]
[]
[null,"群馬暦２","暦年 計",{"$f":"SUM(D6136:D6148)","v":0},0,0,0,0,0,0,0,0,{"$f":"SUM(M6136:M6148)","v":0},{"$f":"SUM(N6136:N6148)","v":0},{"$f":"SUM(O6136:O6148)","v":0},{"$f":"SUM(P6136:P6148)","v":0},{"$f":"SUM(Q6136:Q6148)","v":0}]
[]
[null,null,"1月",0,0,{"$f":"SUM(D6151:E6151)","v":0},0,0,{"$f":"SUM(G6151:H6151)","v":0},{"$f":"F6151+I6151","v":0},0,0,{"$f":"SUM(K6151:L6151)","v":0},0,0,{"$f":"SUM(N6151:O6151)","v":0},{"$f":"M6151+P6151","v":0}]
[null,null,"2月",0,0,{"$f":"SUM(D6152:E6152)","v":0},0,0,{"$f":"SUM(G6152:H6152)","v":0},{"$f":"F6152+I6152","v":0},0,0,{"$f":"SUM(K6152:L6152)","v":0},0,0,{"$f":"SUM(N6152:O6152)","v":0},{"$f":"M6152+P6152","v":0}]
[null,null,"3月",0,0,{"$f":"SUM(D6153:E6153)","v":0},0,0,{"$f":"SUM(G6153:H6153)","v":0},{"$f":"F6153+I6153","v":0},0,0,{"$f":"SUM(K6153:L6153)","v":0},0,0,{"$f":"SUM(N6153:O6153)","v":0},{"$f":"M6153+P6153","v":0}]
[]
[null,"群馬度２","年度計",{"$f":"SUM(D6139:D6147,D6151:D6153)","v":0},{"$f":"SUM(E6139:E6147,E6151:E6153)","v":0},{"$f":"SUM(F6139:F6147,F6151:F6153)","v":0},{"$f":"SUM(G6139:G6147,G6151:G6153)","v":0},0,0,0,0,0,{"$f":"SUM(M6139:M6147,M6151:M6153)","v":0},{"$f":"SUM(N6139:N6147,N6151:N6153)","v":0},{"$f":"SUM(O6139:O6147,O6151:O6153)","v":0},{"$f":"SUM(P6139:P6147,P6151:P6153)","v":0},{"$f":"SUM(Q6139:Q6147,Q6151:Q6153)","v":0}]
[]
[null,null,{"$f":"C6103","v":"平　成　２　８　年　空　港　管　理　状　況　調　書"}]
[null,null,"空港名 ：","東京都東京              （へ　リ）"]
[null,null,"項目",null,"着 陸 回 数 （回）",null,"乗   降   客   数   （人）",null,null,null,null,null,null,null,"航空燃料供給量　（KＬ）"]
[null,null,null,"国際線","国内線","計",null,"国 際 線",null,null,null,"国 内 線",null,"合 計","ジェット燃料","その他燃料","合計"]
[null,null,"月別",null,null,null,"乗 客","降 客","通過客","小 計","乗 客","降 客","小 計"]
[]
[null,null,"1月",0,986,{"$f":"SUM(D6163:E6163)","v":986},0,0,0,{"$f":"SUM(G6163:I6163)","v":0},0,0,{"$f":"SUM(K6163:L6163)","v":0},{"$f":"J6163+M6163","v":0},247,9,{"$f":"SUM(O6163:P6163)","v":256}]
[null,null,"2月",0,968,{"$f":"SUM(D6164:E6164)","v":968},0,0,0,{"$f":"SUM(G6164:I6164)","v":0},0,0,{"$f":"SUM(K6164:L6164)","v":0},{"$f":"J6164+M6164","v":0},279,10,{"$f":"SUM(O6164:P6164)","v":289}]
[null,null,"3月",0,1089,{"$f":"SUM(D6165:E6165)","v":1089},0,0,0,{"$f":"SUM(G6165:I6165)","v":0},0,0,{"$f":"SUM(K6165:L6165)","v":0},{"$f":"J6165+M6165","v":0},268,11,{"$f":"SUM(O6165:P6165)","v":279}]
[null,null,"4月",0,778,{"$f":"SUM(D6166:E6166)","v":778},0,0,0,{"$f":"SUM(G6166:I6166)","v":0},0,0,{"$f":"SUM(K6166:L6166)","v":0},{"$f":"J6166+M6166","v":0},186,9,{"$f":"SUM(O6166:P6166)","v":195}]
[null,null,"5月",0,868,868,0,0,0,0,0,0,0,0,208,11,219]
[null,null,"6月",0,808,808,0,0,0,0,0,0,0,0,186,9,195]
[null,null,"7月",0,884,884,0,0,0,0,0,0,0,0,204,11,215]
[null,null,"8月",0,957,957,0,0,0,0,0,0,0,0,158,68,226]
[null,null,"9月",0,825,825,0,0,0,0,0,0,0,0,201,9,210]
[null,null,"10月",0,1003,1003,0,0,0,0,0,0,0,0,228,12,240]
[null,null,"11月",0,964,964,0,0,0,0,0,0,0,0,215,12,227]
[null,null,"12月",0,1156,1156,0,0,0,0,0,0,0,0,260,13,273]
[]
[null,"東京都東京暦１","暦年 計",{"$f":"SUM(D6163:D6174)","v":0},{"$f":"SUM(E6163:E6174)","v":11286},{"$f":"SUM(F6163:F6174)","v":11286},{"$f":"SUM(G6163:G6174)","v":0},{"$f":"SUM(H6163:H6174)","v":0},0,0,0,0,0,0,2640,{"$f":"SUM(P6163:P6174)","v":184},{"$f":"SUM(Q6163:Q6174)","v":2824}]
[]
[null,null,"1月",0,889,{"$f":"SUM(D6178:E6178)","v":889},0,0,0,{"$f":"SUM(G6178:I6178)","v":0},0,0,{"$f":"SUM(K6178:L6178)","v":0},{"$f":"J6178+M6178","v":0},224,10,{"$f":"SUM(O6178:P6178)","v":234}]
[null,null,"2月",0,990,{"$f":"SUM(D6179:E6179)","v":990},0,0,0,{"$f":"SUM(G6179:I6179)","v":0},0,0,{"$f":"SUM(K6179:L6179)","v":0},{"$f":"J6179+M6179","v":0},271,10,{"$f":"SUM(O6179:P6179)","v":281}]
[null,null,"3月",0,944,{"$f":"SUM(D6180:E6180)","v":944},0,0,0,{"$f":"SUM(G6180:I6180)","v":0},0,0,{"$f":"SUM(K6180:L6180)","v":0},{"$f":"J6180+M6180","v":0},233,10,{"$f":"SUM(O6180:P6180)","v":243}]
[]
[null,"東京都東京度１","年度計",{"$f":"SUM(D6166:D6174,D6178:D6180)","v":0},{"$f":"SUM(E6166:E6174,E6178:E6180)","v":11066},{"$f":"SUM(F6166:F6174,F6178:F6180)","v":11066},{"$f":"SUM(G6166:G6174,G6178:G6180)","v":0},0,0,0,0,0,0,0,{"$f":"SUM(O6166:O6174,O6178:O6180)","v":2574},184,{"$f":"SUM(Q6166:Q6174,Q6178:Q6180)","v":2758}]
[]
[]
[]
[null,null,"項目",null,null,null,"貨 物 取 扱 量 （トン）",null,null,null,null,null,null,"郵 便 取 扱 量 （kg）"]
[null,null,null,null,"国 際 線",null,null,"国 内 線",null,"合計",null,"国 際 線",null,null,"国 内 線",null,"合 計"]
[null,null,"月別","積","卸","小 計","積","卸","小 計",null,"積","卸","小 計","積","卸","小 計"]
[]
[null,null,"1月",0,0,{"$f":"SUM(D6190:E6190)","v":0},0,0,{"$f":"SUM(G6190:H6190)","v":0},{"$f":"F6190+I6190","v":0},0,0,{"$f":"SUM(K6190:L6190)","v":0},0,0,{"$f":"SUM(N6190:O6190)","v":0},{"$f":"M6190+P6190","v":0}]
[null,null,"2月",0,0,0,0,0,0,0,0,0,0,0,0,0,0]
[null,null,"3月",0,0,0,0,0,0,0,0,0,0,0,0,0,0]
[null,null,"4月",0,0,0,0,0,0,0,0,0,0,0,0,0,0]
[null,null,"5月",0,0,0,0,0,0,0,0,0,0,0,0,0,0]
[null,null,"6月",0,0,0,0,0,0,0,0,0,0,0,0,0,0]
[null,null,"7月",0,0,0,0,0,0,0,0,0,0,0,0,0,0]
[null,null,"8月",0,0,0,0,0,0,0,0,0,0,0,0,0,0]
[null,null,"9月",0,0,0,0,0,0,0,0,0,0,0,0,0,0]
[null,null,"10月",0,0,0,0,0,0,0,0,0,0,0,0,0,0]
[null,null,"11月",0,0,0,0,0,0,0,0,0,0,0,0,0,0]
[null,null,"12月",0,0,0,0,0,0,0,0,0,0,0,0,0,0]
[]
[null,"東京都東京暦２","暦年 計",{"$f":"SUM(D6190:D6202)","v":0},0,0,0,0,0,0,0,0,{"$f":"SUM(M6190:M6202)","v":0},{"$f":"SUM(N6190:N6202)","v":0},{"$f":"SUM(O6190:O6202)","v":0},{"$f":"SUM(P6190:P6202)","v":0},{"$f":"SUM(Q6190:Q6202)","v":0}]
[]
[null,null,"1月",0,0,{"$f":"SUM(D6205:E6205)","v":0},0,0,{"$f":"SUM(G6205:H6205)","v":0},{"$f":"F6205+I6205","v":0},0,0,{"$f":"SUM(K6205:L6205)","v":0},0,0,{"$f":"SUM(N6205:O6205)","v":0},{"$f":"M6205+P6205","v":0}]
[null,null,"2月",0,0,{"$f":"SUM(D6206:E6206)","v":0},0,0,{"$f":"SUM(G6206:H6206)","v":0},{"$f":"F6206+I6206","v":0},0,0,{"$f":"SUM(K6206:L6206)","v":0},0,0,{"$f":"SUM(N6206:O6206)","v":0},{"$f":"M6206+P6206","v":0}]
[null,null,"3月",0,0,{"$f":"SUM(D6207:E6207)","v":0},0,0,{"$f":"SUM(G6207:H6207)","v":0},{"$f":"F6207+I6207","v":0},0,0,{"$f":"SUM(K6207:L6207)","v":0},0,0,{"$f":"SUM(N6207:O6207)","v":0},{"$f":"M6207+P6207","v":0}]
[]
[null,"東京都東京度２","年度計",{"$f":"SUM(D6193:D6201,D6205:D6207)","v":0},{"$f":"SUM(E6193:E6201,E6205:E6207)","v":0},{"$f":"SUM(F6193:F6201,F6205:F6207)","v":0},{"$f":"SUM(G6193:G6201,G6205:G6207)","v":0},0,0,0,0,0,{"$f":"SUM(M6193:M6201,M6205:M6207)","v":0},{"$f":"SUM(N6193:N6201,N6205:N6207)","v":0},{"$f":"SUM(O6193:O6201,O6205:O6207)","v":0},{"$f":"SUM(P6193:P6201,P6205:P6207)","v":0},{"$f":"SUM(Q6193:Q6201,Q6205:Q6207)","v":0}]
[]
[null,null,{"$f":"C6265","v":"平　成　２　８　年　空　港　管　理　状　況　調　書"}]
[null,null,"空港名 ：","静　　岡                （へ　リ）"]
[null,null,"項目",null,"着 陸 回 数 （回）",null,"乗   降   客   数   （人）",null,null,null,null,null,null,null,"航空燃料供給量　（ＫＬ）"]
[null,null,null,"国際線","国内線","計",null,"国 際 線",null,null,null,"国 内 線",null,"合 計","ジェット燃料","その他燃料","合計"]
[null,null,"月別",null,null,null,"乗 客","降 客","通過客","小 計","乗 客","降 客","小 計"]
[]
[null,null,"1月",0,111,{"$f":"SUM(D6217:E6217)","v":111},0,0,0,{"$f":"SUM(G6217:I6217)","v":0},0,0,{"$f":"SUM(K6217:L6217)","v":0},{"$f":"J6217+M6217","v":0},31,0,{"$f":"SUM(O6217:P6217)","v":31}]
[null,null,"2月",0,147,{"$f":"SUM(D6218:E6218)","v":147},0,0,0,{"$f":"SUM(G6218:I6218)","v":0},0,0,{"$f":"SUM(K6218:L6218)","v":0},{"$f":"J6218+M6218","v":0},39,0,{"$f":"SUM(O6218:P6218)","v":39}]
[null,null,"3月",0,147,{"$f":"SUM(D6219:E6219)","v":147},0,0,0,{"$f":"SUM(G6219:I6219)","v":0},0,0,{"$f":"SUM(K6219:L6219)","v":0},{"$f":"J6219+M6219","v":0},39,0,{"$f":"SUM(O6219:P6219)","v":39}]
[null,null,"4月",0,109,{"$f":"SUM(D6220:E6220)","v":109},0,0,0,{"$f":"SUM(G6220:I6220)","v":0},0,0,{"$f":"SUM(K6220:L6220)","v":0},{"$f":"J6220+M6220","v":0},34,0,{"$f":"SUM(O6220:P6220)","v":34}]
[null,null,"5月",0,130,130,0,0,0,0,0,0,0,0,37,0,37]
[null,null,"6月",0,123,123,0,0,0,0,0,0,0,0,33,0,33]
[null,null,"7月",0,146,146,0,0,0,0,0,0,0,0,47,0,47]
[null,null,"8月",0,154,154,0,0,0,0,0,0,0,0,46,0,46]
[null,null,"9月",0,149,149,0,0,0,0,0,0,0,0,40,0,40]
[null,null,"10月",0,248,248,0,0,0,0,0,0,0,0,42,0,42]
[null,null,"11月",0,107,107,0,0,0,0,0,0,0,0,24,0,24]
[null,null,"12月",0,88,88,0,0,0,0,0,0,0,0,22,0,22]
[]
[null,"静岡ヘリ暦１","暦年 計",{"$f":"SUM(D6217:D6228)","v":0},{"$f":"SUM(E6217:E6228)","v":1659},{"$f":"SUM(F6217:F6228)","v":1659},{"$f":"SUM(G6217:G6228)","v":0},{"$f":"SUM(H6217:H6228)","v":0},0,0,0,0,0,0,434,{"$f":"SUM(P6217:P6228)","v":0},{"$f":"SUM(Q6217:Q6228)","v":434}]
[]
[null,null,"1月",0,156,{"$f":"SUM(D6232:E6232)","v":156},0,0,0,{"$f":"SUM(G6232:I6232)","v":0},0,0,{"$f":"SUM(K6232:L6232)","v":0},{"$f":"J6232+M6232","v":0},45,0,{"$f":"SUM(O6232:P6232)","v":45}]
[null,null,"2月",0,162,{"$f":"SUM(D6233:E6233)","v":162},0,0,0,{"$f":"SUM(G6233:I6233)","v":0},0,0,{"$f":"SUM(K6233:L6233)","v":0},{"$f":"J6233+M6233","v":0},40,0,{"$f":"SUM(O6233:P6233)","v":40}]
[null,null,"3月",0,163,{"$f":"SUM(D6234:E6234)","v":163},0,0,0,{"$f":"SUM(G6234:I6234)","v":0},0,0,{"$f":"SUM(K6234:L6234)","v":0},{"$f":"J6234+M6234","v":0},45,0,{"$f":"SUM(O6234:P6234)","v":45}]
[]
[null,"静岡ヘリ度１","年度計",{"$f":"SUM(D6220:D6228,D6232:D6234)","v":0},{"$f":"SUM(E6220:E6228,E6232:E6234)","v":1735},{"$f":"SUM(F6220:F6228,F6232:F6234)","v":1735},{"$f":"SUM(G6220:G6228,G6232:G6234)","v":0},0,0,0,0,0,0,0,455,0,{"$f":"SUM(Q6220:Q6228,Q6232:Q6234)","v":455}]
[]
[]
[]
[null,null,"項目",null,null,null,"貨 物 取 扱 量 （トン）",null,null,null,null,null,null,"郵 便 取 扱 量 （kg）"]
[null,null,null,null,"国 際 線",null,null,"国 内 線",null,"合計",null,"国 際 線",null,null,"国 内 線",null,"合 計"]
[null,null,"月別","積","卸","小 計","積","卸","小 計",null,"積","卸","小 計","積","卸","小 計"]
[]
[null,null,"1月",0,0,{"$f":"SUM(D6244:E6244)","v":0},0,0,{"$f":"SUM(G6244:H6244)","v":0},{"$f":"F6244+I6244","v":0},0,0,{"$f":"SUM(K6244:L6244)","v":0},0,0,{"$f":"SUM(N6244:O6244)","v":0},{"$f":"M6244+P6244","v":0}]
[null,null,"2月",0,0,0,0,0,0,0,0,0,0,0,0,0,0]
[null,null,"3月",0,0,0,0,0,0,0,0,0,0,0,0,0,0]
[null,null,"4月",0,0,0,0,0,0,0,0,0,0,0,0,0,0]
[null,null,"5月",0,0,0,0,0,0,0,0,0,0,0,0,0,0]
[null,null,"6月",0,0,0,0,0,0,0,0,0,0,0,0,0,0]
[null,null,"7月",0,0,0,0,0,0,0,0,0,0,0,0,0,0]
[null,null,"8月",0,0,0,0,0,0,0,0,0,0,0,0,0,0]
[null,null,"9月",0,0,0,0,0,0,0,0,0,0,0,0,0,0]
[null,null,"10月",0,0,0,0,0,0,0,0,0,0,0,0,0,0]
[null,null,"11月",0,0,0,0,0,0,0,0,0,0,0,0,0,0]
[null,null,"12月",0,0,0,0,0,0,0,0,0,0,0,0,0,0]
[]
[null,"静岡ヘリ暦２","暦年 計",{"$f":"SUM(D6244:D6256)","v":0},0,0,0,0,0,0,0,0,{"$f":"SUM(M6244:M6256)","v":0},{"$f":"SUM(N6244:N6256)","v":0},{"$f":"SUM(O6244:O6256)","v":0},{"$f":"SUM(P6244:P6256)","v":0},{"$f":"SUM(Q6244:Q6256)","v":0}]
[]
[null,null,"1月",0,0,{"$f":"SUM(D6259:E6259)","v":0},0,0,{"$f":"SUM(G6259:H6259)","v":0},{"$f":"F6259+I6259","v":0},0,0,{"$f":"SUM(K6259:L6259)","v":0},0,0,{"$f":"SUM(N6259:O6259)","v":0},{"$f":"M6259+P6259","v":0}]
[null,null,"2月",0,0,{"$f":"SUM(D6260:E6260)","v":0},0,0,{"$f":"SUM(G6260:H6260)","v":0},{"$f":"F6260+I6260","v":0},0,0,{"$f":"SUM(K6260:L6260)","v":0},0,0,{"$f":"SUM(N6260:O6260)","v":0},{"$f":"M6260+P6260","v":0}]
[null,null,"3月",0,0,{"$f":"SUM(D6261:E6261)","v":0},0,0,{"$f":"SUM(G6261:H6261)","v":0},{"$f":"F6261+I6261","v":0},0,0,{"$f":"SUM(K6261:L6261)","v":0},0,0,{"$f":"SUM(N6261:O6261)","v":0},{"$f":"M6261+P6261","v":0}]
[]
[null,"静岡ヘリ度２","年度計",{"$f":"SUM(D6247:D6255,D6259:D6261)","v":0},{"$f":"SUM(E6247:E6255,E6259:E6261)","v":0},{"$f":"SUM(F6247:F6255,F6259:F6261)","v":0},{"$f":"SUM(G6247:G6255,G6259:G6261)","v":0},0,0,0,0,0,{"$f":"SUM(M6247:M6255,M6259:M6261)","v":0},{"$f":"SUM(N6247:N6255,N6259:N6261)","v":0},{"$f":"SUM(O6247:O6255,O6259:O6261)","v":0},{"$f":"SUM(P6247:P6255,P6259:P6261)","v":0},{"$f":"SUM(Q6247:Q6255,Q6259:Q6261)","v":0}]
[]
[null,null,{"$f":"C6157","v":"平　成　２　８　年　空　港　管　理　状　況　調　書"}]
[null,null,"空港名 ：","若　　狭                （へ　リ）"]
[null,null,"項目",null,"着 陸 回 数 （回）",null,"乗   降   客   数   （人）",null,null,null,null,null,null,null,"航空燃料供給量　（ＫＬ）"]
[null,null,null,"国際線","国内線","計",null,"国 際 線",null,null,null,"国 内 線",null,"合 計","ジェット燃料","その他燃料","合計"]
[null,null,"月別",null,null,null,"乗 客","降 客","通過客","小 計","乗 客","降 客","小 計"]
[]
[null,null,"1月",0,13,{"$f":"SUM(D6271:E6271)","v":13},0,0,0,{"$f":"SUM(G6271:I6271)","v":0},0,0,{"$f":"SUM(K6271:L6271)","v":0},{"$f":"J6271+M6271","v":0},3,0,{"$f":"SUM(O6271:P6271)","v":3}]
[null,null,"2月",0,0,{"$f":"SUM(D6272:E6272)","v":0},0,0,0,{"$f":"SUM(G6272:I6272)","v":0},0,0,{"$f":"SUM(K6272:L6272)","v":0},{"$f":"J6272+M6272","v":0},0,0,{"$f":"SUM(O6272:P6272)","v":0}]
[null,null,"3月",0,10,{"$f":"SUM(D6273:E6273)","v":10},0,0,0,{"$f":"SUM(G6273:I6273)","v":0},0,0,{"$f":"SUM(K6273:L6273)","v":0},{"$f":"J6273+M6273","v":0},2,0,{"$f":"SUM(O6273:P6273)","v":2}]
[null,null,"4月",0,4,{"$f":"SUM(D6274:E6274)","v":4},0,0,0,{"$f":"SUM(G6274:I6274)","v":0},0,0,{"$f":"SUM(K6274:L6274)","v":0},{"$f":"J6274+M6274","v":0},0,0,{"$f":"SUM(O6274:P6274)","v":0}]
[null,null,"5月",0,12,12,0,0,0,0,0,0,0,0,2,0,2]
[null,null,"6月",0,3,3,0,0,0,0,0,0,0,0,1,0,1]
[null,null,"7月",0,32,32,0,0,0,0,0,0,0,0,19,0,19]
[null,null,"8月",0,10,10,0,0,0,0,0,0,0,0,2,0,2]
[null,null,"9月",0,3,3,0,0,0,0,0,0,0,0,0,0,0]
[null,null,"10月",0,4,4,0,0,0,0,0,0,0,0,0,0,0]
[null,null,"11月",0,6,6,0,0,0,0,0,0,0,0,1,0,1]
[null,null,"12月",0,3,3,0,0,0,0,0,0,0,0,0,0,0]
[]
[null,"若狭暦１","暦年 計",{"$f":"SUM(D6271:D6282)","v":0},{"$f":"SUM(E6271:E6282)","v":100},{"$f":"SUM(F6271:F6282)","v":100},{"$f":"SUM(G6271:G6282)","v":0},{"$f":"SUM(H6271:H6282)","v":0},0,0,0,0,0,0,{"$f":"SUM(O6271:O6282)","v":30},{"$f":"SUM(P6271:P6282)","v":0},{"$f":"SUM(Q6271:Q6282)","v":30}]
[]
[null,null,"1月",0,1,{"$f":"SUM(D6286:E6286)","v":1},0,0,0,{"$f":"SUM(G6286:I6286)","v":0},0,0,{"$f":"SUM(K6286:L6286)","v":0},{"$f":"J6286+M6286","v":0},0,0,{"$f":"SUM(O6286:P6286)","v":0}]
[null,null,"2月",0,1,{"$f":"SUM(D6287:E6287)","v":1},0,0,0,{"$f":"SUM(G6287:I6287)","v":0},0,0,{"$f":"SUM(K6287:L6287)","v":0},{"$f":"J6287+M6287","v":0},0,0,{"$f":"SUM(O6287:P6287)","v":0}]
[null,null,"3月",0,8,{"$f":"SUM(D6288:E6288)","v":8},0,0,0,{"$f":"SUM(G6288:I6288)","v":0},0,0,{"$f":"SUM(K6288:L6288)","v":0},{"$f":"J6288+M6288","v":0},0,0,{"$f":"SUM(O6288:P6288)","v":0}]
[]
[null,"若狭度１","年度計",{"$f":"SUM(D6274:D6282,D6286:D6288)","v":0},{"$f":"SUM(E6274:E6282,E6286:E6288)","v":87},{"$f":"SUM(F6274:F6282,F6286:F6288)","v":87},{"$f":"SUM(G6274:G6282,G6286:G6288)","v":0},0,0,0,0,0,0,0,25,0,{"$f":"SUM(Q6274:Q6282,Q6286:Q6288)","v":25}]
[]
[]
[]
[null,null,"項目",null,null,null,"貨 物 取 扱 量 （トン）",null,null,null,null,null,null,"郵 便 取 扱 量 （kg）"]
[null,null,null,null,"国 際 線",null,null,"国 内 線",null,"合計",null,"国 際 線",null,null,"国 内 線",null,"合 計"]
[null,null,"月別","積","卸","小 計","積","卸","小 計",null,"積","卸","小 計","積","卸","小 計"]
[]
[null,null,"1月",0,0,{"$f":"SUM(D6298:E6298)","v":0},0,0,{"$f":"SUM(G6298:H6298)","v":0},{"$f":"F6298+I6298","v":0},0,0,{"$f":"SUM(K6298:L6298)","v":0},0,0,{"$f":"SUM(N6298:O6298)","v":0},{"$f":"M6298+P6298","v":0}]
[null,null,"2月",0,0,{"$f":"SUM(D6299:E6299)","v":0},0,0,0,0,0,0,0,0,0,0,0]
[null,null,"3月",0,0,{"$f":"SUM(D6300:E6300)","v":0},0,0,0,0,0,0,0,0,0,0,0]
[null,null,"4月",0,0,0,0,0,0,0,0,0,0,0,0,0,0]
[null,null,"5月",0,0,0,0,0,0,0,0,0,0,0,0,0,0]
[null,null,"6月",0,0,0,0,0,0,0,0,0,0,0,0,0,0]
[null,null,"7月",0,0,0,0,0,0,0,0,0,0,0,0,0,0]
[null,null,"8月",0,0,0,0,0,0,0,0,0,0,0,0,0,0]
[null,null,"9月",0,0,0,0,0,0,0,0,0,0,0,0,0,0]
[null,null,"10月",0,0,0,0,0,0,0,0,0,0,0,0,0,0]
[null,null,"11月",0,0,0,0,0,0,0,0,0,0,0,0,0,0]
[null,null,"12月",0,0,0,0,0,0,0,0,0,0,0,0,0,0]
[]
[null,"若狭暦２","暦年 計",{"$f":"SUM(D6298:D6310)","v":0},{"$f":"SUM(E6299:E6310)","v":0},0,0,0,0,0,0,0,{"$f":"SUM(M6298:M6310)","v":0},{"$f":"SUM(N6298:N6310)","v":0},{"$f":"SUM(O6298:O6310)","v":0},{"$f":"SUM(P6298:P6310)","v":0},{"$f":"SUM(Q6298:Q6310)","v":0}]
[]
[null,null,"1月",0,0,{"$f":"SUM(D6313:E6313)","v":0},0,0,{"$f":"SUM(G6313:H6313)","v":0},{"$f":"F6313+I6313","v":0},0,0,{"$f":"SUM(K6313:L6313)","v":0},0,0,{"$f":"SUM(N6313:O6313)","v":0},{"$f":"M6313+P6313","v":0}]
[null,null,"2月",0,0,{"$f":"SUM(D6314:E6314)","v":0},0,0,{"$f":"SUM(G6314:H6314)","v":0},{"$f":"F6314+I6314","v":0},0,0,{"$f":"SUM(K6314:L6314)","v":0},0,0,{"$f":"SUM(N6314:O6314)","v":0},{"$f":"M6314+P6314","v":0}]
[null,null,"3月",0,0,{"$f":"SUM(D6315:E6315)","v":0},0,0,{"$f":"SUM(G6315:H6315)","v":0},{"$f":"F6315+I6315","v":0},0,0,{"$f":"SUM(K6315:L6315)","v":0},0,0,{"$f":"SUM(N6315:O6315)","v":0},{"$f":"M6315+P6315","v":0}]
[]
[null,"若狭度２","年度計",{"$f":"SUM(D6301:D6309,D6313:D6315)","v":0},{"$f":"SUM(E6301:E6309,E6313:E6315)","v":0},{"$f":"SUM(F6301:F6309,F6313:F6315)","v":0},{"$f":"SUM(G6301:G6309,G6313:G6315)","v":0},0,0,0,0,0,{"$f":"SUM(M6301:M6309,M6313:M6315)","v":0},{"$f":"SUM(N6301:N6309,N6313:N6315)","v":0},{"$f":"SUM(O6301:O6309,O6313:O6315)","v":0},{"$f":"SUM(P6301:P6309,P6313:P6315)","v":0},{"$f":"SUM(Q6301:Q6309,Q6313:Q6315)","v":0}]
[]
[null,null,{"$f":"C6211","v":"平　成　２　８　年　空　港　管　理　状　況　調　書"}]
[null,null,"空港名 ：","津市伊勢湾              （へ　リ）"]
[null,null,"項目",null,"着 陸 回 数 （回）",null,"乗   降   客   数   （人）",null,null,null,null,null,null,null,"航空燃料供給量　（ＫＬ）"]
[null,null,null,"国際線","国内線","計",null,"国 際 線",null,null,null,"国 内 線",null,"合 計","ジェット燃料","その他燃料","合計"]
[null,null,"月別",null,null,null,"乗 客","降 客","通過客","小 計","乗 客","降 客","小 計"]
[]
[null,null,"1月",0,95,{"$f":"SUM(D6325:E6325)","v":95},0,0,0,{"$f":"SUM(G6325:I6325)","v":0},0,0,{"$f":"SUM(K6325:L6325)","v":0},{"$f":"J6325+M6325","v":0},25,0,{"$f":"SUM(O6325:P6325)","v":25}]
[null,null,"2月",0,100,100,0,0,0,0,0,0,0,0,28,0,28]
[null,null,"3月",0,114,114,0,0,0,0,0,0,0,0,30,0,30]
[null,null,"4月",0,95,95,0,0,0,0,0,0,0,0,26,0,26]
[null,null,"5月",0,83,83,0,0,0,0,0,0,0,0,17,0,17]
[null,null,"6月",0,103,103,0,0,0,0,0,0,0,0,30,0,30]
[null,null,"7月",0,98,98,0,0,0,0,0,0,0,0,26,0,26]
[null,null,"8月",0,96,96,0,0,0,0,0,0,0,0,24,0,24]
[null,null,"9月",0,102,102,0,0,0,0,0,0,0,0,24,0,24]
[null,null,"10月",0,124,124,0,0,0,0,0,0,0,0,30,0,30]
[null,null,"11月",0,110,110,0,0,0,0,0,0,0,0,24,0,24]
[null,null,"12月",0,79,79,0,0,0,0,0,0,0,0,15,0,15]
[]
[null,"津市伊勢湾暦１","暦年 計",{"$f":"SUM(D6325:D6336)","v":0},{"$f":"SUM(E6325:E6336)","v":1199},{"$f":"SUM(F6325:F6336)","v":1199},{"$f":"SUM(G6325:G6336)","v":0},{"$f":"SUM(H6325:H6336)","v":0},0,0,0,0,0,0,{"$f":"SUM(O6325:O6336)","v":299},{"$f":"SUM(P6325:P6336)","v":0},{"$f":"SUM(Q6325:Q6336)","v":299}]
[]
[null,null,"1月",0,137,{"$f":"SUM(D6340:E6340)","v":137},0,0,0,{"$f":"SUM(G6340:I6340)","v":0},0,0,{"$f":"SUM(K6340:L6340)","v":0},{"$f":"J6340+M6340","v":0},34,0,{"$f":"SUM(O6340:P6340)","v":34}]
[null,null,"2月",0,94,{"$f":"SUM(D6341:E6341)","v":94},0,0,0,{"$f":"SUM(G6341:I6341)","v":0},0,0,{"$f":"SUM(K6341:L6341)","v":0},{"$f":"J6341+M6341","v":0},23,0,{"$f":"SUM(O6341:P6341)","v":23}]
[null,null,"3月",0,108,{"$f":"SUM(D6342:E6342)","v":108},0,0,0,{"$f":"SUM(G6342:I6342)","v":0},0,0,{"$f":"SUM(K6342:L6342)","v":0},{"$f":"J6342+M6342","v":0},39,0,{"$f":"SUM(O6342:P6342)","v":39}]
[]
[null,"津市伊勢湾度１","年度計",{"$f":"SUM(D6328:D6336,D6340:D6342)","v":0},{"$f":"SUM(E6328:E6336,E6340:E6342)","v":1229},{"$f":"SUM(F6328:F6336,F6340:F6342)","v":1229},{"$f":"SUM(G6328:G6336,G6340:G6342)","v":0},0,0,0,0,0,0,0,312,0,{"$f":"SUM(Q6328:Q6336,Q6340:Q6342)","v":312}]
[]
[]
[]
[null,null,"項目",null,null,null,"貨 物 取 扱 量 （トン）",null,null,null,null,null,null,"郵 便 取 扱 量 （kg）"]
[null,null,null,null,"国 際 線",null,null,"国 内 線",null,"合計",null,"国 際 線",null,null,"国 内 線",null,"合 計"]
[null,null,"月別","積","卸","小 計","積","卸","小 計",null,"積","卸","小 計","積","卸","小 計"]
[]
[null,null,"1月",0,0,{"$f":"SUM(D6352:E6352)","v":0},0,0,{"$f":"SUM(G6352:H6352)","v":0},{"$f":"F6352+I6352","v":0},0,0,{"$f":"SUM(K6352:L6352)","v":0},0,0,{"$f":"SUM(N6352:O6352)","v":0},{"$f":"M6352+P6352","v":0}]
[null,null,"2月",0,0,{"$f":"SUM(D6353:E6353)","v":0},0,0,0,0,0,0,0,0,0,0,0]
[null,null,"3月",0,0,{"$f":"SUM(D6354:E6354)","v":0},0,0,0,0,0,0,0,0,0,0,0]
[null,null,"4月",0,0,0,0,0,0,0,0,0,0,0,0,0,0]
[null,null,"5月",0,0,0,0,0,0,0,0,0,0,0,0,0,0]
[null,null,"6月",0,0,0,0,0,0,0,0,0,0,0,0,0,0]
[null,null,"7月",0,0,0,0,0,0,0,0,0,0,0,0,0,0]
[null,null,"8月",0,0,0,0,0,0,0,0,0,0,0,0,0,0]
[null,null,"9月",0,0,0,0,0,0,0,0,0,0,0,0,0,0]
[null,null,"10月",0,0,0,0,0,0,0,0,0,0,0,0,0,0]
[null,null,"11月",0,0,0,0,0,0,0,0,0,0,0,0,0,0]
[null,null,"12月",0,0,0,0,0,0,0,0,0,0,0,0,0,0]
[]
[null,"津市伊勢湾暦２","暦年 計",{"$f":"SUM(D6352:D6364)","v":0},{"$f":"SUM(E6353:E6364)","v":0},{"$f":"SUM(F6352:F6364)","v":0},0,0,0,0,0,0,{"$f":"SUM(M6352:M6364)","v":0},{"$f":"SUM(N6352:N6364)","v":0},{"$f":"SUM(O6352:O6364)","v":0},{"$f":"SUM(P6352:P6364)","v":0},{"$f":"SUM(Q6352:Q6364)","v":0}]
[]
[null,null,"1月",0,0,{"$f":"SUM(D6367:E6367)","v":0},0,0,{"$f":"SUM(G6367:H6367)","v":0},{"$f":"F6367+I6367","v":0},0,0,{"$f":"SUM(K6367:L6367)","v":0},0,0,{"$f":"SUM(N6367:O6367)","v":0},{"$f":"M6367+P6367","v":0}]
[null,null,"2月",0,0,{"$f":"SUM(D6368:E6368)","v":0},0,0,{"$f":"SUM(G6368:H6368)","v":0},{"$f":"F6368+I6368","v":0},0,0,{"$f":"SUM(K6368:L6368)","v":0},0,0,{"$f":"SUM(N6368:O6368)","v":0},{"$f":"M6368+P6368","v":0}]
[null,null,"3月",0,0,{"$f":"SUM(D6369:E6369)","v":0},0,0,{"$f":"SUM(G6369:H6369)","v":0},{"$f":"F6369+I6369","v":0},0,0,{"$f":"SUM(K6369:L6369)","v":0},0,0,{"$f":"SUM(N6369:O6369)","v":0},{"$f":"M6369+P6369","v":0}]
[]
[null,"津市伊勢湾度２","年度計",{"$f":"SUM(D6355:D6363,D6367:D6369)","v":0},{"$f":"SUM(E6355:E6363,E6367:E6369)","v":0},{"$f":"SUM(F6355:F6363,F6367:F6369)","v":0},{"$f":"SUM(G6355:G6363,G6367:G6369)","v":0},0,0,0,0,0,{"$f":"SUM(M6355:M6363,M6367:M6369)","v":0},{"$f":"SUM(N6355:N6363,N6367:N6369)","v":0},{"$f":"SUM(O6355:O6363,O6367:O6369)","v":0},{"$f":"SUM(P6355:P6363,P6367:P6369)","v":0},{"$f":"SUM(Q6355:Q6363,Q6367:Q6369)","v":0}]
[]
[null,null,{"$f":"C6319","v":"平　成　２　８　年　空　港　管　理　状　況　調　書"}]
[null,null,"空港名 ：","舞　　洲                （へ　リ）"]
[null,null,"項目",null,"着 陸 回 数 （回）",null,"乗   降   客   数   （人）",null,null,null,null,null,null,null,"航空燃料供給量　（ＫＬ）"]
[null,null,null,"国際線","国内線","計",null,"国 際 線",null,null,null,"国 内 線",null,"合 計","ジェット燃料","その他燃料","合計"]
[null,null,"月別",null,null,null,"乗 客","降 客","通過客","小 計","乗 客","降 客","小 計"]
[]
[null,null,"1月",0,352,{"$f":"SUM(D6379:E6379)","v":352},0,0,0,{"$f":"SUM(G6379:I6379)","v":0},69,71,{"$f":"SUM(K6379:L6379)","v":140},{"$f":"J6379+M6379","v":140},0,0,{"$f":"SUM(O6379:P6379)","v":0}]
[null,null,"2月",0,134,134,0,0,0,0,59,69,128,128,0,0,0]
[null,null,"3月",0,178,178,0,0,0,0,101,97,198,198,0,0,0]
[null,null,"4月",0,161,161,0,0,0,0,132,128,260,260,0,0,0]
[null,null,"5月",0,191,191,0,0,0,0,95,95,190,190,0,0,0]
[null,null,"6月",0,164,164,0,0,0,0,97,101,198,198,0,0,0]
[null,null,"7月",0,170,170,0,0,0,0,108,109,217,217,0,0,0]
[null,null,"8月",0,145,145,0,0,0,0,103,105,208,208,0,0,0]
[null,null,"9月",0,139,139,0,0,0,0,52,56,108,108,0,0,0]
[null,null,"10月",0,220,220,0,0,0,0,100,99,199,199,0,0,0]
[null,null,"11月",0,205,205,0,0,0,0,104,105,209,209,0,0,0]
[null,null,"12月",0,242,242,0,0,0,0,159,163,322,322,0,0,0]
[]
[null,"舞洲暦１","暦年 計",{"$f":"SUM(D6379:D6390)","v":0},{"$f":"SUM(E6379:E6390)","v":2301},{"$f":"SUM(F6379:F6390)","v":2301},{"$f":"SUM(G6379:G6390)","v":0},{"$f":"SUM(H6379:H6390)","v":0},0,0,1179,1198,2377,2377,{"$f":"SUM(O6379:O6390)","v":0},{"$f":"SUM(P6379:P6390)","v":0},{"$f":"SUM(Q6379:Q6390)","v":0}]
[]
[null,null,"1月",0,169,{"$f":"SUM(D6394:E6394)","v":169},0,0,0,{"$f":"SUM(G6394:I6394)","v":0},85,85,{"$f":"SUM(K6394:L6394)","v":170},{"$f":"J6394+M6394","v":170},0,0,{"$f":"SUM(O6394:P6394)","v":0}]
[null,null,"2月",0,142,{"$f":"SUM(D6395:E6395)","v":142},0,0,0,{"$f":"SUM(G6395:I6395)","v":0},51,49,{"$f":"SUM(K6395:L6395)","v":100},{"$f":"J6395+M6395","v":100},0,0,{"$f":"SUM(O6395:P6395)","v":0}]
[null,null,"3月",0,162,{"$f":"SUM(D6396:E6396)","v":162},0,0,0,{"$f":"SUM(G6396:I6396)","v":0},74,76,{"$f":"SUM(K6396:L6396)","v":150},{"$f":"J6396+M6396","v":150},0,0,{"$f":"SUM(O6396:P6396)","v":0}]
[]
[null,"舞洲度１","年度計",{"$f":"SUM(D6382:D6390,D6394:D6396)","v":0},{"$f":"SUM(E6382:E6390,E6394:E6396)","v":2110},{"$f":"SUM(F6382:F6390,F6394:F6396)","v":2110},{"$f":"SUM(G6382:G6390,G6394:G6396)","v":0},0,0,0,1160,1171,2331,2331,0,0,{"$f":"SUM(Q6382:Q6390,Q6394:Q6396)","v":0}]
[]
[]
[]
[null,null,"項目",null,null,null,"貨 物 取 扱 量 （トン）",null,null,null,null,null,null,"郵 便 取 扱 量 （kg）"]
[null,null,null,null,"国 際 線",null,null,"国 内 線",null,"合計",null,"国 際 線",null,null,"国 内 線",null,"合 計"]
[null,null,"月別","積","卸","小 計","積","卸","小 計",null,"積","卸","小 計","積","卸","小 計"]
[]
[null,null,"1月",0,0,{"$f":"SUM(D6406:E6406)","v":0},0,0,{"$f":"SUM(G6406:H6406)","v":0},{"$f":"F6406+I6406","v":0},0,0,{"$f":"SUM(K6406:L6406)","v":0},0,0,{"$f":"SUM(N6406:O6406)","v":0},{"$f":"M6406+P6406","v":0}]
[null,null,"2月",0,0,{"$f":"SUM(D6407:E6407)","v":0},0,0,0,0,0,0,0,0,0,0,0]
[null,null,"3月",0,0,{"$f":"SUM(D6408:E6408)","v":0},0,0,0,0,0,0,0,0,0,0,0]
[null,null,"4月",0,0,0,0,0,0,0,0,0,0,0,0,0,0]
[null,null,"5月",0,0,0,0,0,0,0,0,0,0,0,0,0,0]
[null,null,"6月",0,0,0,0,0,0,0,0,0,0,0,0,0,0]
[null,null,"7月",0,0,0,0,0,0,0,0,0,0,0,0,0,0]
[null,null,"8月",0,0,0,0,0,0,0,0,0,0,0,0,0,0]
[null,null,"9月",0,0,0,0,0,0,0,0,0,0,0,0,0,0]
[null,null,"10月",0,0,0,0,0,0,0,0,0,0,0,0,0,0]
[null,null,"11月",0,0,0,0,0,0,0,0,0,0,0,0,0,0]
[null,null,"12月",0,0,0,0,0,0,0,0,0,0,0,0,0,0]
[]
[null,"舞洲暦２","暦年 計",{"$f":"SUM(D6406:D6418)","v":0},{"$f":"SUM(E6407:E6418)","v":0},{"$f":"SUM(F6406:F6418)","v":0},0,0,0,0,0,0,{"$f":"SUM(M6406:M6418)","v":0},{"$f":"SUM(N6406:N6418)","v":0},{"$f":"SUM(O6406:O6418)","v":0},{"$f":"SUM(P6406:P6418)","v":0},{"$f":"SUM(Q6406:Q6418)","v":0}]
[]
[null,null,"1月",0,0,{"$f":"SUM(D6421:E6421)","v":0},0,0,{"$f":"SUM(G6421:H6421)","v":0},{"$f":"F6421+I6421","v":0},0,0,{"$f":"SUM(K6421:L6421)","v":0},0,0,{"$f":"SUM(N6421:O6421)","v":0},{"$f":"M6421+P6421","v":0}]
[null,null,"2月",0,0,{"$f":"SUM(D6422:E6422)","v":0},0,0,{"$f":"SUM(G6422:H6422)","v":0},{"$f":"F6422+I6422","v":0},0,0,{"$f":"SUM(K6422:L6422)","v":0},0,0,{"$f":"SUM(N6422:O6422)","v":0},{"$f":"M6422+P6422","v":0}]
[null,null,"3月",0,0,{"$f":"SUM(D6423:E6423)","v":0},0,0,{"$f":"SUM(G6423:H6423)","v":0},{"$f":"F6423+I6423","v":0},0,0,{"$f":"SUM(K6423:L6423)","v":0},0,0,{"$f":"SUM(N6423:O6423)","v":0},{"$f":"M6423+P6423","v":0}]
[]
[null,"舞洲度２","年度計",{"$f":"SUM(D6409:D6417,D6421:D6423)","v":0},{"$f":"SUM(E6409:E6417,E6421:E6423)","v":0},{"$f":"SUM(F6409:F6417,F6421:F6423)","v":0},{"$f":"SUM(G6409:G6417,G6421:G6423)","v":0},0,0,0,0,0,{"$f":"SUM(M6409:M6417,M6421:M6423)","v":0},{"$f":"SUM(N6409:N6417,N6421:N6423)","v":0},{"$f":"SUM(O6409:O6417,O6421:O6423)","v":0},{"$f":"SUM(P6409:P6417,P6421:P6423)","v":0},{"$f":"SUM(Q6409:Q6417,Q6421:Q6423)","v":0}]
[]
[null,null,{"$f":"C6373","v":"平　成　２　８　年　空　港　管　理　状　況　調　書"}]
[null,null,"空港名 ：","神　　戸                （へ　リ）"]
[null,null,"項目",null,"着 陸 回 数 （回）",null,"乗   降   客   数   （人）",null,null,null,null,null,null,null,"航空燃料供給量　（ＫＬ）"]
[null,null,null,"国際線","国内線","計",null,"国 際 線",null,null,null,"国 内 線",null,"合 計","ジェット燃料","その他燃料","合計"]
[null,null,"月別",null,null,null,"乗 客","降 客","通過客","小 計","乗 客","降 客","小 計"]
[]
[null,null,"1月",0,63,{"$f":"SUM(D6433:E6433)","v":63},0,0,0,{"$f":"SUM(G6433:I6433)","v":0},0,0,{"$f":"SUM(K6433:L6433)","v":0},{"$f":"J6433+M6433","v":0},12,0,{"$f":"SUM(O6433:P6433)","v":12}]
[null,null,"2月",0,65,65,0,0,0,0,0,0,0,0,15,0,15]
[null,null,"3月",0,69,69,0,0,0,0,0,0,0,0,16,0,16]
[null,null,"4月",0,67,67,0,0,0,0,0,0,0,0,14,0,14]
[null,null,"5月",0,63,63,0,0,0,0,0,0,0,0,14,0,14]
[null,null,"6月",0,54,54,0,0,0,0,0,0,0,0,10,0,10]
[null,null,"7月",0,89,89,0,0,0,0,0,0,0,0,12,0,12]
[null,null,"8月",0,65,65,0,0,0,0,0,0,0,0,11,0,11]
[null,null,"9月",0,47,47,0,0,0,0,0,0,0,0,8,0,8]
[null,null,"10月",0,86,86,0,0,0,0,0,0,0,0,9,0,9]
[null,null,"11月",0,65,65,0,0,0,0,0,0,0,0,14,0,14]
[null,null,"12月",0,54,54,0,0,0,0,0,0,0,0,10,0,10]
[]
[null,"神戸ヘリ暦１","暦年 計",{"$f":"SUM(D6433:D6444)","v":0},{"$f":"SUM(E6433:E6444)","v":787},{"$f":"SUM(F6433:F6444)","v":787},{"$f":"SUM(G6433:G6444)","v":0},{"$f":"SUM(H6433:H6444)","v":0},0,0,0,0,0,0,{"$f":"SUM(O6433:O6444)","v":145},{"$f":"SUM(P6433:P6444)","v":0},{"$f":"SUM(Q6433:Q6444)","v":145}]
[]
[null,null,"1月",0,47,{"$f":"SUM(D6448:E6448)","v":47},0,0,0,{"$f":"SUM(G6448:I6448)","v":0},0,0,{"$f":"SUM(K6448:L6448)","v":0},{"$f":"J6448+M6448","v":0},10,0,{"$f":"SUM(O6448:P6448)","v":10}]
[null,null,"2月",0,59,{"$f":"SUM(D6449:E6449)","v":59},0,0,0,{"$f":"SUM(G6449:I6449)","v":0},0,0,{"$f":"SUM(K6449:L6449)","v":0},{"$f":"J6449+M6449","v":0},11,0,{"$f":"SUM(O6449:P6449)","v":11}]
[null,null,"3月",0,85,{"$f":"SUM(D6450:E6450)","v":85},0,0,0,{"$f":"SUM(G6450:I6450)","v":0},0,0,{"$f":"SUM(K6450:L6450)","v":0},{"$f":"J6450+M6450","v":0},14,0,{"$f":"SUM(O6450:P6450)","v":14}]
[]
[null,"神戸ヘリ度１","年度計",{"$f":"SUM(D6436:D6444,D6448:D6450)","v":0},{"$f":"SUM(E6436:E6444,E6448:E6450)","v":781},{"$f":"SUM(F6436:F6444,F6448:F6450)","v":781},{"$f":"SUM(G6436:G6444,G6448:G6450)","v":0},0,0,0,0,0,0,0,137,0,{"$f":"SUM(Q6436:Q6444,Q6448:Q6450)","v":137}]
[]
[]
[]
[null,null,"項目",null,null,null,"貨 物 取 扱 量 （トン）",null,null,null,null,null,null,"郵 便 取 扱 量 （kg）"]
[null,null,null,null,"国 際 線",null,null,"国 内 線",null,"合計",null,"国 際 線",null,null,"国 内 線",null,"合 計"]
[null,null,"月別","積","卸","小 計","積","卸","小 計",null,"積","卸","小 計","積","卸","小 計"]
[]
[null,null,"1月",0,0,{"$f":"SUM(D6460:E6460)","v":0},0,0,{"$f":"SUM(G6460:H6460)","v":0},{"$f":"F6460+I6460","v":0},0,0,{"$f":"SUM(K6460:L6460)","v":0},0,0,{"$f":"SUM(N6460:O6460)","v":0},{"$f":"M6460+P6460","v":0}]
[null,null,"2月",0,0,{"$f":"SUM(D6461:E6461)","v":0},0,0,0,0,0,0,0,0,0,0,0]
[null,null,"3月",0,0,{"$f":"SUM(D6462:E6462)","v":0},0,0,0,0,0,0,0,0,0,0,0]
[null,null,"4月",0,0,0,0,0,0,0,0,0,0,0,0,0,0]
[null,null,"5月",0,0,0,0,0,0,0,0,0,0,0,0,0,0]
[null,null,"6月",0,0,0,0,0,0,0,0,0,0,0,0,0,0]
[null,null,"7月",0,0,0,0,0,0,0,0,0,0,0,0,0,0]
[null,null,"8月",0,0,0,0,0,0,0,0,0,0,0,0,0,0]
[null,null,"9月",0,0,0,0,0,0,0,0,0,0,0,0,0,0]
[null,null,"10月",0,0,0,0,0,0,0,0,0,0,0,0,0,0]
[null,null,"11月",0,0,0,0,0,0,0,0,0,0,0,0,0,0]
[null,null,"12月",0,0,0,0,0,0,0,0,0,0,0,0,0,0]
[]
[null,"神戸ヘリ暦２","暦年 計",{"$f":"SUM(D6460:D6472)","v":0},{"$f":"SUM(E6461:E6472)","v":0},{"$f":"SUM(F6460:F6472)","v":0},0,0,0,0,0,0,{"$f":"SUM(M6460:M6472)","v":0},{"$f":"SUM(N6460:N6472)","v":0},{"$f":"SUM(O6460:O6472)","v":0},{"$f":"SUM(P6460:P6472)","v":0},{"$f":"SUM(Q6460:Q6472)","v":0}]
[]
[null,null,"1月",0,0,{"$f":"SUM(D6475:E6475)","v":0},0,0,{"$f":"SUM(G6475:H6475)","v":0},{"$f":"F6475+I6475","v":0},0,0,{"$f":"SUM(K6475:L6475)","v":0},0,0,{"$f":"SUM(N6475:O6475)","v":0},{"$f":"M6475+P6475","v":0}]
[null,null,"2月",0,0,{"$f":"SUM(D6476:E6476)","v":0},0,0,{"$f":"SUM(G6476:H6476)","v":0},{"$f":"F6476+I6476","v":0},0,0,{"$f":"SUM(K6476:L6476)","v":0},0,0,{"$f":"SUM(N6476:O6476)","v":0},{"$f":"M6476+P6476","v":0}]
[null,null,"3月",0,0,{"$f":"SUM(D6477:E6477)","v":0},0,0,{"$f":"SUM(G6477:H6477)","v":0},{"$f":"F6477+I6477","v":0},0,0,{"$f":"SUM(K6477:L6477)","v":0},0,0,{"$f":"SUM(N6477:O6477)","v":0},{"$f":"M6477+P6477","v":0}]
[]
[null,"神戸ヘリ度２","年度計",{"$f":"SUM(D6463:D6471,D6475:D6477)","v":0},{"$f":"SUM(E6463:E6471,E6475:E6477)","v":0},{"$f":"SUM(F6463:F6471,F6475:F6477)","v":0},{"$f":"SUM(G6463:G6471,G6475:G6477)","v":0},0,0,0,0,0,{"$f":"SUM(M6463:M6471,M6475:M6477)","v":0},{"$f":"SUM(N6463:N6471,N6475:N6477)","v":0},{"$f":"SUM(O6463:O6471,O6475:O6477)","v":0},{"$f":"SUM(P6463:P6471,P6475:P6477)","v":0},{"$f":"SUM(Q6463:Q6471,Q6475:Q6477)","v":0}]
[]
[null,null,{"$f":"C6427","v":"平　成　２　８　年　空　港　管　理　状　況　調　書"}]
[null,null,"空港名 ：","奈 良 県                （へ　リ）"]
[null,null,"項目",null,"着 陸 回 数 （回）",null,"乗   降   客   数   （人）",null,null,null,null,null,null,null,"航空燃料供給量　（ＫＬ）"]
[null,null,null,"国際線","国内線","計",null,"国 際 線",null,null,null,"国 内 線",null,"合 計","ジェット燃料","その他燃料","合計"]
[null,null,"月別",null,null,null,"乗 客","降 客","通過客","小 計","乗 客","降 客","小 計"]
[]
[null,null,"1月",0,26,{"$f":"SUM(D6487:E6487)","v":26},0,0,0,{"$f":"SUM(G6487:I6487)","v":0},4,4,{"$f":"SUM(K6487:L6487)","v":8},{"$f":"J6487+M6487","v":8},4,0,{"$f":"SUM(O6487:P6487)","v":4}]
[null,null,"2月",0,85,85,0,0,0,0,0,0,0,0,18,0,18]
[null,null,"3月",0,72,72,0,0,0,0,9,7,16,16,28,0,28]
[null,null,"4月",0,91,91,0,0,0,0,16,15,31,31,27,0,27]
[null,null,"5月",0,72,72,0,0,0,0,24,24,48,48,24,0,24]
[null,null,"6月",0,49,49,0,0,0,0,19,18,37,37,20,0,20]
[null,null,"7月",0,54,54,0,0,0,0,9,9,18,18,15,0,15]
[null,null,"8月",0,86,86,0,0,0,0,56,56,112,112,30,0,30]
[null,null,"9月",0,61,61,0,0,0,0,12,12,24,24,16,0,16]
[null,null,"10月",0,68,68,0,0,0,0,1,0,1,1,24,0,24]
[null,null,"11月",0,68,68,0,0,0,0,14,16,30,30,23,0,23]
[null,null,"12月",0,31,31,0,0,0,0,15,15,30,30,8,0,8]
[]
[null,"奈良県暦１","暦年 計",{"$f":"SUM(D6487:D6498)","v":0},{"$f":"SUM(E6487:E6498)","v":763},{"$f":"SUM(F6487:F6498)","v":763},{"$f":"SUM(G6487:G6498)","v":0},{"$f":"SUM(H6487:H6498)","v":0},0,0,179,176,355,355,{"$f":"SUM(O6487:O6498)","v":237},{"$f":"SUM(P6487:P6498)","v":0},{"$f":"SUM(Q6487:Q6498)","v":237}]
[]
[null,null,"1月",0,12,{"$f":"SUM(D6502:E6502)","v":12},0,0,0,{"$f":"SUM(G6502:I6502)","v":0},0,0,{"$f":"SUM(K6502:L6502)","v":0},{"$f":"J6502+M6502","v":0},5,0,{"$f":"SUM(O6502:P6502)","v":5}]
[null,null,"2月",0,37,{"$f":"SUM(D6503:E6503)","v":37},0,0,0,{"$f":"SUM(G6503:I6503)","v":0},3,3,{"$f":"SUM(K6503:L6503)","v":6},{"$f":"J6503+M6503","v":6},12,0,{"$f":"SUM(O6503:P6503)","v":12}]
[null,null,"3月",0,70,{"$f":"SUM(D6504:E6504)","v":70},0,0,0,{"$f":"SUM(G6504:I6504)","v":0},18,18,{"$f":"SUM(K6504:L6504)","v":36},{"$f":"J6504+M6504","v":36},28,0,{"$f":"SUM(O6504:P6504)","v":28}]
[]
[null,"奈良県度１","年度計",{"$f":"SUM(D6490:D6498,D6502:D6504)","v":0},{"$f":"SUM(E6490:E6498,E6502:E6504)","v":699},{"$f":"SUM(F6490:F6498,F6502:F6504)","v":699},{"$f":"SUM(G6490:G6498,G6502:G6504)","v":0},0,0,0,187,186,373,373,232,0,{"$f":"SUM(Q6490:Q6498,Q6502:Q6504)","v":232}]
[]
[]
[]
[null,null,"項目",null,null,null,"貨 物 取 扱 量 （トン）",null,null,null,null,null,null,"郵 便 取 扱 量 （kg）"]
[null,null,null,null,"国 際 線",null,null,"国 内 線",null,"合計",null,"国 際 線",null,null,"国 内 線",null,"合 計"]
[null,null,"月別","積","卸","小 計","積","卸","小 計",null,"積","卸","小 計","積","卸","小 計"]
[]
[null,null,"1月",0,0,{"$f":"SUM(D6514:E6514)","v":0},0,0,{"$f":"SUM(G6514:H6514)","v":0},{"$f":"F6514+I6514","v":0},0,0,{"$f":"SUM(K6514:L6514)","v":0},0,0,{"$f":"SUM(N6514:O6514)","v":0},{"$f":"M6514+P6514","v":0}]
[null,null,"2月",0,0,{"$f":"SUM(D6515:E6515)","v":0},0,0,0,0,0,0,0,0,0,0,0]
[null,null,"3月",0,0,{"$f":"SUM(D6516:E6516)","v":0},0,0,0,0,0,0,0,0,0,0,0]
[null,null,"4月",0,0,0,0,0,0,0,0,0,0,0,0,0,0]
[null,null,"5月",0,0,0,0,0,0,0,0,0,0,0,0,0,0]
[null,null,"6月",0,0,0,0,0,0,0,0,0,0,0,0,0,0]
[null,null,"7月",0,0,0,0,0,0,0,0,0,0,0,0,0,0]
[null,null,"8月",0,0,0,0,0,0,0,0,0,0,0,0,0,0]
[null,null,"9月",0,0,0,0,0,0,0,0,0,0,0,0,0,0]
[null,null,"10月",0,0,0,0,0,0,0,0,0,0,0,0,0,0]
[null,null,"11月",0,0,0,0,0,0,0,0,0,0,0,0,0,0]
[null,null,"12月",0,0,0,0,0,0,0,0,0,0,0,0,0,0]
[]
[null,"奈良県暦２","暦年 計",{"$f":"SUM(D6514:D6526)","v":0},{"$f":"SUM(E6515:E6526)","v":0},{"$f":"SUM(F6514:F6526)","v":0},0,0,0,0,0,0,{"$f":"SUM(M6514:M6526)","v":0},{"$f":"SUM(N6514:N6526)","v":0},{"$f":"SUM(O6514:O6526)","v":0},{"$f":"SUM(P6514:P6526)","v":0},{"$f":"SUM(Q6514:Q6526)","v":0}]
[]
[null,null,"1月",0,0,{"$f":"SUM(D6529:E6529)","v":0},0,0,{"$f":"SUM(G6529:H6529)","v":0},{"$f":"F6529+I6529","v":0},0,0,{"$f":"SUM(K6529:L6529)","v":0},0,0,{"$f":"SUM(N6529:O6529)","v":0},{"$f":"M6529+P6529","v":0}]
[null,null,"2月",0,0,{"$f":"SUM(D6530:E6530)","v":0},0,0,{"$f":"SUM(G6530:H6530)","v":0},{"$f":"F6530+I6530","v":0},0,0,{"$f":"SUM(K6530:L6530)","v":0},0,0,{"$f":"SUM(N6530:O6530)","v":0},{"$f":"M6530+P6530","v":0}]
[null,null,"3月",0,0,{"$f":"SUM(D6531:E6531)","v":0},0,0,{"$f":"SUM(G6531:H6531)","v":0},{"$f":"F6531+I6531","v":0},0,0,{"$f":"SUM(K6531:L6531)","v":0},0,0,{"$f":"SUM(N6531:O6531)","v":0},{"$f":"M6531+P6531","v":0}]
[]
[null,"奈良県度２","年度計",{"$f":"SUM(D6517:D6525,D6529:D6531)","v":0},{"$f":"SUM(E6517:E6525,E6529:E6531)","v":0},{"$f":"SUM(F6517:F6525,F6529:F6531)","v":0},{"$f":"SUM(G6517:G6525,G6529:G6531)","v":0},0,0,0,0,0,{"$f":"SUM(M6517:M6525,M6529:M6531)","v":0},{"$f":"SUM(N6517:N6525,N6529:N6531)","v":0},{"$f":"SUM(O6517:O6525,O6529:O6531)","v":0},{"$f":"SUM(P6517:P6525,P6529:P6531)","v":0},{"$f":"SUM(Q6517:Q6525,Q6529:Q6531)","v":0}]
[]
[null,null,{"$f":"C6481","v":"平　成　２　８　年　空　港　管　理　状　況　調　書"}]
[null,null,"空港名 ：","広　　島                （へ　リ）"]
[null,null,"項目",null,"着 陸 回 数 （回）",null,"乗   降   客   数   （人）",null,null,null,null,null,null,null,"航空燃料供給量　（ＫＬ）"]
[null,null,null,"国際線","国内線","計",null,"国 際 線",null,null,null,"国 内 線",null,"合 計","ジェット燃料","その他燃料","合計"]
[null,null,"月別",null,null,null,"乗 客","降 客","通過客","小 計","乗 客","降 客","小 計"]
[]
[null,null,"1月",0,206,{"$f":"SUM(D6541:E6541)","v":206},0,0,0,{"$f":"SUM(G6541:I6541)","v":0},0,0,{"$f":"SUM(K6541:L6541)","v":0},{"$f":"J6541+M6541","v":0},39,1,{"$f":"SUM(O6541:P6541)","v":40}]
[null,null,"2月",0,236,236,0,0,0,0,0,0,0,0,37,2,39]
[null,null,"3月",0,297,297,0,0,0,0,0,0,0,0,53,1,54]
[null,null,"4月",0,262,262,0,0,0,0,0,0,0,0,66,1,67]
[null,null,"5月",0,223,223,0,0,0,0,0,0,0,0,38,1,39]
[null,null,"6月",0,182,182,0,0,0,0,0,0,0,0,32,1,33]
[null,null,"7月",0,216,216,0,0,0,0,0,0,0,0,37,2,39]
[null,null,"8月",0,267,267,0,0,0,0,0,0,0,0,45,2,47]
[null,null,"9月",0,151,151,0,0,0,0,0,0,0,0,24,1,25]
[null,null,"10月",0,271,271,0,0,0,0,0,0,0,0,43,1,44]
[null,null,"11月",0,219,219,0,0,0,0,0,0,0,0,34,3,37]
[null,null,"12月",0,208,208,0,0,0,0,0,0,0,0,34,3,37]
[]
[null,"広島ヘリ暦１","暦年 計",{"$f":"SUM(D6541:D6552)","v":0},{"$f":"SUM(E6541:E6552)","v":2738},{"$f":"SUM(F6541:F6552)","v":2738},{"$f":"SUM(G6541:G6552)","v":0},{"$f":"SUM(H6541:H6552)","v":0},0,0,0,0,0,0,{"$f":"SUM(O6541:O6552)","v":482},{"$f":"SUM(P6541:P6552)","v":19},{"$f":"SUM(Q6541:Q6552)","v":501}]
[]
[null,null,"1月",0,227,{"$f":"SUM(D6556:E6556)","v":227},0,0,0,{"$f":"SUM(G6556:I6556)","v":0},0,0,{"$f":"SUM(K6556:L6556)","v":0},{"$f":"J6556+M6556","v":0},44,1,{"$f":"SUM(O6556:P6556)","v":45}]
[null,null,"2月",0,170,{"$f":"SUM(D6557:E6557)","v":170},0,0,0,{"$f":"SUM(G6557:I6557)","v":0},0,0,{"$f":"SUM(K6557:L6557)","v":0},{"$f":"J6557+M6557","v":0},29,1,{"$f":"SUM(O6557:P6557)","v":30}]
[null,null,"3月",0,234,{"$f":"SUM(D6558:E6558)","v":234},0,0,0,{"$f":"SUM(G6558:I6558)","v":0},0,0,{"$f":"SUM(K6558:L6558)","v":0},{"$f":"J6558+M6558","v":0},40,1,{"$f":"SUM(O6558:P6558)","v":41}]
[]
[null,"広島ヘリ度１","年度計",{"$f":"SUM(D6544:D6552,D6556:D6558)","v":0},{"$f":"SUM(E6544:E6552,E6556:E6558)","v":2630},{"$f":"SUM(F6544:F6552,F6556:F6558)","v":2630},{"$f":"SUM(G6544:G6552,G6556:G6558)","v":0},0,0,0,0,0,0,0,466,18,{"$f":"SUM(Q6544:Q6552,Q6556:Q6558)","v":484}]
[]
[]
[]
[null,null,"項目",null,null,null,"貨 物 取 扱 量 （トン）",null,null,null,null,null,null,"郵 便 取 扱 量 （kg）"]
[null,null,null,null,"国 際 線",null,null,"国 内 線",null,"合計",null,"国 際 線",null,null,"国 内 線",null,"合 計"]
[null,null,"月別","積","卸","小 計","積","卸","小 計",null,"積","卸","小 計","積","卸","小 計"]
[]
[null,null,"1月",0,0,{"$f":"SUM(D6568:E6568)","v":0},0,0,{"$f":"SUM(G6568:H6568)","v":0},{"$f":"F6568+I6568","v":0},0,0,{"$f":"SUM(K6568:L6568)","v":0},0,0,{"$f":"SUM(N6568:O6568)","v":0},{"$f":"M6568+P6568","v":0}]
[null,null,"2月",0,0,{"$f":"SUM(D6569:E6569)","v":0},0,0,0,0,0,0,0,0,0,0,0]
[null,null,"3月",0,0,{"$f":"SUM(D6570:E6570)","v":0},0,0,0,0,0,0,0,0,0,0,0]
[null,null,"4月",0,0,0,0,0,0,0,0,0,0,0,0,0,0]
[null,null,"5月",0,0,0,0,0,0,0,0,0,0,0,0,0,0]
[null,null,"6月",0,0,0,0,0,0,0,0,0,0,0,0,0,0]
[null,null,"7月",0,0,0,0,0,0,0,0,0,0,0,0,0,0]
[null,null,"8月",0,0,0,0,0,0,0,0,0,0,0,0,0,0]
[null,null,"9月",0,0,0,0,0,0,0,0,0,0,0,0,0,0]
[null,null,"10月",0,0,0,0,0,0,0,0,0,0,0,0,0,0]
[null,null,"11月",0,0,0,0,0,0,0,0,0,0,0,0,0,0]
[null,null,"12月",0,0,0,0,0,0,0,0,0,0,0,0,0,0]
[]
[null,"広島ヘリ暦２","暦年 計",{"$f":"SUM(D6568:D6580)","v":0},{"$f":"SUM(E6569:E6580)","v":0},{"$f":"SUM(F6568:F6580)","v":0},0,0,0,0,0,0,{"$f":"SUM(M6568:M6580)","v":0},{"$f":"SUM(N6568:N6580)","v":0},{"$f":"SUM(O6568:O6580)","v":0},{"$f":"SUM(P6568:P6580)","v":0},{"$f":"SUM(Q6568:Q6580)","v":0}]
[]
[null,null,"1月",0,0,{"$f":"SUM(D6583:E6583)","v":0},0,0,{"$f":"SUM(G6583:H6583)","v":0},{"$f":"F6583+I6583","v":0},0,0,{"$f":"SUM(K6583:L6583)","v":0},0,0,{"$f":"SUM(N6583:O6583)","v":0},{"$f":"M6583+P6583","v":0}]
[null,null,"2月",0,0,{"$f":"SUM(D6584:E6584)","v":0},0,0,{"$f":"SUM(G6584:H6584)","v":0},{"$f":"F6584+I6584","v":0},0,0,{"$f":"SUM(K6584:L6584)","v":0},0,0,{"$f":"SUM(N6584:O6584)","v":0},{"$f":"M6584+P6584","v":0}]
[null,null,"3月",0,0,{"$f":"SUM(D6585:E6585)","v":0},0,0,{"$f":"SUM(G6585:H6585)","v":0},{"$f":"F6585+I6585","v":0},0,0,{"$f":"SUM(K6585:L6585)","v":0},0,0,{"$f":"SUM(N6585:O6585)","v":0},{"$f":"M6585+P6585","v":0}]
[]
[null,"広島ヘリ度２","年度計",{"$f":"SUM(D6571:D6579,D6583:D6585)","v":0},{"$f":"SUM(E6571:E6579,E6583:E6585)","v":0},{"$f":"SUM(F6571:F6579,F6583:F6585)","v":0},{"$f":"SUM(G6571:G6579,G6583:G6585)","v":0},0,0,0,0,0,{"$f":"SUM(M6571:M6579,M6583:M6585)","v":0},{"$f":"SUM(N6571:N6579,N6583:N6585)","v":0},{"$f":"SUM(O6571:O6579,O6583:O6585)","v":0},{"$f":"SUM(P6571:P6579,P6583:P6585)","v":0},{"$f":"SUM(Q6571:Q6579,Q6583:Q6585)","v":0}]
[]
[null,null,{"$f":"C6535","v":"平　成　２　８　年　空　港　管　理　状　況　調　書"}]
[null,null,"空港名 ：","佐　　伯                （へ　リ）"]
[null,null,"項目",null,"着 陸 回 数 （回）",null,"乗   降   客   数   （人）",null,null,null,null,null,null,null,"航空燃料供給量　（ＫＬ）"]
[null,null,null,"国際線","国内線","計",null,"国 際 線",null,null,null,"国 内 線",null,"合 計","ジェット燃料","その他燃料","合計"]
[null,null,"月別",null,null,null,"乗 客","降 客","通過客","小 計","乗 客","降 客","小 計"]
[]
[null,null,"1月",0,19,{"$f":"SUM(D6595:E6595)","v":19},0,0,0,{"$f":"SUM(G6595:I6595)","v":0},18,17,{"$f":"SUM(K6595:L6595)","v":35},{"$f":"J6595+M6595","v":35},0,0,{"$f":"SUM(O6595:P6595)","v":0}]
[null,null,"2月",0,17,17,0,0,0,0,17,15,32,32,0,0,0]
[null,null,"3月",0,11,11,0,0,0,0,9,5,14,14,0,0,0]
[null,null,"4月",0,4,4,0,0,0,0,0,4,4,4,0,0,0]
[null,null,"5月",0,5,5,0,0,0,0,2,0,2,2,0,0,0]
[null,null,"6月",0,4,4,0,0,0,0,0,0,0,0,0,0,0]
[null,null,"7月",0,6,6,0,0,0,0,2,2,4,4,0,0,0]
[null,null,"8月",0,1,1,0,0,0,0,0,0,0,0,0,0,0]
[null,null,"9月",0,3,3,0,0,0,0,0,0,0,0,0,0,0]
[null,null,"10月",0,6,6,0,0,0,0,2,0,2,2,0,0,0]
[null,null,"11月",0,4,4,0,0,0,0,1,0,1,1,0,0,0]
[null,null,"12月",0,1,1,0,0,0,0,1,0,1,1,0,0,0]
[]
[null,"佐伯暦１","暦年 計",{"$f":"SUM(D6595:D6606)","v":0},{"$f":"SUM(E6595:E6606)","v":81},{"$f":"SUM(F6595:F6606)","v":81},{"$f":"SUM(G6595:G6606)","v":0},{"$f":"SUM(H6595:H6606)","v":0},0,0,52,43,95,95,{"$f":"SUM(O6595:O6606)","v":0},{"$f":"SUM(P6595:P6606)","v":0},{"$f":"SUM(Q6595:Q6606)","v":0}]
[]
[null,null,"1月",0,6,{"$f":"SUM(D6610:E6610)","v":6},0,0,0,{"$f":"SUM(G6610:I6610)","v":0},6,5,{"$f":"SUM(K6610:L6610)","v":11},{"$f":"J6610+M6610","v":11},0,0,{"$f":"SUM(O6610:P6610)","v":0}]
[null,null,"2月",0,1,{"$f":"SUM(D6611:E6611)","v":1},0,0,0,{"$f":"SUM(G6611:I6611)","v":0},0,0,{"$f":"SUM(K6611:L6611)","v":0},{"$f":"J6611+M6611","v":0},0,0,{"$f":"SUM(O6611:P6611)","v":0}]
[null,null,"3月",0,9,{"$f":"SUM(D6612:E6612)","v":9},0,0,0,{"$f":"SUM(G6612:I6612)","v":0},5,1,{"$f":"SUM(K6612:L6612)","v":6},{"$f":"J6612+M6612","v":6},0,0,{"$f":"SUM(O6612:P6612)","v":0}]
[]
[null,"佐伯度１","年度計",{"$f":"SUM(D6598:D6606,D6610:D6612)","v":0},{"$f":"SUM(E6598:E6606,E6610:E6612)","v":50},{"$f":"SUM(F6598:F6606,F6610:F6612)","v":50},{"$f":"SUM(G6598:G6606,G6610:G6612)","v":0},0,0,0,19,12,31,31,0,0,{"$f":"SUM(Q6598:Q6606,Q6610:Q6612)","v":0}]
[]
[]
[]
[null,null,"項目",null,null,null,"貨 物 取 扱 量 （トン）",null,null,null,null,null,null,"郵 便 取 扱 量 （kg）"]
[null,null,null,null,"国 際 線",null,null,"国 内 線",null,"合計",null,"国 際 線",null,null,"国 内 線",null,"合 計"]
[null,null,"月別","積","卸","小 計","積","卸","小 計",null,"積","卸","小 計","積","卸","小 計"]
[]
[null,null,"1月",0,0,{"$f":"SUM(D6622:E6622)","v":0},0,0,{"$f":"SUM(G6622:H6622)","v":0},{"$f":"F6622+I6622","v":0},0,0,{"$f":"SUM(K6622:L6622)","v":0},0,0,{"$f":"SUM(N6622:O6622)","v":0},{"$f":"M6622+P6622","v":0}]
[null,null,"2月",0,0,{"$f":"SUM(D6623:E6623)","v":0},0,0,0,0,0,0,0,0,0,0,0]
[null,null,"3月",0,0,{"$f":"SUM(D6624:E6624)","v":0},0,0,0,0,0,0,0,0,0,0,0]
[null,null,"4月",0,0,0,0,0,0,0,0,0,0,0,0,0,0]
[null,null,"5月",0,0,0,0,0,0,0,0,0,0,0,0,0,0]
[null,null,"6月",0,0,0,0,0,0,0,0,0,0,0,0,0,0]
[null,null,"7月",0,0,0,0,0,0,0,0,0,0,0,0,0,0]
[null,null,"8月",0,0,0,0,0,0,0,0,0,0,0,0,0,0]
[null,null,"9月",0,0,0,0,0,0,0,0,0,0,0,0,0,0]
[null,null,"10月",0,0,0,0,0,0,0,0,0,0,0,0,0,0]
[null,null,"11月",0,0,0,0,0,0,0,0,0,0,0,0,0,0]
[null,null,"12月",0,0,0,0,0,0,0,0,0,0,0,0,0,0]
[]
[null,"佐伯暦２","暦年 計",{"$f":"SUM(D6622:D6634)","v":0},{"$f":"SUM(E6623:E6634)","v":0},{"$f":"SUM(F6622:F6634)","v":0},0,0,0,0,0,0,{"$f":"SUM(M6622:M6634)","v":0},{"$f":"SUM(N6622:N6634)","v":0},{"$f":"SUM(O6622:O6634)","v":0},{"$f":"SUM(P6622:P6634)","v":0},{"$f":"SUM(Q6622:Q6634)","v":0}]
[]
[null,null,"1月",0,0,{"$f":"SUM(D6637:E6637)","v":0},0,0,{"$f":"SUM(G6637:H6637)","v":0},{"$f":"F6637+I6637","v":0},0,0,{"$f":"SUM(K6637:L6637)","v":0},0,0,{"$f":"SUM(N6637:O6637)","v":0},{"$f":"M6637+P6637","v":0}]
[null,null,"2月",0,0,{"$f":"SUM(D6638:E6638)","v":0},0,0,{"$f":"SUM(G6638:H6638)","v":0},{"$f":"F6638+I6638","v":0},0,0,{"$f":"SUM(K6638:L6638)","v":0},0,0,{"$f":"SUM(N6638:O6638)","v":0},{"$f":"M6638+P6638","v":0}]
[null,null,"3月",0,0,{"$f":"SUM(D6639:E6639)","v":0},0,0,{"$f":"SUM(G6639:H6639)","v":0},{"$f":"F6639+I6639","v":0},0,0,{"$f":"SUM(K6639:L6639)","v":0},0,0,{"$f":"SUM(N6639:O6639)","v":0},{"$f":"M6639+P6639","v":0}]
[]
[null,"佐伯度２","年度計",{"$f":"SUM(D6625:D6633,D6637:D6639)","v":0},{"$f":"SUM(E6625:E6633,E6637:E6639)","v":0},{"$f":"SUM(F6625:F6633,F6637:F6639)","v":0},{"$f":"SUM(G6625:G6633,G6637:G6639)","v":0},0,0,0,0,0,{"$f":"SUM(M6625:M6633,M6637:M6639)","v":0},{"$f":"SUM(N6625:N6633,N6637:N6639)","v":0},{"$f":"SUM(O6625:O6633,O6637:O6639)","v":0},{"$f":"SUM(P6625:P6633,P6637:P6639)","v":0},{"$f":"SUM(Q6625:Q6633,Q6637:Q6639)","v":0}]
[]
[null,null,{"$f":"C6589","v":"平　成　２　８　年　空　港　管　理　状　況　調　書"}]
[null,null,"空港名 ：","枕　崎                (ヘ　リ)    "]
[null,null,"項目","着　陸　回　数　(回)",null,null,"乗　降　客　数　（人）",null,null,null,null,null,null,null,"航空燃料供給量　(KL)"]
[null,null,null,"国際線","国内線","計","国　際　線",null,null,null,"国　内　線",null,null,"合計","ジェット燃料","その他燃料","合計"]
[null,null,"月別",null,null,null,"乗　客","降　客","通過客","小 計","乗　客","降　客","小 計"]
[]
[null,null,"1月",0,1,{"$f":"SUM(D6649:E6649)","v":1},0,0,0,{"$f":"SUM(G6649:I6649)","v":0},0,0,{"$f":"SUM(K6649:L6649)","v":0},{"$f":"J6649+M6649","v":0},1,0,{"$f":"SUM(O6649:P6649)","v":1}]
[null,null,"2月",0,19,19,0,0,0,0,0,0,0,0,9,0,9]
[null,null,"3月",0,22,22,0,0,0,0,0,0,0,0,13,0,13]
[null,null,"4月",0,28,28,0,0,0,0,0,0,0,0,10,0,10]
[null,null,"5月",0,14,14,0,0,0,0,0,0,0,0,5,0,5]
[null,null,"6月",0,12,12,0,0,0,0,0,0,0,0,7,0,7]
[null,null,"7月",0,25,25,0,0,0,0,0,0,0,0,13,0,13]
[null,null,"8月",0,19,19,0,0,0,0,0,0,0,0,9,0,9]
[null,null,"9月",0,25,25,0,0,0,0,0,0,0,0,15,0,15]
[null,null,"10月",0,29,29,0,0,0,0,0,0,0,0,14,0,14]
[null,null,"11月",0,20,20,0,0,0,0,0,0,0,0,12,0,12]
[null,null,"12月",0,15,15,0,0,0,0,0,0,0,0,6,0,6]
[]
[null,"枕崎暦１","暦年 計",{"$f":"SUM(D6649:D6660)","v":0},{"$f":"SUM(E6649:E6660)","v":229},{"$f":"SUM(F6649:F6660)","v":229},{"$f":"SUM(G6649:G6660)","v":0},{"$f":"SUM(H6649:H6660)","v":0},0,0,0,0,0,0,{"$f":"SUM(O6649:O6660)","v":114},{"$f":"SUM(P6649:P6660)","v":0},{"$f":"SUM(Q6649:Q6660)","v":114}]
[]
[null,null,"1月",0,25,{"$f":"SUM(D6664:E6664)","v":25},0,0,0,{"$f":"SUM(G6664:I6664)","v":0},0,0,{"$f":"SUM(K6664:L6664)","v":0},{"$f":"J6664+M6664","v":0},12,0,{"$f":"SUM(O6664:P6664)","v":12}]
[null,null,"2月",0,20,{"$f":"SUM(D6665:E6665)","v":20},0,0,0,{"$f":"SUM(G6665:I6665)","v":0},0,0,{"$f":"SUM(K6665:L6665)","v":0},{"$f":"J6665+M6665","v":0},8,0,{"$f":"SUM(O6665:P6665)","v":8}]
[null,null,"3月",0,21,{"$f":"SUM(D6666:E6666)","v":21},0,0,0,{"$f":"SUM(G6666:I6666)","v":0},0,0,{"$f":"SUM(K6666:L6666)","v":0},{"$f":"J6666+M6666","v":0},10,0,{"$f":"SUM(O6666:P6666)","v":10}]
[]
[null,"枕崎度１","年度計",{"$f":"SUM(D6652:D6660,D6664:D6666)","v":0},{"$f":"SUM(E6652:E6660,E6664:E6666)","v":253},{"$f":"SUM(F6652:F6660,F6664:F6666)","v":253},{"$f":"SUM(G6652:G6660,G6664:G6666)","v":0},0,0,0,0,0,0,0,121,0,{"$f":"SUM(Q6652:Q6660,Q6664:Q6666)","v":121}]
[]
[]
[]
[null,null,"項目","貨物取扱量（トン）",null,null,null,null,null,null,"郵便取扱量（Kg）"]
[null,null,null,"国際線",null,null,"国内線",null,null,"合計","国際線",null,null,"国内線",null,null,"合計"]
[null,null,"月別","積","卸","小 計","積","卸","小 計",null,"積","卸","小 計","積","卸","小 計"]
[null,null,"1月",0,0,{"$f":"SUM(D6675:E6675)","v":0},0,0,{"$f":"SUM(G6675:H6675)","v":0},{"$f":"F6675+I6675","v":0},0,0,{"$f":"SUM(K6675:L6675)","v":0},0,0,{"$f":"SUM(N6675:O6675)","v":0},{"$f":"M6675+P6675","v":0}]
[null,null,"2月",0,0,{"$f":"SUM(D6676:E6676)","v":0},0,0,0,0,0,0,0,0,0,0,0]
[null,null,"3月",0,0,{"$f":"SUM(D6677:E6677)","v":0},0,0,0,0,0,0,0,0,0,0,0]
[null,null,"4月",0,0,0,0,0,0,0,0,0,0,0,0,0,0]
[null,null,"5月",0,0,0,0,0,0,0,0,0,0,0,0,0,0]
[null,null,"6月",0,0,0,0,0,0,0,0,0,0,0,0,0,0]
[null,null,"7月",0,0,0,0,0,0,0,0,0,0,0,0,0,0]
[null,null,"8月",0,0,0,0,0,0,0,0,0,0,0,0,0,0]
[null,null,"9月",0,0,0,0,0,0,0,0,0,0,0,0,0,0]
[null,null,"10月",0,0,0,0,0,0,0,0,0,0,0,0,0,0]
[null,null,"11月",0,0,0,0,0,0,0,0,0,0,0,0,0,0]
[null,null,"12月",0,0,0,0,0,0,0,0,0,0,0,0,0,0]
[]
[null,"枕崎暦２","暦年 計",{"$f":"SUM(D6675:D6687)","v":0},{"$f":"SUM(E6676:E6687)","v":0},{"$f":"SUM(F6675:F6687)","v":0},0,0,0,0,0,0,{"$f":"SUM(M6675:M6687)","v":0},{"$f":"SUM(N6675:N6687)","v":0},{"$f":"SUM(O6675:O6687)","v":0},{"$f":"SUM(P6675:P6687)","v":0},{"$f":"SUM(Q6675:Q6687)","v":0}]
[]
[null,null,"1月",0,0,{"$f":"SUM(D6690:E6690)","v":0},0,0,{"$f":"SUM(G6690:H6690)","v":0},{"$f":"F6690+I6690","v":0},0,0,{"$f":"SUM(K6690:L6690)","v":0},0,0,{"$f":"SUM(N6690:O6690)","v":0},{"$f":"M6690+P6690","v":0}]
[null,null,"2月",0,0,{"$f":"SUM(D6691:E6691)","v":0},0,0,{"$f":"SUM(G6691:H6691)","v":0},{"$f":"F6691+I6691","v":0},0,0,{"$f":"SUM(K6691:L6691)","v":0},0,0,{"$f":"SUM(N6691:O6691)","v":0},{"$f":"M6691+P6691","v":0}]
[null,null,"3月",0,0,{"$f":"SUM(D6692:E6692)","v":0},0,0,{"$f":"SUM(G6692:H6692)","v":0},{"$f":"F6692+I6692","v":0},0,0,{"$f":"SUM(K6692:L6692)","v":0},0,0,{"$f":"SUM(N6692:O6692)","v":0},{"$f":"M6692+P6692","v":0}]
[]
[null,"枕崎度２","年度計",{"$f":"SUM(D6678:D6686,D6690:D6692)","v":0},{"$f":"SUM(E6678:E6686,E6690:E6692)","v":0},{"$f":"SUM(F6678:F6686,F6690:F6692)","v":0},{"$f":"SUM(G6678:G6686,G6690:G6692)","v":0},0,0,0,0,0,{"$f":"SUM(M6678:M6686,M6690:M6692)","v":0},{"$f":"SUM(N6678:N6686,N6690:N6692)","v":0},{"$f":"SUM(O6678:O6686,O6690:O6692)","v":0},{"$f":"SUM(P6678:P6686,P6690:P6692)","v":0},{"$f":"SUM(Q6678:Q6686,Q6690:Q6692)","v":0}]
[]
[null,null,{"$f":"C6589","v":"平　成　２　８　年　空　港　管　理　状　況　調　書"}]
[null,null,"空港名 ：","ヘリポート計"]
[null,null,"項目",null,"着 陸 回 数 （回）",null,"乗   降   客   数   （人）",null,null,null,null,null,null,null,"航空燃料供給量　（KＬ）"]
[null,null,null,"国際線","国内線","計",null,"国 際 線",null,null,null,"国 内 線",null,"合 計","ジェット燃料","その他燃料","合計"]
[null,null,"月別",null,null,null,"乗 客","降 客","通過客","小 計","乗 客","降 客","小 計"]
[]
[null,null,"1月",{"$f":"D6649+D6595+D6541+D6487+D6433+D6379+D6325+D6217+D6271+D6163+D6109+D6055+D6001+D5947+D5893+D5839+D5785+D59313+D5731+D5677+D5623+D5569","v":0},{"$f":"E6649+E6595+E6541+E6487+E6433+E6379+E6325+E6217+E6271+E6163+E6109+E6055+E6001+E5947+E5893+E5839+E5785+E59313+E5731+E5677+E5623+E5569","v":2177},{"$f":"SUM(D6702:E6702)","v":2177},{"$f":"G6649+G6595+G6541+G6487+G6433+G6379+G6325+G6217+G6271+G6163+G6109+G6055+G6001+G5947+G5893+G5839+G5785+G59313+G5731+G5677+G5623+G5569","v":0},{"$f":"H6649+H6595+H6541+H6487+H6433+H6379+H6325+H6217+H6271+H6163+H6109+H6055+H6001+H5947+H5893+H5839+H5785+H59313+H5731+H5677+H5623+H5569","v":0},{"$f":"I6649+I6595+I6541+I6487+I6433+I6379+I6325+I6217+I6271+I6163+I6109+I6055+I6001+I5947+I5893+I5839+I5785+I59313+I5731+I5677+I5623+I5569","v":0},{"$f":"SUM(G6702:I6702)","v":0},{"$f":"K6649+K6595+K6541+K6487+K6433+K6379+K6325+K6217+K6271+K6163+K6109+K6055+K6001+K5947+K5893+K5839+K5785+K59313+K5731+K5677+K5623+K5569","v":91},{"$f":"L6649+L6595+L6541+L6487+L6433+L6379+L6325+L6217+L6271+L6163+L6109+L6055+L6001+L5947+L5893+L5839+L5785+L59313+L5731+L5677+L5623+L5569","v":92},{"$f":"SUM(K6702:L6702)","v":183},{"$f":"M6702+J6702","v":183},{"$f":"O6649+O6595+O6541+O6487+O6433+O6379+O6325+O6217+O6271+O6163+O6109+O6055+O6001+O5947+O5893+O5839+O5785+O59313+O5731+O5677+O5623+O5569","v":414},{"$f":"P6649+P6595+P6541+P6487+P6433+P6379+P6325+P6217+P6271+P6163+P6109+P6055+P6001+P5947+P5893+P5839+P5785+P59313+P5731+P5677+P5623+P5569","v":12},{"$f":"SUM(O6702:P6702)","v":426}]
[null,null,"2月",{"$f":"D6650+D6596+D6542+D6488+D6434+D6380+D6326+D6218+D6272+D6164+D6110+D6056+D6002+D5948+D5894+D5840+D5786+D59314+D5732+D5678+D5624+D5570","v":0},{"$f":"E6650+E6596+E6542+E6488+E6434+E6380+E6326+E6218+E6272+E6164+E6110+E6056+E6002+E5948+E5894+E5840+E5786+E59314+E5732+E5678+E5624+E5570","v":2069},{"$f":"SUM(D6703:E6703)","v":2069},{"$f":"G6650+G6596+G6542+G6488+G6434+G6380+G6326+G6218+G6272+G6164+G6110+G6056+G6002+G5948+G5894+G5840+G5786+G59314+G5732+G5678+G5624+G5570","v":0},0,0,{"$f":"SUM(G6703:I6703)","v":0},{"$f":"K6650+K6596+K6542+K6488+K6434+K6380+K6326+K6218+K6272+K6164+K6110+K6056+K6002+K5948+K5894+K5840+K5786+K59314+K5732+K5678+K5624+K5570","v":76},84,{"$f":"SUM(K6703:L6703)","v":160},{"$f":"M6703+J6703","v":160},{"$f":"O6650+O6596+O6542+O6488+O6434+O6380+O6326+O6218+O6272+O6164+O6110+O6056+O6002+O5948+O5894+O5840+O5786+O59314+O5732+O5678+O5624+O5570","v":465},13,{"$f":"SUM(O6703:P6703)","v":478}]
[null,null,"3月",0,2425,2425,0,0,0,0,119,109,228,228,525,15,540]
[null,null,"4月",0,1915,1915,0,0,0,0,148,147,295,295,416,12,428]
[null,null,"5月",0,1995,1995,0,0,0,0,121,119,240,240,410,14,424]
[null,null,"6月",0,1772,1772,0,0,0,0,116,119,235,235,368,12,380]
[null,null,"7月",0,2085,2085,0,0,0,0,119,120,239,239,433,15,448]
[null,null,"8月",0,2159,2159,0,0,0,0,159,161,320,320,403,72,475]
[null,null,"9月",0,1922,1922,0,0,0,0,64,68,132,132,383,12,395]
[null,null,"10月",0,2531,2531,0,0,0,0,103,99,202,202,479,16,495]
[null,null,"11月",0,2154,2154,0,0,0,0,119,121,240,240,433,17,450]
[null,null,"12月",0,2220,2220,0,0,0,0,175,178,353,353,399,18,417]
[]
[null,null,"暦年 計",{"$f":"SUM(D6702:D6713)","v":0},{"$f":"SUM(E6702:E6713)","v":25424},25424,0,0,0,0,1410,1417,2827,2827,5128,228,5356]
[]
[null,null,"1月",{"$f":"D6664+D6610+D6556+D6502+D6448+D6394+D6340+D6232+D6286+D6178+D6124+D6070+D6016+D5962+D5908+D5854+D5800+D59328+D5746+D5692+D5638+D5584","v":0},1987,1987,{"$f":"G6664+G6610+G6556+G6502+G6448+G6394+G6340+G6232+G6286+G6178+G6124+G6070+G6016+G5962+G5908+G5854+G5800+G59328+G5746+G5692+G5638+G5584","v":0},{"$f":"H6664+H6610+H6556+H6502+H6448+H6394+H6340+H6232+H6286+H6178+H6124+H6070+H6016+H5962+H5908+H5854+H5800+H59328+H5746+H5692+H5638+H5584","v":0},{"$f":"I6664+I6610+I6556+I6502+I6448+I6394+I6340+I6232+I6286+I6178+I6124+I6070+I6016+I5962+I5908+I5854+I5800+I59328+I5746+I5692+I5638+I5584","v":0},0,{"$f":"K6664+K6610+K6556+K6502+K6448+K6394+K6340+K6232+K6286+K6178+K6124+K6070+K6016+K5962+K5908+K5854+K5800+K59328+K5746+K5692+K5638+K5584","v":91},90,181,181,{"$f":"O6664+O6610+O6556+O6502+O6448+O6394+O6340+O6232+O6286+O6178+O6124+O6070+O6016+O5962+O5908+O5854+O5800+O59328+O5746+O5692+O5638+O5584","v":413},12,425]
[null,null,"2月",0,2065,2065,{"$f":"G6665+G6611+G6557+G6503+G6449+G6395+G6341+G6233+G6287+G6179+G6125+G6071+G6017+G5963+G5909+G5855+G5801+G59329+G5747+G5693+G5639+G5585","v":0},0,0,0,54,52,106,106,460,13,473]
[null,null,"3月",0,2156,2156,0,0,0,0,97,95,192,192,482,13,495]
[]
[null,null,"年度計",{"$f":"SUM(D6705:D6713,D6717:D6719)","v":0},24961,{"$f":"SUM(F6705:F6713,F6717:F6719)","v":24961},0,0,0,0,1366,1369,2735,2735,5079,226,5305]
[]
[]
[]
[null,null,"項目",null,null,null,"貨 物 取 扱 量 （トン）",null,null,null,null,null,null,"郵 便 取 扱 量 （kg）"]
[null,null,null,null,"国 際 線",null,null,"国 内 線",null,"合計",null,"国 際 線",null,null,"国 内 線",null,"合 計"]
[null,null,"月別","積","卸","小 計","積","卸","小 計",null,"積","卸","小 計","積","卸","小 計"]
[]
[null,null,"1月",{"$f":"D5596+D5650+D5704+D5758+D5812+D5866+D5920+D5974+D6028+D6082+D6136+D6190+D6298+D6244+D6352+D6406+D6460+D6514+D6622+D6568+D6649+D6675","v":0},{"$f":"E5596+E5650+E5704+E5758+E5812+E5866+E5920+E5974+E6028+E6082+E6136+E6190+E6298+E6244+E6352+E6406+E6460+E6514+E6622+E6568+E6675","v":0},{"$f":"SUM(D6729:E6729)","v":0},{"$f":"G5596+G5650+G5704+G5758+G5812+G5866+G5920+G5974+G6028+G6082+G6136+G6190+G6298+G6244+G6352+G6406+G6460+G6514+G6622+G6568+G6675","v":0},{"$f":"H5596+H5650+H5704+H5758+H5812+H5866+H5920+H5974+H6028+H6082+H6136+H6190+H6298+H6244+H6352+H6406+H6460+H6514+H6622+H6568+H6675","v":0},{"$f":"SUM(G6729:H6729)","v":0},{"$f":"F6729+I6729","v":0},{"$f":"K5596+K5650+K5704+K5758+K5812+K5866+K5920+K5974+K6028+K6082+K6136+K6190+K6298+K6244+K6352+K6406+K6460+K6514+K6622+K6568+K6675","v":0},{"$f":"L5596+L5650+L5704+L5758+L5812+L5866+L5920+L5974+L6028+L6082+L6136+L6190+L6298+L6244+L6352+L6406+L6460+L6514+L6622+L6568+L6675","v":0},{"$f":"SUM(K6729:L6729)","v":0},{"$f":"N5596+N5650+N5704+N5758+N5812+N5866+N5920+N5974+N6028+N6082+N6136+N6190+N6298+N6244+N6352+N6406+N6460+N6514+N6622+N6568+N6675","v":0},0,{"$f":"SUM(N6729:O6729)","v":0},{"$f":"P6729+M6729","v":0}]
[null,null,"2月",{"$f":"D5597+D5651+D5705+D5759+D5813+D5867+D5921+D5975+D6029+D6083+D6137+D6191+D6299+D6245+D6353+D6407+D6461+D6515+D6623+D6569+D6650+D6676","v":0},{"$f":"E5597+E5651+E5705+E5759+E5813+E5867+E5921+E5975+E6029+E6083+E6137+E6191+E6299+E6245+E6353+E6407+E6461+E6515+E6623+E6569+E6676","v":0},{"$f":"SUM(D6730:E6730)","v":0},{"$f":"G5597+G5651+G5705+G5759+G5813+G5867+G5921+G5975+G6029+G6083+G6137+G6191+G6299+G6245+G6353+G6407+G6461+G6515+G6623+G6569+G6676","v":0},{"$f":"H5597+H5651+H5705+H5759+H5813+H5867+H5921+H5975+H6029+H6083+H6137+H6191+H6299+H6245+H6353+H6407+H6461+H6515+H6623+H6569+H6676","v":0},{"$f":"SUM(G6730:H6730)","v":0},{"$f":"F6730+I6730","v":0},{"$f":"K5597+K5651+K5705+K5759+K5813+K5867+K5921+K5975+K6029+K6083+K6137+K6191+K6299+K6245+K6353+K6407+K6461+K6515+K6623+K6569+K6676","v":0},{"$f":"L5597+L5651+L5705+L5759+L5813+L5867+L5921+L5975+L6029+L6083+L6137+L6191+L6299+L6245+L6353+L6407+L6461+L6515+L6623+L6569+L6676","v":0},{"$f":"SUM(K6730:L6730)","v":0},0,0,{"$f":"SUM(N6730:O6730)","v":0},{"$f":"P6730+M6730","v":0}]
[null,null,"3月",0,0,0,0,0,0,0,0,0,0,0,0,0,0]
[null,null,"4月",0,0,0,0,0,0,0,0,0,0,0,0,0,0]
[null,null,"5月",0,{"$f":"E5600+E5654+E5708+E5762+E5816+E5870+E5924+E5978+E6032+E6086+E6140+E6194+E6302+E6248+E6356+E6410+E6464+E6518+E6626+E6572+E6679","v":0},0,0,{"$f":"H5600+H5654+H5708+H5762+H5816+H5870+H5924+H5978+H6032+H6086+H6140+H6194+H6302+H6248+H6356+H6410+H6464+H6518+H6626+H6572+H6679","v":0},0,0,0,0,0,0,0,0,0]
[null,null,"6月",0,0,0,0,0,0,0,0,0,0,0,0,0,0]
[null,null,"7月",0,0,0,0,0,0,0,0,0,0,0,0,0,0]
[null,null,"8月",0,0,0,0,0,0,0,0,0,0,0,0,0,0]
[null,null,"9月",0,0,0,{"$f":"G5604+G5658+G5712+G5766+G5820+G5874+G5928+G5982+G6036+G6090+G6144+G6198+G6306+G6252+G6360+G6414+G6468+G6522+G6630+G6576+G6683","v":0},0,0,0,0,0,0,0,0,0,0]
[null,null,"10月",0,0,0,0,0,0,0,0,0,0,0,0,0,0]
[null,null,"11月",0,0,0,0,0,0,0,0,0,0,0,0,0,0]
[null,null,"12月",0,0,0,0,{"$f":"H5607+H5661+H5715+H5769+H5823+H5877+H5931+H5985+H6039+H6093+H6147+H6201+H6309+H6255+H6363+H6417+H6471+H6525+H6633+H6579+H6686","v":0},0,0,0,0,0,0,0,0,0]
[]
[null,null,"暦年 計",{"$f":"SUM(D6729:D6740)","v":0},0,0,0,0,0,0,0,0,0,0,0,0,0]
[]
[null,null,"1月",{"$f":"D5611+D5665+D5719+D5773+D5827+D5881+D5935+D5989+D6043+D6097+D6151+D6205+D6313+D6259+D6367+D6421+D6475+D6529+D6637+D6690","v":0},0,{"$f":"SUM(D6744:E6744)","v":0},{"$f":"G5611+G5665+G5719+G5773+G5827+G5881+G5935+G5989+G6043+G6097+G6151+G6205+G6313+G6259+G6367+G6421+G6475+G6529+G6637+G6690","v":0},{"$f":"H5611+H5665+H5719+H5773+H5827+H5881+H5935+H5989+H6043+H6097+H6151+H6205+H6313+H6259+H6367+H6421+H6475+H6529+H6637+H6690","v":0},{"$f":"SUM(G6744:H6744)","v":0},{"$f":"F6744+I6744","v":0},{"$f":"K5611+K5665+K5719+K5773+K5827+K5881+K5935+K5989+K6043+K6097+K6151+K6205+K6313+K6259+K6367+K6421+K6475+K6529+K6637+K6690","v":0},0,{"$f":"SUM(K6744:L6744)","v":0},{"$f":"N5611+N5665+N5719+N5773+N5827+N5881+N5935+N5989+N6043+N6097+N6151+N6205+N6313+N6259+N6367+N6421+N6475+N6529+N6637+N6690","v":0},0,{"$f":"SUM(N6744:O6744)","v":0},{"$f":"P6744+M6744","v":0}]
[null,null,"2月",0,0,{"$f":"SUM(D6745:E6745)","v":0},0,0,{"$f":"SUM(G6745:H6745)","v":0},{"$f":"F6745+I6745","v":0},0,0,{"$f":"SUM(K6745:L6745)","v":0},0,0,{"$f":"SUM(N6745:O6745)","v":0},{"$f":"P6745+M6745","v":0}]
[null,null,"3月",0,0,{"$f":"SUM(D6746:E6746)","v":0},0,0,{"$f":"SUM(G6746:H6746)","v":0},{"$f":"F6746+I6746","v":0},0,0,{"$f":"SUM(K6746:L6746)","v":0},0,0,{"$f":"SUM(N6746:O6746)","v":0},{"$f":"P6746+M6746","v":0}]
[]
[null,null,"年度計",{"$f":"SUM(D6732:D6740,D6744:D6746)","v":0},0,0,0,0,0,0,0,0,0,0,0,0,0]
[]
[null,null,{"$f":"C6696","v":"平　成　２　８　年　空　港　管　理　状　況　調　書"}]
[null,null,"空港名 ：","全空港計１  （拠点空港、地方管理空港、共用空港）"]
[null,null,"項目",null,"着 陸 回 数 （回）",null,"乗   降   客   数   （人）",null,null,null,null,null,null,null,"航空燃料供給量　（KＬ）"]
[null,null,null,"国際線","国内線","計",null,"国 際 線",null,null,null,"国 内 線",null,"合 計","ジェット燃料","その他燃料","合計"]
[null,null,"月別",null,null,null,"乗 客","降 客","通過客","小 計","乗 客","降 客","小 計"]
[]
[null,null,"1月",{"$f":"D1681+D4651+D5083","v":21683},{"$f":"E1681+E4651+E5083","v":76059},97742,3070758,3178673,281829,6531260,7805749,7791118,15596867,22128127,1024899,132,1025031]
[null,null,"2月",{"$f":"D1682+D4652+D5084","v":20974},73982,94956,3260747,3092011,226177,6578935,7785151,7782146,15567297,22146232,969074,156,969230]
[null,null,"3月",{"$f":"D1683+D4653+D5085","v":22399},79732,102131,3271057,3611332,184768,7067157,8957676,8966200,17923876,24991033,1039497,153,1039650]
[null,null,"4月",{"$f":"D1684+D4654+D5086","v":21797},77236,99033,3349508,3108317,196659,6654484,7681523,7682397,15363920,22018404,1017364,95,1017459]
[null,null,"5月",{"$f":"D1685+D4655+D5087","v":22189},79406,101595,2937001,3087290,251974,6276265,8295900,8300918,16596818,22873083,1025473,123,1025596]
[null,null,"6月",{"$f":"D1686+D4656+D5088","v":21405},76236,97641,3011416,3102983,282247,6396646,8094748,8101759,16196507,22593153,1014077,102,1014179]
[null,null,"7月",{"$f":"D1687+D4657+D5089","v":22905},81605,104510,3462022,3517862,261783,7241667,9063114,9063199,18126313,25367980,1057471,117,1057588]
[null,null,"8月",{"$f":"D1688+D4658+D5090","v":23210},83048,106258,3828426,3654667,220055,7703148,10288261,10283540,20571801,28274949,1085146,138,1085284]
[null,null,"9月",{"$f":"D1689+D4659+D5091","v":22269},78690,100959,3205350,3380059,201290,6786699,9387409,9386660,18774069,25560768,1030200,121,1030321]
[null,null,"10月",{"$f":"D1690+D4660+D5092","v":22860},81587,104447,3404460,3436596,198810,7039866,9518257,9519692,19037949,26077815,1049857,161,1050018]
[null,null,"11月",{"$f":"D1691+D4661+D5093","v":21952},77973,99925,3261228,3244714,167627,6673569,8948185,8950096,17898281,24571850,1007964,143,1008107]
[null,null,"12月",{"$f":"D1692+D4662+D5094","v":23071},77832,100903,3431699,3364962,216479,7013140,8495735,8497738,16993473,24006613,1053141,110,1053251]
[]
[null,null,"暦年 計",{"$f":"D1694+D4664+D5096","v":266714},943386,1210100,39493672,39779466,2689698,81962836,104321708,104325463,208647171,290610007,12374163,1551,12375714]
[]
[null,null,"1月",{"$f":"D1696+D4666+D5098","v":23224},77417,100641,3414899,3684897,255615,7355411,8242164,8244418,16486582,23841993,1054800,109,1054909]
[null,null,"2月",{"$f":"D1697+D4667+D5099","v":21233},71859,93092,3575543,3270960,187068,7033571,7987698,7988338,15976036,23009607,961062,126,961188]
[null,null,"3月",{"$f":"D1698+D4668+D5100","v":23627},80528,104155,3666022,3950821,153111,7769954,9647880,9653152,19301032,27070986,1088998.9620000001,137,1089135.9620000001]
[]
[null,null,"年度計",{"$f":"D1700+D4670+D5102","v":269742},943417,1213159,40547574,40804128,2592718,83944420,105650874,105671907,211322781,295267201,12445553.962000001,1482,12447035.962000001]
[]
[]
[]
[null,null,"項目",null,null,null,"貨 物 取 扱 量 （トン）",null,null,null,null,null,null,"郵 便 取 扱 量 （kg）"]
[null,null,null,null,"国 際 線",null,null,"国 内 線",null,"合計",null,"国 際 線",null,null,"国 内 線",null,"合 計"]
[null,null,"月別","積","卸","小 計","積","卸","小 計",null,"積","卸","小 計","積","卸","小 計"]
[]
[null,null,"1月",{"$f":"D1708+D4678+D5110","v":125348},140391,265739,64432,64018,128450,394189,5378134,3682921,9061055,5566625,5148178,10714803,19775858]
[null,null,"2月",{"$f":"D1709+D4679+D5111","v":114387},126386,240773,65292,64555,129847,370620,4143070,2988836,7131906,5216492,4639667,9856159,16988065]
[null,null,"3月",{"$f":"D1710+D4680+D5112","v":143581},163731,307312,78157,77560,155717,463029,5365345,3862379,9227724,5861641,5583965,11445606,20673330]
[null,null,"4月",{"$f":"D1711+D4681+D5113","v":144598},156120,300718,73723,73458,147181,447899,5558856,3901897,9460753,5603354,5295720,10899074,20359827]
[null,null,"5月",{"$f":"D1712+D4682+D5114","v":138070},146933,285003,65338,65384,130722,415725,4752848,3521400,8274248,5349657,4976528,10326185,18600433]
[null,null,"6月",{"$f":"D1713+D4683+D5115","v":146684},154576,301260,69645,69819,139464,440724,4493382,3719104,8212486,5728887,5508592,11237479,19449965]
[null,null,"7月",{"$f":"D1714+D4684+D5116","v":147000},161566,308566,78409,79731,158140,466706,4100963,3688911,7789874,5278336,4983419,10261755,18051629]
[null,null,"8月",{"$f":"D1715+D4685+D5117","v":142033},157199,299232,75869,75760,151629,450861,3795505,3536732,7332237,4775061,4523468,9298529,16630766]
[null,null,"9月",{"$f":"D1716+D4686+D5118","v":153284},167799,321083,76868,76863,153731,474814,4084915,3718437,7803352,5119547,4767328,9886875,17690227]
[null,null,"10月",{"$f":"D1717+D4687+D5119","v":158837},180926,339763,76339,75691,152030,491793,4259284,4122315,8381599,5299232,5018777,10318009,18699608]
[null,null,"11月",{"$f":"D1718+D4688+D5120","v":158402},180491,338893,74914,75504,150418,489311,4583321,4648338,9231659,5544639,5265527,10810166,20041825]
[null,null,"12月",{"$f":"D1719+D4689+D5121","v":163176},181582,344758,87765,86872,174637,519395,5796708,5776359,11573067,6637422,6344224,12981646,24554713]
[]
[null,null,"暦年 計",{"$f":"D1721+D4691+D5123","v":1735400},1917700,3653100,886751,885215,1771966,5425066,56312331,47167629,103479960,65980893,62055393,128036286,231516246]
[]
[null,null,"1月",{"$f":"D1723+D4693+D5125","v":139476},157280,296756,62857,63426,126283,423039,4280228,4097376,8377604,5333498,5064923,10398421,18776025]
[null,null,"2月",{"$f":"D1724+D4694+D5126","v":138058},144065,282123,64509,65532,130041,412164,4208134,3767976,7976110,4940464,4671171,9611635,17587745]
[null,null,"3月",{"$f":"D1725+D4695+D5127","v":171869},196601,368470,77513,77084,154597,523067,5071014,4665592,9736606,5767525,5494007,11261532,20998138]
[]
[null,null,"年度計",{"$f":"D1727+D4697+D5129","v":1801487},1985138,3786625,883749,885124,1768873,5555498,54985158,49164437,104149595,65377622,61913684,127291306,231440901]
[]
[null,null,{"$f":"C6750","v":"平　成　２　８　年　空　港　管　理　状　況　調　書"}]
[null,null,"空港名 ：","全空港計２  （その他空港、ヘリポート）"]
[null,null,"項目",null,"着 陸 回 数 （回）",null,"乗   降   客   数   （人）",null,null,null,null,null,null,null,"航空燃料供給量　（KＬ）"]
[null,null,null,"国際線","国内線","計",null,"国 際 線",null,null,null,"国 内 線",null,"合 計","ジェット燃料","その他燃料","合計"]
[null,null,"月別",null,null,null,"乗 客","降 客","通過客","小 計","乗 客","降 客","小 計"]
[]
[null,null,"1月",{"$f":"D5515+D6702","v":5},5914,5919,15,23,0,38,28647,32424,61071,61109,2861,73,2934]
[null,null,"2月",{"$f":"D5516+D6703","v":5},6168,6173,33,41,0,74,32499,33284,65783,65857,3070,78,3148]
[null,null,"3月",{"$f":"D5517+D6704","v":11},6929,6940,45,51,0,96,42395,44186,86581,86677,3158,90,3248]
[null,null,"4月",{"$f":"D5518+D6705","v":3},5989,5992,29,19,0,48,37896,37284,75180,75228,3392,85,3477]
[null,null,"5月",{"$f":"D5519+D6706","v":1},6474,6475,3,4,0,7,42157,44641,86798,86805,3841,97,3938]
[null,null,"6月",{"$f":"D5520+D6707","v":6},5599,5605,17,319,0,336,41712,42706,84418,84754,3350,71,3421]
[null,null,"7月",{"$f":"D5521+D6708","v":7},6395,6402,23,13,0,36,49821,49860,99681,99717,3491,83,3574]
[null,null,"8月",{"$f":"D5522+D6709","v":1},6460,6461,6,6,0,12,57536,58986,116522,116534,3484,139,3623]
[null,null,"9月",{"$f":"D5523+D6710","v":5},5822,5827,34,26,0,60,49314,50032,99346,99406,3376,62,3438]
[null,null,"10月",{"$f":"D5524+D6711","v":8},7244,7252,29,34,0,63,52723,53791,106514,106577,3690,98,3788]
[null,null,"11月",{"$f":"D5525+D6712","v":9},6569,6578,40,46,0,86,46565,48412,94977,95063,3488,95,3583]
[null,null,"12月",{"$f":"D5526+D6713","v":5},6526,6531,19,23,0,42,42779,40782,83561,83603,3457,96,3553]
[]
[null,null,"暦年 計",{"$f":"D5528+D6715","v":66},76089,76155,293,605,0,898,524044,536388,1060432,1061330,40658,1067,41725]
[]
[null,null,"1月",{"$f":"D5530+D6717","v":4},5916,5920,29,18,0,47,35318,39297,74615,74662,3365,71,3436]
[null,null,"2月",{"$f":"D5531+D6718","v":4},5936,5940,16,18,0,34,36266,37906,74172,74206,3140,65,3205]
[null,null,"3月",{"$f":"D5532+D6719","v":9},6831,6840,44,45,0,89,49623,51464,101087,101176,3872,95,3967]
[]
[null,null,"年度計",{"$f":"D5534+D6721","v":62},75761,75823,289,571,0,860,541710,555161,1096871,1097731,41946,1057,43003]
[]
[]
[]
[null,null,"項目",null,null,null,"貨 物 取 扱 量 （トン）",null,null,null,null,null,null,"郵 便 取 扱 量 （kg）"]
[null,null,null,null,"国 際 線",null,null,"国 内 線",null,"合計",null,"国 際 線",null,null,"国 内 線",null,"合 計"]
[null,null,"月別","積","卸","小 計","積","卸","小 計",null,"積","卸","小 計","積","卸","小 計"]
[]
[null,null,"1月",{"$f":"D5542+D6729","v":0},0,0,3,1,4,4,0,0,0,0,0,0,0]
[null,null,"2月",{"$f":"D5543+D6730","v":0},0,0,3,1,4,4,0,0,0,0,0,0,0]
[null,null,"3月",{"$f":"D5544+D6731","v":0},0,0,3,1,4,4,0,0,0,0,0,0,0]
[null,null,"4月",{"$f":"D5545+D6732","v":0},0,0,3,1,4,4,0,0,0,0,0,0,0]
[null,null,"5月",{"$f":"D5546+D6733","v":0},0,0,4,2,6,6,0,0,0,0,0,0,0]
[null,null,"6月",{"$f":"D5547+D6734","v":0},0,0,3,1,4,4,0,0,0,0,0,0,0]
[null,null,"7月",{"$f":"D5548+D6735","v":0},0,0,3,1,4,4,0,0,0,0,0,0,0]
[null,null,"8月",{"$f":"D5549+D6736","v":0},0,0,3,1,4,4,0,0,0,0,0,0,0]
[null,null,"9月",{"$f":"D5550+D6737","v":0},0,0,3,1,4,4,0,0,0,0,0,0,0]
[null,null,"10月",{"$f":"D5551+D6738","v":0},0,0,3,1,4,4,0,0,0,0,0,0,0]
[null,null,"11月",{"$f":"D5552+D6739","v":0},0,0,3,1,4,4,0,0,0,0,0,0,0]
[null,null,"12月",{"$f":"D5553+D6740","v":0},0,0,3,1,4,4,0,0,0,0,0,0,0]
[]
[null,null,"暦年 計",{"$f":"D5555+D6742","v":0},0,0,37,13,50,50,0,0,0,0,0,0,0]
[]
[null,null,"1月",{"$f":"D5557+D6744","v":0},0,0,3,1,4,4,0,0,0,0,0,0,0]
[null,null,"2月",{"$f":"D5558+D6745","v":0},0,0,3,1,4,4,0,0,0,0,0,0,0]
[null,null,"3月",{"$f":"D5559+D6746","v":0},0,0,3,1,4,4,0,0,0,0,0,0,0]
[]
[null,null,"年度計",{"$f":"D5561+D6748","v":0},0,0,37,13,50,50,0,0,0,0,0,0,0]
[]
[null,null,{"$f":"C6804","v":"平　成　２　８　年　空　港　管　理　状　況　調　書"}]
[null,null,"空港名 ：","全空港計３  （全空港計１、全空港計２）"]
[null,null,"項目",null,"着 陸 回 数 （回）",null,"乗   降   客   数   （人）",null,null,null,null,null,null,null,"航空燃料供給量　（KＬ）"]
[null,null,null,"国際線","国内線","計",null,"国 際 線",null,null,null,"国 内 線",null,"合 計","ジェット燃料","その他燃料","合計"]
[null,null,"月別",null,null,null,"乗 客","降 客","通過客","小 計","乗 客","降 客","小 計"]
[]
[null,null,"1月",{"$f":"D6756+D6810","v":21688},{"$f":"E6756+E6810","v":81973},103661,3070773,3178696,281829,6531298,7834396,7823542,15657938,22189236,1027760,205,1027965]
[null,null,"2月",{"$f":"D6757+D6811","v":20979},80150,101129,3260780,3092052,226177,6579009,7817650,7815430,15633080,22212089,972144,234,972378]
[null,null,"3月",22410,86661,109071,3271102,3611383,184768,7067253,9000071,9010386,18010457,25077710,1042655,243,1042898]
[null,null,"4月",21800,83225,105025,3349537,3108336,196659,6654532,7719419,7719681,15439100,22093632,1020756,180,1020936]
[null,null,"5月",22190,85880,108070,2937004,3087294,251974,6276272,8338057,8345559,16683616,22959888,1029314,220,1029534]
[null,null,"6月",21411,81835,103246,3011433,3103302,282247,6396982,8136460,8144465,16280925,22677907,1017427,173,1017600]
[null,null,"7月",22912,88000,110912,3462045,3517875,261783,7241703,9112935,9113059,18225994,25467697,1060962,200,1061162]
[null,null,"8月",23211,89508,112719,3828432,3654673,220055,7703160,10345797,10342526,20688323,28391483,1088630,277,1088907]
[null,null,"9月",22274,84512,106786,3205384,3380085,201290,6786759,9436723,9436692,18873415,25660174,1033576,183,1033759]
[null,null,"10月",22868,88831,111699,3404489,3436630,198810,7039929,9570980,9573483,19144463,26184392,1053547,259,1053806]
[null,null,"11月",21961,84542,106503,3261268,3244760,167627,6673655,8994750,8998508,17993258,24666913,1011452,238,1011690]
[null,null,"12月",23076,84358,107434,3431718,3364985,216479,7013182,8538514,8538520,17077034,24090216,1056598,206,1056804]
[]
[null,null,"暦年 計",266780,1019475,1286255,39493965,39780071,2689698,81963734,104845752,104861851,209707603,291671337,12414821,2618,12417439]
[]
[null,null,"1月",23228,83333,106561,3414928,3684915,255615,7355458,8277482,8283715,16561197,23916655,1058165,180,1058345]
[null,null,"2月",21237,77795,99032,3575559,3270978,187068,7033605,8023964,8026244,16050208,23083813,964202,191,964393]
[null,null,"3月",23636,87359,110995,3666066,3950866,153111,7770043,9697503,9704616,19402119,27172162,1092870.9620000001,232,1093102.9620000001]
[]
[null,null,"年度計",269804,1019178,1288982,{"$f":"G6775+G6829","v":40547863},40804699,2592718,83945280,106192584,106227068,212419652,296364932,12487499.962000001,2539,12490038.962000001]
[]
[]
[]
[null,null,"項目",null,null,null,"貨 物 取 扱 量 （トン）",null,null,null,null,null,null,"郵 便 取 扱 量 （kg）"]
[null,null,null,null,"国 際 線",null,null,"国 内 線",null,"合計",null,"国 際 線",null,null,"国 内 線",null,"合 計"]
[null,null,"月別","積","卸","小 計","積","卸","小 計",null,"積","卸","小 計","積","卸","小 計"]
[]
[null,null,"1月",{"$f":"D6783+D6837","v":125348},{"$f":"E6783+E6837","v":140391},265739,64435,64019,128454,394193,5378134,3682921,9061055,5566625,5148178,10714803,19775858]
[null,null,"2月",{"$f":"D6784+D6838","v":114387},126386,240773,65295,64556,129851,370624,4143070,2988836,7131906,5216492,4639667,9856159,16988065]
[null,null,"3月",143581,163731,307312,78160,77561,155721,463033,5365345,3862379,9227724,5861641,5583965,11445606,20673330]
[null,null,"4月",144598,156120,300718,73726,73459,147185,447903,5558856,3901897,9460753,5603354,5295720,10899074,20359827]
[null,null,"5月",138070,146933,285003,65342,65386,130728,415731,4752848,3521400,8274248,5349657,4976528,10326185,18600433]
[null,null,"6月",146684,154576,301260,69648,69820,139468,440728,4493382,3719104,8212486,5728887,5508592,11237479,19449965]
[null,null,"7月",147000,161566,308566,78412,79732,158144,466710,4100963,3688911,7789874,5278336,4983419,10261755,18051629]
[null,null,"8月",142033,157199,299232,75872,75761,151633,450865,3795505,3536732,7332237,4775061,4523468,9298529,16630766]
[null,null,"9月",153284,167799,321083,76871,76864,153735,474818,4084915,3718437,7803352,5119547,4767328,9886875,17690227]
[null,null,"10月",158837,180926,339763,76342,75692,152034,491797,4259284,4122315,8381599,5299232,5018777,10318009,18699608]
[null,null,"11月",158402,180491,338893,74917,75505,150422,489315,4583321,4648338,9231659,5544639,5265527,10810166,20041825]
[null,null,"12月",163176,181582,344758,87768,86873,174641,519399,5796708,5776359,11573067,6637422,6344224,12981646,24554713]
[]
[null,null,"暦年 計",1735400,1917700,3653100,886788,885228,1772016,5425116,56312331,47167629,103479960,65980893,62055393,128036286,231516246]
[]
[null,null,"1月",139476,157280,296756,62860,63427,126287,423043,4280228,4097376,8377604,5333498,5064923,10398421,18776025]
[null,null,"2月",138058,144065,282123,64512,65533,130045,412168,4208134,3767976,7976110,4940464,4671171,9611635,17587745]
[null,null,"3月",171869,196601,368470,77516,77085,154601,523071,5071014,4665592,9736606,5767525,5494007,11261532,20998138]
[]
[null,null,"年度計",1801487,1985138,3786625,{"$f":"G6802+G6856","v":883786},885137,1768923,5555548,54985158,49164437,104149595,65377622,61913684,127291306,231440901]

{"sheet":"入力データ一覧","index":1,"n_rows":118,"n_cols":5,"rows_kept":118,"cut":false,"hidden":true,"merged":[]}
[]
[null,"成田暦１","成田暦２","成田度１","成田度２"]
[null,"中部暦１","中部暦２","中部度１","中部度２"]
[null,"関西暦１","関西暦２","関西度１","関西度２"]
[null,"大阪暦１","大阪暦２","大阪度１","大阪度２"]
[null,"羽田暦１","羽田暦２","羽田度１","羽田度２"]
[null,"新千歳暦１","新千歳暦２","新千歳度１","新千歳度２"]
[null,"稚内暦１","稚内暦２","稚内度１","稚内度２"]
[null,"釧路暦１","釧路暦２","釧路度１","釧路度２"]
[null,"函館暦１","函館暦２","函館度１","函館度２"]
[null,"仙台暦１","仙台暦２","仙台度１","仙台度２"]
[null,"新潟暦１","新潟暦２","新潟度１","新潟度２"]
[null,"広島暦１","広島暦２","広島度１","広島度２"]
[null,"高松暦１","高松暦２","高松度１","高松度２"]
[null,"松山暦１","松山暦２","松山度１","松山度２"]
[null,"高知暦１","高知暦２","高知度１","高知度２"]
[null,"福岡暦１","福岡暦２","福岡度１","福岡度２"]
[null,"北九州暦１","北九州暦２","北九州度１","北九州度２"]
[null,"長崎暦１","長崎暦２","長崎度１","長崎度２"]
[null,"熊本暦１","熊本暦２","熊本度１","熊本度２"]
[null,"大分暦１","大分暦２","大分度１","大分度２"]
[null,"宮崎暦１","宮崎暦２","宮崎度１","宮崎度２"]
[null,"鹿児島暦１","鹿児島暦２","鹿児島度１","鹿児島度２"]
[null,"那覇暦１","那覇暦２","那覇度１","那覇度２"]
[null,"旭川暦１","旭川暦２","旭川度１","旭川度２"]
[null,"帯広暦１","帯広暦２","帯広度１","帯広度２"]
[null,"秋田暦１","秋田暦２","秋田度１","秋田度２"]
[null,"山形暦１","山形暦２","山形度１","山形度２"]
[null,"山口宇部暦１","山口宇部暦２","山口宇部度１","山口宇部度２"]
[null,"利尻暦１","利尻暦２","利尻度１","利尻度２"]
[null,"礼文暦１","礼文暦２","礼文度１","礼文度２"]
[null,"奥尻暦１","奥尻暦２","奥尻度１","奥尻度２"]
[null,"中標津暦１","中標津暦２","中標津度１","中標津度２"]
[null,"紋別暦１","紋別暦２","紋別度１","紋別度２"]
[null,"女満別暦１","女満別暦２","女満別度１","女満別度２"]
[null,"青森暦１","青森暦２","青森度１","青森度２"]
[null,"花巻暦１","花巻暦２","花巻度１","花巻度２"]
[null,"大館能代暦１","大館能代暦２","大館能代度１","大館能代度２"]
[null,"庄内暦１","庄内暦２","庄内度１","庄内度２"]
[null,"福島暦１","福島暦２","福島度１","福島度２"]
[null,"大島暦１","大島暦２","大島度１","大島度２"]
[null,"新島暦１","新島暦２","新島度１","新島度２"]
[null,"神津島暦１","神津島暦２","神津島度１","神津島度２"]
[null,"三宅島暦１","三宅島暦２","三宅島度１","三宅島度２"]
[null,"八丈島暦１","八丈島暦２","八丈島度１","八丈島度２"]
[null,"佐渡暦１","佐渡暦２","佐渡度１","佐渡度２"]
[null,"松本暦１","松本暦２","松本度１","松本度２"]
[null,"静岡暦１","静岡暦２","静岡度１","静岡度２"]
[null,"富山暦１","富山暦２","富山度１","富山度２"]
[null,"能登暦１","能登暦２","能登度１","能登度２"]
[null,"福井暦１","福井暦２","福井度１","福井度２"]
[null,"神戸暦１","神戸暦２","神戸度１","神戸度２"]
[null,"南紀白浜暦１","南紀白浜暦２","南紀白浜度１","南紀白浜度２"]
[null,"鳥取暦１","鳥取暦２","鳥取度１","鳥取度２"]
[null,"隠岐暦１","隠岐暦２","隠岐度１","隠岐度２"]
[null,"出雲暦１","出雲暦２","出雲度１","出雲度２"]
[null,"石見暦１","石見暦２","石見度１","石見度２"]
[null,"岡山暦１","岡山暦２","岡山度１","岡山度２"]
[null,"佐賀暦１","佐賀暦２","佐賀度１","佐賀度２"]
[null,"対馬暦１","対馬暦２","対馬度１","対馬度２"]
[null,"小値賀暦１","小値賀暦２","小値賀度１","小値賀度２"]
[null,"福江暦１","福江暦２","福江度１","福江度２"]
[null,"上五島暦１","上五島暦２","上五島度１","上五島度２"]
[null,"壱岐暦１","壱岐暦２","壱岐度１","壱岐度２"]
[null,"種子島暦１","種子島暦２","種子島度１","種子島度２"]
[null,"屋久島暦１","屋久島暦２","屋久島度１","屋久島度２"]
[null,"奄美暦１","奄美暦２","奄美度１","奄美度２"]
[null,"喜界暦１","喜界暦２","喜界度１","喜界度２"]
[null,"徳之島暦１","徳之島暦２","徳之島度１","徳之島度２"]
[null,"沖永良部暦１","沖永良部暦２","沖永良部度１","沖永良部度２"]
[null,"与論暦１","与論暦２","与論度１","与論度２"]
[null,"粟国暦１","粟国暦２","粟国度１","粟国度２"]
[null,"久米島暦１","久米島暦２","久米島度１","久米島度２"]
[null,"慶良間暦１","慶良間暦２","慶良間度１","慶良間度２"]
[null,"南大東暦１","南大東暦２","南大東度１","南大東度２"]
[null,"北大東暦１","北大東暦２","北大東度１","北大東度２"]
[null,"伊江島暦１","伊江島暦２","伊江島度１","伊江島度２"]
[null,"宮古暦１","宮古暦２","宮古度１","宮古度２"]
[null,"下地島暦１","下地島暦２","下地島度１","下地島度２"]
[null,"多良間暦１","多良間暦２","多良間度１","多良間度２"]
[null,"新石垣暦１","新石垣暦２","新石垣度１","新石垣度２"]
[null,"波照間暦１","波照間暦２","波照間度１","波照間度２"]
[null,"与那国暦１","与那国暦２","与那国度１","与那国度２"]
[null,"札幌暦１","札幌暦２","札幌度１","札幌度２"]
[null,"三沢暦１","三沢暦２","三沢度１","三沢度２"]
[null,"百里暦１","百里暦２","百里度１","百里度２"]
[null,"小松暦１","小松暦２","小松度１","小松度２"]
[null,"美保暦１","美保暦２","美保度１","美保度２"]
[null,"岩国暦１","岩国暦２","岩国度１","岩国度２"]
[null,"徳島暦１","徳島暦２","徳島度１","徳島度２"]
[null,"調布暦１","調布暦２","調布度１","調布度２"]
[null,"名古屋暦１","名古屋暦２","名古屋度１","名古屋度２"]
[null,"但馬暦１","但馬暦２","但馬度１","但馬度２"]
[null,"岡南暦１","岡南暦２","岡南度１","岡南度２"]
[null,"天草暦１","天草暦２","天草度１","天草度２"]
[null,"大分県央暦１","大分県央暦２","大分県央度１","大分県央度２"]
[null,"八尾暦１","八尾暦２","八尾度１","八尾度２"]
[null,"豊富暦１","豊富暦２","豊富度１","豊富度２"]
[null,"砂川暦１","砂川暦２","砂川度１","砂川度２"]
[null,"占冠暦１","占冠暦２","占冠度１","占冠度２"]
[null,"ニセコ暦１","ニセコ暦２","ニセコ度１","ニセコ度２"]
[null,"増毛暦１","増毛暦２","増毛度１","増毛度２"]
[null,"乙部暦１","乙部暦２","乙部度１","乙部度２"]
[null,"米沢暦１","米沢暦２","米沢度１","米沢度２"]
[null,"つくば暦１","つくば暦２","つくば度１","つくば度２"]
[null,"栃木暦１","栃木暦２","栃木度１","栃木度２"]
[null,"高崎暦１","高崎暦２","高崎度１","高崎度２"]
[null,"群馬暦１","群馬暦２","群馬度１","群馬度２"]
[null,"東京都東京暦１","東京都東京暦２","東京都東京度１","東京都東京度２"]
[null,"静岡ヘリ暦１","静岡ヘリ暦２","静岡ヘリ度１","静岡ヘリ度２"]
[null,"若狭暦１","若狭暦２","若狭度１","若狭度２"]
[null,"津市伊勢湾暦１","津市伊勢湾暦２","津市伊勢湾度１","津市伊勢湾度２"]
[null,"舞洲暦１","舞洲暦２","舞洲度１","舞洲度２"]
[null,"神戸ヘリ暦１","神戸ヘリ暦２","神戸ヘリ度１","神戸ヘリ度２"]
[null,"奈良県暦１","奈良県暦２","奈良県度１","奈良県度２"]
[null,"広島ヘリ暦１","広島ヘリ暦２","広島ヘリ度１","広島ヘリ度２"]
[null,"佐伯暦１","佐伯暦２","佐伯度１","佐伯度２"]
[null,"枕崎暦１","枕崎暦２","枕崎度１","枕崎度２"]